{"text_format":"1","workbook":"xlsx","n_sheets":6,"sheets":["Copertina","Data Base","Dimensione del campione","Macro","Campione","Foglio3"],"not_rendered":{"charts":0,"images":2,"macros":1,"external_links":0,"defined_names":10,"comments":0,"pivot_tables":0},"unopened":[],"bounds":{"document_bytes":16777216,"sheet_cells":100000,"rows_first":2000,"rows_last":500,"rows_between":2000,"halvings":0,"cell_chars":16384,"cell_head_chars":4096},"cells_cut":0,"cells_raw":0,"read":"whole","date_system":"1900"}

{"sheet":"Copertina","index":0,"n_rows":30,"n_cols":2,"rows_kept":30,"cut":false,"hidden":false,"merged":[]}
[]
[]
[]
[]
[]
[]
[]
[]
[]
[]
[]
[]
[]
[]
[]
[]
[]
[]
[]
[]
[]
[]
[]
[]
[]
[]
[]
[]
[]
[null,"Allegato 13 – MUS Macro"]

{"sheet":"Data Base","index":1,"n_rows":10006,"n_cols":2,"rows_kept":10006,"cut":false,"hidden":false,"merged":[]}
[]
[]
[]
[]
["Cod. Operazione","Spesa certificata"]
[]
[]
[]
[]
[]
[]
[]
[]
[]
[]
[]
[]
[]
[]
[]
[]
[]
[]
[]
[]
[]
[]
[]
[]
[]
[]
[]
[]
[]
[]
[]
[]
[]
[]
[]
[]
[]
[]
[]
[]
[]
[]
[]
[]
[]
[]
[]
[]
[]
[]
[]
[]
[]
[]
[]
[]
[]
[]
[]
[]
[]
[]
[]
[]
[]
[]
[]
[]
[]
[]
[]
[]
[]
[]
[]
[]
[]
[]
[]
[]
[]
[]
[]
[]
[]
[]
[]
[]
[]
[]
[]
[]
[]
[]
[]
[]
[]
[]
[]
[]
[]
[]
[]
[]
[]
[]
[]
[]
[]
[]
[]
[]
[]
[]
[]
[]
[]
[]
[]
[]
[]
[]
[]
[]
[]
[]
[]
[]
[]
[]
[]
[]
[]
[]
[]
[]
[]
[]
[]
[]
[]
[]
[]
[]
[]
[]
[]
[]
[]
[]
[]
[]
[]
[]
[]
[]
[]
[]
[]
[]
[]
[]
[]
[]
[]
[]
[]
[]
[]
[]
[]
[]
[]
[]
[]
[]
[]
[]
[]
[]
[]
[]
[]
[]
[]
[]
[]
[]
[]
[]
[]
[]
[]
[]
[]
[]
[]
[]
[]
[]
[]
[]
[]
[]
[]
[]
[]
[]
[]
[]
[]
[]
[]
[]
[]
[]
[]
[]
[]
[]
[]
[]
[]
[]
[]
[]
[]
[]
[]
[]
[]
[]
[]
[]
[]
[]
[]
[]
[]
[]
[]
[]
[]
[]
[]
[]
[]
[]
[]
[]
[]
[]
[]
[]
[]
[]
[]
[]
[]
[]
[]
[]
[]
[]
[]
[]
[]
[]
[]
[]
[]
[]
[]
[]
[]
[]
[]
[]
[]
[]
[]
[]
[]
[]
[]
[]
[]
[]
[]
[]
[]
[]
[]
[]
[]
[]
[]
[]
[]
[]
[]
[]
[]
[]
[]
[]
[]
[]
[]
[]
[]
[]
[]
[]
[]
[]
[]
[]
[]
[]
[]
[]
[]
[]
[]
[]
[]
[]
[]
[]
[]
[]
[]
[]
[]
[]
[]
[]
[]
[]
[]
[]
[]
[]
[]
[]
[]
[]
[]
[]
[]
[]
[]
[]
[]
[]
[]
[]
[]
[]
[]
[]
[]
[]
[]
[]
[]
[]
[]
[]
[]
[]
[]
[]
[]
[]
[]
[]
[]
[]
[]
[]
[]
[]
[]
[]
[]
[]
[]
[]
[]
[]
[]
[]
[]
[]
[]
[]
[]
[]
[]
[]
[]
[]
[]
[]
[]
[]
[]
[]
[]
[]
[]
[]
[]
[]
[]
[]
[]
[]
[]
[]
[]
[]
[]
[]
[]
[]
[]
[]
[]
[]
[]
[]
[]
[]
[]
[]
[]
[]
[]
[]
[]
[]
[]
[]
[]
[]
[]
[]
[]
[]
[]
[]
[]
[]
[]
[]
[]
[]
[]
[]
[]
[]
[]
[]
[]
[]
[]
[]
[]
[]
[]
[]
[]
[]
[]
[]
[]
[]
[]
[]
[]
[]
[]
[]
[]
[]
[]
[]
[]
[]
[]
[]
[]
[]
[]
[]
[]
[]
[]
[]
[]
[]
[]
[]
[]
[]
[]
[]
[]
[]
[]
[]
[]
[]
[]
[]
[]
[]
[]
[]
[]
[]
[]
[]
[]
[]
[]
[]
[]
[]
[]
[]
[]
[]
[]
[]
[]
[]
[]
[]
[]
[]
[]
[]
[]
[]
[]
[]
[]
[]
[]
[]
[]
[]
[]
[]
[]
[]
[]
[]
[]
[]
[]
[]
[]
[]
[]
[]
[]
[]
[]
[]
[]
[]
[]
[]
[]
[]
[]
[]
[]
[]
[]
[]
[]
[]
[]
[]
[]
[]
[]
[]
[]
[]
[]
[]
[]
[]
[]
[]
[]
[]
[]
[]
[]
[]
[]
[]
[]
[]
[]
[]
[]
[]
[]
[]
[]
[]
[]
[]
[]
[]
[]
[]
[]
[]
[]
[]
[]
[]
[]
[]
[]
[]
[]
[]
[]
[]
[]
[]
[]
[]
[]
[]
[]
[]
[]
[]
[]
[]
[]
[]
[]
[]
[]
[]
[]
[]
[]
[]
[]
[]
[]
[]
[]
[]
[]
[]
[]
[]
[]
[]
[]
[]
[]
[]
[]
[]
[]
[]
[]
[]
[]
[]
[]
[]
[]
[]
[]
[]
[]
[]
[]
[]
[]
[]
[]
[]
[]
[]
[]
[]
[]
[]
[]
[]
[]
[]
[]
[]
[]
[]
[]
[]
[]
[]
[]
[]
[]
[]
[]
[]
[]
[]
[]
[]
[]
[]
[]
[]
[]
[]
[]
[]
[]
[]
[]
[]
[]
[]
[]
[]
[]
[]
[]
[]
[]
[]
[]
[]
[]
[]
[]
[]
[]
[]
[]
[]
[]
[]
[]
[]
[]
[]
[]
[]
[]
[]
[]
[]
[]
[]
[]
[]
[]
[]
[]
[]
[]
[]
[]
[]
[]
[]
[]
[]
[]
[]
[]
[]
[]
[]
[]
[]
[]
[]
[]
[]
[]
[]
[]
[]
[]
[]
[]
[]
[]
[]
[]
[]
[]
[]
[]
[]
[]
[]
[]
[]
[]
[]
[]
[]
[]
[]
[]
[]
[]
[]
[]
[]
[]
[]
[]
[]
[]
[]
[]
[]
[]
[]
[]
[]
[]
[]
[]
[]
[]
[]
[]
[]
[]
[]
[]
[]
[]
[]
[]
[]
[]
[]
[]
[]
[]
[]
[]
[]
[]
[]
[]
[]
[]
[]
[]
[]
[]
[]
[]
[]
[]
[]
[]
[]
[]
[]
[]
[]
[]
[]
[]
[]
[]
[]
[]
[]
[]
[]
[]
[]
[]
[]
[]
[]
[]
[]
[]
[]
[]
[]
[]
[]
[]
[]
[]
[]
[]
[]
[]
[]
[]
[]
[]
[]
[]
[]
[]
[]
[]
[]
[]
[]
[]
[]
[]
[]
[]
[]
[]
[]
[]
[]
[]
[]
[]
[]
[]
[]
[]
[]
[]
[]
[]
[]
[]
[]
[]
[]
[]
[]
[]
[]
[]
[]
[]
[]
[]
[]
[]
[]
[]
[]
[]
[]
[]
[]
[]
[]
[]
[]
[]
[]
[]
[]
[]
[]
[]
[]
[]
[]
[]
[]
[]
[]
[]
[]
[]
[]
[]
[]
[]
[]
[]
[]
[]
[]
[]
[]
[]
[]
[]
[]
[]
[]
[]
[]
[]
[]
[]
[]
[]
[]
[]
[]
[]
[]
[]
[]
[]
[]
[]
[]
[]
[]
[]
[]
[]
[]
[]
[]
[]
[]
[]
[]
[]
[]
[]
[]
[]
[]
[]
[]
[]
[]
[]
[]
[]
[]
[]
[]
[]
[]
[]
[]
[]
[]
[]
[]
[]
[]
[]
[]
[]
[]
[]
[]
[]
[]
[]
[]
[]
[]
[]
[]
[]
[]
[]
[]
[]
[]
[]
[]
[]
[]
[]
[]
[]
[]
[]
[]
[]
[]
[]
[]
[]
[]
[]
[]
[]
[]
[]
[]
[]
[]
[]
[]
[]
[]
[]
[]
[]
[]
[]
[]
[]
[]
[]
[]
[]
[]
[]
[]
[]
[]
[]
[]
[]
[]
[]
[]
[]
[]
[]
[]
[]
[]
[]
[]
[]
[]
[]
[]
[]
[]
[]
[]
[]
[]
[]
[]
[]
[]
[]
[]
[]
[]
[]
[]
[]
[]
[]
[]
[]
[]
[]
[]
[]
[]
[]
[]
[]
[]
[]
[]
[]
[]
[]
[]
[]
[]
[]
[]
[]
[]
[]
[]
[]
[]
[]
[]
[]
[]
[]
[]
[]
[]
[]
[]
[]
[]
[]
[]
[]
[]
[]
[]
[]
[]
[]
[]
[]
[]
[]
[]
[]
[]
[]
[]
[]
[]
[]
[]
[]
[]
[]
[]
[]
[]
[]
[]
[]
[]
[]
[]
[]
[]
[]
[]
[]
[]
[]
[]
[]
[]
[]
[]
[]
[]
[]
[]
[]
[]
[]
[]
[]
[]
[]
[]
[]
[]
[]
[]
[]
[]
[]
[]
[]
[]
[]
[]
[]
[]
[]
[]
[]
[]
[]
[]
[]
[]
[]
[]
[]
[]
[]
[]
[]
[]
[]
[]
[]
[]
[]
[]
[]
[]
[]
[]
[]
[]
[]
[]
[]
[]
[]
[]
[]
[]
[]
[]
[]
[]
[]
[]
[]
[]
[]
[]
[]
[]
[]
[]
[]
[]
[]
[]
[]
[]
[]
[]
[]
[]
[]
[]
[]
[]
[]
[]
[]
[]
[]
[]
[]
[]
[]
[]
[]
[]
[]
[]
[]
[]
[]
[]
[]
[]
[]
[]
[]
[]
[]
[]
[]
[]
[]
[]
[]
[]
[]
[]
[]
[]
[]
[]
[]
[]
[]
[]
[]
[]
[]
[]
[]
[]
[]
[]
[]
[]
[]
[]
[]
[]
[]
[]
[]
[]
[]
[]
[]
[]
[]
[]
[]
[]
[]
[]
[]
[]
[]
[]
[]
[]
[]
[]
[]
[]
[]
[]
[]
[]
[]
[]
[]
[]
[]
[]
[]
[]
[]
[]
[]
[]
[]
[]
[]
[]
[]
[]
[]
[]
[]
[]
[]
[]
[]
[]
[]
[]
[]
[]
[]
[]
[]
[]
[]
[]
[]
[]
[]
[]
[]
[]
[]
[]
[]
[]
[]
[]
[]
[]
[]
[]
[]
[]
[]
[]
[]
[]
[]
[]
[]
[]
[]
[]
[]
[]
[]
[]
[]
[]
[]
[]
[]
[]
[]
[]
[]
[]
[]
[]
[]
[]
[]
[]
[]
[]
[]
[]
[]
[]
[]
[]
[]
[]
[]
[]
[]
[]
[]
[]
[]
[]
[]
[]
[]
[]
[]
[]
[]
[]
[]
[]
[]
[]
[]
[]
[]
[]
[]
[]
[]
[]
[]
[]
[]
[]
[]
[]
[]
[]
[]
[]
[]
[]
[]
[]
[]
[]
[]
[]
[]
[]
[]
[]
[]
[]
[]
[]
[]
[]
[]
[]
[]
[]
[]
[]
[]
[]
[]
[]
[]
[]
[]
[]
[]
[]
[]
[]
[]
[]
[]
[]
[]
[]
[]
[]
[]
[]
[]
[]
[]
[]
[]
[]
[]
[]
[]
[]
[]
[]
[]
[]
[]
[]
[]
[]
[]
[]
[]
[]
[]
[]
[]
[]
[]
[]
[]
[]
[]
[]
[]
[]
[]
[]
[]
[]
[]
[]
[]
[]
[]
[]
[]
[]
[]
[]
[]
[]
[]
[]
[]
[]
[]
[]
[]
[]
[]
[]
[]
[]
[]
[]
[]
[]
[]
[]
[]
[]
[]
[]
[]
[]
[]
[]
[]
[]
[]
[]
[]
[]
[]
[]
[]
[]
[]
[]
[]
[]
[]
[]
[]
[]
[]
[]
[]
[]
[]
[]
[]
[]
[]
[]
[]
[]
[]
[]
[]
[]
[]
[]
[]
[]
[]
[]
[]
[]
[]
[]
[]
[]
[]
[]
[]
[]
[]
[]
[]
[]
[]
[]
[]
[]
[]
[]
[]
[]
[]
[]
[]
[]
[]
[]
[]
[]
[]
[]
[]
[]
[]
[]
[]
[]
[]
[]
[]
[]
[]
[]
[]
[]
[]
[]
[]
[]
[]
[]
[]
[]
[]
[]
[]
[]
[]
[]
[]
[]
[]
[]
[]
[]
[]
[]
[]
[]
[]
[]
[]
[]
[]
[]
[]
[]
[]
[]
[]
[]
[]
[]
[]
[]
[]
[]
[]
[]
[]
[]
[]
[]
[]
[]
[]
[]
[]
[]
[]
[]
[]
[]
[]
[]
[]
[]
[]
[]
[]
[]
[]
[]
[]
[]
[]
[]
[]
[]
[]
[]
[]
[]
[]
[]
[]
[]
[]
[]
[]
[]
[]
[]
[]
[]
[]
[]
[]
[]
[]
[]
[]
[]
[]
[]
[]
[]
[]
[]
[]
[]
[]
[]
[]
[]
[]
[]
[]
[]
[]
[]
[]
[]
[]
[]
[]
[]
[]
[]
[]
[]
[]
[]
[]
[]
[]
[]
[]
[]
[]
[]
[]
[]
[]
[]
[]
[]
[]
[]
[]
[]
[]
[]
[]
[]
[]
[]
[]
[]
[]
[]
[]
[]
[]
[]
[]
[]
[]
[]
[]
[]
[]
[]
[]
[]
[]
[]
[]
[]
[]
[]
[]
[]
[]
[]
[]
[]
[]
[]
[]
[]
[]
[]
[]
[]
[]
[]
[]
[]
[]
[]
[]
[]
[]
[]
[]
[]
[]
[]
[]
[]
[]
[]
[]
[]
[]
[]
[]
[]
[]
[]
[]
[]
[]
[]
[]
[]
[]
[]
[]
[]
[]
[]
[]
[]
[]
[]
[]
[]
[]
[]
[]
[]
[]
[]
[]
[]
[]
[]
[]
[]
[]
[]
[]
[]
[]
[]
[]
[]
[]
[]
[]
[]
[]
[]
[]
[]
[]
[]
[]
[]
[]
[]
[]
[]
[]
[]
[]
[]
[]
[]
[]
[]
[]
[]
[]
[]
[]
[]
[]
[]
[]
[]
[]
[]
[]
[]
[]
[]
[]
[]
[]
[]
[]
[]
[]
[]
[]
[]
[]
[]
[]
[]
[]
[]
[]
[]
[]
[]
[]
[]
[]
[]
[]
[]
[]
[]
[]
[]
[]
[]
[]
[]
[]
[]
[]
[]
[]
[]
[]
[]
[]
[]
[]
[]
[]
[]
[]
[]
[]
[]
[]
[]
[]
[]
[]
[]
[]
[]
[]
[]
[]
[]
[]
[]
[]
[]
[]
[]
[]
[]
[]
[]
[]
[]
[]
[]
[]
[]
[]
[]
[]
[]
[]
[]
[]
[]
[]
[]
[]
[]
[]
[]
[]
[]
[]
[]
[]
[]
[]
[]
[]
[]
[]
[]
[]
[]
[]
[]
[]
[]
[]
[]
[]
[]
[]
[]
[]
[]
[]
[]
[]
[]
[]
[]
[]
[]
[]
[]
[]
[]
[]
[]
[]
[]
[]
[]
[]
[]
[]
[]
[]
[]
[]
[]
[]
[]
[]
[]
[]
[]
[]
[]
[]
[]
[]
[]
[]
[]
[]
[]
[]
[]
[]
[]
[]
[]
[]
[]
[]
[]
[]
[]
[]
[]
[]
[]
[]
[]
[]
[]
[]
[]
[]
[]
[]
[]
[]
[]
[]
[]
[]
[]
[]
[]
[]
[]
[]
[]
[]
[]
[]
[]
[]
[]
[]
[]
[]
[]
[]
[]
[]
[]
[]
[]
[]
[]
[]
[]
[]
[]
[]
[]
[]
[]
[]
[]
[]
[]
[]
[]
[]
[]
[]
[]
[]
[]
[]
[]
[]
[]
[]
[]
[]
[]
[]
[]
[]
[]
[]
[]
[]
[]
[]
[]
[]
[]
[]
[]
[]
[]
[]
[]
[]
[]
[]
[]
[]
[]
[]
[]
[]
[]
[]
[]
[]
[]
[]
[]
[]
[]
[]
[]
[]
[]
[]
[]
[]
[]
[]
[]
[]
[]
[]
[]
[]
[]
[]
[]
[]
[]
[]
[]
[]
[]
[]
[]
[]
[]
[]
[]
[]
[]
[]
[]
[]
[]
[]
[]
[]
[]
[]
[]
[]
[]
[]
[]
[]
[]
[]
[]
[]
[]
[]
[]
[]
[]
[]
[]
[]
[]
[]
[]
[]
[]
[]
[]
[]
[]
[]
[]
[]
[]
[]
[]
[]
[]
[]
[]
[]
[]
[]
[]
[]
[]
[]
[]
[]
[]
[]
[]
[]
[]
[]
[]
[]
[]
[]
[]
[]
[]
[]
[]
[]
[]
[]
[]
[]
[]
[]
[]
[]
[]
[]
[]
[]
[]
[]
[]
[]
[]
[]
[]
[]
[]
[]
[]
[]
[]
[]
[]
[]
[]
[]
[]
[]
[]
[]
[]
[]
[]
[]
[]
[]
[]
[]
[]
[]
[]
[]
[]
[]
[]
[]
[]
[]
[]
[]
[]
[]
[]
[]
[]
[]
[]
[]
[]
[]
[]
[]
[]
[]
[]
[]
[]
[]
[]
[]
[]
[]
[]
[]
[]
[]
[]
[]
[]
[]
[]
[]
[]
[]
[]
[]
[]
[]
[]
[]
[]
[]
[]
[]
[]
[]
[]
[]
[]
[]
[]
[]
[]
[]
[]
[]
[]
[]
[]
[]
[]
[]
[]
[]
[]
[]
[]
[]
[]
[]
[]
[]
[]
[]
[]
[]
[]
[]
[]
[]
[]
[]
[]
[]
[]
[]
[]
[]
[]
[]
[]
[]
[]
[]
[]
[]
[]
[]
[]
[]
[]
[]
[]
[]
[]
[]
[]
[]
[]
[]
[]
[]
[]
[]
[]
[]
[]
[]
[]
[]
[]
[]
[]
[]
[]
[]
[]
[]
[]
[]
[]
[]
[]
[]
[]
[]
[]
[]
[]
[]
[]
[]
[]
[]
[]
[]
[]
[]
[]
[]
[]
[]
[]
[]
[]
[]
[]
[]
[]
[]
[]
[]
[]
[]
[]
[]
[]
[]
[]
[]
[]
[]
[]
[]
[]
[]
[]
[]
[]
[]
[]
[]
[]
[]
[]
[]
[]
[]
[]
[]
[]
[]
[]
[]
[]
[]
[]
[]
[]
[]
[]
[]
[]
[]
[]
[]
[]
[]
[]
[]
[]
[]
[]
[]
[]
[]
[]
[]
[]
[]
[]
[]
[]
[]
[]
[]
[]
[]
[]
[]
[]
[]
[]
[]
[]
[]
[]
[]
[]
[]
[]
[]
[]
[]
[]
[]
[]
[]
[]
[]
[]
[]
[]
[]
[]
[]
[]
[]
[]
[]
[]
[]
[]
[]
[]
[]
[]
[]
[]
[]
[]
[]
[]
[]
[]
[]
[]
[]
[]
[]
[]
[]
[]
[]
[]
[]
[]
[]
[]
[]
[]
[]
[]
[]
[]
[]
[]
[]
[]
[]
[]
[]
[]
[]
[]
[]
[]
[]
[]
[]
[]
[]
[]
[]
[]
[]
[]
[]
[]
[]
[]
[]
[]
[]
[]
[]
[]
[]
[]
[]
[]
[]
[]
[]
[]
[]
[]
[]
[]
[]
[]
[]
[]
[]
[]
[]
[]
[]
[]
[]
[]
[]
[]
[]
[]
[]
[]
[]
[]
[]
[]
[]
[]
[]
[]
[]
[]
[]
[]
[]
[]
[]
[]
[]
[]
[]
[]
[]
[]
[]
[]
[]
[]
[]
[]
[]
[]
[]
[]
[]
[]
[]
[]
[]
[]
[]
[]
[]
[]
[]
[]
[]
[]
[]
[]
[]
[]
[]
[]
[]
[]
[]
[]
[]
[]
[]
[]
[]
[]
[]
[]
[]
[]
[]
[]
[]
[]
[]
[]
[]
[]
[]
[]
[]
[]
[]
[]
[]
[]
[]
[]
[]
[]
[]
[]
[]
[]
[]
[]
[]
[]
[]
[]
[]
[]
[]
[]
[]
[]
[]
[]
[]
[]
[]
[]
[]
[]
[]
[]
[]
[]
[]
[]
[]
[]
[]
[]
[]
[]
[]
[]
[]
[]
[]
[]
[]
[]
[]
[]
[]
[]
[]
[]
[]
[]
[]
[]
[]
[]
[]
[]
[]
[]
[]
[]
[]
[]
[]
[]
[]
[]
[]
[]
[]
[]
[]
[]
[]
[]
[]
[]
[]
[]
[]
[]
[]
[]
[]
[]
[]
[]
[]
[]
[]
[]
[]
[]
[]
[]
[]
[]
[]
[]
[]
[]
[]
[]
[]
[]
[]
[]
[]
[]
[]
[]
[]
[]
[]
[]
[]
[]
[]
[]
[]
[]
[]
[]
[]
[]
[]
[]
[]
[]
[]
[]
[]
[]
[]
[]
[]
[]
[]
[]
[]
[]
[]
[]
[]
[]
[]
[]
[]
[]
[]
[]
[]
[]
[]
[]
[]
[]
[]
[]
[]
[]
[]
[]
[]
[]
[]
[]
[]
[]
[]
[]
[]
[]
[]
[]
[]
[]
[]
[]
[]
[]
[]
[]
[]
[]
[]
[]
[]
[]
[]
[]
[]
[]
[]
[]
[]
[]
[]
[]
[]
[]
[]
[]
[]
[]
[]
[]
[]
[]
[]
[]
[]
[]
[]
[]
[]
[]
[]
[]
[]
[]
[]
[]
[]
[]
[]
[]
[]
[]
[]
[]
[]
[]
[]
[]
[]
[]
[]
[]
[]
[]
[]
[]
[]
[]
[]
[]
[]
[]
[]
[]
[]
[]
[]
[]
[]
[]
[]
[]
[]
[]
[]
[]
[]
[]
[]
[]
[]
[]
[]
[]
[]
[]
[]
[]
[]
[]
[]
[]
[]
[]
[]
[]
[]
[]
[]
[]
[]
[]
[]
[]
[]
[]
[]
[]
[]
[]
[]
[]
[]
[]
[]
[]
[]
[]
[]
[]
[]
[]
[]
[]
[]
[]
[]
[]
[]
[]
[]
[]
[]
[]
[]
[]
[]
[]
[]
[]
[]
[]
[]
[]
[]
[]
[]
[]
[]
[]
[]
[]
[]
[]
[]
[]
[]
[]
[]
[]
[]
[]
[]
[]
[]
[]
[]
[]
[]
[]
[]
[]
[]
[]
[]
[]
[]
[]
[]
[]
[]
[]
[]
[]
[]
[]
[]
[]
[]
[]
[]
[]
[]
[]
[]
[]
[]
[]
[]
[]
[]
[]
[]
[]
[]
[]
[]
[]
[]
[]
[]
[]
[]
[]
[]
[]
[]
[]
[]
[]
[]
[]
[]
[]
[]
[]
[]
[]
[]
[]
[]
[]
[]
[]
[]
[]
[]
[]
[]
[]
[]
[]
[]
[]
[]
[]
[]
[]
[]
[]
[]
[]
[]
[]
[]
[]
[]
[]
[]
[]
[]
[]
[]
[]
[]
[]
[]
[]
[]
[]
[]
[]
[]
[]
[]
[]
[]
[]
[]
[]
[]
[]
[]
[]
[]
[]
[]
[]
[]
[]
[]
[]
[]
[]
[]
[]
[]
[]
[]
[]
[]
[]
[]
[]
[]
[]
[]
[]
[]
[]
[]
[]
[]
[]
[]
[]
[]
[]
[]
[]
[]
[]
[]
[]
[]
[]
[]
[]
[]
[]
[]
[]
[]
[]
[]
[]
[]
[]
[]
[]
[]
[]
[]
[]
[]
[]
[]
[]
[]
[]
[]
[]
[]
[]
[]
[]
[]
[]
[]
[]
[]
[]
[]
[]
[]
[]
[]
[]
[]
[]
[]
[]
[]
[]
[]
[]
[]
[]
[]
[]
[]
[]
[]
[]
[]
[]
[]
[]
[]
[]
[]
[]
[]
[]
[]
[]
[]
[]
[]
[]
[]
[]
[]
[]
[]
[]
[]
[]
[]
[]
[]
[]
[]
[]
[]
[]
[]
[]
[]
[]
[]
[]
[]
[]
[]
[]
[]
[]
[]
[]
[]
[]
[]
[]
[]
[]
[]
[]
[]
[]
[]
[]
[]
[]
[]
[]
[]
[]
[]
[]
[]
[]
[]
[]
[]
[]
[]
[]
[]
[]
[]
[]
[]
[]
[]
[]
[]
[]
[]
[]
[]
[]
[]
[]
[]
[]
[]
[]
[]
[]
[]
[]
[]
[]
[]
[]
[]
[]
[]
[]
[]
[]
[]
[]
[]
[]
[]
[]
[]
[]
[]
[]
[]
[]
[]
[]
[]
[]
[]
[]
[]
[]
[]
[]
[]
[]
[]
[]
[]
[]
[]
[]
[]
[]
[]
[]
[]
[]
[]
[]
[]
[]
[]
[]
[]
[]
[]
[]
[]
[]
[]
[]
[]
[]
[]
[]
[]
[]
[]
[]
[]
[]
[]
[]
[]
[]
[]
[]
[]
[]
[]
[]
[]
[]
[]
[]
[]
[]
[]
[]
[]
[]
[]
[]
[]
[]
[]
[]
[]
[]
[]
[]
[]
[]
[]
[]
[]
[]
[]
[]
[]
[]
[]
[]
[]
[]
[]
[]
[]
[]
[]
[]
[]
[]
[]
[]
[]
[]
[]
[]
[]
[]
[]
[]
[]
[]
[]
[]
[]
[]
[]
[]
[]
[]
[]
[]
[]
[]
[]
[]
[]
[]
[]
[]
[]
[]
[]
[]
[]
[]
[]
[]
[]
[]
[]
[]
[]
[]
[]
[]
[]
[]
[]
[]
[]
[]
[]
[]
[]
[]
[]
[]
[]
[]
[]
[]
[]
[]
[]
[]
[]
[]
[]
[]
[]
[]
[]
[]
[]
[]
[]
[]
[]
[]
[]
[]
[]
[]
[]
[]
[]
[]
[]
[]
[]
[]
[]
[]
[]
[]
[]
[]
[]
[]
[]
[]
[]
[]
[]
[]
[]
[]
[]
[]
[]
[]
[]
[]
[]
[]
[]
[]
[]
[]
[]
[]
[]
[]
[]
[]
[]
[]
[]
[]
[]
[]
[]
[]
[]
[]
[]
[]
[]
[]
[]
[]
[]
[]
[]
[]
[]
[]
[]
[]
[]
[]
[]
[]
[]
[]
[]
[]
[]
[]
[]
[]
[]
[]
[]
[]
[]
[]
[]
[]
[]
[]
[]
[]
[]
[]
[]
[]
[]
[]
[]
[]
[]
[]
[]
[]
[]
[]
[]
[]
[]
[]
[]
[]
[]
[]
[]
[]
[]
[]
[]
[]
[]
[]
[]
[]
[]
[]
[]
[]
[]
[]
[]
[]
[]
[]
[]
[]
[]
[]
[]
[]
[]
[]
[]
[]
[]
[]
[]
[]
[]
[]
[]
[]
[]
[]
[]
[]
[]
[]
[]
[]
[]
[]
[]
[]
[]
[]
[]
[]
[]
[]
[]
[]
[]
[]
[]
[]
[]
[]
[]
[]
[]
[]
[]
[]
[]
[]
[]
[]
[]
[]
[]
[]
[]
[]
[]
[]
[]
[]
[]
[]
[]
[]
[]
[]
[]
[]
[]
[]
[]
[]
[]
[]
[]
[]
[]
[]
[]
[]
[]
[]
[]
[]
[]
[]
[]
[]
[]
[]
[]
[]
[]
[]
[]
[]
[]
[]
[]
[]
[]
[]
[]
[]
[]
[]
[]
[]
[]
[]
[]
[]
[]
[]
[]
[]
[]
[]
[]
[]
[]
[]
[]
[]
[]
[]
[]
[]
[]
[]
[]
[]
[]
[]
[]
[]
[]
[]
[]
[]
[]
[]
[]
[]
[]
[]
[]
[]
[]
[]
[]
[]
[]
[]
[]
[]
[]
[]
[]
[]
[]
[]
[]
[]
[]
[]
[]
[]
[]
[]
[]
[]
[]
[]
[]
[]
[]
[]
[]
[]
[]
[]
[]
[]
[]
[]
[]
[]
[]
[]
[]
[]
[]
[]
[]
[]
[]
[]
[]
[]
[]
[]
[]
[]
[]
[]
[]
[]
[]
[]
[]
[]
[]
[]
[]
[]
[]
[]
[]
[]
[]
[]
[]
[]
[]
[]
[]
[]
[]
[]
[]
[]
[]
[]
[]
[]
[]
[]
[]
[]
[]
[]
[]
[]
[]
[]
[]
[]
[]
[]
[]
[]
[]
[]
[]
[]
[]
[]
[]
[]
[]
[]
[]
[]
[]
[]
[]
[]
[]
[]
[]
[]
[]
[]
[]
[]
[]
[]
[]
[]
[]
[]
[]
[]
[]
[]
[]
[]
[]
[]
[]
[]
[]
[]
[]
[]
[]
[]
[]
[]
[]
[]
[]
[]
[]
[]
[]
[]
[]
[]
[]
[]
[]
[]
[]
[]
[]
[]
[]
[]
[]
[]
[]
[]
[]
[]
[]
[]
[]
[]
[]
[]
[]
[]
[]
[]
[]
[]
[]
[]
[]
[]
[]
[]
[]
[]
[]
[]
[]
[]
[]
[]
[]
[]
[]
[]
[]
[]
[]
[]
[]
[]
[]
[]
[]
[]
[]
[]
[]
[]
[]
[]
[]
[]
[]
[]
[]
[]
[]
[]
[]
[]
[]
[]
[]
[]
[]
[]
[]
[]
[]
[]
[]
[]
[]
[]
[]
[]
[]
[]
[]
[]
[]
[]
[]
[]
[]
[]
[]
[]
[]
[]
[]
[]
[]
[]
[]
[]
[]
[]
[]
[]
[]
[]
[]
[]
[]
[]
[]
[]
[]
[]
[]
[]
[]
[]
[]
[]
[]
[]
[]
[]
[]
[]
[]
[]
[]
[]
[]
[]
[]
[]
[]
[]
[]
[]
[]
[]
[]
[]
[]
[]
[]
[]
[]
[]
[]
[]
[]
[]
[]
[]
[]
[]
[]
[]
[]
[]
[]
[]
[]
[]
[]
[]
[]
[]
[]
[]
[]
[]
[]
[]
[]
[]
[]
[]
[]
[]
[]
[]
[]
[]
[]
[]
[]
[]
[]
[]
[]
[]
[]
[]
[]
[]
[]
[]
[]
[]
[]
[]
[]
[]
[]
[]
[]
[]
[]
[]
[]
[]
[]
[]
[]
[]
[]
[]
[]
[]
[]
[]
[]
[]
[]
[]
[]
[]
[]
[]
[]
[]
[]
[]
[]
[]
[]
[]
[]
[]
[]
[]
[]
[]
[]
[]
[]
[]
[]
[]
[]
[]
[]
[]
[]
[]
[]
[]
[]
[]
[]
[]
[]
[]
[]
[]
[]
[]
[]
[]
[]
[]
[]
[]
[]
[]
[]
[]
[]
[]
[]
[]
[]
[]
[]
[]
[]
[]
[]
[]
[]
[]
[]
[]
[]
[]
[]
[]
[]
[]
[]
[]
[]
[]
[]
[]
[]
[]
[]
[]
[]
[]
[]
[]
[]
[]
[]
[]
[]
[]
[]
[]
[]
[]
[]
[]
[]
[]
[]
[]
[]
[]
[]
[]
[]
[]
[]
[]
[]
[]
[]
[]
[]
[]
[]
[]
[]
[]
[]
[]
[]
[]
[]
[]
[]
[]
[]
[]
[]
[]
[]
[]
[]
[]
[]
[]
[]
[]
[]
[]
[]
[]
[]
[]
[]
[]
[]
[]
[]
[]
[]
[]
[]
[]
[]
[]
[]
[]
[]
[]
[]
[]
[]
[]
[]
[]
[]
[]
[]
[]
[]
[]
[]
[]
[]
[]
[]
[]
[]
[]
[]
[]
[]
[]
[]
[]
[]
[]
[]
[]
[]
[]
[]
[]
[]
[]
[]
[]
[]
[]
[]
[]
[]
[]
[]
[]
[]
[]
[]
[]
[]
[]
[]
[]
[]
[]
[]
[]
[]
[]
[]
[]
[]
[]
[]
[]
[]
[]
[]
[]
[]
[]
[]
[]
[]
[]
[]
[]
[]
[]
[]
[]
[]
[]
[]
[]
[]
[]
[]
[]
[]
[]
[]
[]
[]
[]
[]
[]
[]
[]
[]
[]
[]
[]
[]
[]
[]
[]
[]
[]
[]
[]
[]
[]
[]
[]
[]
[]
[]
[]
[]
[]
[]
[]
[]
[]
[]
[]
[]
[]
[]
[]
[]
[]
[]
[]
[]
[]
[]
[]
[]
[]
[]
[]
[]
[]
[]
[]
[]
[]
[]
[]
[]
[]
[]
[]
[]
[]
[]
[]
[]
[]
[]
[]
[]
[]
[]
[]
[]
[]
[]
[]
[]
[]
[]
[]
[]
[]
[]
[]
[]
[]
[]
[]
[]
[]
[]
[]
[]
[]
[]
[]
[]
[]
[]
[]
[]
[]
[]
[]
[]
[]
[]
[]
[]
[]
[]
[]
[]
[]
[]
[]
[]
[]
[]
[]
[]
[]
[]
[]
[]
[]
[]
[]
[]
[]
[]
[]
[]
[]
[]
[]
[]
[]
[]
[]
[]
[]
[]
[]
[]
[]
[]
[]
[]
[]
[]
[]
[]
[]
[]
[]
[]
[]
[]
[]
[]
[]
[]
[]
[]
[]
[]
[]
[]
[]
[]
[]
[]
[]
[]
[]
[]
[]
[]
[]
[]
[]
[]
[]
[]
[]
[]
[]
[]
[]
[]
[]
[]
[]
[]
[]
[]
[]
[]
[]
[]
[]
[]
[]
[]
[]
[]
[]
[]
[]
[]
[]
[]
[]
[]
[]
[]
[]
[]
[]
[]
[]
[]
[]
[]
[]
[]
[]
[]
[]
[]
[]
[]
[]
[]
[]
[]
[]
[]
[]
[]
[]
[]
[]
[]
[]
[]
[]
[]
[]
[]
[]
[]
[]
[]
[]
[]
[]
[]
[]
[]
[]
[]
[]
[]
[]
[]
[]
[]
[]
[]
[]
[]
[]
[]
[]
[]
[]
[]
[]
[]
[]
[]
[]
[]
[]
[]
[]
[]
[]
[]
[]
[]
[]
[]
[]
[]
[]
[]
[]
[]
[]
[]
[]
[]
[]
[]
[]
[]
[]
[]
[]
[]
[]
[]
[]
[]
[]
[]
[]
[]
[]
[]
[]
[]
[]
[]
[]
[]
[]
[]
[]
[]
[]
[]
[]
[]
[]
[]
[]
[]
[]
[]
[]
[]
[]
[]
[]
[]
[]
[]
[]
[]
[]
[]
[]
[]
[]
[]
[]
[]
[]
[]
[]
[]
[]
[]
[]
[]
[]
[]
[]
[]
[]
[]
[]
[]
[]
[]
[]
[]
[]
[]
[]
[]
[]
[]
[]
[]
[]
[]
[]
[]
[]
[]
[]
[]
[]
[]
[]
[]
[]
[]
[]
[]
[]
[]
[]
[]
[]
[]
[]
[]
[]
[]
[]
[]
[]
[]
[]
[]
[]
[]
[]
[]
[]
[]
[]
[]
[]
[]
[]
[]
[]
[]
[]
[]
[]
[]
[]
[]
[]
[]
[]
[]
[]
[]
[]
[]
[]
[]
[]
[]
[]
[]
[]
[]
[]
[]
[]
[]
[]
[]
[]
[]
[]
[]
[]
[]
[]
[]
[]
[]
[]
[]
[]
[]
[]
[]
[]
[]
[]
[]
[]
[]
[]
[]
[]
[]
[]
[]
[]
[]
[]
[]
[]
[]
[]
[]
[]
[]
[]
[]
[]
[]
[]
[]
[]
[]
[]
[]
[]
[]
[]
[]
[]
[]
[]
[]
[]
[]
[]
[]
[]
[]
[]
[]
[]
[]
[]
[]
[]
[]
[]
[]
[]
[]
[]
[]
[]
[]
[]
[]
[]
[]
[]
[]
[]
[]
[]
[]
[]
[]
[]
[]
[]
[]
[]
[]
[]
[]
[]
[]
[]
[]
[]
[]
[]
[]
[]
[]
[]
[]
[]
[]
[]
[]
[]
[]
[]
[]
[]
[]
[]
[]
[]
[]
[]
[]
[]
[]
[]
[]
[]
[]
[]
[]
[]
[]
[]
[]
[]
[]
[]
[]
[]
[]
[]
[]
[]
[]
[]
[]
[]
[]
[]
[]
[]
[]
[]
[]
[]
[]
[]
[]
[]
[]
[]
[]
[]
[]
[]
[]
[]
[]
[]
[]
[]
[]
[]
[]
[]
[]
[]
[]
[]
[]
[]
[]
[]
[]
[]
[]
[]
[]
[]
[]
[]
[]
[]
[]
[]
[]
[]
[]
[]
[]
[]
[]
[]
[]
[]
[]
[]
[]
[]
[]
[]
[]
[]
[]
[]
[]
[]
[]
[]
[]
[]
[]
[]
[]
[]
[]
[]
[]
[]
[]
[]
[]
[]
[]
[]
[]
[]
[]
[]
[]
[]
[]
[]
[]
[]
[]
[]
[]
[]
[]
[]
[]
[]
[]
[]
[]
[]
[]
[]
[]
[]
[]
[]
[]
[]
[]
[]
[]
[]
[]
[]
[]
[]
[]
[]
[]
[]
[]
[]
[]
[]
[]
[]
[]
[]
[]
[]
[]
[]
[]
[]
[]
[]
[]
[]
[]
[]
[]
[]
[]
[]
[]
[]
[]
[]
[]
[]
[]
[]
[]
[]
[]
[]
[]
[]
[]
[]
[]
[]
[]
[]
[]
[]
[]
[]
[]
[]
[]
[]
[]
[]
[]
[]
[]
[]
[]
[]
[]
[]
[]
[]
[]
[]
[]
[]
[]
[]
[]
[]
[]
[]
[]
[]
[]
[]
[]
[]
[]
[]
[]
[]
[]
[]
[]
[]
[]
[]
[]
[]
[]
[]
[]
[]
[]
[]
[]
[]
[]
[]
[]
[]
[]
[]
[]
[]
[]
[]
[]
[]
[]
[]
[]
[]
[]
[]
[]
[]
[]
[]
[]
[]
[]
[]
[]
[]
[]
[]
[]
[]
[]
[]
[]
[]
[]
[]
[]
[]
[]
[]
[]
[]
[]
[]
[]
[]
[]
[]
[]
[]
[]
[]
[]
[]
[]
[]
[]
[]
[]
[]
[]
[]
[]
[]
[]
[]
[]
[]
[]
[]
[]
[]
[]
[]
[]
[]
[]
[]
[]
[]
[]
[]
[]
[]
[]
[]
[]
[]
[]
[]
[]
[]
[]
[]
[]
[]
[]
[]
[]
[]
[]
[]
[]
[]
[]
[]
[]
[]
[]
[]
[]
[]
[]
[]
[]
[]
[]
[]
[]
[]
[]
[]
[]
[]
[]
[]
[]
[]
[]
[]
[]
[]
[]
[]
[]
[]
[]
[]
[]
[]
[]
[]
[]
[]
[]
[]
[]
[]
[]
[]
[]
[]
[]
[]
[]
[]
[]
[]
[]
[]
[]
[]
[]
[]
[]
[]
[]
[]
[]
[]
[]
[]
[]
[]
[]
[]
[]
[]
[]
[]
[]
[]
[]
[]
[]
[]
[]
[]
[]
[]
[]
[]
[]
[]
[]
[]
[]
[]
[]
[]
[]
[]
[]
[]
[]
[]
[]
[]
[]
[]
[]
[]
[]
[]
[]
[]
[]
[]
[]
[]
[]
[]
[]
[]
[]
[]
[]
[]
[]
[]
[]
[]
[]
[]
[]
[]
[]
[]
[]
[]
[]
[]
[]
[]
[]
[]
[]
[]
[]
[]
[]
[]
[]
[]
[]
[]
[]
[]
[]
[]
[]
[]
[]
[]
[]
[]
[]
[]
[]
[]
[]
[]
[]
[]
[]
[]
[]
[]
[]
[]
[]
[]
[]
[]
[]
[]
[]
[]
[]
[]
[]
[]
[]
[]
[]
[]
[]
[]
[]
[]
[]
[]
[]
[]
[]
[]
[]
[]
[]
[]
[]
[]
[]
[]
[]
[]
[]
[]
[]
[]
[]
[]
[]
[]
[]
[]
[]
[]
[]
[]
[]
[]
[]
[]
[]
[]
[]
[]
[]
[]
[]
[]
[]
[]
[]
[]
[]
[]
[]
[]
[]
[]
[]
[]
[]
[]
[]
[]
[]
[]
[]
[]
[]
[]
[]
[]
[]
[]
[]
[]
[]
[]
[]
[]
[]
[]
[]
[]
[]
[]
[]
[]
[]
[]
[]
[]
[]
[]
[]
[]
[]
[]
[]
[]
[]
[]
[]
[]
[]
[]
[]
[]
[]
[]
[]
[]
[]
[]
[]
[]
[]
[]
[]
[]
[]
[]
[]
[]
[]
[]
[]
[]
[]
[]
[]
[]
[]
[]
[]
[]
[]
[]
[]
[]
[]
[]
[]
[]
[]
[]
[]
[]
[]
[]
[]
[]
[]
[]
[]
[]
[]
[]
[]
[]
[]
[]
[]
[]
[]
[]
[]
[]
[]
[]
[]
[]
[]
[]
[]
[]
[]
[]
[]
[]
[]
[]
[]
[]
[]
[]
[]
[]
[]
[]
[]
[]
[]
[]
[]
[]
[]
[]
[]
[]
[]
[]
[]
[]
[]
[]
[]
[]
[]
[]
[]
[]
[]
[]
[]
[]
[]
[]
[]
[]
[]
[]
[]
[]
[]
[]
[]
[]
[]
[]
[]
[]
[]
[]
[]
[]
[]
[]
[]
[]
[]
[]
[]
[]
[]
[]
[]
[]
[]
[]
[]
[]
[]
[]
[]
[]
[]
[]
[]
[]
[]
[]
[]
[]
[]
[]
[]
[]
[]
[]
[]
[]
[]
[]
[]
[]
[]
[]
[]
[]
[]
[]
[]
[]
[]
[]
[]
[]
[]
[]
[]
[]
[]
[]
[]
[]
[]
[]
[]
[]
[]
[]
[]
[]
[]
[]
[]
[]
[]
[]
[]
[]
[]
[]
[]
[]
[]
[]
[]
[]
[]
[]
[]
[]
[]
[]
[]
[]
[]
[]
[]
[]
[]
[]
[]
[]
[]
[]
[]
[]
[]
[]
[]
[]
[]
[]
[]
[]
[]
[]
[]
[]
[]
[]
[]
[]
[]
[]
[]
[]
[]
[]
[]
[]
[]
[]
[]
[]
[]
[]
[]
[]
[]
[]
[]
[]
[]
[]
[]
[]
[]
[]
[]
[]
[]
[]
[]
[]
[]
[]
[]
[]
[]
[]
[]
[]
[]
[]
[]
[]
[]
[]
[]
[]
[]
[]
[]
[]
[]
[]
[]
[]
[]
[]
[]
[]
[]
[]
[]
[]
[]
[]
[]
[]
[]
[]
[]
[]
[]
[]
[]
[]
[]
[]
[]
[]
[]
[]
[]
[]
[]
[]
[]
[]
[]
[]
[]
[]
[]
[]
[]
[]
[]
[]
[]
[]
[]
[]
[]
[]
[]
[]
[]
[]
[]
[]
[]
[]
[]
[]
[]
[]
[]
[]
[]
[]
[]
[]
[]
[]
[]
[]
[]
[]
[]
[]
[]
[]
[]
[]
[]
[]
[]
[]
[]
[]
[]
[]
[]
[]
[]
[]
[]
[]
[]
[]
[]
[]
[]
[]
[]
[]
[]
[]
[]
[]
[]
[]
[]
[]
[]
[]
[]
[]
[]
[]
[]
[]
[]
[]
[]
[]
[]
[]
[]
[]
[]
[]
[]
[]
[]
[]
[]
[]
[]
[]
[]
[]
[]
[]
[]
[]
[]
[]
[]
[]
[]
[]
[]
[]
[]
[]
[]
[]
[]
[]
[]
[]
[]
[]
[]
[]
[]
[]
[]
[]
[]
[]
[]
[]
[]
[]
[]
[]
[]
[]
[]
[]
[]
[]
[]
[]
[]
[]
[]
[]
[]
[]
[]
[]
[]
[]
[]
[]
[]
[]
[]
[]
[]
[]
[]
[]
[]
[]
[]
[]
[]
[]
[]
[]
[]
[]
[]
[]
[]
[]
[]
[]
[]
[]
[]
[]
[]
[]
[]
[]
[]
[]
[]
[]
[]
[]
[]
[]
[]
[]
[]
[]
[]
[]
[]
[]
[]
[]
[]
[]
[]
[]
[]
[]
[]
[]
[]
[]
[]
[]
[]
[]
[]
[]
[]
[]
[]
[]
[]
[]
[]
[]
[]
[]
[]
[]
[]
[]
[]
[]
[]
[]
[]
[]
[]
[]
[]
[]
[]
[]
[]
[]
[]
[]
[]
[]
[]
[]
[]
[]
[]
[]
[]
[]
[]
[]
[]
[]
[]
[]
[]
[]
[]
[]
[]
[]
[]
[]
[]
[]
[]
[]
[]
[]
[]
[]
[]
[]
[]
[]
[]
[]
[]
[]
[]
[]
[]
[]
[]
[]
[]
[]
[]
[]
[]
[]
[]
[]
[]
[]
[]
[]
[]
[]
[]
[]
[]
[]
[]
[]
[]
[]
[]
[]
[]
[]
[]
[]
[]
[]
[]
[]
[]
[]
[]
[]
[]
[]
[]
[]
[]
[]
[]
[]
[]
[]
[]
[]
[]
[]
[]
[]
[]
[]
[]
[]
[]
[]
[]
[]
[]
[]
[]
[]
[]
[]
[]
[]
[]
[]
[]
[]
[]
[]
[]
[]
[]
[]
[]
[]
[]
[]
[]
[]
[]
[]
[]
[]
[]
[]
[]
[]
[]
[]
[]
[]
[]
[]
[]
[]
[]
[]
[]
[]
[]
[]
[]
[]
[]
[]
[]
[]
[]
[]
[]
[]
[]
[]
[]
[]
[]
[]
[]
[]
[]
[]
[]
[]
[]
[]
[]
[]
[]
[]
[]
[]
[]
[]
[]
[]
[]
[]
[]
[]
[]
[]
[]
[]
[]
[]
[]
[]
[]
[]
[]
[]
[]
[]
[]
[]
[]
[]
[]
[]
[]
[]
[]
[]
[]
[]
[]
[]
[]
[]
[]
[]
[]
[]
[]
[]
[]
[]
[]
[]
[]
[]
[]
[]
[]
[]
[]
[]
[]
[]
[]
[]
[]
[]
[]
[]
[]
[]
[]
[]
[]
[]
[]
[]
[]
[]
[]
[]
[]
[]
[]
[]
[]
[]
[]
[]
[]
[]
[]
[]
[]
[]
[]
[]
[]
[]
[]
[]
[]
[]
[]
[]
[]
[]
[]
[]
[]
[]
[]
[]
[]
[]
[]
[]
[]
[]
[]
[]
[]
[]
[]
[]
[]
[]
[]
[]
[]
[]
[]
[]
[]
[]
[]
[]
[]
[]
[]
[]
[]
[]
[]
[]
[]
[]
[]
[]
[]
[]
[]
[]
[]
[]
[]
[]
[]
[]
[]
[]
[]
[]
[]
[]
[]
[]
[]
[]
[]
[]
[]
[]
[]
[]
[]
[]
[]
[]
[]
[]
[]
[]
[]
[]
[]
[]
[]
[]
[]
[]
[]
[]
[]
[]
[]
[]
[]
[]
[]
[]
[]
[]
[]
[]
[]
[]
[]
[]
[]
[]
[]
[]
[]
[]
[]
[]
[]
[]
[]
[]
[]
[]
[]
[]
[]
[]
[]
[]
[]
[]
[]
[]
[]
[]
[]
[]
[]
[]
[]
[]
[]
[]
[]
[]
[]
[]
[]
[]
[]
[]
[]
[]
[]
[]
[]
[]
[]
[]
[]
[]
[]
[]
[]
[]
[]
[]
[]
[]
[]
[]
[]
[]
[]
[]
[]
[]
[]
[]
[]
[]
[]
[]
[]
[]
[]
[]
[]
[]
[]
[]
[]
[]
[]
[]
[]
[]
[]
[]
[]
[]
[]
[]
[]
[]
[]
[]
[]
[]
[]
[]
[]
[]
[]
[]
[]
[]
[]
[]
[]
[]
[]
[]
[]
[]
[]
[]
[]
[]
[]
[]
[]
[]
[]
[]
[]
[]
[]
[]
[]
[]
[]
[]
[]
[]
[]
[]
[]
[]
[]
[]
[]
[]
[]
[]
[]
[]
[]
[]
[]
[]
[]
[]
[]
[]
[]
[]
[]
[]
[]
[]
[]
[]
[]
[]
[]
[]
[]
[]
[]
[]
[]
[]
[]
[]
[]
[]
[]
[]
[]
[]
[]
[]
[]
[]
[]
[]
[]
[]
[]
[]
[]
[]
[]
[]
[]
[]
[]
[]
[]
[]
[]
[]
[]
[]
[]
[]
[]
[]
[]
[]
[]
[]
[]
[]
[]
[]
[]
[]
[]
[]
[]
[]
[]
[]
[]
[]
[]
[]
[]
[]
[]
[]
[]
[]
[]
[]
[]
[]
[]
[]
[]
[]
[]
[]
[]
[]
[]
[]
[]
[]
[]
[]
[]
[]
[]
[]
[]
[]
[]
[]
[]
[]
[]
[]
[]
[]
[]
[]
[]
[]
[]
[]
[]
[]
[]
[]
[]
[]
[]
[]
[]
[]
[]
[]
[]
[]
[]
[]
[]
[]
[]
[]
[]
[]
[]
[]
[]
[]
[]
[]
[]
[]
[]
[]
[]
[]
[]
[]
[]
[]
[]
[]
[]
[]
[]
[]
[]
[]
[]
[]
[]
[]
[]
[]
[]
[]
[]
[]
[]
[]
[]
[]
[]
[]
[]
[]
[]
[]
[]
[]
[]
[]
[]
[]
[]
[]
[]
[]
[]
[]
[]
[]
[]
[]
[]
[]
[]
[]
[]
[]
[]
[]
[]
[]
[]
[]
[]
[]
[]
[]
[]
[]
[]
[]
[]
[]
[]
[]
[]
[]
[]
[]
[]
[]
[]
[]
[]
[]
[]
[]
[]
[]
[]
[]
[]
[]
[]
[]
[]
[]
[]
[]
[]
[]
[]
[]
[]
[]
[]
[]
[]
[]
[]
[]
[]
[]
[]
[]
[]
[]
[]
[]
[]
[]
[]
[]
[]
[]
[]
[]
[]
[]
[]
[]
[]
[]
[]
[]
[]
[]
[]
[]
[]
[]
[]
[]
[]
[]
[]
[]
[]
[]
[]
[]
[]
[]
[]
[]
[]
[]
[]
[]
[]
[]
[]
[]
[]
[]
[]
[]
[]
[]
[]
[]
[]
[]
[]
[]
[]
[]
[]
[]
[]
[]
[]
[]
[]
[]
[]
[]
[]
[]
[]
[]
[]
[]
[]
[]
[]
[]
[]
[]
[]
[]
[]
[]
[]
[]
[]
[]
[]
[]
[]
[]
[]
[]
[]
[]
[]
[]
[]
[]
[]
[]
[]
[]
[]
[]
[]
[]
[]
[]
[]
[]
[]
[]
[]
[]
[]
[]
[]
[]
[]
[]
[]
[]
[]
[]
[]
[]
[]
[]
[]
[]
[]
[]
[]
[]
[]
[]
[]
[]
[]
[]
[]
[]
[]
[]
[]
[]
[]
[]
[]
[]
[]
[]
[]
[]
[]
[]
[]
[]
[]
[]
[]
[]
[]
[]
[]
[]
[]
[]
[]
[]
[]
[]
[]
[]
[]
[]
[]
[]
[]
[]
[]
[]
[]
[]
[]
[]
[]
[]
[]
[]
[]
[]
[]
[]
[]
[]
[]
[]
[]
[]
[]
[]
[]
[]
[]
[]
[]
[]
[]
[]
[]
[]
[]
[]
[]
[]
[]
[]
[]
[]
[]
[]
[]
[]
[]
[]
[]
[]
[]
[]
[]
[]
[]
[]
[]
[]
[]
[]
[]
[]
[]
[]
[]
[]
[]
[]
[]
[]
[]
[]
[]
[]
[]
[]
[]
[]
[]
[]
[]
[]
[]
[]
[]
[]
[]
[]
[]
[]
[]
[]
[]
[]
[]
[]
[]
[]
[]
[]
[]
[]
[]
[]
[]
[]
[]
[]
[]
[]
[]
[]
[]
[]
[]
[]
[]
[]
[]
[]
[]
[]
[]
[]
[]
[]
[]
[]
[]
[]
[]
[]
[]
[]
[]
[]
[]
[]
[]
[]
[]
[]
[]
[]
[]
[]
[]
[]
[]
[]
[]
[]
[]
[]
[]
[]
[]
[]
[]
[]
[]
[]
[]
[]
[]
[]
[]
[]
[]
[]
[]
[]
[]
[]
[]
[]
[]
[]
[]
[]
[]
[]
[]
[]
[]
[]
[]
[]
[]
[]
[]
[]
[]
[]
[]
[]
[]
[]
[]
[]
[]
[]
[]
[]
[]
[]
[]
[]
[]
[]
[]
[]
[]
[]
[]
[]
[]
[]
[]
[]
[]
[]
[]
[]
[]
[]
[]
[]
[]
[]
[]
[]
[]
[]
[]
[]
[]
[]
[]
[]
[]
[]
[]
[]
[]
[]
[]
[]
[]
[]
[]
[]
[]
[]
[]
[]
[]
[]
[]
[]
[]
[]
[]
[]
[]
[]
[]
[]
[]
[]
[]
[]
[]
[]
[]
[]
[]
[]
[]
[]
[]
[]
[]
[]
[]
[]
[]
[]
[]
[]
[]
[]
[]
[]
[]
[]
[]
[]
[]
[]
[]
[]
[]
[]
[]
[]
[]
[]
[]
[]
[]
[]
[]
[]
[]
[]
[]
[]
[]
[]
[]
[]
[]
[]
[]
[]
[]
[]
[]
[]
[]
[]
[]
[]
[]
[]
[]
[]
[]
[]
[]
[]
[]
[]
[]
[]
[]
[]
[]
[]
[]
[]
[]
[]
[]
[]
[]
[]
[]
[]
[]
[]
[]
[]
[]
[]
[]
[]
[]
[]
[]
[]
[]
[]
[]
[]
[]
[]
[]
[]
[]
[]
[]
[]
[]
[]
[]
[]
[]
[]
[]
[]
[]
[]
[]
[]
[]
[]
[]
[]
[]
[]
[]
[]
[]
[]
[]
[]
[]
[]
[]
[]
[]
[]
[]
[]
[]
[]
[]
[]
[]
[]
[]
[]
[]
[]
[]
[]
[]
[]
[]
[]
[]
[]
[]
[]
[]
[]
[]
[]
[]
[]
[]
[]
[]
[]
[]
[]
[]
[]
[]
[]
[]
[]
[]
[]
[]
[]
[]
[]
[]
[]
[]
[]
[]
[]
[]
[]
[]
[]
[]
[]
[]
[]
[]
[]
[]
[]
[]
[]
[]
[]
[]
[]
[]
[]
[]
[]
[]
[]
[]
[]
[]
[]
[]
[]
[]
[]
[]
[]
[]
[]
[]
[]
[]
[]
[]
[]
[]
[]
[]
[]
[]
[]
[]
[]
[]
[]
[]
[]
[]
[]
[]
[]
[]
[]
[]
[]
[]
[]
[]
[]
[]
[]
[]
[]
[]
[]
[]
[]
[]
[]
[]
[]
[]
[]
[]
[]
[]
[]
[]
[]
[]
[]
[]
[]
[]
[]
[]
[]
[]
[]
[]
[]
[]
[]
[]
[]
[]
[]
[]
[]
[]
[]
[]
[]
[]
[]
[]
[]
[]
[]
[]
[]
[]
[]
[]
[]
[]
[]
[]
[]
[]
[]
[]
[]
[]
[]
[]
[]
[]
[]
[]
[]
[]
[]
[]
[]
[]
[]
[]
[]
[]
[]
[]
[]
[]
[]
[]
[]
[]
[]
[]
[]
[]
[]
[]
[]
[]
[]
[]
[]
[]
[]
[]
[]
[]
[]
[]
[]
[]
[]
[]
[]
[]
[]
[]
[]
[]
[]
[]
[]
[]
[]
[]
[]
[]
[]
[]
[]
[]
[]
[]
[]
[]
[]
[]
[]
[]
[]
[]
[]
[]
[]
[]
[]
[]
[]
[]
[]
[]
[]
[]
[]
[]
[]
[]
[]
[]
[]
[]
[]
[]
[]
[]
[]
[]
[]
[]
[]
[]
[]
[]
[]
[]
[]
[]
[]
[]
[]
[]
[]
[]
[]
[]
[]
[]
[]
[]
[]
[]
[]
[]
[]
[]
[]
[]
[]
[]
[]
[]
[]
[]
[]
[]
[]
[]
[]
[]
[]
[]
[]
[]
[]
[]
[]
[]
[]
[]
[]
[]
[]
[]
[]
[]
[]
[]
[]
[]
[]
[]
[]
[]
[]
[]
[]
[]
[]
[]
[]
[]
[]
[]
[]
[]
[]
[]
[]
[]
[]
[]
[]
[]
[]
[]
[]
[]
[]
[]
[]
[]
[]
[]
[]
[]
[]
[]
[]
[]
[]
[]
[]
[]
[]
[]
[]
[]
[]
[]
[]
[]
[]
[]
[]
[]
[]
[]
[]
[]
[]
[]
[]
[]
[]
[]
[]
[]
[]
[]
[]
[]
[]
[]
[]
[]
[]
[]
[]
[]
[]
[]
[]
[]
[]
[]
[]
[]
[]
[]
[]
[]
[]
[]
[]
[]
[]
[]
[]
[]
[]
[]
[]
[]
[]
[]
[]
[]
[]
[]
[]
[]
[]
[]
[]
[]
[]
[]
[]
[]
[]
[]
[]
[]
[]
[]
[]
[]
[]
[]
[]
[]
[]
[]
[]
[]
[]
[]
[]
[]
[]
[]
[]
[]
[]
[]
[]
[]
[]
[]
[]
[]
[]
[]
[]
[]
[]
[]
[]
[]
[]
[]
[]
[]
[]
[]
[]
[]
[]
[]
[]
[]
[]
[]
[]
[]
[]
[]
[]
[]
[]
[]
[]
[]
[]
[]
[]
[]
[]
[]
[]
[]
[]
[]
[]
[]
[]
[]
[]
[]
[]
[]
[]
[]
[]
[]
[]
[]
[]
[]
[]
[]
[]
[]
[]
[]
[]
[]
[]
[]
[]
[]
[]
[]
[]
[]
[]
[]
[]
[]
[]
[]
[]
[]
[]
[]
[]
[]
[]
[]
[]
[]
[]
[]
[]
[]
[]
[]
[]
[]
[]
[]
[]
[]
[]
[]
[]
[]
[]
[]
[]
[]
[]
[]
[]
[]
[]
[]
[]
[]
[]
[]
[]
[]
[]
[]
[]
[]
[]
[]
[]
[]
[]
[]
[]
[]
[]
[]
[]
[]
[]
[]
[]
[]
[]
[]
[]
[]
[]
[]
[]
[]
[]
[]
[]
[]
[]
[]
[]
[]
[]
[]
[]
[]
[]
[]
[]
[]
[]
[]
[]
[]
[]
[]
[]
[]
[]
[]
[]
[]
[]
[]
[]
[]
[]
[]
[]
[]
[]
[]
[]
[]
[]
[]
[]
[]
[]
[]
[]
[]
[]
[]
[]
[]
[]
[]
[]
[]
[]
[]
[]
[]
[]
[]
[]
[]
[]
[]
[]
[]
[]
[]
[]
[]
[]
[]
[]
[]
[]
[]
[]
[]
[]
[]
[]
[]
[]
[]
[]
[]
[]
[]
[]
[]
[]
[]
[]
[]
[]
[]
[]
[]
[]
[]
[]
[]
[]
[]
[]
[]
[]
[]
[]
[]
[]
[]
[]
[]
[]
[]
[]
[]
[]
[]
[]
[]
[]
[]
[]
[]
[]
[]
[]
[]
[]
[]
[]
[]
[]
[]
[]
[]
[]
[]
[]
[]
[]
[]
[]
[]
[]
[]
[]
[]
[]
[]
[]
[]
[]
[]
[]
[]
[]
[]
[]
[]
[]
[]
[]
[]
[]
[]
[]
[]
[]
[]
[]
[]
[]
[]
[]
[]
[]
[]
[]
[]
[]
[]
[]
[]
[]
[]
[]
[]
[]
[]
[]
[]
[]
[]
[]
[]
[]
[]
[]
[]
[]
[]
[]
[]
[]
[]
[]
[]
[]
[]
[]
[]
[]
[]
[]
[]
[]
[]
[]
[]
[]
[]
[]
[]
[]
[]
[]
[]
[]
[]
[]
[]
[]
[]
[]
[]
[]
[]
[]
[]
[]
[]
[]
[]
[]
[]
[]
[]
[]
[]
[]
[]
[]
[]
[]
[]
[]
[]
[]
[]
[]
[]
[]
[]
[]
[]
[]
[]
[]
[]
[]
[]
[]
[]
[]
[]
[]
[]
[]
[]
[]
[]
[]
[]
[]
[]
[]
[]
[]
[]
[]
[]
[]
[]
[]
[]
[]
[]
[]
[]
[]
[]
[]
[]
[]
[]
[]
[]
[]
[]
[]
[]
[]
[]
[]
[]
[]
[]
[]
[]
[]
[]
[]
[]
[]
[]
[]
[]
[]
[]
[]
[]
[]
[]
[]
[]
[]
[]
[]
[]
[]
[]
[]
[]
[]
[]
[]
[]
[]
[]
[]
[]
[]
[]
[]
[]
[]
[]
[]
[]
[]
[]
[]
[]
[]
[]
[]
[]
[]
[]
[]
[]
[]
[]
[]
[]
[]
[]
[]
[]
[]
[]
[]
[]
[]
[]
[]
[]
[]
[]
[]
[]
[]
[]
[]
[]
[]
[]
[]
[]
[]
[]
[]
[]
[]
[]
[]
[]
[]
[]
[]
[]
[]
[]
[]
[]
[]
[]
[]
[]
[]
[]
[]
[]
[]
[]
[]
[]
[]
[]
[]
[]
[]
[]
[]
[]
[]
[]
[]
[]
[]
[]
[]
[]
[]
[]
[]
[]
[]
[]
[]
[]
[]
[]
[]
[]
[]
[]
[]
[]
[]
[]
[]
[]
[]
[]
[]
[]
[]
[]
[]
[]
[]
[]
[]
[]
[]
[]
[]
[]
[]
[]
[]
[]
[]
[]
[]
[]
[]
[]
[]
[]
[]
[]
[]
[]
[]
[]
[]
[]
[]
[]
[]
[]
[]
[]
[]
[]
[]
[]
[]
[]
[]
[]
[]
[]
[]
[]
[]
[]
[]
[]
[]
[]
[]
[]
[]
[]
[]
[]
[]
[]
[]
[]
[]
[]
[]
[]
[]
[]
[]
[]
[]
[]
[]
[]
[]
[]
[]
[]
[]
[]
[]
[]
[]
[]
[]
[]
[]
[]
[]
[]
[]
[]
[]
[]
[]
[]
[]
[]
[]
[]
[]
[]
[]
[]
[]
[]
[]
[]
[]
[]
[]
[]
[]
[]
[]
[]
[]
[]
[]
[]
[]
[]
[]
[]
[]
[]
[]
[]
[]
[]
[]
[]
[]
[]
[]
[]
[]
[]
[]
[]
[]
[]
[]
[]
[]
[]
[]
[]
[]
[]
[]
[]
[]
[]
[]
[]
[]
[]
[]
[]
[]
[]
[]
[]
[]
[]
[]
[]
[]
[]
[]
[]
[]
[]
[]
[]
[]
[]
[]
[]
[]
[]
[]
[]
[]
[]
[]
[]
[]
[]
[]
[]
[]
[]
[]
[]
[]
[]
[]
[]
[]
[]
[]
[]
[]
[]
[]
[]
[]
[]
[]
[]
[]
[]
[]
[]
[]
[]
[]
[]
[]
[]
[]
[]
[]
[]
[]
[]
[]
[]
[]
[]
[]
[]
[]
[]
[]
[]
[]
[]
[]
[]
[]
[]
[]
[]
[]
[]
[]
[]
[]
[]
[]
[]
[]
[]
[]
[]
[]
[]
[]
[]
[]
[]
[]
[]
[]
[]
[]
[]
[]
[]
[]
[]
[]
[]
[]
[]
[]
[]
[]
[]
[]
[]
[]
[]
[]
[]
[]
[]
[]
[]
[]
[]
[]
[]
[]
[]
[]
[]
[]
[]
[]
[]
[]
[]
[]
[]
[]
[]
[]
[]
[]
[]
[]
[]
[]
[]
[]
[]
[]
[]
[]
[]
[]
[]
[]
[]
[]
[]
[]
[]
[]
[]
[]
[]
[]
[]
[]
[]
[]
[]
[]
[]
[]
[]
[]
[]
[]
[]
[]
[]
[]
[]
[]
[]
[]
[]
[]
[]
[]
[]
[]
[]
[]
[]
[]
[]
[]
[]
[]
[]
[]
[]
[]
[]
[]
[]
[]
[]
[]
[]
[]
[]
[]
[]
[]
[]
[]
[]
[]
[]
[]
[]
[]
[]
[]
[]
[]
[]
[]
[]
[]
[]
[]
[]
[]
[]
[]
[]
[]
[]
[]
[]
[]
[]
[]
[]
[]
[]
[]
[]
[]
[]
[]
[]
[]
[]
[]
[]
[]
[]
[]
[]
[]
[]
[]
[]
[]
[]
[]
[]
[]
[]
[]
[]
[]
[]
[]
[]
[]
[]
[]
[]
[]
[]
[]
[]
[]
[]
[]
[]
[]
[]
[]
[]
[]
[]
[]
[]
[]
[]
[]
[]
[]
[]
[]
[]
[]
[]
[]
[]
[]
[]
[]
[]
[]
[]
[]
[]
[]
[]
[]
[]
[]
[]
[]
[]
[]
[]
[]
[]
[]
[]
[]
[]
[]
[]
[]
[]
[]
[]
[]
[]
[]
[]
[]
[]
[]
[]
[]
[]
[]
[]
[]
[]
[]
[]
[]
[]
[]
[]
[]
[]
[]
[]
[]
[]
[]
[]
[]
[]
[]
[]
[]
[]
[]
[]
[]
[]
[]
[]
[]
[]
[]
[]
[]
[]
[]
[]
[]
[]
[]
[]
[]
[]
[]
[]
[]
[]
[]
[]
[]
[]
[]
[]
[]
[]
[]
[]
[]
[]
[]
[]
[]
[]
[]
[]
[]
[]
[]
[]
[]
[]
[]
[]
[]
[]
[]
[]
[]
[]
[]
[]
[]
[]
[]
[]
[]
[]
[]
[]
[]
[]
[]
[]
[]
[]
[]
[]
[]
[]
[]
[]
[]
[]
[]
[]
[]
[]
[]
[]
[]
[]
[]
[]
[]
[]
[]
[]
[]
[]
[]
[]
[]
[]
[]
[]
[]
[]
[]
[]
[]
[]
[]
[]
[]
[]
[]
[]
[]
[]
[]
[]
[]
[]
[]
[]
[]
[]
[]
[]
[]
[]
[]
[]
[]
[]
[]
[]
[]
[]
[]
[]
[]
[]
[]
[]
[]
[]
[]
[]
[]
[]
[]
[]
[]
[]
[]
[]
[]
[]
[]
[]
[]
[]
[]
[]
[]
[]
[]
[]
[]
[]
[]
[]
[]
[]
[]
[]
[]
[]
[]
[]
[]
[]
[]
[]
[]
[]
[]
[]
[]
[]
[]
[]
[]
[]
[]
[]
[]
[]
[]
[]
[]
[]
[]
[]
[]
[]
[]
[]
[]
[]
[]
[]
[]
[]
[]
[]
[]
[]
[]
[]
[]
[]
[]
[]
[]
[]
[]
[]
[]
[]
[]
[]
[]
[]
[]
[]
[]
[]
[]
[]
[]
[]
[]
[]
[]
[]
[]
[]
[]
[]
[]
[]
[]
[]
[]
[]
[]
[]
[]
[]
[]
[]
[]
[]
[]
[]
[]
[]
[]
[]
[]
[]
[]
[]
[]
[]
[]
[]
[]
[]
[]
[]
[]
[]
[]
[]
[]
[]
[]
[]
[]
[]
[]
[]
[]
[]
[]
[]
[]
[]
[]
[]
[]
[]
[]
[]
[]
[]
[]
[]
[]
[]
[]
[]
[]
[]
[]
[]
[]
[]
[]
[]
[]
[]
[]
[]
[]
[null,{"$f":"SUMIF(B6:B10005,\">0\")","v":0}]

{"sheet":"Dimensione del campione","index":2,"n_rows":10,"n_cols":11,"rows_kept":10,"cut":false,"hidden":false,"merged":[]}
[null,null,null,null,null,null,null,null,null,"Livello di fiducia",{"$f":"(C8*C6)","v":0}]
[null,"Totale Spesa certificata (N)",null,null,null,null,null,null,null,0.95]
[null,"Spesa  da campionare (Nj)",{"$f":"'Data Base'!B10006","v":0},null,null,null,null,null,null,0.9]
[null,"Livello di fiducia",0.95,null,null,null,null,null,null,0.8]
[null,"Fattore di fiducia",{"$f":"IF(scelta1=95%,3,IF(scelta1=90%,2.31,IF(scelta1=80%,1.61,IF(scelta1=70%,1.21,IF(scelta1=60%,0.92)))))","v":3},"(",null,null,null,null,null,0.7]
[null,"Fattore di espansione",{"$f":"IF(scelta1=95%,1.6,IF(scelta1=90%,1.5,IF(scelta1=80%,1.3,IF(scelta1=70%,1.2,IF(scelta1=60%,1.1)))))","v":1.6},null,null,null,null,null,null,0.6]
[null,"Errore tollerabile",{"$f":"C3*2%","v":0}]
[null,"Dichiarazione errata prevista",0]
[null,"Dimensione del campione in unità monetarie (nj)",{"$f":"((C3*C5)/(C7-K1))*(C3/C2)","v":{"$error":"#DIV/0!"}}]
[null,"Passo di campionamento (kj)",{"$f":"C3/C9","v":{"$error":"#DIV/0!"}}]

{"sheet":"Macro","index":3,"n_rows":10005,"n_cols":8,"rows_kept":10005,"cut":false,"hidden":false,"merged":[]}
["Dimensione del campione",{"$f":"'Dimensione del campione'!C9","v":{"$error":"#DIV/0!"}},{"$f":"COUNTIF(E6:E10005,\"Controlla operazione\")","v":0}]
["k",{"$f":"'Dimensione del campione'!C10","v":{"$error":"#DIV/0!"}},{"$f":"(B3+(B1+1)*B2)","v":{"$error":"#DIV/0!"}}]
["r",{"$f":"RANDBETWEEN(1,B2)","v":{"$error":"#DIV/0!"}}]
[]
["Cod. Operazione","Spesa certificata","Spesa cumulata",{"$f":"B3","v":{"$error":"#DIV/0!"}},{"$f":"IF(C5>D5,\"Controlla operazione\",)","v":{"$error":"#DIV/0!"}},"Unità monetarie"]
[null,null,{"$f":"B6","v":0},{"$f":"IF(C6=0,0,IF(C6<=D5,D5,IF(C6>D5,D5+B$2)))","v":0},{"$f":"IF(C6>D5,\"Controlla operazione\",0)","v":{"$error":"#DIV/0!"}},{"$f":"B3","v":{"$error":"#DIV/0!"}},1,{"$f":"B3","v":{"$error":"#DIV/0!"}}]
[null,null,{"$f":"IF(B7>0,C6+B7,)","v":0},0,{"$f":"IF(AND((D7-D6>0),(D7<C$2)),\"Controlla operazione\",0)","v":{"$error":"#DIV/0!"}},{"$f":"B3+B2","v":{"$error":"#DIV/0!"}},2,{"$f":"B3+B2","v":{"$error":"#DIV/0!"}}]
[null,null,{"$f":"IF(B8>0,C7+B8,)","v":0},0,{"$f":"IF(AND((D8-D7>0),(D8<C$2)),\"Controlla operazione\",0)","v":{"$error":"#DIV/0!"}},{"$f":"IF(G8<B$1,F7+B$2,IF(G8=B$1,F7+B$2,IF(G8>B$1,)))","v":{"$error":"#DIV/0!"}},3,{"$f":"H7+B$2","v":{"$error":"#DIV/0!"}}]
[null,null,0,0,{"$error":"#DIV/0!"},{"$error":"#DIV/0!"},4,{"$f":"H8+B$2","v":{"$error":"#DIV/0!"}}]
[null,null,0,0,{"$error":"#DIV/0!"},{"$error":"#DIV/0!"},5,{"$error":"#DIV/0!"}]
[null,null,0,0,{"$error":"#DIV/0!"},{"$error":"#DIV/0!"},6,{"$error":"#DIV/0!"}]
[null,null,0,0,{"$error":"#DIV/0!"},{"$error":"#DIV/0!"},7,{"$error":"#DIV/0!"}]
[null,null,0,0,{"$error":"#DIV/0!"},{"$error":"#DIV/0!"},8,{"$error":"#DIV/0!"}]
[null,null,0,0,{"$error":"#DIV/0!"},{"$error":"#DIV/0!"},9,{"$error":"#DIV/0!"}]
[null,null,0,0,{"$error":"#DIV/0!"},{"$error":"#DIV/0!"},10,{"$error":"#DIV/0!"}]
[null,null,0,0,{"$error":"#DIV/0!"},{"$error":"#DIV/0!"},11,{"$error":"#DIV/0!"}]
[null,null,0,0,{"$error":"#DIV/0!"},{"$error":"#DIV/0!"},12,{"$error":"#DIV/0!"}]
[null,null,0,0,{"$error":"#DIV/0!"},{"$error":"#DIV/0!"},13,{"$error":"#DIV/0!"}]
[null,null,0,0,{"$error":"#DIV/0!"},{"$error":"#DIV/0!"},14,{"$error":"#DIV/0!"}]
[null,null,0,0,{"$error":"#DIV/0!"},{"$error":"#DIV/0!"},15,{"$error":"#DIV/0!"}]
[null,null,0,0,{"$error":"#DIV/0!"},{"$error":"#DIV/0!"},16,{"$error":"#DIV/0!"}]
[null,null,0,0,{"$error":"#DIV/0!"},{"$error":"#DIV/0!"},17,{"$error":"#DIV/0!"}]
[null,null,0,0,{"$error":"#DIV/0!"},{"$error":"#DIV/0!"},18,{"$error":"#DIV/0!"}]
[null,null,0,0,{"$error":"#DIV/0!"},{"$error":"#DIV/0!"},19,{"$error":"#DIV/0!"}]
[null,null,0,0,{"$error":"#DIV/0!"},{"$error":"#DIV/0!"},20,{"$error":"#DIV/0!"}]
[null,null,0,0,{"$error":"#DIV/0!"},{"$error":"#DIV/0!"},21,{"$error":"#DIV/0!"}]
[null,null,0,0,{"$error":"#DIV/0!"},{"$error":"#DIV/0!"},22,{"$error":"#DIV/0!"}]
[null,null,0,0,{"$error":"#DIV/0!"},{"$error":"#DIV/0!"},23,{"$error":"#DIV/0!"}]
[null,null,0,0,{"$error":"#DIV/0!"},{"$error":"#DIV/0!"},24,{"$error":"#DIV/0!"}]
[null,null,0,0,{"$error":"#DIV/0!"},{"$error":"#DIV/0!"},25,{"$error":"#DIV/0!"}]
[null,null,0,0,{"$error":"#DIV/0!"},{"$error":"#DIV/0!"},26,{"$error":"#DIV/0!"}]
[null,null,0,0,{"$error":"#DIV/0!"},{"$error":"#DIV/0!"},27,{"$error":"#DIV/0!"}]
[null,null,0,0,{"$error":"#DIV/0!"},{"$error":"#DIV/0!"},28,{"$error":"#DIV/0!"}]
[null,null,0,0,{"$error":"#DIV/0!"},{"$error":"#DIV/0!"},29,{"$error":"#DIV/0!"}]
[null,null,0,0,{"$error":"#DIV/0!"},{"$error":"#DIV/0!"},30,{"$error":"#DIV/0!"}]
[null,null,0,0,{"$error":"#DIV/0!"},{"$error":"#DIV/0!"},31,{"$error":"#DIV/0!"}]
[null,null,0,0,{"$error":"#DIV/0!"},{"$error":"#DIV/0!"},32,{"$error":"#DIV/0!"}]
[null,null,0,0,{"$error":"#DIV/0!"},{"$error":"#DIV/0!"},33,{"$error":"#DIV/0!"}]
[null,null,0,0,{"$error":"#DIV/0!"},{"$error":"#DIV/0!"},34,{"$error":"#DIV/0!"}]
[null,null,0,0,{"$error":"#DIV/0!"},{"$f":"IF(G40<B$1,F39+B$2,IF(G40=B$1,F39+B$2,IF(G40>B$1,)))","v":{"$error":"#DIV/0!"}},35,{"$error":"#DIV/0!"}]
[null,null,0,0,{"$error":"#DIV/0!"},{"$error":"#DIV/0!"},36,{"$error":"#DIV/0!"}]
[null,null,0,0,{"$error":"#DIV/0!"},{"$error":"#DIV/0!"},37,{"$error":"#DIV/0!"}]
[null,null,0,0,{"$error":"#DIV/0!"},{"$error":"#DIV/0!"},38,{"$error":"#DIV/0!"}]
[null,null,0,0,{"$error":"#DIV/0!"},{"$error":"#DIV/0!"},39,{"$error":"#DIV/0!"}]
[null,null,0,0,{"$error":"#DIV/0!"},{"$error":"#DIV/0!"},40,{"$error":"#DIV/0!"}]
[null,null,0,0,{"$error":"#DIV/0!"},{"$error":"#DIV/0!"},41,{"$error":"#DIV/0!"}]
[null,null,0,0,{"$error":"#DIV/0!"},{"$error":"#DIV/0!"},42,{"$error":"#DIV/0!"}]
[null,null,0,0,{"$error":"#DIV/0!"},{"$error":"#DIV/0!"},43,{"$error":"#DIV/0!"}]
[null,null,0,0,{"$error":"#DIV/0!"},{"$error":"#DIV/0!"},44,{"$error":"#DIV/0!"}]
[null,null,0,0,{"$error":"#DIV/0!"},{"$error":"#DIV/0!"},45,{"$error":"#DIV/0!"}]
[null,null,0,0,{"$error":"#DIV/0!"},{"$error":"#DIV/0!"},46,{"$error":"#DIV/0!"}]
[null,null,0,0,{"$error":"#DIV/0!"},{"$error":"#DIV/0!"},47,{"$error":"#DIV/0!"}]
[null,null,0,0,{"$error":"#DIV/0!"},{"$error":"#DIV/0!"},48,{"$error":"#DIV/0!"}]
[null,null,0,0,{"$error":"#DIV/0!"},{"$error":"#DIV/0!"},49,{"$error":"#DIV/0!"}]
[null,null,0,0,{"$error":"#DIV/0!"},{"$error":"#DIV/0!"},50,{"$error":"#DIV/0!"}]
[null,null,0,0,{"$error":"#DIV/0!"},{"$error":"#DIV/0!"},51,{"$error":"#DIV/0!"}]
[null,null,0,0,{"$error":"#DIV/0!"},{"$error":"#DIV/0!"},52,{"$error":"#DIV/0!"}]
[null,null,0,0,{"$error":"#DIV/0!"},{"$error":"#DIV/0!"},53,{"$error":"#DIV/0!"}]
[null,null,0,0,{"$error":"#DIV/0!"},{"$error":"#DIV/0!"},54,{"$error":"#DIV/0!"}]
[null,null,0,0,{"$error":"#DIV/0!"},{"$error":"#DIV/0!"},55,{"$error":"#DIV/0!"}]
[null,null,0,0,{"$error":"#DIV/0!"},{"$error":"#DIV/0!"},56,{"$error":"#DIV/0!"}]
[null,null,0,0,{"$error":"#DIV/0!"},{"$error":"#DIV/0!"},57,{"$error":"#DIV/0!"}]
[null,null,0,0,{"$error":"#DIV/0!"},{"$error":"#DIV/0!"},58,{"$error":"#DIV/0!"}]
[null,null,0,0,{"$error":"#DIV/0!"},{"$error":"#DIV/0!"},59,{"$error":"#DIV/0!"}]
[null,null,0,0,{"$error":"#DIV/0!"},{"$error":"#DIV/0!"},60,{"$error":"#DIV/0!"}]
[null,null,0,0,{"$error":"#DIV/0!"},{"$error":"#DIV/0!"},61,{"$error":"#DIV/0!"}]
[null,null,0,0,{"$error":"#DIV/0!"},{"$error":"#DIV/0!"},62,{"$error":"#DIV/0!"}]
[null,null,0,0,{"$error":"#DIV/0!"},{"$error":"#DIV/0!"},63,{"$error":"#DIV/0!"}]
[null,null,0,0,{"$error":"#DIV/0!"},{"$error":"#DIV/0!"},64,{"$error":"#DIV/0!"}]
[null,null,0,0,{"$error":"#DIV/0!"},{"$error":"#DIV/0!"},65,{"$error":"#DIV/0!"}]
[null,null,0,{"$f":"IF(C71=0,0,IF(C71<=D70,D70,IF(C71>D70,D70+B$2)))","v":0},{"$error":"#DIV/0!"},{"$error":"#DIV/0!"},66,{"$error":"#DIV/0!"}]
[null,null,{"$f":"IF(B72>0,C71+B72,)","v":0},0,{"$f":"IF(AND((D72-D71>0),(D72<C$2)),\"Controlla operazione\",0)","v":{"$error":"#DIV/0!"}},{"$f":"IF(G72<B$1,F71+B$2,IF(G72=B$1,F71+B$2,IF(G72>B$1,)))","v":{"$error":"#DIV/0!"}},67,{"$error":"#DIV/0!"}]
[null,null,0,0,{"$error":"#DIV/0!"},{"$error":"#DIV/0!"},68,{"$f":"H72+B$2","v":{"$error":"#DIV/0!"}}]
[null,null,0,0,{"$error":"#DIV/0!"},{"$error":"#DIV/0!"},69,{"$error":"#DIV/0!"}]
[null,null,0,0,{"$error":"#DIV/0!"},{"$error":"#DIV/0!"},70,{"$error":"#DIV/0!"}]
[null,null,0,0,{"$error":"#DIV/0!"},{"$error":"#DIV/0!"},71,{"$error":"#DIV/0!"}]
[null,null,0,0,{"$error":"#DIV/0!"},{"$error":"#DIV/0!"},72,{"$error":"#DIV/0!"}]
[null,null,0,0,{"$error":"#DIV/0!"},{"$error":"#DIV/0!"},73,{"$error":"#DIV/0!"}]
[null,null,0,0,{"$error":"#DIV/0!"},{"$error":"#DIV/0!"},74,{"$error":"#DIV/0!"}]
[null,null,0,0,{"$error":"#DIV/0!"},{"$error":"#DIV/0!"},75,{"$error":"#DIV/0!"}]
[null,null,0,0,{"$error":"#DIV/0!"},{"$error":"#DIV/0!"},76,{"$error":"#DIV/0!"}]
[null,null,0,0,{"$error":"#DIV/0!"},{"$error":"#DIV/0!"},77,{"$error":"#DIV/0!"}]
[null,null,0,0,{"$error":"#DIV/0!"},{"$error":"#DIV/0!"},78,{"$error":"#DIV/0!"}]
[null,null,0,0,{"$error":"#DIV/0!"},{"$error":"#DIV/0!"},79,{"$error":"#DIV/0!"}]
[null,null,0,0,{"$error":"#DIV/0!"},{"$error":"#DIV/0!"},80,{"$error":"#DIV/0!"}]
[null,null,0,0,{"$error":"#DIV/0!"},{"$error":"#DIV/0!"},81,{"$error":"#DIV/0!"}]
[null,null,0,0,{"$error":"#DIV/0!"},{"$error":"#DIV/0!"},82,{"$error":"#DIV/0!"}]
[null,null,0,0,{"$error":"#DIV/0!"},{"$error":"#DIV/0!"},83,{"$error":"#DIV/0!"}]
[null,null,0,0,{"$error":"#DIV/0!"},{"$error":"#DIV/0!"},84,{"$error":"#DIV/0!"}]
[null,null,0,0,{"$error":"#DIV/0!"},{"$error":"#DIV/0!"},85,{"$error":"#DIV/0!"}]
[null,null,0,0,{"$error":"#DIV/0!"},{"$error":"#DIV/0!"},86,{"$error":"#DIV/0!"}]
[null,null,0,0,{"$error":"#DIV/0!"},{"$error":"#DIV/0!"},87,{"$error":"#DIV/0!"}]
[null,null,0,0,{"$error":"#DIV/0!"},{"$error":"#DIV/0!"},88,{"$error":"#DIV/0!"}]
[null,null,0,0,{"$error":"#DIV/0!"},{"$error":"#DIV/0!"},89,{"$error":"#DIV/0!"}]
[null,null,0,0,{"$error":"#DIV/0!"},{"$error":"#DIV/0!"},90,{"$error":"#DIV/0!"}]
[null,null,0,0,{"$error":"#DIV/0!"},{"$error":"#DIV/0!"},91,{"$error":"#DIV/0!"}]
[null,null,0,0,{"$error":"#DIV/0!"},{"$error":"#DIV/0!"},92,{"$error":"#DIV/0!"}]
[null,null,0,0,{"$error":"#DIV/0!"},{"$error":"#DIV/0!"},93,{"$error":"#DIV/0!"}]
[null,null,0,0,{"$error":"#DIV/0!"},{"$error":"#DIV/0!"},94,{"$error":"#DIV/0!"}]
[null,null,0,0,{"$error":"#DIV/0!"},{"$error":"#DIV/0!"},95,{"$error":"#DIV/0!"}]
[null,null,0,0,{"$error":"#DIV/0!"},{"$error":"#DIV/0!"},96,{"$error":"#DIV/0!"}]
[null,null,0,0,{"$error":"#DIV/0!"},{"$error":"#DIV/0!"},97,{"$error":"#DIV/0!"}]
[null,null,0,0,{"$error":"#DIV/0!"},{"$error":"#DIV/0!"},98,{"$error":"#DIV/0!"}]
[null,null,0,0,{"$error":"#DIV/0!"},{"$f":"IF(G104<B$1,F103+B$2,IF(G104=B$1,F103+B$2,IF(G104>B$1,)))","v":{"$error":"#DIV/0!"}},99,{"$error":"#DIV/0!"}]
[null,null,0,0,{"$error":"#DIV/0!"},{"$error":"#DIV/0!"},100,{"$error":"#DIV/0!"}]
[null,null,0,0,{"$error":"#DIV/0!"},{"$error":"#DIV/0!"},101,{"$error":"#DIV/0!"}]
[null,null,0,0,{"$error":"#DIV/0!"},{"$error":"#DIV/0!"},102,{"$error":"#DIV/0!"}]
[null,null,0,0,{"$error":"#DIV/0!"},{"$error":"#DIV/0!"},103,{"$error":"#DIV/0!"}]
[null,null,0,0,{"$error":"#DIV/0!"},{"$error":"#DIV/0!"},104,{"$error":"#DIV/0!"}]
[null,null,0,0,{"$error":"#DIV/0!"},{"$error":"#DIV/0!"},105,{"$error":"#DIV/0!"}]
[null,null,0,0,{"$error":"#DIV/0!"},{"$error":"#DIV/0!"},106,{"$error":"#DIV/0!"}]
[null,null,0,0,{"$error":"#DIV/0!"},{"$error":"#DIV/0!"},107,{"$error":"#DIV/0!"}]
[null,null,0,0,{"$error":"#DIV/0!"},{"$error":"#DIV/0!"},108,{"$error":"#DIV/0!"}]
[null,null,0,0,{"$error":"#DIV/0!"},{"$error":"#DIV/0!"},109,{"$error":"#DIV/0!"}]
[null,null,0,0,{"$error":"#DIV/0!"},{"$error":"#DIV/0!"},110,{"$error":"#DIV/0!"}]
[null,null,0,0,{"$error":"#DIV/0!"},{"$error":"#DIV/0!"},111,{"$error":"#DIV/0!"}]
[null,null,0,0,{"$error":"#DIV/0!"},{"$error":"#DIV/0!"},112,{"$error":"#DIV/0!"}]
[null,null,0,0,{"$error":"#DIV/0!"},{"$error":"#DIV/0!"},113,{"$error":"#DIV/0!"}]
[null,null,0,0,{"$error":"#DIV/0!"},{"$error":"#DIV/0!"},114,{"$error":"#DIV/0!"}]
[null,null,0,0,{"$error":"#DIV/0!"},{"$error":"#DIV/0!"},115,{"$error":"#DIV/0!"}]
[null,null,0,0,{"$error":"#DIV/0!"},{"$error":"#DIV/0!"},116,{"$error":"#DIV/0!"}]
[null,null,0,0,{"$error":"#DIV/0!"},{"$error":"#DIV/0!"},117,{"$error":"#DIV/0!"}]
[null,null,0,0,{"$error":"#DIV/0!"},{"$error":"#DIV/0!"},118,{"$error":"#DIV/0!"}]
[null,null,0,0,{"$error":"#DIV/0!"},{"$error":"#DIV/0!"},119,{"$error":"#DIV/0!"}]
[null,null,0,0,{"$error":"#DIV/0!"},{"$error":"#DIV/0!"},120,{"$error":"#DIV/0!"}]
[null,null,0,0,{"$error":"#DIV/0!"},{"$error":"#DIV/0!"},121,{"$error":"#DIV/0!"}]
[null,null,0,0,{"$error":"#DIV/0!"},{"$error":"#DIV/0!"},122,{"$error":"#DIV/0!"}]
[null,null,0,0,{"$error":"#DIV/0!"},{"$error":"#DIV/0!"},123,{"$error":"#DIV/0!"}]
[null,null,0,0,{"$error":"#DIV/0!"},{"$error":"#DIV/0!"},124,{"$error":"#DIV/0!"}]
[null,null,0,0,{"$error":"#DIV/0!"},{"$error":"#DIV/0!"},125,{"$error":"#DIV/0!"}]
[null,null,0,0,{"$error":"#DIV/0!"},{"$error":"#DIV/0!"},126,{"$error":"#DIV/0!"}]
[null,null,0,0,{"$error":"#DIV/0!"},{"$error":"#DIV/0!"},127,{"$error":"#DIV/0!"}]
[null,null,0,0,{"$error":"#DIV/0!"},{"$error":"#DIV/0!"},128,{"$error":"#DIV/0!"}]
[null,null,0,0,{"$error":"#DIV/0!"},{"$error":"#DIV/0!"},129,{"$error":"#DIV/0!"}]
[null,null,0,{"$f":"IF(C135=0,0,IF(C135<=D134,D134,IF(C135>D134,D134+B$2)))","v":0},{"$error":"#DIV/0!"},{"$error":"#DIV/0!"},130,{"$error":"#DIV/0!"}]
[null,null,{"$f":"IF(B136>0,C135+B136,)","v":0},0,{"$f":"IF(AND((D136-D135>0),(D136<C$2)),\"Controlla operazione\",0)","v":{"$error":"#DIV/0!"}},{"$f":"IF(G136<B$1,F135+B$2,IF(G136=B$1,F135+B$2,IF(G136>B$1,)))","v":{"$error":"#DIV/0!"}},131,{"$error":"#DIV/0!"}]
[null,null,0,0,{"$error":"#DIV/0!"},{"$error":"#DIV/0!"},132,{"$f":"H136+B$2","v":{"$error":"#DIV/0!"}}]
[null,null,0,0,{"$error":"#DIV/0!"},{"$error":"#DIV/0!"},133,{"$error":"#DIV/0!"}]
[null,null,0,0,{"$error":"#DIV/0!"},{"$error":"#DIV/0!"},134,{"$error":"#DIV/0!"}]
[null,null,0,0,{"$error":"#DIV/0!"},{"$error":"#DIV/0!"},135]
[null,null,0,0,{"$error":"#DIV/0!"},{"$error":"#DIV/0!"},136]
[null,null,0,0,{"$error":"#DIV/0!"},{"$error":"#DIV/0!"},137]
[null,null,0,0,{"$error":"#DIV/0!"},{"$error":"#DIV/0!"},138]
[null,null,0,0,{"$error":"#DIV/0!"},{"$error":"#DIV/0!"},139]
[null,null,0,0,{"$error":"#DIV/0!"},{"$error":"#DIV/0!"},140]
[null,null,0,0,{"$error":"#DIV/0!"},{"$error":"#DIV/0!"},141]
[null,null,0,0,{"$error":"#DIV/0!"},{"$error":"#DIV/0!"},142]
[null,null,0,0,{"$error":"#DIV/0!"},{"$error":"#DIV/0!"},143]
[null,null,0,0,{"$error":"#DIV/0!"},{"$error":"#DIV/0!"},144]
[null,null,0,0,{"$error":"#DIV/0!"},{"$error":"#DIV/0!"},145]
[null,null,0,0,{"$error":"#DIV/0!"},{"$error":"#DIV/0!"},146]
[null,null,0,0,{"$error":"#DIV/0!"},{"$error":"#DIV/0!"},147]
[null,null,0,0,{"$error":"#DIV/0!"},{"$error":"#DIV/0!"},148]
[null,null,0,0,{"$error":"#DIV/0!"},{"$error":"#DIV/0!"},149]
[null,null,0,0,{"$error":"#DIV/0!"},{"$error":"#DIV/0!"},150]
[null,null,0,0,{"$error":"#DIV/0!"}]
[null,null,0,0,{"$error":"#DIV/0!"}]
[null,null,0,0,{"$error":"#DIV/0!"}]
[null,null,0,0,{"$error":"#DIV/0!"}]
[null,null,0,0,{"$error":"#DIV/0!"}]
[null,null,0,0,{"$error":"#DIV/0!"}]
[null,null,0,0,{"$error":"#DIV/0!"}]
[null,null,0,0,{"$error":"#DIV/0!"}]
[null,null,0,0,{"$error":"#DIV/0!"}]
[null,null,0,0,{"$error":"#DIV/0!"}]
[null,null,0,0,{"$error":"#DIV/0!"}]
[null,null,0,0,{"$error":"#DIV/0!"}]
[null,null,0,0,{"$error":"#DIV/0!"}]
[null,null,0,0,{"$error":"#DIV/0!"}]
[null,null,0,0,{"$error":"#DIV/0!"}]
[null,null,0,0,{"$error":"#DIV/0!"}]
[null,null,0,0,{"$error":"#DIV/0!"}]
[null,null,0,0,{"$error":"#DIV/0!"}]
[null,null,0,0,{"$error":"#DIV/0!"}]
[null,null,0,0,{"$error":"#DIV/0!"}]
[null,null,0,0,{"$error":"#DIV/0!"}]
[null,null,0,0,{"$error":"#DIV/0!"}]
[null,null,0,0,{"$error":"#DIV/0!"}]
[null,null,0,0,{"$error":"#DIV/0!"}]
[null,null,0,0,{"$error":"#DIV/0!"}]
[null,null,0,0,{"$error":"#DIV/0!"}]
[null,null,0,0,{"$error":"#DIV/0!"}]
[null,null,0,0,{"$error":"#DIV/0!"}]
[null,null,0,0,{"$error":"#DIV/0!"}]
[null,null,0,0,{"$error":"#DIV/0!"}]
[null,null,0,0,{"$error":"#DIV/0!"}]
[null,null,0,0,{"$error":"#DIV/0!"}]
[null,null,0,0,{"$error":"#DIV/0!"}]
[null,null,0,0,{"$error":"#DIV/0!"}]
[null,null,0,0,{"$error":"#DIV/0!"}]
[null,null,0,0,{"$error":"#DIV/0!"}]
[null,null,0,0,{"$error":"#DIV/0!"}]
[null,null,0,0,{"$error":"#DIV/0!"}]
[null,null,0,0,{"$error":"#DIV/0!"}]
[null,null,0,0,{"$error":"#DIV/0!"}]
[null,null,0,0,{"$error":"#DIV/0!"}]
[null,null,0,0,{"$error":"#DIV/0!"}]
[null,null,0,0,{"$error":"#DIV/0!"}]
[null,null,0,{"$f":"IF(C199=0,0,IF(C199<=D198,D198,IF(C199>D198,D198+B$2)))","v":0},{"$error":"#DIV/0!"}]
[null,null,{"$f":"IF(B200>0,C199+B200,)","v":0},0,{"$f":"IF(AND((D200-D199>0),(D200<C$2)),\"Controlla operazione\",0)","v":{"$error":"#DIV/0!"}}]
[null,null,0,0,{"$error":"#DIV/0!"}]
[null,null,0,0,{"$error":"#DIV/0!"}]
[null,null,0,0,{"$error":"#DIV/0!"}]
[null,null,0,0,{"$error":"#DIV/0!"}]
[null,null,0,0,{"$error":"#DIV/0!"}]
[null,null,0,0,{"$error":"#DIV/0!"}]
[null,null,0,0,{"$error":"#DIV/0!"}]
[null,null,0,0,{"$error":"#DIV/0!"}]
[null,null,0,0,{"$error":"#DIV/0!"}]
[null,null,0,0,{"$error":"#DIV/0!"}]
[null,null,0,0,{"$error":"#DIV/0!"}]
[null,null,0,0,{"$error":"#DIV/0!"}]
[null,null,0,0,{"$error":"#DIV/0!"}]
[null,null,0,0,{"$error":"#DIV/0!"}]
[null,null,0,0,{"$error":"#DIV/0!"}]
[null,null,0,0,{"$error":"#DIV/0!"}]
[null,null,0,0,{"$error":"#DIV/0!"}]
[null,null,0,0,{"$error":"#DIV/0!"}]
[null,null,0,0,{"$error":"#DIV/0!"}]
[null,null,0,0,{"$error":"#DIV/0!"}]
[null,null,0,0,{"$error":"#DIV/0!"}]
[null,null,0,0,{"$error":"#DIV/0!"}]
[null,null,0,0,{"$error":"#DIV/0!"}]
[null,null,0,0,{"$error":"#DIV/0!"}]
[null,null,0,0,{"$error":"#DIV/0!"}]
[null,null,0,0,{"$error":"#DIV/0!"}]
[null,null,0,0,{"$error":"#DIV/0!"}]
[null,null,0,0,{"$error":"#DIV/0!"}]
[null,null,0,0,{"$error":"#DIV/0!"}]
[null,null,0,0,{"$error":"#DIV/0!"}]
[null,null,0,0,{"$error":"#DIV/0!"}]
[null,null,0,0,{"$error":"#DIV/0!"}]
[null,null,0,0,{"$error":"#DIV/0!"}]
[null,null,0,0,{"$error":"#DIV/0!"}]
[null,null,0,0,{"$error":"#DIV/0!"}]
[null,null,0,0,{"$error":"#DIV/0!"}]
[null,null,0,0,{"$error":"#DIV/0!"}]
[null,null,0,0,{"$error":"#DIV/0!"}]
[null,null,0,0,{"$error":"#DIV/0!"}]
[null,null,0,0,{"$error":"#DIV/0!"}]
[null,null,0,0,{"$error":"#DIV/0!"}]
[null,null,0,0,{"$error":"#DIV/0!"}]
[null,null,0,0,{"$error":"#DIV/0!"}]
[null,null,0,0,{"$error":"#DIV/0!"}]
[null,null,0,0,{"$error":"#DIV/0!"}]
[null,null,0,0,{"$error":"#DIV/0!"}]
[null,null,0,0,{"$error":"#DIV/0!"}]
[null,null,0,0,{"$error":"#DIV/0!"}]
[null,null,0,0,{"$error":"#DIV/0!"}]
[null,null,0,0,{"$error":"#DIV/0!"}]
[null,null,0,0,{"$error":"#DIV/0!"}]
[null,null,0,0,{"$error":"#DIV/0!"}]
[null,null,0,0,{"$error":"#DIV/0!"}]
[null,null,0,0,{"$error":"#DIV/0!"}]
[null,null,0,0,{"$error":"#DIV/0!"}]
[null,null,0,0,{"$error":"#DIV/0!"}]
[null,null,0,0,{"$error":"#DIV/0!"}]
[null,null,0,0,{"$error":"#DIV/0!"}]
[null,null,0,0,{"$error":"#DIV/0!"}]
[null,null,0,0,{"$error":"#DIV/0!"}]
[null,null,0,0,{"$error":"#DIV/0!"}]
[null,null,0,0,{"$error":"#DIV/0!"}]
[null,null,0,{"$f":"IF(C263=0,0,IF(C263<=D262,D262,IF(C263>D262,D262+B$2)))","v":0},{"$error":"#DIV/0!"}]
[null,null,{"$f":"IF(B264>0,C263+B264,)","v":0},0,{"$f":"IF(AND((D264-D263>0),(D264<C$2)),\"Controlla operazione\",0)","v":{"$error":"#DIV/0!"}}]
[null,null,0,0,{"$error":"#DIV/0!"}]
[null,null,0,0,{"$error":"#DIV/0!"}]
[null,null,0,0,{"$error":"#DIV/0!"}]
[null,null,0,0,{"$error":"#DIV/0!"}]
[null,null,0,0,{"$error":"#DIV/0!"}]
[null,null,0,0,{"$error":"#DIV/0!"}]
[null,null,0,0,{"$error":"#DIV/0!"}]
[null,null,0,0,{"$error":"#DIV/0!"}]
[null,null,0,0,{"$error":"#DIV/0!"}]
[null,null,0,0,{"$error":"#DIV/0!"}]
[null,null,0,0,{"$error":"#DIV/0!"}]
[null,null,0,0,{"$error":"#DIV/0!"}]
[null,null,0,0,{"$error":"#DIV/0!"}]
[null,null,0,0,{"$error":"#DIV/0!"}]
[null,null,0,0,{"$error":"#DIV/0!"}]
[null,null,0,0,{"$error":"#DIV/0!"}]
[null,null,0,0,{"$error":"#DIV/0!"}]
[null,null,0,0,{"$error":"#DIV/0!"}]
[null,null,0,0,{"$error":"#DIV/0!"}]
[null,null,0,0,{"$error":"#DIV/0!"}]
[null,null,0,0,{"$error":"#DIV/0!"}]
[null,null,0,0,{"$error":"#DIV/0!"}]
[null,null,0,0,{"$error":"#DIV/0!"}]
[null,null,0,0,{"$error":"#DIV/0!"}]
[null,null,0,0,{"$error":"#DIV/0!"}]
[null,null,0,0,{"$error":"#DIV/0!"}]
[null,null,0,0,{"$error":"#DIV/0!"}]
[null,null,0,0,{"$error":"#DIV/0!"}]
[null,null,0,0,{"$error":"#DIV/0!"}]
[null,null,0,0,{"$error":"#DIV/0!"}]
[null,null,0,0,{"$error":"#DIV/0!"}]
[null,null,0,0,{"$error":"#DIV/0!"}]
[null,null,0,0,{"$error":"#DIV/0!"}]
[null,null,0,0,{"$error":"#DIV/0!"}]
[null,null,0,0,{"$error":"#DIV/0!"}]
[null,null,0,0,{"$error":"#DIV/0!"}]
[null,null,0,0,{"$error":"#DIV/0!"}]
[null,null,0,0,{"$error":"#DIV/0!"}]
[null,null,0,0,{"$error":"#DIV/0!"}]
[null,null,0,0,{"$error":"#DIV/0!"}]
[null,null,0,0,{"$error":"#DIV/0!"}]
[null,null,0,0,{"$error":"#DIV/0!"}]
[null,null,0,0,{"$error":"#DIV/0!"}]
[null,null,0,0,{"$error":"#DIV/0!"}]
[null,null,0,0,{"$error":"#DIV/0!"}]
[null,null,0,0,{"$error":"#DIV/0!"}]
[null,null,0,0,{"$error":"#DIV/0!"}]
[null,null,0,0,{"$error":"#DIV/0!"}]
[null,null,0,0,{"$error":"#DIV/0!"}]
[null,null,0,0,{"$error":"#DIV/0!"}]
[null,null,0,0,{"$error":"#DIV/0!"}]
[null,null,0,0,{"$error":"#DIV/0!"}]
[null,null,0,0,{"$error":"#DIV/0!"}]
[null,null,0,0,{"$error":"#DIV/0!"}]
[null,null,0,0,{"$error":"#DIV/0!"}]
[null,null,0,0,{"$error":"#DIV/0!"}]
[null,null,0,0,{"$error":"#DIV/0!"}]
[null,null,0,0,{"$error":"#DIV/0!"}]
[null,null,0,0,{"$error":"#DIV/0!"}]
[null,null,0,0,{"$error":"#DIV/0!"}]
[null,null,0,0,{"$error":"#DIV/0!"}]
[null,null,0,0,{"$error":"#DIV/0!"}]
[null,null,0,{"$f":"IF(C327=0,0,IF(C327<=D326,D326,IF(C327>D326,D326+B$2)))","v":0},{"$error":"#DIV/0!"}]
[null,null,{"$f":"IF(B328>0,C327+B328,)","v":0},0,{"$f":"IF(AND((D328-D327>0),(D328<C$2)),\"Controlla operazione\",0)","v":{"$error":"#DIV/0!"}}]
[null,null,0,0,{"$error":"#DIV/0!"}]
[null,null,0,0,{"$error":"#DIV/0!"}]
[null,null,0,0,{"$error":"#DIV/0!"}]
[null,null,0,0,{"$error":"#DIV/0!"}]
[null,null,0,0,{"$error":"#DIV/0!"}]
[null,null,0,0,{"$error":"#DIV/0!"}]
[null,null,0,0,{"$error":"#DIV/0!"}]
[null,null,0,0,{"$error":"#DIV/0!"}]
[null,null,0,0,{"$error":"#DIV/0!"}]
[null,null,0,0,{"$error":"#DIV/0!"}]
[null,null,0,0,{"$error":"#DIV/0!"}]
[null,null,0,0,{"$error":"#DIV/0!"}]
[null,null,0,0,{"$error":"#DIV/0!"}]
[null,null,0,0,{"$error":"#DIV/0!"}]
[null,null,0,0,{"$error":"#DIV/0!"}]
[null,null,0,0,{"$error":"#DIV/0!"}]
[null,null,0,0,{"$error":"#DIV/0!"}]
[null,null,0,0,{"$error":"#DIV/0!"}]
[null,null,0,0,{"$error":"#DIV/0!"}]
[null,null,0,0,{"$error":"#DIV/0!"}]
[null,null,0,0,{"$error":"#DIV/0!"}]
[null,null,0,0,{"$error":"#DIV/0!"}]
[null,null,0,0,{"$error":"#DIV/0!"}]
[null,null,0,0,{"$error":"#DIV/0!"}]
[null,null,0,0,{"$error":"#DIV/0!"}]
[null,null,0,0,{"$error":"#DIV/0!"}]
[null,null,0,0,{"$error":"#DIV/0!"}]
[null,null,0,0,{"$error":"#DIV/0!"}]
[null,null,0,0,{"$error":"#DIV/0!"}]
[null,null,0,0,{"$error":"#DIV/0!"}]
[null,null,0,0,{"$error":"#DIV/0!"}]
[null,null,0,0,{"$error":"#DIV/0!"}]
[null,null,0,0,{"$error":"#DIV/0!"}]
[null,null,0,0,{"$error":"#DIV/0!"}]
[null,null,0,0,{"$error":"#DIV/0!"}]
[null,null,0,0,{"$error":"#DIV/0!"}]
[null,null,0,0,{"$error":"#DIV/0!"}]
[null,null,0,0,{"$error":"#DIV/0!"}]
[null,null,0,0,{"$error":"#DIV/0!"}]
[null,null,0,0,{"$error":"#DIV/0!"}]
[null,null,0,0,{"$error":"#DIV/0!"}]
[null,null,0,0,{"$error":"#DIV/0!"}]
[null,null,0,0,{"$error":"#DIV/0!"}]
[null,null,0,0,{"$error":"#DIV/0!"}]
[null,null,0,0,{"$error":"#DIV/0!"}]
[null,null,0,0,{"$error":"#DIV/0!"}]
[null,null,0,0,{"$error":"#DIV/0!"}]
[null,null,0,0,{"$error":"#DIV/0!"}]
[null,null,0,0,{"$error":"#DIV/0!"}]
[null,null,0,0,{"$error":"#DIV/0!"}]
[null,null,0,0,{"$error":"#DIV/0!"}]
[null,null,0,0,{"$error":"#DIV/0!"}]
[null,null,0,0,{"$error":"#DIV/0!"}]
[null,null,0,0,{"$error":"#DIV/0!"}]
[null,null,0,0,{"$error":"#DIV/0!"}]
[null,null,0,0,{"$error":"#DIV/0!"}]
[null,null,0,0,{"$error":"#DIV/0!"}]
[null,null,0,0,{"$error":"#DIV/0!"}]
[null,null,0,0,{"$error":"#DIV/0!"}]
[null,null,0,0,{"$error":"#DIV/0!"}]
[null,null,0,0,{"$error":"#DIV/0!"}]
[null,null,0,0,{"$error":"#DIV/0!"}]
[null,null,0,{"$f":"IF(C391=0,0,IF(C391<=D390,D390,IF(C391>D390,D390+B$2)))","v":0},{"$error":"#DIV/0!"}]
[null,null,{"$f":"IF(B392>0,C391+B392,)","v":0},0,{"$f":"IF(AND((D392-D391>0),(D392<C$2)),\"Controlla operazione\",0)","v":{"$error":"#DIV/0!"}}]
[null,null,0,0,{"$error":"#DIV/0!"}]
[null,null,0,0,{"$error":"#DIV/0!"}]
[null,null,0,0,{"$error":"#DIV/0!"}]
[null,null,0,0,{"$error":"#DIV/0!"}]
[null,null,0,0,{"$error":"#DIV/0!"}]
[null,null,0,0,{"$error":"#DIV/0!"}]
[null,null,0,0,{"$error":"#DIV/0!"}]
[null,null,0,0,{"$error":"#DIV/0!"}]
[null,null,0,0,{"$error":"#DIV/0!"}]
[null,null,0,0,{"$error":"#DIV/0!"}]
[null,null,0,0,{"$error":"#DIV/0!"}]
[null,null,0,0,{"$error":"#DIV/0!"}]
[null,null,0,0,{"$error":"#DIV/0!"}]
[null,null,0,0,{"$error":"#DIV/0!"}]
[null,null,0,0,{"$error":"#DIV/0!"}]
[null,null,0,0,{"$error":"#DIV/0!"}]
[null,null,0,0,{"$error":"#DIV/0!"}]
[null,null,0,0,{"$error":"#DIV/0!"}]
[null,null,0,0,{"$error":"#DIV/0!"}]
[null,null,0,0,{"$error":"#DIV/0!"}]
[null,null,0,0,{"$error":"#DIV/0!"}]
[null,null,0,0,{"$error":"#DIV/0!"}]
[null,null,0,0,{"$error":"#DIV/0!"}]
[null,null,0,0,{"$error":"#DIV/0!"}]
[null,null,0,0,{"$error":"#DIV/0!"}]
[null,null,0,0,{"$error":"#DIV/0!"}]
[null,null,0,0,{"$error":"#DIV/0!"}]
[null,null,0,0,{"$error":"#DIV/0!"}]
[null,null,0,0,{"$error":"#DIV/0!"}]
[null,null,0,0,{"$error":"#DIV/0!"}]
[null,null,0,0,{"$error":"#DIV/0!"}]
[null,null,0,0,{"$error":"#DIV/0!"}]
[null,null,0,0,{"$error":"#DIV/0!"}]
[null,null,0,0,{"$error":"#DIV/0!"}]
[null,null,0,0,{"$error":"#DIV/0!"}]
[null,null,0,0,{"$error":"#DIV/0!"}]
[null,null,0,0,{"$error":"#DIV/0!"}]
[null,null,0,0,{"$error":"#DIV/0!"}]
[null,null,0,0,{"$error":"#DIV/0!"}]
[null,null,0,0,{"$error":"#DIV/0!"}]
[null,null,0,0,{"$error":"#DIV/0!"}]
[null,null,0,0,{"$error":"#DIV/0!"}]
[null,null,0,0,{"$error":"#DIV/0!"}]
[null,null,0,0,{"$error":"#DIV/0!"}]
[null,null,0,0,{"$error":"#DIV/0!"}]
[null,null,0,0,{"$error":"#DIV/0!"}]
[null,null,0,0,{"$error":"#DIV/0!"}]
[null,null,0,0,{"$error":"#DIV/0!"}]
[null,null,0,0,{"$error":"#DIV/0!"}]
[null,null,0,0,{"$error":"#DIV/0!"}]
[null,null,0,0,{"$error":"#DIV/0!"}]
[null,null,0,0,{"$error":"#DIV/0!"}]
[null,null,0,0,{"$error":"#DIV/0!"}]
[null,null,0,0,{"$error":"#DIV/0!"}]
[null,null,0,0,{"$error":"#DIV/0!"}]
[null,null,0,0,{"$error":"#DIV/0!"}]
[null,null,0,0,{"$error":"#DIV/0!"}]
[null,null,0,0,{"$error":"#DIV/0!"}]
[null,null,0,0,{"$error":"#DIV/0!"}]
[null,null,0,0,{"$error":"#DIV/0!"}]
[null,null,0,0,{"$error":"#DIV/0!"}]
[null,null,0,0,{"$error":"#DIV/0!"}]
[null,null,0,{"$f":"IF(C455=0,0,IF(C455<=D454,D454,IF(C455>D454,D454+B$2)))","v":0},{"$error":"#DIV/0!"}]
[null,null,{"$f":"IF(B456>0,C455+B456,)","v":0},0,{"$f":"IF(AND((D456-D455>0),(D456<C$2)),\"Controlla operazione\",0)","v":{"$error":"#DIV/0!"}}]
[null,null,0,0,{"$error":"#DIV/0!"}]
[null,null,0,0,{"$error":"#DIV/0!"}]
[null,null,0,0,{"$error":"#DIV/0!"}]
[null,null,0,0,{"$error":"#DIV/0!"}]
[null,null,0,0,{"$error":"#DIV/0!"}]
[null,null,0,0,{"$error":"#DIV/0!"}]
[null,null,0,0,{"$error":"#DIV/0!"}]
[null,null,0,0,{"$error":"#DIV/0!"}]
[null,null,0,0,{"$error":"#DIV/0!"}]
[null,null,0,0,{"$error":"#DIV/0!"}]
[null,null,0,0,{"$error":"#DIV/0!"}]
[null,null,0,0,{"$error":"#DIV/0!"}]
[null,null,0,0,{"$error":"#DIV/0!"}]
[null,null,0,0,{"$error":"#DIV/0!"}]
[null,null,0,0,{"$error":"#DIV/0!"}]
[null,null,0,0,{"$error":"#DIV/0!"}]
[null,null,0,0,{"$error":"#DIV/0!"}]
[null,null,0,0,{"$error":"#DIV/0!"}]
[null,null,0,0,{"$error":"#DIV/0!"}]
[null,null,0,0,{"$error":"#DIV/0!"}]
[null,null,0,0,{"$error":"#DIV/0!"}]
[null,null,0,0,{"$error":"#DIV/0!"}]
[null,null,0,0,{"$error":"#DIV/0!"}]
[null,null,0,0,{"$error":"#DIV/0!"}]
[null,null,0,0,{"$error":"#DIV/0!"}]
[null,null,0,0,{"$error":"#DIV/0!"}]
[null,null,0,0,{"$error":"#DIV/0!"}]
[null,null,0,0,{"$error":"#DIV/0!"}]
[null,null,0,0,{"$error":"#DIV/0!"}]
[null,null,0,0,{"$error":"#DIV/0!"}]
[null,null,0,0,{"$error":"#DIV/0!"}]
[null,null,0,0,{"$error":"#DIV/0!"}]
[null,null,0,0,{"$error":"#DIV/0!"}]
[null,null,0,0,{"$error":"#DIV/0!"}]
[null,null,0,0,{"$error":"#DIV/0!"}]
[null,null,0,0,{"$error":"#DIV/0!"}]
[null,null,0,0,{"$error":"#DIV/0!"}]
[null,null,0,0,{"$error":"#DIV/0!"}]
[null,null,0,0,{"$error":"#DIV/0!"}]
[null,null,0,0,{"$error":"#DIV/0!"}]
[null,null,0,0,{"$error":"#DIV/0!"}]
[null,null,0,0,{"$error":"#DIV/0!"}]
[null,null,0,0,{"$error":"#DIV/0!"}]
[null,null,0,0,{"$error":"#DIV/0!"}]
[null,null,0,0,{"$error":"#DIV/0!"}]
[null,null,0,0,{"$error":"#DIV/0!"}]
[null,null,0,0,{"$error":"#DIV/0!"}]
[null,null,0,0,{"$error":"#DIV/0!"}]
[null,null,0,0,{"$error":"#DIV/0!"}]
[null,null,0,0,{"$error":"#DIV/0!"}]
[null,null,0,0,{"$error":"#DIV/0!"}]
[null,null,0,0,{"$error":"#DIV/0!"}]
[null,null,0,0,{"$error":"#DIV/0!"}]
[null,null,0,0,{"$error":"#DIV/0!"}]
[null,null,0,0,{"$error":"#DIV/0!"}]
[null,null,0,0,{"$error":"#DIV/0!"}]
[null,null,0,0,{"$error":"#DIV/0!"}]
[null,null,0,0,{"$error":"#DIV/0!"}]
[null,null,0,0,{"$error":"#DIV/0!"}]
[null,null,0,0,{"$error":"#DIV/0!"}]
[null,null,0,0,{"$error":"#DIV/0!"}]
[null,null,0,0,{"$error":"#DIV/0!"}]
[null,null,0,{"$f":"IF(C519=0,0,IF(C519<=D518,D518,IF(C519>D518,D518+B$2)))","v":0},{"$error":"#DIV/0!"}]
[null,null,{"$f":"IF(B520>0,C519+B520,)","v":0},0,{"$f":"IF(AND((D520-D519>0),(D520<C$2)),\"Controlla operazione\",0)","v":{"$error":"#DIV/0!"}}]
[null,null,0,0,{"$error":"#DIV/0!"}]
[null,null,0,0,{"$error":"#DIV/0!"}]
[null,null,0,0,{"$error":"#DIV/0!"}]
[null,null,0,0,{"$error":"#DIV/0!"}]
[null,null,0,0,{"$error":"#DIV/0!"}]
[null,null,0,0,{"$error":"#DIV/0!"}]
[null,null,0,0,{"$error":"#DIV/0!"}]
[null,null,0,0,{"$error":"#DIV/0!"}]
[null,null,0,0,{"$error":"#DIV/0!"}]
[null,null,0,0,{"$error":"#DIV/0!"}]
[null,null,0,0,{"$error":"#DIV/0!"}]
[null,null,0,0,{"$error":"#DIV/0!"}]
[null,null,0,0,{"$error":"#DIV/0!"}]
[null,null,0,0,{"$error":"#DIV/0!"}]
[null,null,0,0,{"$error":"#DIV/0!"}]
[null,null,0,0,{"$error":"#DIV/0!"}]
[null,null,0,0,{"$error":"#DIV/0!"}]
[null,null,0,0,{"$error":"#DIV/0!"}]
[null,null,0,0,{"$error":"#DIV/0!"}]
[null,null,0,0,{"$error":"#DIV/0!"}]
[null,null,0,0,{"$error":"#DIV/0!"}]
[null,null,0,0,{"$error":"#DIV/0!"}]
[null,null,0,0,{"$error":"#DIV/0!"}]
[null,null,0,0,{"$error":"#DIV/0!"}]
[null,null,0,0,{"$error":"#DIV/0!"}]
[null,null,0,0,{"$error":"#DIV/0!"}]
[null,null,0,0,{"$error":"#DIV/0!"}]
[null,null,0,0,{"$error":"#DIV/0!"}]
[null,null,0,0,{"$error":"#DIV/0!"}]
[null,null,0,0,{"$error":"#DIV/0!"}]
[null,null,0,0,{"$error":"#DIV/0!"}]
[null,null,0,0,{"$error":"#DIV/0!"}]
[null,null,0,0,{"$error":"#DIV/0!"}]
[null,null,0,0,{"$error":"#DIV/0!"}]
[null,null,0,0,{"$error":"#DIV/0!"}]
[null,null,0,0,{"$error":"#DIV/0!"}]
[null,null,0,0,{"$error":"#DIV/0!"}]
[null,null,0,0,{"$error":"#DIV/0!"}]
[null,null,0,0,{"$error":"#DIV/0!"}]
[null,null,0,0,{"$error":"#DIV/0!"}]
[null,null,0,0,{"$error":"#DIV/0!"}]
[null,null,0,0,{"$error":"#DIV/0!"}]
[null,null,0,0,{"$error":"#DIV/0!"}]
[null,null,0,0,{"$error":"#DIV/0!"}]
[null,null,0,0,{"$error":"#DIV/0!"}]
[null,null,0,0,{"$error":"#DIV/0!"}]
[null,null,0,0,{"$error":"#DIV/0!"}]
[null,null,0,0,{"$error":"#DIV/0!"}]
[null,null,0,0,{"$error":"#DIV/0!"}]
[null,null,0,0,{"$error":"#DIV/0!"}]
[null,null,0,0,{"$error":"#DIV/0!"}]
[null,null,0,0,{"$error":"#DIV/0!"}]
[null,null,0,0,{"$error":"#DIV/0!"}]
[null,null,0,0,{"$error":"#DIV/0!"}]
[null,null,0,0,{"$error":"#DIV/0!"}]
[null,null,0,0,{"$error":"#DIV/0!"}]
[null,null,0,0,{"$error":"#DIV/0!"}]
[null,null,0,0,{"$error":"#DIV/0!"}]
[null,null,0,0,{"$error":"#DIV/0!"}]
[null,null,0,0,{"$error":"#DIV/0!"}]
[null,null,0,0,{"$error":"#DIV/0!"}]
[null,null,0,0,{"$error":"#DIV/0!"}]
[null,null,0,{"$f":"IF(C583=0,0,IF(C583<=D582,D582,IF(C583>D582,D582+B$2)))","v":0},{"$error":"#DIV/0!"}]
[null,null,{"$f":"IF(B584>0,C583+B584,)","v":0},0,{"$f":"IF(AND((D584-D583>0),(D584<C$2)),\"Controlla operazione\",0)","v":{"$error":"#DIV/0!"}}]
[null,null,0,0,{"$error":"#DIV/0!"}]
[null,null,0,0,{"$error":"#DIV/0!"}]
[null,null,0,0,{"$error":"#DIV/0!"}]
[null,null,0,0,{"$error":"#DIV/0!"}]
[null,null,0,0,{"$error":"#DIV/0!"}]
[null,null,0,0,{"$error":"#DIV/0!"}]
[null,null,0,0,{"$error":"#DIV/0!"}]
[null,null,0,0,{"$error":"#DIV/0!"}]
[null,null,0,0,{"$error":"#DIV/0!"}]
[null,null,0,0,{"$error":"#DIV/0!"}]
[null,null,0,0,{"$error":"#DIV/0!"}]
[null,null,0,0,{"$error":"#DIV/0!"}]
[null,null,0,0,{"$error":"#DIV/0!"}]
[null,null,0,0,{"$error":"#DIV/0!"}]
[null,null,0,0,{"$error":"#DIV/0!"}]
[null,null,0,0,{"$error":"#DIV/0!"}]
[null,null,0,0,{"$error":"#DIV/0!"}]
[null,null,0,0,{"$error":"#DIV/0!"}]
[null,null,0,0,{"$error":"#DIV/0!"}]
[null,null,0,0,{"$error":"#DIV/0!"}]
[null,null,0,0,{"$error":"#DIV/0!"}]
[null,null,0,0,{"$error":"#DIV/0!"}]
[null,null,0,0,{"$error":"#DIV/0!"}]
[null,null,0,0,{"$error":"#DIV/0!"}]
[null,null,0,0,{"$error":"#DIV/0!"}]
[null,null,0,0,{"$error":"#DIV/0!"}]
[null,null,0,0,{"$error":"#DIV/0!"}]
[null,null,0,0,{"$error":"#DIV/0!"}]
[null,null,0,0,{"$error":"#DIV/0!"}]
[null,null,0,0,{"$error":"#DIV/0!"}]
[null,null,0,0,{"$error":"#DIV/0!"}]
[null,null,0,0,{"$error":"#DIV/0!"}]
[null,null,0,0,{"$error":"#DIV/0!"}]
[null,null,0,0,{"$error":"#DIV/0!"}]
[null,null,0,0,{"$error":"#DIV/0!"}]
[null,null,0,0,{"$error":"#DIV/0!"}]
[null,null,0,0,{"$error":"#DIV/0!"}]
[null,null,0,0,{"$error":"#DIV/0!"}]
[null,null,0,0,{"$error":"#DIV/0!"}]
[null,null,0,0,{"$error":"#DIV/0!"}]
[null,null,0,0,{"$error":"#DIV/0!"}]
[null,null,0,0,{"$error":"#DIV/0!"}]
[null,null,0,0,{"$error":"#DIV/0!"}]
[null,null,0,0,{"$error":"#DIV/0!"}]
[null,null,0,0,{"$error":"#DIV/0!"}]
[null,null,0,0,{"$error":"#DIV/0!"}]
[null,null,0,0,{"$error":"#DIV/0!"}]
[null,null,0,0,{"$error":"#DIV/0!"}]
[null,null,0,0,{"$error":"#DIV/0!"}]
[null,null,0,0,{"$error":"#DIV/0!"}]
[null,null,0,0,{"$error":"#DIV/0!"}]
[null,null,0,0,{"$error":"#DIV/0!"}]
[null,null,0,0,{"$error":"#DIV/0!"}]
[null,null,0,0,{"$error":"#DIV/0!"}]
[null,null,0,0,{"$error":"#DIV/0!"}]
[null,null,0,0,{"$error":"#DIV/0!"}]
[null,null,0,0,{"$error":"#DIV/0!"}]
[null,null,0,0,{"$error":"#DIV/0!"}]
[null,null,0,0,{"$error":"#DIV/0!"}]
[null,null,0,0,{"$error":"#DIV/0!"}]
[null,null,0,0,{"$error":"#DIV/0!"}]
[null,null,0,0,{"$error":"#DIV/0!"}]
[null,null,0,{"$f":"IF(C647=0,0,IF(C647<=D646,D646,IF(C647>D646,D646+B$2)))","v":0},{"$error":"#DIV/0!"}]
[null,null,{"$f":"IF(B648>0,C647+B648,)","v":0},0,{"$f":"IF(AND((D648-D647>0),(D648<C$2)),\"Controlla operazione\",0)","v":{"$error":"#DIV/0!"}}]
[null,null,0,0,{"$error":"#DIV/0!"}]
[null,null,0,0,{"$error":"#DIV/0!"}]
[null,null,0,0,{"$error":"#DIV/0!"}]
[null,null,0,0,{"$error":"#DIV/0!"}]
[null,null,0,0,{"$error":"#DIV/0!"}]
[null,null,0,0,{"$error":"#DIV/0!"}]
[null,null,0,0,{"$error":"#DIV/0!"}]
[null,null,0,0,{"$error":"#DIV/0!"}]
[null,null,0,0,{"$error":"#DIV/0!"}]
[null,null,0,0,{"$error":"#DIV/0!"}]
[null,null,0,0,{"$error":"#DIV/0!"}]
[null,null,0,0,{"$error":"#DIV/0!"}]
[null,null,0,0,{"$error":"#DIV/0!"}]
[null,null,0,0,{"$error":"#DIV/0!"}]
[null,null,0,0,{"$error":"#DIV/0!"}]
[null,null,0,0,{"$error":"#DIV/0!"}]
[null,null,0,0,{"$error":"#DIV/0!"}]
[null,null,0,0,{"$error":"#DIV/0!"}]
[null,null,0,0,{"$error":"#DIV/0!"}]
[null,null,0,0,{"$error":"#DIV/0!"}]
[null,null,0,0,{"$error":"#DIV/0!"}]
[null,null,0,0,{"$error":"#DIV/0!"}]
[null,null,0,0,{"$error":"#DIV/0!"}]
[null,null,0,0,{"$error":"#DIV/0!"}]
[null,null,0,0,{"$error":"#DIV/0!"}]
[null,null,0,0,{"$error":"#DIV/0!"}]
[null,null,0,0,{"$error":"#DIV/0!"}]
[null,null,0,0,{"$error":"#DIV/0!"}]
[null,null,0,0,{"$error":"#DIV/0!"}]
[null,null,0,0,{"$error":"#DIV/0!"}]
[null,null,0,0,{"$error":"#DIV/0!"}]
[null,null,0,0,{"$error":"#DIV/0!"}]
[null,null,0,0,{"$error":"#DIV/0!"}]
[null,null,0,0,{"$error":"#DIV/0!"}]
[null,null,0,0,{"$error":"#DIV/0!"}]
[null,null,0,0,{"$error":"#DIV/0!"}]
[null,null,0,0,{"$error":"#DIV/0!"}]
[null,null,0,0,{"$error":"#DIV/0!"}]
[null,null,0,0,{"$error":"#DIV/0!"}]
[null,null,0,0,{"$error":"#DIV/0!"}]
[null,null,0,0,{"$error":"#DIV/0!"}]
[null,null,0,0,{"$error":"#DIV/0!"}]
[null,null,0,0,{"$error":"#DIV/0!"}]
[null,null,0,0,{"$error":"#DIV/0!"}]
[null,null,0,0,{"$error":"#DIV/0!"}]
[null,null,0,0,{"$error":"#DIV/0!"}]
[null,null,0,0,{"$error":"#DIV/0!"}]
[null,null,0,0,{"$error":"#DIV/0!"}]
[null,null,0,0,{"$error":"#DIV/0!"}]
[null,null,0,0,{"$error":"#DIV/0!"}]
[null,null,0,0,{"$error":"#DIV/0!"}]
[null,null,0,0,{"$error":"#DIV/0!"}]
[null,null,0,0,{"$error":"#DIV/0!"}]
[null,null,0,0,{"$error":"#DIV/0!"}]
[null,null,0,0,{"$error":"#DIV/0!"}]
[null,null,0,0,{"$error":"#DIV/0!"}]
[null,null,0,0,{"$error":"#DIV/0!"}]
[null,null,0,0,{"$error":"#DIV/0!"}]
[null,null,0,0,{"$error":"#DIV/0!"}]
[null,null,0,0,{"$error":"#DIV/0!"}]
[null,null,0,0,{"$error":"#DIV/0!"}]
[null,null,0,0,{"$error":"#DIV/0!"}]
[null,null,0,{"$f":"IF(C711=0,0,IF(C711<=D710,D710,IF(C711>D710,D710+B$2)))","v":0},{"$error":"#DIV/0!"}]
[null,null,{"$f":"IF(B712>0,C711+B712,)","v":0},0,{"$f":"IF(AND((D712-D711>0),(D712<C$2)),\"Controlla operazione\",0)","v":{"$error":"#DIV/0!"}}]
[null,null,0,0,{"$error":"#DIV/0!"}]
[null,null,0,0,{"$error":"#DIV/0!"}]
[null,null,0,0,{"$error":"#DIV/0!"}]
[null,null,0,0,{"$error":"#DIV/0!"}]
[null,null,0,0,{"$error":"#DIV/0!"}]
[null,null,0,0,{"$error":"#DIV/0!"}]
[null,null,0,0,{"$error":"#DIV/0!"}]
[null,null,0,0,{"$error":"#DIV/0!"}]
[null,null,0,0,{"$error":"#DIV/0!"}]
[null,null,0,0,{"$error":"#DIV/0!"}]
[null,null,0,0,{"$error":"#DIV/0!"}]
[null,null,0,0,{"$error":"#DIV/0!"}]
[null,null,0,0,{"$error":"#DIV/0!"}]
[null,null,0,0,{"$error":"#DIV/0!"}]
[null,null,0,0,{"$error":"#DIV/0!"}]
[null,null,0,0,{"$error":"#DIV/0!"}]
[null,null,0,0,{"$error":"#DIV/0!"}]
[null,null,0,0,{"$error":"#DIV/0!"}]
[null,null,0,0,{"$error":"#DIV/0!"}]
[null,null,0,0,{"$error":"#DIV/0!"}]
[null,null,0,0,{"$error":"#DIV/0!"}]
[null,null,0,0,{"$error":"#DIV/0!"}]
[null,null,0,0,{"$error":"#DIV/0!"}]
[null,null,0,0,{"$error":"#DIV/0!"}]
[null,null,0,0,{"$error":"#DIV/0!"}]
[null,null,0,0,{"$error":"#DIV/0!"}]
[null,null,0,0,{"$error":"#DIV/0!"}]
[null,null,0,0,{"$error":"#DIV/0!"}]
[null,null,0,0,{"$error":"#DIV/0!"}]
[null,null,0,0,{"$error":"#DIV/0!"}]
[null,null,0,0,{"$error":"#DIV/0!"}]
[null,null,0,0,{"$error":"#DIV/0!"}]
[null,null,0,0,{"$error":"#DIV/0!"}]
[null,null,0,0,{"$error":"#DIV/0!"}]
[null,null,0,0,{"$error":"#DIV/0!"}]
[null,null,0,0,{"$error":"#DIV/0!"}]
[null,null,0,0,{"$error":"#DIV/0!"}]
[null,null,0,0,{"$error":"#DIV/0!"}]
[null,null,0,0,{"$error":"#DIV/0!"}]
[null,null,0,0,{"$error":"#DIV/0!"}]
[null,null,0,0,{"$error":"#DIV/0!"}]
[null,null,0,0,{"$error":"#DIV/0!"}]
[null,null,0,0,{"$error":"#DIV/0!"}]
[null,null,0,0,{"$error":"#DIV/0!"}]
[null,null,0,0,{"$error":"#DIV/0!"}]
[null,null,0,0,{"$error":"#DIV/0!"}]
[null,null,0,0,{"$error":"#DIV/0!"}]
[null,null,0,0,{"$error":"#DIV/0!"}]
[null,null,0,0,{"$error":"#DIV/0!"}]
[null,null,0,0,{"$error":"#DIV/0!"}]
[null,null,0,0,{"$error":"#DIV/0!"}]
[null,null,0,0,{"$error":"#DIV/0!"}]
[null,null,0,0,{"$error":"#DIV/0!"}]
[null,null,0,0,{"$error":"#DIV/0!"}]
[null,null,0,0,{"$error":"#DIV/0!"}]
[null,null,0,0,{"$error":"#DIV/0!"}]
[null,null,0,0,{"$error":"#DIV/0!"}]
[null,null,0,0,{"$error":"#DIV/0!"}]
[null,null,0,0,{"$error":"#DIV/0!"}]
[null,null,0,0,{"$error":"#DIV/0!"}]
[null,null,0,0,{"$error":"#DIV/0!"}]
[null,null,0,0,{"$error":"#DIV/0!"}]
[null,null,0,{"$f":"IF(C775=0,0,IF(C775<=D774,D774,IF(C775>D774,D774+B$2)))","v":0},{"$error":"#DIV/0!"}]
[null,null,{"$f":"IF(B776>0,C775+B776,)","v":0},0,{"$f":"IF(AND((D776-D775>0),(D776<C$2)),\"Controlla operazione\",0)","v":{"$error":"#DIV/0!"}}]
[null,null,0,0,{"$error":"#DIV/0!"}]
[null,null,0,0,{"$error":"#DIV/0!"}]
[null,null,0,0,{"$error":"#DIV/0!"}]
[null,null,0,0,{"$error":"#DIV/0!"}]
[null,null,0,0,{"$error":"#DIV/0!"}]
[null,null,0,0,{"$error":"#DIV/0!"}]
[null,null,0,0,{"$error":"#DIV/0!"}]
[null,null,0,0,{"$error":"#DIV/0!"}]
[null,null,0,0,{"$error":"#DIV/0!"}]
[null,null,0,0,{"$error":"#DIV/0!"}]
[null,null,0,0,{"$error":"#DIV/0!"}]
[null,null,0,0,{"$error":"#DIV/0!"}]
[null,null,0,0,{"$error":"#DIV/0!"}]
[null,null,0,0,{"$error":"#DIV/0!"}]
[null,null,0,0,{"$error":"#DIV/0!"}]
[null,null,0,0,{"$error":"#DIV/0!"}]
[null,null,0,0,{"$error":"#DIV/0!"}]
[null,null,0,0,{"$error":"#DIV/0!"}]
[null,null,0,0,{"$error":"#DIV/0!"}]
[null,null,0,0,{"$error":"#DIV/0!"}]
[null,null,0,0,{"$error":"#DIV/0!"}]
[null,null,0,0,{"$error":"#DIV/0!"}]
[null,null,0,0,{"$error":"#DIV/0!"}]
[null,null,0,0,{"$error":"#DIV/0!"}]
[null,null,0,0,{"$error":"#DIV/0!"}]
[null,null,0,0,{"$error":"#DIV/0!"}]
[null,null,0,0,{"$error":"#DIV/0!"}]
[null,null,0,0,{"$error":"#DIV/0!"}]
[null,null,0,0,{"$error":"#DIV/0!"}]
[null,null,0,0,{"$error":"#DIV/0!"}]
[null,null,0,0,{"$error":"#DIV/0!"}]
[null,null,0,0,{"$error":"#DIV/0!"}]
[null,null,0,0,{"$error":"#DIV/0!"}]
[null,null,0,0,{"$error":"#DIV/0!"}]
[null,null,0,0,{"$error":"#DIV/0!"}]
[null,null,0,0,{"$error":"#DIV/0!"}]
[null,null,0,0,{"$error":"#DIV/0!"}]
[null,null,0,0,{"$error":"#DIV/0!"}]
[null,null,0,0,{"$error":"#DIV/0!"}]
[null,null,0,0,{"$error":"#DIV/0!"}]
[null,null,0,0,{"$error":"#DIV/0!"}]
[null,null,0,0,{"$error":"#DIV/0!"}]
[null,null,0,0,{"$error":"#DIV/0!"}]
[null,null,0,0,{"$error":"#DIV/0!"}]
[null,null,0,0,{"$error":"#DIV/0!"}]
[null,null,0,0,{"$error":"#DIV/0!"}]
[null,null,0,0,{"$error":"#DIV/0!"}]
[null,null,0,0,{"$error":"#DIV/0!"}]
[null,null,0,0,{"$error":"#DIV/0!"}]
[null,null,0,0,{"$error":"#DIV/0!"}]
[null,null,0,0,{"$error":"#DIV/0!"}]
[null,null,0,0,{"$error":"#DIV/0!"}]
[null,null,0,0,{"$error":"#DIV/0!"}]
[null,null,0,0,{"$error":"#DIV/0!"}]
[null,null,0,0,{"$error":"#DIV/0!"}]
[null,null,0,0,{"$error":"#DIV/0!"}]
[null,null,0,0,{"$error":"#DIV/0!"}]
[null,null,0,0,{"$error":"#DIV/0!"}]
[null,null,0,0,{"$error":"#DIV/0!"}]
[null,null,0,0,{"$error":"#DIV/0!"}]
[null,null,0,0,{"$error":"#DIV/0!"}]
[null,null,0,0,{"$error":"#DIV/0!"}]
[null,null,0,{"$f":"IF(C839=0,0,IF(C839<=D838,D838,IF(C839>D838,D838+B$2)))","v":0},{"$error":"#DIV/0!"}]
[null,null,{"$f":"IF(B840>0,C839+B840,)","v":0},0,{"$f":"IF(AND((D840-D839>0),(D840<C$2)),\"Controlla operazione\",0)","v":{"$error":"#DIV/0!"}}]
[null,null,0,0,{"$error":"#DIV/0!"}]
[null,null,0,0,{"$error":"#DIV/0!"}]
[null,null,0,0,{"$error":"#DIV/0!"}]
[null,null,0,0,{"$error":"#DIV/0!"}]
[null,null,0,0,{"$error":"#DIV/0!"}]
[null,null,0,0,{"$error":"#DIV/0!"}]
[null,null,0,0,{"$error":"#DIV/0!"}]
[null,null,0,0,{"$error":"#DIV/0!"}]
[null,null,0,0,{"$error":"#DIV/0!"}]
[null,null,0,0,{"$error":"#DIV/0!"}]
[null,null,0,0,{"$error":"#DIV/0!"}]
[null,null,0,0,{"$error":"#DIV/0!"}]
[null,null,0,0,{"$error":"#DIV/0!"}]
[null,null,0,0,{"$error":"#DIV/0!"}]
[null,null,0,0,{"$error":"#DIV/0!"}]
[null,null,0,0,{"$error":"#DIV/0!"}]
[null,null,0,0,{"$error":"#DIV/0!"}]
[null,null,0,0,{"$error":"#DIV/0!"}]
[null,null,0,0,{"$error":"#DIV/0!"}]
[null,null,0,0,{"$error":"#DIV/0!"}]
[null,null,0,0,{"$error":"#DIV/0!"}]
[null,null,0,0,{"$error":"#DIV/0!"}]
[null,null,0,0,{"$error":"#DIV/0!"}]
[null,null,0,0,{"$error":"#DIV/0!"}]
[null,null,0,0,{"$error":"#DIV/0!"}]
[null,null,0,0,{"$error":"#DIV/0!"}]
[null,null,0,0,{"$error":"#DIV/0!"}]
[null,null,0,0,{"$error":"#DIV/0!"}]
[null,null,0,0,{"$error":"#DIV/0!"}]
[null,null,0,0,{"$error":"#DIV/0!"}]
[null,null,0,0,{"$error":"#DIV/0!"}]
[null,null,0,0,{"$error":"#DIV/0!"}]
[null,null,0,0,{"$error":"#DIV/0!"}]
[null,null,0,0,{"$error":"#DIV/0!"}]
[null,null,0,0,{"$error":"#DIV/0!"}]
[null,null,0,0,{"$error":"#DIV/0!"}]
[null,null,0,0,{"$error":"#DIV/0!"}]
[null,null,0,0,{"$error":"#DIV/0!"}]
[null,null,0,0,{"$error":"#DIV/0!"}]
[null,null,0,0,{"$error":"#DIV/0!"}]
[null,null,0,0,{"$error":"#DIV/0!"}]
[null,null,0,0,{"$error":"#DIV/0!"}]
[null,null,0,0,{"$error":"#DIV/0!"}]
[null,null,0,0,{"$error":"#DIV/0!"}]
[null,null,0,0,{"$error":"#DIV/0!"}]
[null,null,0,0,{"$error":"#DIV/0!"}]
[null,null,0,0,{"$error":"#DIV/0!"}]
[null,null,0,0,{"$error":"#DIV/0!"}]
[null,null,0,0,{"$error":"#DIV/0!"}]
[null,null,0,0,{"$error":"#DIV/0!"}]
[null,null,0,0,{"$error":"#DIV/0!"}]
[null,null,0,0,{"$error":"#DIV/0!"}]
[null,null,0,0,{"$error":"#DIV/0!"}]
[null,null,0,0,{"$error":"#DIV/0!"}]
[null,null,0,0,{"$error":"#DIV/0!"}]
[null,null,0,0,{"$error":"#DIV/0!"}]
[null,null,0,0,{"$error":"#DIV/0!"}]
[null,null,0,0,{"$error":"#DIV/0!"}]
[null,null,0,0,{"$error":"#DIV/0!"}]
[null,null,0,0,{"$error":"#DIV/0!"}]
[null,null,0,0,{"$error":"#DIV/0!"}]
[null,null,0,0,{"$error":"#DIV/0!"}]
[null,null,0,{"$f":"IF(C903=0,0,IF(C903<=D902,D902,IF(C903>D902,D902+B$2)))","v":0},{"$error":"#DIV/0!"}]
[null,null,{"$f":"IF(B904>0,C903+B904,)","v":0},0,{"$f":"IF(AND((D904-D903>0),(D904<C$2)),\"Controlla operazione\",0)","v":{"$error":"#DIV/0!"}}]
[null,null,0,0,{"$error":"#DIV/0!"}]
[null,null,0,0,{"$error":"#DIV/0!"}]
[null,null,0,0,{"$error":"#DIV/0!"}]
[null,null,0,0,{"$error":"#DIV/0!"}]
[null,null,0,0,{"$error":"#DIV/0!"}]
[null,null,0,0,{"$error":"#DIV/0!"}]
[null,null,0,0,{"$error":"#DIV/0!"}]
[null,null,0,0,{"$error":"#DIV/0!"}]
[null,null,0,0,{"$error":"#DIV/0!"}]
[null,null,0,0,{"$error":"#DIV/0!"}]
[null,null,0,0,{"$error":"#DIV/0!"}]
[null,null,0,0,{"$error":"#DIV/0!"}]
[null,null,0,0,{"$error":"#DIV/0!"}]
[null,null,0,0,{"$error":"#DIV/0!"}]
[null,null,0,0,{"$error":"#DIV/0!"}]
[null,null,0,0,{"$error":"#DIV/0!"}]
[null,null,0,0,{"$error":"#DIV/0!"}]
[null,null,0,0,{"$error":"#DIV/0!"}]
[null,null,0,0,{"$error":"#DIV/0!"}]
[null,null,0,0,{"$error":"#DIV/0!"}]
[null,null,0,0,{"$error":"#DIV/0!"}]
[null,null,0,0,{"$error":"#DIV/0!"}]
[null,null,0,0,{"$error":"#DIV/0!"}]
[null,null,0,0,{"$error":"#DIV/0!"}]
[null,null,0,0,{"$error":"#DIV/0!"}]
[null,null,0,0,{"$error":"#DIV/0!"}]
[null,null,0,0,{"$error":"#DIV/0!"}]
[null,null,0,0,{"$error":"#DIV/0!"}]
[null,null,0,0,{"$error":"#DIV/0!"}]
[null,null,0,0,{"$error":"#DIV/0!"}]
[null,null,0,0,{"$error":"#DIV/0!"}]
[null,null,0,0,{"$error":"#DIV/0!"}]
[null,null,0,0,{"$error":"#DIV/0!"}]
[null,null,0,0,{"$error":"#DIV/0!"}]
[null,null,0,0,{"$error":"#DIV/0!"}]
[null,null,0,0,{"$error":"#DIV/0!"}]
[null,null,0,0,{"$error":"#DIV/0!"}]
[null,null,0,0,{"$error":"#DIV/0!"}]
[null,null,0,0,{"$error":"#DIV/0!"}]
[null,null,0,0,{"$error":"#DIV/0!"}]
[null,null,0,0,{"$error":"#DIV/0!"}]
[null,null,0,0,{"$error":"#DIV/0!"}]
[null,null,0,0,{"$error":"#DIV/0!"}]
[null,null,0,0,{"$error":"#DIV/0!"}]
[null,null,0,0,{"$error":"#DIV/0!"}]
[null,null,0,0,{"$error":"#DIV/0!"}]
[null,null,0,0,{"$error":"#DIV/0!"}]
[null,null,0,0,{"$error":"#DIV/0!"}]
[null,null,0,0,{"$error":"#DIV/0!"}]
[null,null,0,0,{"$error":"#DIV/0!"}]
[null,null,0,0,{"$error":"#DIV/0!"}]
[null,null,0,0,{"$error":"#DIV/0!"}]
[null,null,0,0,{"$error":"#DIV/0!"}]
[null,null,0,0,{"$error":"#DIV/0!"}]
[null,null,0,0,{"$error":"#DIV/0!"}]
[null,null,0,0,{"$error":"#DIV/0!"}]
[null,null,0,0,{"$error":"#DIV/0!"}]
[null,null,0,0,{"$error":"#DIV/0!"}]
[null,null,0,0,{"$error":"#DIV/0!"}]
[null,null,0,0,{"$error":"#DIV/0!"}]
[null,null,0,0,{"$error":"#DIV/0!"}]
[null,null,0,0,{"$error":"#DIV/0!"}]
[null,null,0,{"$f":"IF(C967=0,0,IF(C967<=D966,D966,IF(C967>D966,D966+B$2)))","v":0},{"$error":"#DIV/0!"}]
[null,null,{"$f":"IF(B968>0,C967+B968,)","v":0},0,{"$f":"IF(AND((D968-D967>0),(D968<C$2)),\"Controlla operazione\",0)","v":{"$error":"#DIV/0!"}}]
[null,null,0,0,{"$error":"#DIV/0!"}]
[null,null,0,0,{"$error":"#DIV/0!"}]
[null,null,0,0,{"$error":"#DIV/0!"}]
[null,null,0,0,{"$error":"#DIV/0!"}]
[null,null,0,0,{"$error":"#DIV/0!"}]
[null,null,0,0,{"$error":"#DIV/0!"}]
[null,null,0,0,{"$error":"#DIV/0!"}]
[null,null,0,0,{"$error":"#DIV/0!"}]
[null,null,0,0,{"$error":"#DIV/0!"}]
[null,null,0,0,{"$error":"#DIV/0!"}]
[null,null,0,0,{"$error":"#DIV/0!"}]
[null,null,0,0,{"$error":"#DIV/0!"}]
[null,null,0,0,{"$error":"#DIV/0!"}]
[null,null,0,0,{"$error":"#DIV/0!"}]
[null,null,0,0,{"$error":"#DIV/0!"}]
[null,null,0,0,{"$error":"#DIV/0!"}]
[null,null,0,0,{"$error":"#DIV/0!"}]
[null,null,0,0,{"$error":"#DIV/0!"}]
[null,null,0,0,{"$error":"#DIV/0!"}]
[null,null,0,0,{"$error":"#DIV/0!"}]
[null,null,0,0,{"$error":"#DIV/0!"}]
[null,null,0,0,{"$error":"#DIV/0!"}]
[null,null,0,0,{"$error":"#DIV/0!"}]
[null,null,0,0,{"$error":"#DIV/0!"}]
[null,null,0,0,{"$error":"#DIV/0!"}]
[null,null,0,0,{"$error":"#DIV/0!"}]
[null,null,0,0,{"$error":"#DIV/0!"}]
[null,null,0,0,{"$error":"#DIV/0!"}]
[null,null,0,0,{"$error":"#DIV/0!"}]
[null,null,0,0,{"$error":"#DIV/0!"}]
[null,null,0,0,{"$error":"#DIV/0!"}]
[null,null,0,0,{"$error":"#DIV/0!"}]
[null,null,0,0,{"$error":"#DIV/0!"}]
[null,null,0,0,{"$error":"#DIV/0!"}]
[null,null,0,0,{"$error":"#DIV/0!"}]
[null,null,0,0,{"$error":"#DIV/0!"}]
[null,null,0,0,{"$error":"#DIV/0!"}]
[null,null,0,0,{"$error":"#DIV/0!"}]
[null,null,0,0,{"$error":"#DIV/0!"}]
[null,null,0,0,{"$error":"#DIV/0!"}]
[null,null,0,0,{"$error":"#DIV/0!"}]
[null,null,0,0,{"$error":"#DIV/0!"}]
[null,null,0,0,{"$error":"#DIV/0!"}]
[null,null,0,0,{"$error":"#DIV/0!"}]
[null,null,0,0,{"$error":"#DIV/0!"}]
[null,null,0,0,{"$error":"#DIV/0!"}]
[null,null,0,0,{"$error":"#DIV/0!"}]
[null,null,0,0,{"$error":"#DIV/0!"}]
[null,null,0,0,{"$error":"#DIV/0!"}]
[null,null,0,0,{"$error":"#DIV/0!"}]
[null,null,0,0,{"$error":"#DIV/0!"}]
[null,null,0,0,{"$error":"#DIV/0!"}]
[null,null,0,0,{"$error":"#DIV/0!"}]
[null,null,0,0,{"$error":"#DIV/0!"}]
[null,null,0,0,{"$error":"#DIV/0!"}]
[null,null,0,0,{"$error":"#DIV/0!"}]
[null,null,0,0,{"$error":"#DIV/0!"}]
[null,null,0,0,{"$error":"#DIV/0!"}]
[null,null,0,0,{"$error":"#DIV/0!"}]
[null,null,0,0,{"$error":"#DIV/0!"}]
[null,null,0,0,{"$error":"#DIV/0!"}]
[null,null,0,0,{"$error":"#DIV/0!"}]
[null,null,0,{"$f":"IF(C1031=0,0,IF(C1031<=D1030,D1030,IF(C1031>D1030,D1030+B$2)))","v":0},{"$error":"#DIV/0!"}]
[null,null,{"$f":"IF(B1032>0,C1031+B1032,)","v":0},0,{"$f":"IF(AND((D1032-D1031>0),(D1032<C$2)),\"Controlla operazione\",0)","v":{"$error":"#DIV/0!"}}]
[null,null,0,0,{"$error":"#DIV/0!"}]
[null,null,0,0,{"$error":"#DIV/0!"}]
[null,null,0,0,{"$error":"#DIV/0!"}]
[null,null,0,0,{"$error":"#DIV/0!"}]
[null,null,0,0,{"$error":"#DIV/0!"}]
[null,null,0,0,{"$error":"#DIV/0!"}]
[null,null,0,0,{"$error":"#DIV/0!"}]
[null,null,0,0,{"$error":"#DIV/0!"}]
[null,null,0,0,{"$error":"#DIV/0!"}]
[null,null,0,0,{"$error":"#DIV/0!"}]
[null,null,0,0,{"$error":"#DIV/0!"}]
[null,null,0,0,{"$error":"#DIV/0!"}]
[null,null,0,0,{"$f":"IF(AND((D1045-D1044>0),(D1045<=C$2)),\"Controlla operazione\",0)","v":{"$error":"#DIV/0!"}}]
[null,null,0,0,{"$error":"#DIV/0!"}]
[null,null,0,0,{"$error":"#DIV/0!"}]
[null,null,0,0,{"$error":"#DIV/0!"}]
[null,null,0,0,{"$error":"#DIV/0!"}]
[null,null,0,0,{"$error":"#DIV/0!"}]
[null,null,0,0,{"$error":"#DIV/0!"}]
[null,null,0,0,{"$error":"#DIV/0!"}]
[null,null,0,0,{"$error":"#DIV/0!"}]
[null,null,0,0,{"$error":"#DIV/0!"}]
[null,null,0,0,{"$error":"#DIV/0!"}]
[null,null,0,0,{"$error":"#DIV/0!"}]
[null,null,0,0,{"$error":"#DIV/0!"}]
[null,null,0,0,{"$error":"#DIV/0!"}]
[null,null,0,0,{"$error":"#DIV/0!"}]
[null,null,0,0,{"$error":"#DIV/0!"}]
[null,null,0,0,{"$error":"#DIV/0!"}]
[null,null,0,0,{"$error":"#DIV/0!"}]
[null,null,0,0,{"$error":"#DIV/0!"}]
[null,null,0,0,{"$error":"#DIV/0!"}]
[null,null,0,0,{"$error":"#DIV/0!"}]
[null,null,0,0,{"$error":"#DIV/0!"}]
[null,null,0,0,{"$error":"#DIV/0!"}]
[null,null,0,0,{"$error":"#DIV/0!"}]
[null,null,0,0,{"$error":"#DIV/0!"}]
[null,null,0,0,{"$error":"#DIV/0!"}]
[null,null,0,0,{"$error":"#DIV/0!"}]
[null,null,0,0,{"$error":"#DIV/0!"}]
[null,null,0,0,{"$error":"#DIV/0!"}]
[null,null,0,0,{"$error":"#DIV/0!"}]
[null,null,0,0,{"$error":"#DIV/0!"}]
[null,null,0,0,{"$error":"#DIV/0!"}]
[null,null,0,0,{"$error":"#DIV/0!"}]
[null,null,0,0,{"$error":"#DIV/0!"}]
[null,null,0,0,{"$error":"#DIV/0!"}]
[null,null,0,0,{"$error":"#DIV/0!"}]
[null,null,0,0,{"$error":"#DIV/0!"}]
[null,null,0,0,{"$error":"#DIV/0!"}]
[null,null,0,0,{"$error":"#DIV/0!"}]
[null,null,0,0,{"$error":"#DIV/0!"}]
[null,null,0,0,{"$error":"#DIV/0!"}]
[null,null,0,0,{"$error":"#DIV/0!"}]
[null,null,0,0,{"$error":"#DIV/0!"}]
[null,null,0,0,{"$error":"#DIV/0!"}]
[null,null,0,0,{"$error":"#DIV/0!"}]
[null,null,0,0,{"$error":"#DIV/0!"}]
[null,null,0,0,{"$error":"#DIV/0!"}]
[null,null,0,0,{"$error":"#DIV/0!"}]
[null,null,0,0,{"$error":"#DIV/0!"}]
[null,null,0,0,{"$error":"#DIV/0!"}]
[null,null,0,{"$f":"IF(C1095=0,0,IF(C1095<=D1094,D1094,IF(C1095>D1094,D1094+B$2)))","v":0},{"$f":"IF(AND((D1095-D1094>0),(D1095<=C$2)),\"Controlla operazione\",0)","v":{"$error":"#DIV/0!"}}]
[null,null,{"$f":"IF(B1096>0,C1095+B1096,)","v":0},0,{"$error":"#DIV/0!"}]
[null,null,0,0,{"$error":"#DIV/0!"}]
[null,null,0,0,{"$error":"#DIV/0!"}]
[null,null,0,0,{"$error":"#DIV/0!"}]
[null,null,0,0,{"$error":"#DIV/0!"}]
[null,null,0,0,{"$error":"#DIV/0!"}]
[null,null,0,0,{"$error":"#DIV/0!"}]
[null,null,0,0,{"$error":"#DIV/0!"}]
[null,null,0,0,{"$error":"#DIV/0!"}]
[null,null,0,0,{"$error":"#DIV/0!"}]
[null,null,0,0,{"$error":"#DIV/0!"}]
[null,null,0,0,{"$error":"#DIV/0!"}]
[null,null,0,0,{"$error":"#DIV/0!"}]
[null,null,0,0,{"$error":"#DIV/0!"}]
[null,null,0,0,{"$error":"#DIV/0!"}]
[null,null,0,0,{"$error":"#DIV/0!"}]
[null,null,0,0,{"$error":"#DIV/0!"}]
[null,null,0,0,{"$error":"#DIV/0!"}]
[null,null,0,0,{"$error":"#DIV/0!"}]
[null,null,0,0,{"$error":"#DIV/0!"}]
[null,null,0,0,{"$error":"#DIV/0!"}]
[null,null,0,0,{"$error":"#DIV/0!"}]
[null,null,0,0,{"$error":"#DIV/0!"}]
[null,null,0,0,{"$error":"#DIV/0!"}]
[null,null,0,0,{"$error":"#DIV/0!"}]
[null,null,0,0,{"$error":"#DIV/0!"}]
[null,null,0,0,{"$error":"#DIV/0!"}]
[null,null,0,0,{"$error":"#DIV/0!"}]
[null,null,0,0,{"$error":"#DIV/0!"}]
[null,null,0,0,{"$error":"#DIV/0!"}]
[null,null,0,0,{"$error":"#DIV/0!"}]
[null,null,0,0,{"$error":"#DIV/0!"}]
[null,null,0,0,{"$error":"#DIV/0!"}]
[null,null,0,0,{"$error":"#DIV/0!"}]
[null,null,0,0,{"$error":"#DIV/0!"}]
[null,null,0,0,{"$error":"#DIV/0!"}]
[null,null,0,0,{"$error":"#DIV/0!"}]
[null,null,0,0,{"$error":"#DIV/0!"}]
[null,null,0,0,{"$error":"#DIV/0!"}]
[null,null,0,0,{"$error":"#DIV/0!"}]
[null,null,0,0,{"$error":"#DIV/0!"}]
[null,null,0,0,{"$error":"#DIV/0!"}]
[null,null,0,0,{"$error":"#DIV/0!"}]
[null,null,0,0,{"$error":"#DIV/0!"}]
[null,null,0,0,{"$error":"#DIV/0!"}]
[null,null,0,0,{"$error":"#DIV/0!"}]
[null,null,0,0,{"$error":"#DIV/0!"}]
[null,null,0,0,{"$error":"#DIV/0!"}]
[null,null,0,0,{"$error":"#DIV/0!"}]
[null,null,0,0,{"$error":"#DIV/0!"}]
[null,null,0,0,{"$error":"#DIV/0!"}]
[null,null,0,0,{"$error":"#DIV/0!"}]
[null,null,0,0,{"$error":"#DIV/0!"}]
[null,null,0,0,{"$error":"#DIV/0!"}]
[null,null,0,0,{"$error":"#DIV/0!"}]
[null,null,0,0,{"$error":"#DIV/0!"}]
[null,null,0,0,{"$error":"#DIV/0!"}]
[null,null,0,0,{"$error":"#DIV/0!"}]
[null,null,0,0,{"$error":"#DIV/0!"}]
[null,null,0,0,{"$error":"#DIV/0!"}]
[null,null,0,0,{"$error":"#DIV/0!"}]
[null,null,0,0,{"$error":"#DIV/0!"}]
[null,null,0,0,{"$error":"#DIV/0!"}]
[null,null,0,{"$f":"IF(C1159=0,0,IF(C1159<=D1158,D1158,IF(C1159>D1158,D1158+B$2)))","v":0},{"$f":"IF(AND((D1159-D1158>0),(D1159<=C$2)),\"Controlla operazione\",0)","v":{"$error":"#DIV/0!"}}]
[null,null,{"$f":"IF(B1160>0,C1159+B1160,)","v":0},0,{"$error":"#DIV/0!"}]
[null,null,0,0,{"$error":"#DIV/0!"}]
[null,null,0,0,{"$error":"#DIV/0!"}]
[null,null,0,0,{"$error":"#DIV/0!"}]
[null,null,0,0,{"$error":"#DIV/0!"}]
[null,null,0,0,{"$error":"#DIV/0!"}]
[null,null,0,0,{"$error":"#DIV/0!"}]
[null,null,0,0,{"$error":"#DIV/0!"}]
[null,null,0,0,{"$error":"#DIV/0!"}]
[null,null,0,0,{"$error":"#DIV/0!"}]
[null,null,0,0,{"$error":"#DIV/0!"}]
[null,null,0,0,{"$error":"#DIV/0!"}]
[null,null,0,0,{"$error":"#DIV/0!"}]
[null,null,0,0,{"$error":"#DIV/0!"}]
[null,null,0,0,{"$error":"#DIV/0!"}]
[null,null,0,0,{"$error":"#DIV/0!"}]
[null,null,0,0,{"$error":"#DIV/0!"}]
[null,null,0,0,{"$error":"#DIV/0!"}]
[null,null,0,0,{"$error":"#DIV/0!"}]
[null,null,0,0,{"$error":"#DIV/0!"}]
[null,null,0,0,{"$error":"#DIV/0!"}]
[null,null,0,0,{"$error":"#DIV/0!"}]
[null,null,0,0,{"$error":"#DIV/0!"}]
[null,null,0,0,{"$error":"#DIV/0!"}]
[null,null,0,0,{"$error":"#DIV/0!"}]
[null,null,0,0,{"$error":"#DIV/0!"}]
[null,null,0,0,{"$error":"#DIV/0!"}]
[null,null,0,0,{"$error":"#DIV/0!"}]
[null,null,0,0,{"$error":"#DIV/0!"}]
[null,null,0,0,{"$error":"#DIV/0!"}]
[null,null,0,0,{"$error":"#DIV/0!"}]
[null,null,0,0,{"$error":"#DIV/0!"}]
[null,null,0,0,{"$error":"#DIV/0!"}]
[null,null,0,0,{"$error":"#DIV/0!"}]
[null,null,0,0,{"$error":"#DIV/0!"}]
[null,null,0,0,{"$error":"#DIV/0!"}]
[null,null,0,0,{"$error":"#DIV/0!"}]
[null,null,0,0,{"$error":"#DIV/0!"}]
[null,null,0,0,{"$error":"#DIV/0!"}]
[null,null,0,0,{"$error":"#DIV/0!"}]
[null,null,0,0,{"$error":"#DIV/0!"}]
[null,null,0,0,{"$error":"#DIV/0!"}]
[null,null,0,0,{"$error":"#DIV/0!"}]
[null,null,0,0,{"$error":"#DIV/0!"}]
[null,null,0,0,{"$error":"#DIV/0!"}]
[null,null,0,0,{"$error":"#DIV/0!"}]
[null,null,0,0,{"$error":"#DIV/0!"}]
[null,null,0,0,{"$error":"#DIV/0!"}]
[null,null,0,0,{"$error":"#DIV/0!"}]
[null,null,0,0,{"$error":"#DIV/0!"}]
[null,null,0,0,{"$error":"#DIV/0!"}]
[null,null,0,0,{"$error":"#DIV/0!"}]
[null,null,0,0,{"$error":"#DIV/0!"}]
[null,null,0,0,{"$error":"#DIV/0!"}]
[null,null,0,0,{"$error":"#DIV/0!"}]
[null,null,0,0,{"$error":"#DIV/0!"}]
[null,null,0,0,{"$error":"#DIV/0!"}]
[null,null,0,0,{"$error":"#DIV/0!"}]
[null,null,0,0,{"$error":"#DIV/0!"}]
[null,null,0,0,{"$error":"#DIV/0!"}]
[null,null,0,0,{"$error":"#DIV/0!"}]
[null,null,0,0,{"$error":"#DIV/0!"}]
[null,null,0,0,{"$error":"#DIV/0!"}]
[null,null,0,{"$f":"IF(C1223=0,0,IF(C1223<=D1222,D1222,IF(C1223>D1222,D1222+B$2)))","v":0},{"$f":"IF(AND((D1223-D1222>0),(D1223<=C$2)),\"Controlla operazione\",0)","v":{"$error":"#DIV/0!"}}]
[null,null,{"$f":"IF(B1224>0,C1223+B1224,)","v":0},0,{"$error":"#DIV/0!"}]
[null,null,0,0,{"$error":"#DIV/0!"}]
[null,null,0,0,{"$error":"#DIV/0!"}]
[null,null,0,0,{"$error":"#DIV/0!"}]
[null,null,0,0,{"$error":"#DIV/0!"}]
[null,null,0,0,{"$error":"#DIV/0!"}]
[null,null,0,0,{"$error":"#DIV/0!"}]
[null,null,0,0,{"$error":"#DIV/0!"}]
[null,null,0,0,{"$error":"#DIV/0!"}]
[null,null,0,0,{"$error":"#DIV/0!"}]
[null,null,0,0,{"$error":"#DIV/0!"}]
[null,null,0,0,{"$error":"#DIV/0!"}]
[null,null,0,0,{"$error":"#DIV/0!"}]
[null,null,0,0,{"$error":"#DIV/0!"}]
[null,null,0,0,{"$error":"#DIV/0!"}]
[null,null,0,0,{"$error":"#DIV/0!"}]
[null,null,0,0,{"$error":"#DIV/0!"}]
[null,null,0,0,{"$error":"#DIV/0!"}]
[null,null,0,0,{"$error":"#DIV/0!"}]
[null,null,0,0,{"$error":"#DIV/0!"}]
[null,null,0,0,{"$error":"#DIV/0!"}]
[null,null,0,0,{"$error":"#DIV/0!"}]
[null,null,0,0,{"$error":"#DIV/0!"}]
[null,null,0,0,{"$error":"#DIV/0!"}]
[null,null,0,0,{"$error":"#DIV/0!"}]
[null,null,0,0,{"$error":"#DIV/0!"}]
[null,null,0,0,{"$error":"#DIV/0!"}]
[null,null,0,0,{"$error":"#DIV/0!"}]
[null,null,0,0,{"$error":"#DIV/0!"}]
[null,null,0,0,{"$error":"#DIV/0!"}]
[null,null,0,0,{"$error":"#DIV/0!"}]
[null,null,0,0,{"$error":"#DIV/0!"}]
[null,null,0,0,{"$error":"#DIV/0!"}]
[null,null,0,0,{"$error":"#DIV/0!"}]
[null,null,0,0,{"$error":"#DIV/0!"}]
[null,null,0,0,{"$error":"#DIV/0!"}]
[null,null,0,0,{"$error":"#DIV/0!"}]
[null,null,0,0,{"$error":"#DIV/0!"}]
[null,null,0,0,{"$error":"#DIV/0!"}]
[null,null,0,0,{"$error":"#DIV/0!"}]
[null,null,0,0,{"$error":"#DIV/0!"}]
[null,null,0,0,{"$error":"#DIV/0!"}]
[null,null,0,0,{"$error":"#DIV/0!"}]
[null,null,0,0,{"$error":"#DIV/0!"}]
[null,null,0,0,{"$error":"#DIV/0!"}]
[null,null,0,0,{"$error":"#DIV/0!"}]
[null,null,0,0,{"$error":"#DIV/0!"}]
[null,null,0,0,{"$error":"#DIV/0!"}]
[null,null,0,0,{"$error":"#DIV/0!"}]
[null,null,0,0,{"$error":"#DIV/0!"}]
[null,null,0,0,{"$error":"#DIV/0!"}]
[null,null,0,0,{"$error":"#DIV/0!"}]
[null,null,0,0,{"$error":"#DIV/0!"}]
[null,null,0,0,{"$error":"#DIV/0!"}]
[null,null,0,0,{"$error":"#DIV/0!"}]
[null,null,0,0,{"$error":"#DIV/0!"}]
[null,null,0,0,{"$error":"#DIV/0!"}]
[null,null,0,0,{"$error":"#DIV/0!"}]
[null,null,0,0,{"$error":"#DIV/0!"}]
[null,null,0,0,{"$error":"#DIV/0!"}]
[null,null,0,0,{"$error":"#DIV/0!"}]
[null,null,0,0,{"$error":"#DIV/0!"}]
[null,null,0,0,{"$error":"#DIV/0!"}]
[null,null,0,{"$f":"IF(C1287=0,0,IF(C1287<=D1286,D1286,IF(C1287>D1286,D1286+B$2)))","v":0},{"$f":"IF(AND((D1287-D1286>0),(D1287<=C$2)),\"Controlla operazione\",0)","v":{"$error":"#DIV/0!"}}]
[null,null,{"$f":"IF(B1288>0,C1287+B1288,)","v":0},0,{"$error":"#DIV/0!"}]
[null,null,0,0,{"$error":"#DIV/0!"}]
[null,null,0,0,{"$error":"#DIV/0!"}]
[null,null,0,0,{"$error":"#DIV/0!"}]
[null,null,0,0,{"$error":"#DIV/0!"}]
[null,null,0,0,{"$error":"#DIV/0!"}]
[null,null,0,0,{"$error":"#DIV/0!"}]
[null,null,0,0,{"$error":"#DIV/0!"}]
[null,null,0,0,{"$error":"#DIV/0!"}]
[null,null,0,0,{"$error":"#DIV/0!"}]
[null,null,0,0,{"$error":"#DIV/0!"}]
[null,null,0,0,{"$error":"#DIV/0!"}]
[null,null,0,0,{"$error":"#DIV/0!"}]
[null,null,0,0,{"$error":"#DIV/0!"}]
[null,null,0,0,{"$error":"#DIV/0!"}]
[null,null,0,0,{"$error":"#DIV/0!"}]
[null,null,0,0,{"$error":"#DIV/0!"}]
[null,null,0,0,{"$error":"#DIV/0!"}]
[null,null,0,0,{"$error":"#DIV/0!"}]
[null,null,0,0,{"$error":"#DIV/0!"}]
[null,null,0,0,{"$error":"#DIV/0!"}]
[null,null,0,0,{"$error":"#DIV/0!"}]
[null,null,0,0,{"$error":"#DIV/0!"}]
[null,null,0,0,{"$error":"#DIV/0!"}]
[null,null,0,0,{"$error":"#DIV/0!"}]
[null,null,0,0,{"$error":"#DIV/0!"}]
[null,null,0,0,{"$error":"#DIV/0!"}]
[null,null,0,0,{"$error":"#DIV/0!"}]
[null,null,0,0,{"$error":"#DIV/0!"}]
[null,null,0,0,{"$error":"#DIV/0!"}]
[null,null,0,0,{"$error":"#DIV/0!"}]
[null,null,0,0,{"$error":"#DIV/0!"}]
[null,null,0,0,{"$error":"#DIV/0!"}]
[null,null,0,0,{"$error":"#DIV/0!"}]
[null,null,0,0,{"$error":"#DIV/0!"}]
[null,null,0,0,{"$error":"#DIV/0!"}]
[null,null,0,0,{"$error":"#DIV/0!"}]
[null,null,0,0,{"$error":"#DIV/0!"}]
[null,null,0,0,{"$error":"#DIV/0!"}]
[null,null,0,0,{"$error":"#DIV/0!"}]
[null,null,0,0,{"$error":"#DIV/0!"}]
[null,null,0,0,{"$error":"#DIV/0!"}]
[null,null,0,0,{"$error":"#DIV/0!"}]
[null,null,0,0,{"$error":"#DIV/0!"}]
[null,null,0,0,{"$error":"#DIV/0!"}]
[null,null,0,0,{"$error":"#DIV/0!"}]
[null,null,0,0,{"$error":"#DIV/0!"}]
[null,null,0,0,{"$error":"#DIV/0!"}]
[null,null,0,0,{"$error":"#DIV/0!"}]
[null,null,0,0,{"$error":"#DIV/0!"}]
[null,null,0,0,{"$error":"#DIV/0!"}]
[null,null,0,0,{"$error":"#DIV/0!"}]
[null,null,0,0,{"$error":"#DIV/0!"}]
[null,null,0,0,{"$error":"#DIV/0!"}]
[null,null,0,0,{"$error":"#DIV/0!"}]
[null,null,0,0,{"$error":"#DIV/0!"}]
[null,null,0,0,{"$error":"#DIV/0!"}]
[null,null,0,0,{"$error":"#DIV/0!"}]
[null,null,0,0,{"$error":"#DIV/0!"}]
[null,null,0,0,{"$error":"#DIV/0!"}]
[null,null,0,0,{"$error":"#DIV/0!"}]
[null,null,0,0,{"$error":"#DIV/0!"}]
[null,null,0,0,{"$error":"#DIV/0!"}]
[null,null,0,{"$f":"IF(C1351=0,0,IF(C1351<=D1350,D1350,IF(C1351>D1350,D1350+B$2)))","v":0},{"$f":"IF(AND((D1351-D1350>0),(D1351<=C$2)),\"Controlla operazione\",0)","v":{"$error":"#DIV/0!"}}]
[null,null,{"$f":"IF(B1352>0,C1351+B1352,)","v":0},0,{"$error":"#DIV/0!"}]
[null,null,0,0,{"$error":"#DIV/0!"}]
[null,null,0,0,{"$error":"#DIV/0!"}]
[null,null,0,0,{"$error":"#DIV/0!"}]
[null,null,0,0,{"$error":"#DIV/0!"}]
[null,null,0,0,{"$error":"#DIV/0!"}]
[null,null,0,0,{"$error":"#DIV/0!"}]
[null,null,0,0,{"$error":"#DIV/0!"}]
[null,null,0,0,{"$error":"#DIV/0!"}]
[null,null,0,0,{"$error":"#DIV/0!"}]
[null,null,0,0,{"$error":"#DIV/0!"}]
[null,null,0,0,{"$error":"#DIV/0!"}]
[null,null,0,0,{"$error":"#DIV/0!"}]
[null,null,0,0,{"$error":"#DIV/0!"}]
[null,null,0,0,{"$error":"#DIV/0!"}]
[null,null,0,0,{"$error":"#DIV/0!"}]
[null,null,0,0,{"$error":"#DIV/0!"}]
[null,null,0,0,{"$error":"#DIV/0!"}]
[null,null,0,0,{"$error":"#DIV/0!"}]
[null,null,0,0,{"$error":"#DIV/0!"}]
[null,null,0,0,{"$error":"#DIV/0!"}]
[null,null,0,0,{"$error":"#DIV/0!"}]
[null,null,0,0,{"$error":"#DIV/0!"}]
[null,null,0,0,{"$error":"#DIV/0!"}]
[null,null,0,0,{"$error":"#DIV/0!"}]
[null,null,0,0,{"$error":"#DIV/0!"}]
[null,null,0,0,{"$error":"#DIV/0!"}]
[null,null,0,0,{"$error":"#DIV/0!"}]
[null,null,0,0,{"$error":"#DIV/0!"}]
[null,null,0,0,{"$error":"#DIV/0!"}]
[null,null,0,0,{"$error":"#DIV/0!"}]
[null,null,0,0,{"$error":"#DIV/0!"}]
[null,null,0,0,{"$error":"#DIV/0!"}]
[null,null,0,0,{"$error":"#DIV/0!"}]
[null,null,0,0,{"$error":"#DIV/0!"}]
[null,null,0,0,{"$error":"#DIV/0!"}]
[null,null,0,0,{"$error":"#DIV/0!"}]
[null,null,0,0,{"$error":"#DIV/0!"}]
[null,null,0,0,{"$error":"#DIV/0!"}]
[null,null,0,0,{"$error":"#DIV/0!"}]
[null,null,0,0,{"$error":"#DIV/0!"}]
[null,null,0,0,{"$error":"#DIV/0!"}]
[null,null,0,0,{"$error":"#DIV/0!"}]
[null,null,0,0,{"$error":"#DIV/0!"}]
[null,null,0,0,{"$error":"#DIV/0!"}]
[null,null,0,0,{"$error":"#DIV/0!"}]
[null,null,0,0,{"$error":"#DIV/0!"}]
[null,null,0,0,{"$error":"#DIV/0!"}]
[null,null,0,0,{"$error":"#DIV/0!"}]
[null,null,0,0,{"$error":"#DIV/0!"}]
[null,null,0,0,{"$error":"#DIV/0!"}]
[null,null,0,0,{"$error":"#DIV/0!"}]
[null,null,0,0,{"$error":"#DIV/0!"}]
[null,null,0,0,{"$error":"#DIV/0!"}]
[null,null,0,0,{"$error":"#DIV/0!"}]
[null,null,0,0,{"$error":"#DIV/0!"}]
[null,null,0,0,{"$error":"#DIV/0!"}]
[null,null,0,0,{"$error":"#DIV/0!"}]
[null,null,0,0,{"$error":"#DIV/0!"}]
[null,null,0,0,{"$error":"#DIV/0!"}]
[null,null,0,0,{"$error":"#DIV/0!"}]
[null,null,0,0,{"$error":"#DIV/0!"}]
[null,null,0,0,{"$error":"#DIV/0!"}]
[null,null,0,{"$f":"IF(C1415=0,0,IF(C1415<=D1414,D1414,IF(C1415>D1414,D1414+B$2)))","v":0},{"$f":"IF(AND((D1415-D1414>0),(D1415<=C$2)),\"Controlla operazione\",0)","v":{"$error":"#DIV/0!"}}]
[null,null,{"$f":"IF(B1416>0,C1415+B1416,)","v":0},0,{"$error":"#DIV/0!"}]
[null,null,0,0,{"$error":"#DIV/0!"}]
[null,null,0,0,{"$error":"#DIV/0!"}]
[null,null,0,0,{"$error":"#DIV/0!"}]
[null,null,0,0,{"$error":"#DIV/0!"}]
[null,null,0,0,{"$error":"#DIV/0!"}]
[null,null,0,0,{"$error":"#DIV/0!"}]
[null,null,0,0,{"$error":"#DIV/0!"}]
[null,null,0,0,{"$error":"#DIV/0!"}]
[null,null,0,0,{"$error":"#DIV/0!"}]
[null,null,0,0,{"$error":"#DIV/0!"}]
[null,null,0,0,{"$error":"#DIV/0!"}]
[null,null,0,0,{"$error":"#DIV/0!"}]
[null,null,0,0,{"$error":"#DIV/0!"}]
[null,null,0,0,{"$error":"#DIV/0!"}]
[null,null,0,0,{"$error":"#DIV/0!"}]
[null,null,0,0,{"$error":"#DIV/0!"}]
[null,null,0,0,{"$error":"#DIV/0!"}]
[null,null,0,0,{"$error":"#DIV/0!"}]
[null,null,0,0,{"$error":"#DIV/0!"}]
[null,null,0,0,{"$error":"#DIV/0!"}]
[null,null,0,0,{"$error":"#DIV/0!"}]
[null,null,0,0,{"$error":"#DIV/0!"}]
[null,null,0,0,{"$error":"#DIV/0!"}]
[null,null,0,0,{"$error":"#DIV/0!"}]
[null,null,0,0,{"$error":"#DIV/0!"}]
[null,null,0,0,{"$error":"#DIV/0!"}]
[null,null,0,0,{"$error":"#DIV/0!"}]
[null,null,0,0,{"$error":"#DIV/0!"}]
[null,null,0,0,{"$error":"#DIV/0!"}]
[null,null,0,0,{"$error":"#DIV/0!"}]
[null,null,0,0,{"$error":"#DIV/0!"}]
[null,null,0,0,{"$error":"#DIV/0!"}]
[null,null,0,0,{"$error":"#DIV/0!"}]
[null,null,0,0,{"$error":"#DIV/0!"}]
[null,null,0,0,{"$error":"#DIV/0!"}]
[null,null,0,0,{"$error":"#DIV/0!"}]
[null,null,0,0,{"$error":"#DIV/0!"}]
[null,null,0,0,{"$error":"#DIV/0!"}]
[null,null,0,0,{"$error":"#DIV/0!"}]
[null,null,0,0,{"$error":"#DIV/0!"}]
[null,null,0,0,{"$error":"#DIV/0!"}]
[null,null,0,0,{"$error":"#DIV/0!"}]
[null,null,0,0,{"$error":"#DIV/0!"}]
[null,null,0,0,{"$error":"#DIV/0!"}]
[null,null,0,0,{"$error":"#DIV/0!"}]
[null,null,0,0,{"$error":"#DIV/0!"}]
[null,null,0,0,{"$error":"#DIV/0!"}]
[null,null,0,0,{"$error":"#DIV/0!"}]
[null,null,0,0,{"$error":"#DIV/0!"}]
[null,null,0,0,{"$error":"#DIV/0!"}]
[null,null,0,0,{"$error":"#DIV/0!"}]
[null,null,0,0,{"$error":"#DIV/0!"}]
[null,null,0,0,{"$error":"#DIV/0!"}]
[null,null,0,0,{"$error":"#DIV/0!"}]
[null,null,0,0,{"$error":"#DIV/0!"}]
[null,null,0,0,{"$error":"#DIV/0!"}]
[null,null,0,0,{"$error":"#DIV/0!"}]
[null,null,0,0,{"$error":"#DIV/0!"}]
[null,null,0,0,{"$error":"#DIV/0!"}]
[null,null,0,0,{"$error":"#DIV/0!"}]
[null,null,0,0,{"$error":"#DIV/0!"}]
[null,null,0,0,{"$error":"#DIV/0!"}]
[null,null,0,{"$f":"IF(C1479=0,0,IF(C1479<=D1478,D1478,IF(C1479>D1478,D1478+B$2)))","v":0},{"$f":"IF(AND((D1479-D1478>0),(D1479<=C$2)),\"Controlla operazione\",0)","v":{"$error":"#DIV/0!"}}]
[null,null,{"$f":"IF(B1480>0,C1479+B1480,)","v":0},0,{"$error":"#DIV/0!"}]
[null,null,0,0,{"$error":"#DIV/0!"}]
[null,null,0,0,{"$error":"#DIV/0!"}]
[null,null,0,0,{"$error":"#DIV/0!"}]
[null,null,0,0,{"$error":"#DIV/0!"}]
[null,null,0,0,{"$error":"#DIV/0!"}]
[null,null,0,0,{"$error":"#DIV/0!"}]
[null,null,0,0,{"$error":"#DIV/0!"}]
[null,null,0,0,{"$error":"#DIV/0!"}]
[null,null,0,0,{"$error":"#DIV/0!"}]
[null,null,0,0,{"$error":"#DIV/0!"}]
[null,null,0,0,{"$error":"#DIV/0!"}]
[null,null,0,0,{"$error":"#DIV/0!"}]
[null,null,0,0,{"$error":"#DIV/0!"}]
[null,null,0,0,{"$error":"#DIV/0!"}]
[null,null,0,0,{"$error":"#DIV/0!"}]
[null,null,0,0,{"$error":"#DIV/0!"}]
[null,null,0,0,{"$error":"#DIV/0!"}]
[null,null,0,0,{"$error":"#DIV/0!"}]
[null,null,0,0,{"$error":"#DIV/0!"}]
[null,null,0,0,{"$error":"#DIV/0!"}]
[null,null,0,0,{"$error":"#DIV/0!"}]
[null,null,0,0,{"$error":"#DIV/0!"}]
[null,null,0,0,{"$error":"#DIV/0!"}]
[null,null,0,0,{"$error":"#DIV/0!"}]
[null,null,0,0,{"$error":"#DIV/0!"}]
[null,null,0,0,{"$error":"#DIV/0!"}]
[null,null,0,0,{"$error":"#DIV/0!"}]
[null,null,0,0,{"$error":"#DIV/0!"}]
[null,null,0,0,{"$error":"#DIV/0!"}]
[null,null,0,0,{"$error":"#DIV/0!"}]
[null,null,0,0,{"$error":"#DIV/0!"}]
[null,null,0,0,{"$error":"#DIV/0!"}]
[null,null,0,0,{"$error":"#DIV/0!"}]
[null,null,0,0,{"$error":"#DIV/0!"}]
[null,null,0,0,{"$error":"#DIV/0!"}]
[null,null,0,0,{"$error":"#DIV/0!"}]
[null,null,0,0,{"$error":"#DIV/0!"}]
[null,null,0,0,{"$error":"#DIV/0!"}]
[null,null,0,0,{"$error":"#DIV/0!"}]
[null,null,0,0,{"$error":"#DIV/0!"}]
[null,null,0,0,{"$error":"#DIV/0!"}]
[null,null,0,0,{"$error":"#DIV/0!"}]
[null,null,0,0,{"$error":"#DIV/0!"}]
[null,null,0,0,{"$error":"#DIV/0!"}]
[null,null,0,0,{"$error":"#DIV/0!"}]
[null,null,0,0,{"$error":"#DIV/0!"}]
[null,null,0,0,{"$error":"#DIV/0!"}]
[null,null,0,0,{"$error":"#DIV/0!"}]
[null,null,0,0,{"$error":"#DIV/0!"}]
[null,null,0,0,{"$error":"#DIV/0!"}]
[null,null,0,0,{"$error":"#DIV/0!"}]
[null,null,0,0,{"$error":"#DIV/0!"}]
[null,null,0,0,{"$error":"#DIV/0!"}]
[null,null,0,0,{"$error":"#DIV/0!"}]
[null,null,0,0,{"$error":"#DIV/0!"}]
[null,null,0,0,{"$error":"#DIV/0!"}]
[null,null,0,0,{"$error":"#DIV/0!"}]
[null,null,0,0,{"$error":"#DIV/0!"}]
[null,null,0,0,{"$error":"#DIV/0!"}]
[null,null,0,0,{"$error":"#DIV/0!"}]
[null,null,0,0,{"$error":"#DIV/0!"}]
[null,null,0,0,{"$error":"#DIV/0!"}]
[null,null,0,{"$f":"IF(C1543=0,0,IF(C1543<=D1542,D1542,IF(C1543>D1542,D1542+B$2)))","v":0},{"$f":"IF(AND((D1543-D1542>0),(D1543<=C$2)),\"Controlla operazione\",0)","v":{"$error":"#DIV/0!"}}]
[null,null,{"$f":"IF(B1544>0,C1543+B1544,)","v":0},0,{"$error":"#DIV/0!"}]
[null,null,0,0,{"$error":"#DIV/0!"}]
[null,null,0,0,{"$error":"#DIV/0!"}]
[null,null,0,0,{"$error":"#DIV/0!"}]
[null,null,0,0,{"$error":"#DIV/0!"}]
[null,null,0,0,{"$error":"#DIV/0!"}]
[null,null,0,0,{"$error":"#DIV/0!"}]
[null,null,0,0,{"$error":"#DIV/0!"}]
[null,null,0,0,{"$error":"#DIV/0!"}]
[null,null,0,0,{"$error":"#DIV/0!"}]
[null,null,0,0,{"$error":"#DIV/0!"}]
[null,null,0,0,{"$error":"#DIV/0!"}]
[null,null,0,0,{"$error":"#DIV/0!"}]
[null,null,0,0,{"$error":"#DIV/0!"}]
[null,null,0,0,{"$error":"#DIV/0!"}]
[null,null,0,0,{"$error":"#DIV/0!"}]
[null,null,0,0,{"$error":"#DIV/0!"}]
[null,null,0,0,{"$error":"#DIV/0!"}]
[null,null,0,0,{"$error":"#DIV/0!"}]
[null,null,0,0,{"$error":"#DIV/0!"}]
[null,null,0,0,{"$error":"#DIV/0!"}]
[null,null,0,0,{"$error":"#DIV/0!"}]
[null,null,0,0,{"$error":"#DIV/0!"}]
[null,null,0,0,{"$error":"#DIV/0!"}]
[null,null,0,0,{"$error":"#DIV/0!"}]
[null,null,0,0,{"$error":"#DIV/0!"}]
[null,null,0,0,{"$error":"#DIV/0!"}]
[null,null,0,0,{"$error":"#DIV/0!"}]
[null,null,0,0,{"$error":"#DIV/0!"}]
[null,null,0,0,{"$error":"#DIV/0!"}]
[null,null,0,0,{"$error":"#DIV/0!"}]
[null,null,0,0,{"$error":"#DIV/0!"}]
[null,null,0,0,{"$error":"#DIV/0!"}]
[null,null,0,0,{"$error":"#DIV/0!"}]
[null,null,0,0,{"$error":"#DIV/0!"}]
[null,null,0,0,{"$error":"#DIV/0!"}]
[null,null,0,0,{"$error":"#DIV/0!"}]
[null,null,0,0,{"$error":"#DIV/0!"}]
[null,null,0,0,{"$error":"#DIV/0!"}]
[null,null,0,0,{"$error":"#DIV/0!"}]
[null,null,0,0,{"$error":"#DIV/0!"}]
[null,null,0,0,{"$error":"#DIV/0!"}]
[null,null,0,0,{"$error":"#DIV/0!"}]
[null,null,0,0,{"$error":"#DIV/0!"}]
[null,null,0,0,{"$error":"#DIV/0!"}]
[null,null,0,0,{"$error":"#DIV/0!"}]
[null,null,0,0,{"$error":"#DIV/0!"}]
[null,null,0,0,{"$error":"#DIV/0!"}]
[null,null,0,0,{"$error":"#DIV/0!"}]
[null,null,0,0,{"$error":"#DIV/0!"}]
[null,null,0,0,{"$error":"#DIV/0!"}]
[null,null,0,0,{"$error":"#DIV/0!"}]
[null,null,0,0,{"$error":"#DIV/0!"}]
[null,null,0,0,{"$error":"#DIV/0!"}]
[null,null,0,0,{"$error":"#DIV/0!"}]
[null,null,0,0,{"$error":"#DIV/0!"}]
[null,null,0,0,{"$error":"#DIV/0!"}]
[null,null,0,0,{"$error":"#DIV/0!"}]
[null,null,0,0,{"$error":"#DIV/0!"}]
[null,null,0,0,{"$error":"#DIV/0!"}]
[null,null,0,0,{"$error":"#DIV/0!"}]
[null,null,0,0,{"$error":"#DIV/0!"}]
[null,null,0,0,{"$error":"#DIV/0!"}]
[null,null,0,{"$f":"IF(C1607=0,0,IF(C1607<=D1606,D1606,IF(C1607>D1606,D1606+B$2)))","v":0},{"$f":"IF(AND((D1607-D1606>0),(D1607<=C$2)),\"Controlla operazione\",0)","v":{"$error":"#DIV/0!"}}]
[null,null,{"$f":"IF(B1608>0,C1607+B1608,)","v":0},0,{"$error":"#DIV/0!"}]
[null,null,0,0,{"$error":"#DIV/0!"}]
[null,null,0,0,{"$error":"#DIV/0!"}]
[null,null,0,0,{"$error":"#DIV/0!"}]
[null,null,0,0,{"$error":"#DIV/0!"}]
[null,null,0,0,{"$error":"#DIV/0!"}]
[null,null,0,0,{"$error":"#DIV/0!"}]
[null,null,0,0,{"$error":"#DIV/0!"}]
[null,null,0,0,{"$error":"#DIV/0!"}]
[null,null,0,0,{"$error":"#DIV/0!"}]
[null,null,0,0,{"$error":"#DIV/0!"}]
[null,null,0,0,{"$error":"#DIV/0!"}]
[null,null,0,0,{"$error":"#DIV/0!"}]
[null,null,0,0,{"$error":"#DIV/0!"}]
[null,null,0,0,{"$error":"#DIV/0!"}]
[null,null,0,0,{"$error":"#DIV/0!"}]
[null,null,0,0,{"$error":"#DIV/0!"}]
[null,null,0,0,{"$error":"#DIV/0!"}]
[null,null,0,0,{"$error":"#DIV/0!"}]
[null,null,0,0,{"$error":"#DIV/0!"}]
[null,null,0,0,{"$error":"#DIV/0!"}]
[null,null,0,0,{"$error":"#DIV/0!"}]
[null,null,0,0,{"$error":"#DIV/0!"}]
[null,null,0,0,{"$error":"#DIV/0!"}]
[null,null,0,0,{"$error":"#DIV/0!"}]
[null,null,0,0,{"$error":"#DIV/0!"}]
[null,null,0,0,{"$error":"#DIV/0!"}]
[null,null,0,0,{"$error":"#DIV/0!"}]
[null,null,0,0,{"$error":"#DIV/0!"}]
[null,null,0,0,{"$error":"#DIV/0!"}]
[null,null,0,0,{"$error":"#DIV/0!"}]
[null,null,0,0,{"$error":"#DIV/0!"}]
[null,null,0,0,{"$error":"#DIV/0!"}]
[null,null,0,0,{"$error":"#DIV/0!"}]
[null,null,0,0,{"$error":"#DIV/0!"}]
[null,null,0,0,{"$error":"#DIV/0!"}]
[null,null,0,0,{"$error":"#DIV/0!"}]
[null,null,0,0,{"$error":"#DIV/0!"}]
[null,null,0,0,{"$error":"#DIV/0!"}]
[null,null,0,0,{"$error":"#DIV/0!"}]
[null,null,0,0,{"$error":"#DIV/0!"}]
[null,null,0,0,{"$error":"#DIV/0!"}]
[null,null,0,0,{"$error":"#DIV/0!"}]
[null,null,0,0,{"$error":"#DIV/0!"}]
[null,null,0,0,{"$error":"#DIV/0!"}]
[null,null,0,0,{"$error":"#DIV/0!"}]
[null,null,0,0,{"$error":"#DIV/0!"}]
[null,null,0,0,{"$error":"#DIV/0!"}]
[null,null,0,0,{"$error":"#DIV/0!"}]
[null,null,0,0,{"$error":"#DIV/0!"}]
[null,null,0,0,{"$error":"#DIV/0!"}]
[null,null,0,0,{"$error":"#DIV/0!"}]
[null,null,0,0,{"$error":"#DIV/0!"}]
[null,null,0,0,{"$error":"#DIV/0!"}]
[null,null,0,0,{"$error":"#DIV/0!"}]
[null,null,0,0,{"$error":"#DIV/0!"}]
[null,null,0,0,{"$error":"#DIV/0!"}]
[null,null,0,0,{"$error":"#DIV/0!"}]
[null,null,0,0,{"$error":"#DIV/0!"}]
[null,null,0,0,{"$error":"#DIV/0!"}]
[null,null,0,0,{"$error":"#DIV/0!"}]
[null,null,0,0,{"$error":"#DIV/0!"}]
[null,null,0,0,{"$error":"#DIV/0!"}]
[null,null,0,{"$f":"IF(C1671=0,0,IF(C1671<=D1670,D1670,IF(C1671>D1670,D1670+B$2)))","v":0},{"$f":"IF(AND((D1671-D1670>0),(D1671<=C$2)),\"Controlla operazione\",0)","v":{"$error":"#DIV/0!"}}]
[null,null,{"$f":"IF(B1672>0,C1671+B1672,)","v":0},0,{"$error":"#DIV/0!"}]
[null,null,0,0,{"$error":"#DIV/0!"}]
[null,null,0,0,{"$error":"#DIV/0!"}]
[null,null,0,0,{"$error":"#DIV/0!"}]
[null,null,0,0,{"$error":"#DIV/0!"}]
[null,null,0,0,{"$error":"#DIV/0!"}]
[null,null,0,0,{"$error":"#DIV/0!"}]
[null,null,0,0,{"$error":"#DIV/0!"}]
[null,null,0,0,{"$error":"#DIV/0!"}]
[null,null,0,0,{"$error":"#DIV/0!"}]
[null,null,0,0,{"$error":"#DIV/0!"}]
[null,null,0,0,{"$error":"#DIV/0!"}]
[null,null,0,0,{"$error":"#DIV/0!"}]
[null,null,0,0,{"$error":"#DIV/0!"}]
[null,null,0,0,{"$error":"#DIV/0!"}]
[null,null,0,0,{"$error":"#DIV/0!"}]
[null,null,0,0,{"$error":"#DIV/0!"}]
[null,null,0,0,{"$error":"#DIV/0!"}]
[null,null,0,0,{"$error":"#DIV/0!"}]
[null,null,0,0,{"$error":"#DIV/0!"}]
[null,null,0,0,{"$error":"#DIV/0!"}]
[null,null,0,0,{"$error":"#DIV/0!"}]
[null,null,0,0,{"$error":"#DIV/0!"}]
[null,null,0,0,{"$error":"#DIV/0!"}]
[null,null,0,0,{"$error":"#DIV/0!"}]
[null,null,0,0,{"$error":"#DIV/0!"}]
[null,null,0,0,{"$error":"#DIV/0!"}]
[null,null,0,0,{"$error":"#DIV/0!"}]
[null,null,0,0,{"$error":"#DIV/0!"}]
[null,null,0,0,{"$error":"#DIV/0!"}]
[null,null,0,0,{"$error":"#DIV/0!"}]
[null,null,0,0,{"$error":"#DIV/0!"}]
[null,null,0,0,{"$error":"#DIV/0!"}]
[null,null,0,0,{"$error":"#DIV/0!"}]
[null,null,0,0,{"$error":"#DIV/0!"}]
[null,null,0,0,{"$error":"#DIV/0!"}]
[null,null,0,0,{"$error":"#DIV/0!"}]
[null,null,0,0,{"$error":"#DIV/0!"}]
[null,null,0,0,{"$error":"#DIV/0!"}]
[null,null,0,0,{"$error":"#DIV/0!"}]
[null,null,0,0,{"$error":"#DIV/0!"}]
[null,null,0,0,{"$error":"#DIV/0!"}]
[null,null,0,0,{"$error":"#DIV/0!"}]
[null,null,0,0,{"$error":"#DIV/0!"}]
[null,null,0,0,{"$error":"#DIV/0!"}]
[null,null,0,0,{"$error":"#DIV/0!"}]
[null,null,0,0,{"$error":"#DIV/0!"}]
[null,null,0,0,{"$error":"#DIV/0!"}]
[null,null,0,0,{"$error":"#DIV/0!"}]
[null,null,0,0,{"$error":"#DIV/0!"}]
[null,null,0,0,{"$error":"#DIV/0!"}]
[null,null,0,0,{"$error":"#DIV/0!"}]
[null,null,0,0,{"$error":"#DIV/0!"}]
[null,null,0,0,{"$error":"#DIV/0!"}]
[null,null,0,0,{"$error":"#DIV/0!"}]
[null,null,0,0,{"$error":"#DIV/0!"}]
[null,null,0,0,{"$error":"#DIV/0!"}]
[null,null,0,0,{"$error":"#DIV/0!"}]
[null,null,0,0,{"$error":"#DIV/0!"}]
[null,null,0,0,{"$error":"#DIV/0!"}]
[null,null,0,0,{"$error":"#DIV/0!"}]
[null,null,0,0,{"$error":"#DIV/0!"}]
[null,null,0,0,{"$error":"#DIV/0!"}]
[null,null,0,{"$f":"IF(C1735=0,0,IF(C1735<=D1734,D1734,IF(C1735>D1734,D1734+B$2)))","v":0},{"$f":"IF(AND((D1735-D1734>0),(D1735<=C$2)),\"Controlla operazione\",0)","v":{"$error":"#DIV/0!"}}]
[null,null,{"$f":"IF(B1736>0,C1735+B1736,)","v":0},0,{"$error":"#DIV/0!"}]
[null,null,0,0,{"$error":"#DIV/0!"}]
[null,null,0,0,{"$error":"#DIV/0!"}]
[null,null,0,0,{"$error":"#DIV/0!"}]
[null,null,0,0,{"$error":"#DIV/0!"}]
[null,null,0,0,{"$error":"#DIV/0!"}]
[null,null,0,0,{"$error":"#DIV/0!"}]
[null,null,0,0,{"$error":"#DIV/0!"}]
[null,null,0,0,{"$error":"#DIV/0!"}]
[null,null,0,0,{"$error":"#DIV/0!"}]
[null,null,0,0,{"$error":"#DIV/0!"}]
[null,null,0,0,{"$error":"#DIV/0!"}]
[null,null,0,0,{"$error":"#DIV/0!"}]
[null,null,0,0,{"$error":"#DIV/0!"}]
[null,null,0,0,{"$error":"#DIV/0!"}]
[null,null,0,0,{"$error":"#DIV/0!"}]
[null,null,0,0,{"$error":"#DIV/0!"}]
[null,null,0,0,{"$error":"#DIV/0!"}]
[null,null,0,0,{"$error":"#DIV/0!"}]
[null,null,0,0,{"$error":"#DIV/0!"}]
[null,null,0,0,{"$error":"#DIV/0!"}]
[null,null,0,0,{"$error":"#DIV/0!"}]
[null,null,0,0,{"$error":"#DIV/0!"}]
[null,null,0,0,{"$error":"#DIV/0!"}]
[null,null,0,0,{"$error":"#DIV/0!"}]
[null,null,0,0,{"$error":"#DIV/0!"}]
[null,null,0,0,{"$error":"#DIV/0!"}]
[null,null,0,0,{"$error":"#DIV/0!"}]
[null,null,0,0,{"$error":"#DIV/0!"}]
[null,null,0,0,{"$error":"#DIV/0!"}]
[null,null,0,0,{"$error":"#DIV/0!"}]
[null,null,0,0,{"$error":"#DIV/0!"}]
[null,null,0,0,{"$error":"#DIV/0!"}]
[null,null,0,0,{"$error":"#DIV/0!"}]
[null,null,0,0,{"$error":"#DIV/0!"}]
[null,null,0,0,{"$error":"#DIV/0!"}]
[null,null,0,0,{"$error":"#DIV/0!"}]
[null,null,0,0,{"$error":"#DIV/0!"}]
[null,null,0,0,{"$error":"#DIV/0!"}]
[null,null,0,0,{"$error":"#DIV/0!"}]
[null,null,0,0,{"$error":"#DIV/0!"}]
[null,null,0,0,{"$error":"#DIV/0!"}]
[null,null,0,0,{"$error":"#DIV/0!"}]
[null,null,0,0,{"$error":"#DIV/0!"}]
[null,null,0,0,{"$error":"#DIV/0!"}]
[null,null,0,0,{"$error":"#DIV/0!"}]
[null,null,0,0,{"$error":"#DIV/0!"}]
[null,null,0,0,{"$error":"#DIV/0!"}]
[null,null,0,0,{"$error":"#DIV/0!"}]
[null,null,0,0,{"$error":"#DIV/0!"}]
[null,null,0,0,{"$error":"#DIV/0!"}]
[null,null,0,0,{"$error":"#DIV/0!"}]
[null,null,0,0,{"$error":"#DIV/0!"}]
[null,null,0,0,{"$error":"#DIV/0!"}]
[null,null,0,0,{"$error":"#DIV/0!"}]
[null,null,0,0,{"$error":"#DIV/0!"}]
[null,null,0,0,{"$error":"#DIV/0!"}]
[null,null,0,0,{"$error":"#DIV/0!"}]
[null,null,0,0,{"$error":"#DIV/0!"}]
[null,null,0,0,{"$error":"#DIV/0!"}]
[null,null,0,0,{"$error":"#DIV/0!"}]
[null,null,0,0,{"$error":"#DIV/0!"}]
[null,null,0,0,{"$error":"#DIV/0!"}]
[null,null,0,{"$f":"IF(C1799=0,0,IF(C1799<=D1798,D1798,IF(C1799>D1798,D1798+B$2)))","v":0},{"$f":"IF(AND((D1799-D1798>0),(D1799<=C$2)),\"Controlla operazione\",0)","v":{"$error":"#DIV/0!"}}]
[null,null,{"$f":"IF(B1800>0,C1799+B1800,)","v":0},0,{"$error":"#DIV/0!"}]
[null,null,0,0,{"$error":"#DIV/0!"}]
[null,null,0,0,{"$error":"#DIV/0!"}]
[null,null,0,0,{"$error":"#DIV/0!"}]
[null,null,0,0,{"$error":"#DIV/0!"}]
[null,null,0,0,{"$error":"#DIV/0!"}]
[null,null,0,0,{"$error":"#DIV/0!"}]
[null,null,0,0,{"$error":"#DIV/0!"}]
[null,null,0,0,{"$error":"#DIV/0!"}]
[null,null,0,0,{"$error":"#DIV/0!"}]
[null,null,0,0,{"$error":"#DIV/0!"}]
[null,null,0,0,{"$error":"#DIV/0!"}]
[null,null,0,0,{"$error":"#DIV/0!"}]
[null,null,0,0,{"$error":"#DIV/0!"}]
[null,null,0,0,{"$error":"#DIV/0!"}]
[null,null,0,0,{"$error":"#DIV/0!"}]
[null,null,0,0,{"$error":"#DIV/0!"}]
[null,null,0,0,{"$error":"#DIV/0!"}]
[null,null,0,0,{"$error":"#DIV/0!"}]
[null,null,0,0,{"$error":"#DIV/0!"}]
[null,null,0,0,{"$error":"#DIV/0!"}]
[null,null,0,0,{"$error":"#DIV/0!"}]
[null,null,0,0,{"$error":"#DIV/0!"}]
[null,null,0,0,{"$error":"#DIV/0!"}]
[null,null,0,0,{"$error":"#DIV/0!"}]
[null,null,0,0,{"$error":"#DIV/0!"}]
[null,null,0,0,{"$error":"#DIV/0!"}]
[null,null,0,0,{"$error":"#DIV/0!"}]
[null,null,0,0,{"$error":"#DIV/0!"}]
[null,null,0,0,{"$error":"#DIV/0!"}]
[null,null,0,0,{"$error":"#DIV/0!"}]
[null,null,0,0,{"$error":"#DIV/0!"}]
[null,null,0,0,{"$error":"#DIV/0!"}]
[null,null,0,0,{"$error":"#DIV/0!"}]
[null,null,0,0,{"$error":"#DIV/0!"}]
[null,null,0,0,{"$error":"#DIV/0!"}]
[null,null,0,0,{"$error":"#DIV/0!"}]
[null,null,0,0,{"$error":"#DIV/0!"}]
[null,null,0,0,{"$error":"#DIV/0!"}]
[null,null,0,0,{"$error":"#DIV/0!"}]
[null,null,0,0,{"$error":"#DIV/0!"}]
[null,null,0,0,{"$error":"#DIV/0!"}]
[null,null,0,0,{"$error":"#DIV/0!"}]
[null,null,0,0,{"$error":"#DIV/0!"}]
[null,null,0,0,{"$error":"#DIV/0!"}]
[null,null,0,0,{"$error":"#DIV/0!"}]
[null,null,0,0,{"$error":"#DIV/0!"}]
[null,null,0,0,{"$error":"#DIV/0!"}]
[null,null,0,0,{"$error":"#DIV/0!"}]
[null,null,0,0,{"$error":"#DIV/0!"}]
[null,null,0,0,{"$error":"#DIV/0!"}]
[null,null,0,0,{"$error":"#DIV/0!"}]
[null,null,0,0,{"$error":"#DIV/0!"}]
[null,null,0,0,{"$error":"#DIV/0!"}]
[null,null,0,0,{"$error":"#DIV/0!"}]
[null,null,0,0,{"$error":"#DIV/0!"}]
[null,null,0,0,{"$error":"#DIV/0!"}]
[null,null,0,0,{"$error":"#DIV/0!"}]
[null,null,0,0,{"$error":"#DIV/0!"}]
[null,null,0,0,{"$error":"#DIV/0!"}]
[null,null,0,0,{"$error":"#DIV/0!"}]
[null,null,0,0,{"$error":"#DIV/0!"}]
[null,null,0,0,{"$error":"#DIV/0!"}]
[null,null,0,{"$f":"IF(C1863=0,0,IF(C1863<=D1862,D1862,IF(C1863>D1862,D1862+B$2)))","v":0},{"$f":"IF(AND((D1863-D1862>0),(D1863<=C$2)),\"Controlla operazione\",0)","v":{"$error":"#DIV/0!"}}]
[null,null,{"$f":"IF(B1864>0,C1863+B1864,)","v":0},0,{"$error":"#DIV/0!"}]
[null,null,0,0,{"$error":"#DIV/0!"}]
[null,null,0,0,{"$error":"#DIV/0!"}]
[null,null,0,0,{"$error":"#DIV/0!"}]
[null,null,0,0,{"$error":"#DIV/0!"}]
[null,null,0,0,{"$error":"#DIV/0!"}]
[null,null,0,0,{"$error":"#DIV/0!"}]
[null,null,0,0,{"$error":"#DIV/0!"}]
[null,null,0,0,{"$error":"#DIV/0!"}]
[null,null,0,0,{"$error":"#DIV/0!"}]
[null,null,0,0,{"$error":"#DIV/0!"}]
[null,null,0,0,{"$error":"#DIV/0!"}]
[null,null,0,0,{"$error":"#DIV/0!"}]
[null,null,0,0,{"$error":"#DIV/0!"}]
[null,null,0,0,{"$error":"#DIV/0!"}]
[null,null,0,0,{"$error":"#DIV/0!"}]
[null,null,0,0,{"$error":"#DIV/0!"}]
[null,null,0,0,{"$error":"#DIV/0!"}]
[null,null,0,0,{"$error":"#DIV/0!"}]
[null,null,0,0,{"$error":"#DIV/0!"}]
[null,null,0,0,{"$error":"#DIV/0!"}]
[null,null,0,0,{"$error":"#DIV/0!"}]
[null,null,0,0,{"$error":"#DIV/0!"}]
[null,null,0,0,{"$error":"#DIV/0!"}]
[null,null,0,0,{"$error":"#DIV/0!"}]
[null,null,0,0,{"$error":"#DIV/0!"}]
[null,null,0,0,{"$error":"#DIV/0!"}]
[null,null,0,0,{"$error":"#DIV/0!"}]
[null,null,0,0,{"$error":"#DIV/0!"}]
[null,null,0,0,{"$error":"#DIV/0!"}]
[null,null,0,0,{"$error":"#DIV/0!"}]
[null,null,0,0,{"$error":"#DIV/0!"}]
[null,null,0,0,{"$error":"#DIV/0!"}]
[null,null,0,0,{"$error":"#DIV/0!"}]
[null,null,0,0,{"$error":"#DIV/0!"}]
[null,null,0,0,{"$error":"#DIV/0!"}]
[null,null,0,0,{"$error":"#DIV/0!"}]
[null,null,0,0,{"$error":"#DIV/0!"}]
[null,null,0,0,{"$error":"#DIV/0!"}]
[null,null,0,0,{"$error":"#DIV/0!"}]
[null,null,0,0,{"$error":"#DIV/0!"}]
[null,null,0,0,{"$error":"#DIV/0!"}]
[null,null,0,0,{"$error":"#DIV/0!"}]
[null,null,0,0,{"$error":"#DIV/0!"}]
[null,null,0,0,{"$error":"#DIV/0!"}]
[null,null,0,0,{"$error":"#DIV/0!"}]
[null,null,0,0,{"$error":"#DIV/0!"}]
[null,null,0,0,{"$error":"#DIV/0!"}]
[null,null,0,0,{"$error":"#DIV/0!"}]
[null,null,0,0,{"$error":"#DIV/0!"}]
[null,null,0,0,{"$error":"#DIV/0!"}]
[null,null,0,0,{"$error":"#DIV/0!"}]
[null,null,0,0,{"$error":"#DIV/0!"}]
[null,null,0,0,{"$error":"#DIV/0!"}]
[null,null,0,0,{"$error":"#DIV/0!"}]
[null,null,0,0,{"$error":"#DIV/0!"}]
[null,null,0,0,{"$error":"#DIV/0!"}]
[null,null,0,0,{"$error":"#DIV/0!"}]
[null,null,0,0,{"$error":"#DIV/0!"}]
[null,null,0,0,{"$error":"#DIV/0!"}]
[null,null,0,0,{"$error":"#DIV/0!"}]
[null,null,0,0,{"$error":"#DIV/0!"}]
[null,null,0,0,{"$error":"#DIV/0!"}]
[null,null,0,{"$f":"IF(C1927=0,0,IF(C1927<=D1926,D1926,IF(C1927>D1926,D1926+B$2)))","v":0},{"$f":"IF(AND((D1927-D1926>0),(D1927<=C$2)),\"Controlla operazione\",0)","v":{"$error":"#DIV/0!"}}]
[null,null,{"$f":"IF(B1928>0,C1927+B1928,)","v":0},0,{"$error":"#DIV/0!"}]
[null,null,0,0,{"$error":"#DIV/0!"}]
[null,null,0,0,{"$error":"#DIV/0!"}]
[null,null,0,0,{"$error":"#DIV/0!"}]
[null,null,0,0,{"$error":"#DIV/0!"}]
[null,null,0,0,{"$error":"#DIV/0!"}]
[null,null,0,0,{"$error":"#DIV/0!"}]
[null,null,0,0,{"$error":"#DIV/0!"}]
[null,null,0,0,{"$error":"#DIV/0!"}]
[null,null,0,0,{"$error":"#DIV/0!"}]
[null,null,0,0,{"$error":"#DIV/0!"}]
[null,null,0,0,{"$error":"#DIV/0!"}]
[null,null,0,0,{"$error":"#DIV/0!"}]
[null,null,0,0,{"$error":"#DIV/0!"}]
[null,null,0,0,{"$error":"#DIV/0!"}]
[null,null,0,0,{"$error":"#DIV/0!"}]
[null,null,0,0,{"$error":"#DIV/0!"}]
[null,null,0,0,{"$error":"#DIV/0!"}]
[null,null,0,0,{"$error":"#DIV/0!"}]
[null,null,0,0,{"$error":"#DIV/0!"}]
[null,null,0,0,{"$error":"#DIV/0!"}]
[null,null,0,0,{"$error":"#DIV/0!"}]
[null,null,0,0,{"$error":"#DIV/0!"}]
[null,null,0,0,{"$error":"#DIV/0!"}]
[null,null,0,0,{"$error":"#DIV/0!"}]
[null,null,0,0,{"$error":"#DIV/0!"}]
[null,null,0,0,{"$error":"#DIV/0!"}]
[null,null,0,0,{"$error":"#DIV/0!"}]
[null,null,0,0,{"$error":"#DIV/0!"}]
[null,null,0,0,{"$error":"#DIV/0!"}]
[null,null,0,0,{"$error":"#DIV/0!"}]
[null,null,0,0,{"$error":"#DIV/0!"}]
[null,null,0,0,{"$error":"#DIV/0!"}]
[null,null,0,0,{"$error":"#DIV/0!"}]
[null,null,0,0,{"$error":"#DIV/0!"}]
[null,null,0,0,{"$error":"#DIV/0!"}]
[null,null,0,0,{"$error":"#DIV/0!"}]
[null,null,0,0,{"$error":"#DIV/0!"}]
[null,null,0,0,{"$error":"#DIV/0!"}]
[null,null,0,0,{"$error":"#DIV/0!"}]
[null,null,0,0,{"$error":"#DIV/0!"}]
[null,null,0,0,{"$error":"#DIV/0!"}]
[null,null,0,0,{"$error":"#DIV/0!"}]
[null,null,0,0,{"$error":"#DIV/0!"}]
[null,null,0,0,{"$error":"#DIV/0!"}]
[null,null,0,0,{"$error":"#DIV/0!"}]
[null,null,0,0,{"$error":"#DIV/0!"}]
[null,null,0,0,{"$error":"#DIV/0!"}]
[null,null,0,0,{"$error":"#DIV/0!"}]
[null,null,0,0,{"$error":"#DIV/0!"}]
[null,null,0,0,{"$error":"#DIV/0!"}]
[null,null,0,0,{"$error":"#DIV/0!"}]
[null,null,0,0,{"$error":"#DIV/0!"}]
[null,null,0,0,{"$error":"#DIV/0!"}]
[null,null,0,0,{"$error":"#DIV/0!"}]
[null,null,0,0,{"$error":"#DIV/0!"}]
[null,null,0,0,{"$error":"#DIV/0!"}]
[null,null,0,0,{"$error":"#DIV/0!"}]
[null,null,0,0,{"$error":"#DIV/0!"}]
[null,null,0,0,{"$error":"#DIV/0!"}]
[null,null,0,0,{"$error":"#DIV/0!"}]
[null,null,0,0,{"$error":"#DIV/0!"}]
[null,null,0,0,{"$error":"#DIV/0!"}]
[null,null,0,{"$f":"IF(C1991=0,0,IF(C1991<=D1990,D1990,IF(C1991>D1990,D1990+B$2)))","v":0},{"$f":"IF(AND((D1991-D1990>0),(D1991<=C$2)),\"Controlla operazione\",0)","v":{"$error":"#DIV/0!"}}]
[null,null,{"$f":"IF(B1992>0,C1991+B1992,)","v":0},0,{"$error":"#DIV/0!"}]
[null,null,0,0,{"$error":"#DIV/0!"}]
[null,null,0,0,{"$error":"#DIV/0!"}]
[null,null,0,0,{"$error":"#DIV/0!"}]
[null,null,0,0,{"$error":"#DIV/0!"}]
[null,null,0,0,{"$error":"#DIV/0!"}]
[null,null,0,0,{"$error":"#DIV/0!"}]
[null,null,0,0,{"$error":"#DIV/0!"}]
[null,null,0,0,{"$error":"#DIV/0!"}]
[null,null,0,0,{"$error":"#DIV/0!"}]
[null,null,0,0,{"$error":"#DIV/0!"}]
[null,null,0,0,{"$error":"#DIV/0!"}]
[null,null,0,0,{"$error":"#DIV/0!"}]
[null,null,0,0,{"$error":"#DIV/0!"}]
[null,null,0,0,{"$error":"#DIV/0!"}]
[null,null,0,0,{"$error":"#DIV/0!"}]
[null,null,0,0,{"$error":"#DIV/0!"}]
[null,null,0,0,{"$error":"#DIV/0!"}]
[null,null,0,0,{"$error":"#DIV/0!"}]
[null,null,0,0,{"$error":"#DIV/0!"}]
[null,null,0,0,{"$error":"#DIV/0!"}]
[null,null,0,0,{"$error":"#DIV/0!"}]
[null,null,0,0,{"$error":"#DIV/0!"}]
[null,null,0,0,{"$error":"#DIV/0!"}]
[null,null,0,0,{"$error":"#DIV/0!"}]
[null,null,0,0,{"$error":"#DIV/0!"}]
[null,null,0,0,{"$error":"#DIV/0!"}]
[null,null,0,0,{"$error":"#DIV/0!"}]
[null,null,0,0,{"$error":"#DIV/0!"}]
[null,null,0,0,{"$error":"#DIV/0!"}]
[null,null,0,0,{"$error":"#DIV/0!"}]
[null,null,0,0,{"$error":"#DIV/0!"}]
[null,null,0,0,{"$error":"#DIV/0!"}]
[null,null,0,0,{"$error":"#DIV/0!"}]
[null,null,0,0,{"$error":"#DIV/0!"}]
[null,null,0,0,{"$error":"#DIV/0!"}]
[null,null,0,0,{"$error":"#DIV/0!"}]
[null,null,0,0,{"$error":"#DIV/0!"}]
[null,null,0,0,{"$error":"#DIV/0!"}]
[null,null,0,0,{"$error":"#DIV/0!"}]
[null,null,0,0,{"$error":"#DIV/0!"}]
[null,null,0,0,{"$error":"#DIV/0!"}]
[null,null,0,0,{"$error":"#DIV/0!"}]
[null,null,0,0,{"$error":"#DIV/0!"}]
[null,null,0,0,{"$error":"#DIV/0!"}]
[null,null,0,0,{"$error":"#DIV/0!"}]
[null,null,0,0,{"$error":"#DIV/0!"}]
[null,null,0,0,{"$error":"#DIV/0!"}]
[null,null,0,0,{"$error":"#DIV/0!"}]
[null,null,0,0,{"$error":"#DIV/0!"}]
[null,null,0,0,{"$error":"#DIV/0!"}]
[null,null,0,0,{"$error":"#DIV/0!"}]
[null,null,0,0,{"$error":"#DIV/0!"}]
[null,null,0,0,{"$error":"#DIV/0!"}]
[null,null,0,0,{"$error":"#DIV/0!"}]
[null,null,0,0,{"$error":"#DIV/0!"}]
[null,null,0,0,{"$error":"#DIV/0!"}]
[null,null,0,0,{"$error":"#DIV/0!"}]
[null,null,0,0,{"$error":"#DIV/0!"}]
[null,null,0,0,{"$error":"#DIV/0!"}]
[null,null,0,0,{"$error":"#DIV/0!"}]
[null,null,0,0,{"$error":"#DIV/0!"}]
[null,null,0,0,{"$error":"#DIV/0!"}]
[null,null,0,{"$f":"IF(C2055=0,0,IF(C2055<=D2054,D2054,IF(C2055>D2054,D2054+B$2)))","v":0},{"$f":"IF(AND((D2055-D2054>0),(D2055<=C$2)),\"Controlla operazione\",0)","v":{"$error":"#DIV/0!"}}]
[null,null,{"$f":"IF(B2056>0,C2055+B2056,)","v":0},0,{"$error":"#DIV/0!"}]
[null,null,0,0,{"$error":"#DIV/0!"}]
[null,null,0,0,{"$error":"#DIV/0!"}]
[null,null,0,0,{"$error":"#DIV/0!"}]
[null,null,0,0,{"$error":"#DIV/0!"}]
[null,null,0,0,{"$error":"#DIV/0!"}]
[null,null,0,0,{"$error":"#DIV/0!"}]
[null,null,0,0,{"$error":"#DIV/0!"}]
[null,null,0,0,{"$error":"#DIV/0!"}]
[null,null,0,0,{"$error":"#DIV/0!"}]
[null,null,0,0,{"$error":"#DIV/0!"}]
[null,null,0,0,{"$error":"#DIV/0!"}]
[null,null,0,0,{"$error":"#DIV/0!"}]
[null,null,0,0,{"$error":"#DIV/0!"}]
[null,null,0,0,{"$error":"#DIV/0!"}]
[null,null,0,0,{"$error":"#DIV/0!"}]
[null,null,0,0,{"$error":"#DIV/0!"}]
[null,null,0,0,{"$error":"#DIV/0!"}]
[null,null,0,0,{"$error":"#DIV/0!"}]
[null,null,0,0,{"$error":"#DIV/0!"}]
[null,null,0,0,{"$error":"#DIV/0!"}]
[null,null,0,0,{"$error":"#DIV/0!"}]
[null,null,0,0,{"$error":"#DIV/0!"}]
[null,null,0,0,{"$error":"#DIV/0!"}]
[null,null,0,0,{"$error":"#DIV/0!"}]
[null,null,0,0,{"$error":"#DIV/0!"}]
[null,null,0,0,{"$error":"#DIV/0!"}]
[null,null,0,0,{"$error":"#DIV/0!"}]
[null,null,0,0,{"$error":"#DIV/0!"}]
[null,null,0,0,{"$error":"#DIV/0!"}]
[null,null,0,0,{"$error":"#DIV/0!"}]
[null,null,0,0,{"$error":"#DIV/0!"}]
[null,null,0,0,{"$error":"#DIV/0!"}]
[null,null,0,0,{"$error":"#DIV/0!"}]
[null,null,0,0,{"$error":"#DIV/0!"}]
[null,null,0,0,{"$error":"#DIV/0!"}]
[null,null,0,0,{"$error":"#DIV/0!"}]
[null,null,0,0,{"$error":"#DIV/0!"}]
[null,null,0,0,{"$error":"#DIV/0!"}]
[null,null,0,0,{"$error":"#DIV/0!"}]
[null,null,0,0,{"$error":"#DIV/0!"}]
[null,null,0,0,{"$error":"#DIV/0!"}]
[null,null,0,0,{"$error":"#DIV/0!"}]
[null,null,0,0,{"$error":"#DIV/0!"}]
[null,null,0,0,{"$error":"#DIV/0!"}]
[null,null,0,0,{"$error":"#DIV/0!"}]
[null,null,0,0,{"$error":"#DIV/0!"}]
[null,null,0,0,{"$error":"#DIV/0!"}]
[null,null,0,0,{"$error":"#DIV/0!"}]
[null,null,0,0,{"$error":"#DIV/0!"}]
[null,null,0,0,{"$error":"#DIV/0!"}]
[null,null,0,0,{"$error":"#DIV/0!"}]
[null,null,0,0,{"$error":"#DIV/0!"}]
[null,null,0,0,{"$error":"#DIV/0!"}]
[null,null,0,0,{"$error":"#DIV/0!"}]
[null,null,0,0,{"$error":"#DIV/0!"}]
[null,null,0,0,{"$error":"#DIV/0!"}]
[null,null,0,0,{"$error":"#DIV/0!"}]
[null,null,0,0,{"$error":"#DIV/0!"}]
[null,null,0,0,{"$error":"#DIV/0!"}]
[null,null,0,0,{"$error":"#DIV/0!"}]
[null,null,0,0,{"$error":"#DIV/0!"}]
[null,null,0,0,{"$error":"#DIV/0!"}]
[null,null,0,{"$f":"IF(C2119=0,0,IF(C2119<=D2118,D2118,IF(C2119>D2118,D2118+B$2)))","v":0},{"$f":"IF(AND((D2119-D2118>0),(D2119<=C$2)),\"Controlla operazione\",0)","v":{"$error":"#DIV/0!"}}]
[null,null,{"$f":"IF(B2120>0,C2119+B2120,)","v":0},0,{"$error":"#DIV/0!"}]
[null,null,0,0,{"$error":"#DIV/0!"}]
[null,null,0,0,{"$error":"#DIV/0!"}]
[null,null,0,0,{"$error":"#DIV/0!"}]
[null,null,0,0,{"$error":"#DIV/0!"}]
[null,null,0,0,{"$error":"#DIV/0!"}]
[null,null,0,0,{"$error":"#DIV/0!"}]
[null,null,0,0,{"$error":"#DIV/0!"}]
[null,null,0,0,{"$error":"#DIV/0!"}]
[null,null,0,0,{"$error":"#DIV/0!"}]
[null,null,0,0,{"$error":"#DIV/0!"}]
[null,null,0,0,{"$error":"#DIV/0!"}]
[null,null,0,0,{"$error":"#DIV/0!"}]
[null,null,0,0,{"$error":"#DIV/0!"}]
[null,null,0,0,{"$error":"#DIV/0!"}]
[null,null,0,0,{"$error":"#DIV/0!"}]
[null,null,0,0,{"$error":"#DIV/0!"}]
[null,null,0,0,{"$error":"#DIV/0!"}]
[null,null,0,0,{"$error":"#DIV/0!"}]
[null,null,0,0,{"$error":"#DIV/0!"}]
[null,null,0,0,{"$error":"#DIV/0!"}]
[null,null,0,0,{"$error":"#DIV/0!"}]
[null,null,0,0,{"$error":"#DIV/0!"}]
[null,null,0,0,{"$error":"#DIV/0!"}]
[null,null,0,0,{"$error":"#DIV/0!"}]
[null,null,0,0,{"$error":"#DIV/0!"}]
[null,null,0,0,{"$error":"#DIV/0!"}]
[null,null,0,0,{"$error":"#DIV/0!"}]
[null,null,0,0,{"$error":"#DIV/0!"}]
[null,null,0,0,{"$error":"#DIV/0!"}]
[null,null,0,0,{"$error":"#DIV/0!"}]
[null,null,0,0,{"$error":"#DIV/0!"}]
[null,null,0,0,{"$error":"#DIV/0!"}]
[null,null,0,0,{"$error":"#DIV/0!"}]
[null,null,0,0,{"$error":"#DIV/0!"}]
[null,null,0,0,{"$error":"#DIV/0!"}]
[null,null,0,0,{"$error":"#DIV/0!"}]
[null,null,0,0,{"$error":"#DIV/0!"}]
[null,null,0,0,{"$error":"#DIV/0!"}]
[null,null,0,0,{"$error":"#DIV/0!"}]
[null,null,0,0,{"$error":"#DIV/0!"}]
[null,null,0,0,{"$error":"#DIV/0!"}]
[null,null,0,0,{"$error":"#DIV/0!"}]
[null,null,0,0,{"$error":"#DIV/0!"}]
[null,null,0,0,{"$error":"#DIV/0!"}]
[null,null,0,0,{"$error":"#DIV/0!"}]
[null,null,0,0,{"$error":"#DIV/0!"}]
[null,null,0,0,{"$error":"#DIV/0!"}]
[null,null,0,0,{"$error":"#DIV/0!"}]
[null,null,0,0,{"$error":"#DIV/0!"}]
[null,null,0,0,{"$error":"#DIV/0!"}]
[null,null,0,0,{"$error":"#DIV/0!"}]
[null,null,0,0,{"$error":"#DIV/0!"}]
[null,null,0,0,{"$error":"#DIV/0!"}]
[null,null,0,0,{"$error":"#DIV/0!"}]
[null,null,0,0,{"$error":"#DIV/0!"}]
[null,null,0,0,{"$error":"#DIV/0!"}]
[null,null,0,0,{"$error":"#DIV/0!"}]
[null,null,0,0,{"$error":"#DIV/0!"}]
[null,null,0,0,{"$error":"#DIV/0!"}]
[null,null,0,0,{"$error":"#DIV/0!"}]
[null,null,0,0,{"$error":"#DIV/0!"}]
[null,null,0,0,{"$error":"#DIV/0!"}]
[null,null,0,{"$f":"IF(C2183=0,0,IF(C2183<=D2182,D2182,IF(C2183>D2182,D2182+B$2)))","v":0},{"$f":"IF(AND((D2183-D2182>0),(D2183<=C$2)),\"Controlla operazione\",0)","v":{"$error":"#DIV/0!"}}]
[null,null,{"$f":"IF(B2184>0,C2183+B2184,)","v":0},0,{"$error":"#DIV/0!"}]
[null,null,0,0,{"$error":"#DIV/0!"}]
[null,null,0,0,{"$error":"#DIV/0!"}]
[null,null,0,0,{"$error":"#DIV/0!"}]
[null,null,0,0,{"$error":"#DIV/0!"}]
[null,null,0,0,{"$error":"#DIV/0!"}]
[null,null,0,0,{"$error":"#DIV/0!"}]
[null,null,0,0,{"$error":"#DIV/0!"}]
[null,null,0,0,{"$error":"#DIV/0!"}]
[null,null,0,0,{"$error":"#DIV/0!"}]
[null,null,0,0,{"$error":"#DIV/0!"}]
[null,null,0,0,{"$error":"#DIV/0!"}]
[null,null,0,0,{"$error":"#DIV/0!"}]
[null,null,0,0,{"$error":"#DIV/0!"}]
[null,null,0,0,{"$error":"#DIV/0!"}]
[null,null,0,0,{"$error":"#DIV/0!"}]
[null,null,0,0,{"$error":"#DIV/0!"}]
[null,null,0,0,{"$error":"#DIV/0!"}]
[null,null,0,0,{"$error":"#DIV/0!"}]
[null,null,0,0,{"$error":"#DIV/0!"}]
[null,null,0,0,{"$error":"#DIV/0!"}]
[null,null,0,0,{"$error":"#DIV/0!"}]
[null,null,0,0,{"$error":"#DIV/0!"}]
[null,null,0,0,{"$error":"#DIV/0!"}]
[null,null,0,0,{"$error":"#DIV/0!"}]
[null,null,0,0,{"$error":"#DIV/0!"}]
[null,null,0,0,{"$error":"#DIV/0!"}]
[null,null,0,0,{"$error":"#DIV/0!"}]
[null,null,0,0,{"$error":"#DIV/0!"}]
[null,null,0,0,{"$error":"#DIV/0!"}]
[null,null,0,0,{"$error":"#DIV/0!"}]
[null,null,0,0,{"$error":"#DIV/0!"}]
[null,null,0,0,{"$error":"#DIV/0!"}]
[null,null,0,0,{"$error":"#DIV/0!"}]
[null,null,0,0,{"$error":"#DIV/0!"}]
[null,null,0,0,{"$error":"#DIV/0!"}]
[null,null,0,0,{"$error":"#DIV/0!"}]
[null,null,0,0,{"$error":"#DIV/0!"}]
[null,null,0,0,{"$error":"#DIV/0!"}]
[null,null,0,0,{"$error":"#DIV/0!"}]
[null,null,0,0,{"$error":"#DIV/0!"}]
[null,null,0,0,{"$error":"#DIV/0!"}]
[null,null,0,0,{"$error":"#DIV/0!"}]
[null,null,0,0,{"$error":"#DIV/0!"}]
[null,null,0,0,{"$error":"#DIV/0!"}]
[null,null,0,0,{"$error":"#DIV/0!"}]
[null,null,0,0,{"$error":"#DIV/0!"}]
[null,null,0,0,{"$error":"#DIV/0!"}]
[null,null,0,0,{"$error":"#DIV/0!"}]
[null,null,0,0,{"$error":"#DIV/0!"}]
[null,null,0,0,{"$error":"#DIV/0!"}]
[null,null,0,0,{"$error":"#DIV/0!"}]
[null,null,0,0,{"$error":"#DIV/0!"}]
[null,null,0,0,{"$error":"#DIV/0!"}]
[null,null,0,0,{"$error":"#DIV/0!"}]
[null,null,0,0,{"$error":"#DIV/0!"}]
[null,null,0,0,{"$error":"#DIV/0!"}]
[null,null,0,0,{"$error":"#DIV/0!"}]
[null,null,0,0,{"$error":"#DIV/0!"}]
[null,null,0,0,{"$error":"#DIV/0!"}]
[null,null,0,0,{"$error":"#DIV/0!"}]
[null,null,0,0,{"$error":"#DIV/0!"}]
[null,null,0,0,{"$error":"#DIV/0!"}]
[null,null,0,{"$f":"IF(C2247=0,0,IF(C2247<=D2246,D2246,IF(C2247>D2246,D2246+B$2)))","v":0},{"$f":"IF(AND((D2247-D2246>0),(D2247<=C$2)),\"Controlla operazione\",0)","v":{"$error":"#DIV/0!"}}]
[null,null,{"$f":"IF(B2248>0,C2247+B2248,)","v":0},0,{"$error":"#DIV/0!"}]
[null,null,0,0,{"$error":"#DIV/0!"}]
[null,null,0,0,{"$error":"#DIV/0!"}]
[null,null,0,0,{"$error":"#DIV/0!"}]
[null,null,0,0,{"$error":"#DIV/0!"}]
[null,null,0,0,{"$error":"#DIV/0!"}]
[null,null,0,0,{"$error":"#DIV/0!"}]
[null,null,0,0,{"$error":"#DIV/0!"}]
[null,null,0,0,{"$error":"#DIV/0!"}]
[null,null,0,0,{"$error":"#DIV/0!"}]
[null,null,0,0,{"$error":"#DIV/0!"}]
[null,null,0,0,{"$error":"#DIV/0!"}]
[null,null,0,0,{"$error":"#DIV/0!"}]
[null,null,0,0,{"$error":"#DIV/0!"}]
[null,null,0,0,{"$error":"#DIV/0!"}]
[null,null,0,0,{"$error":"#DIV/0!"}]
[null,null,0,0,{"$error":"#DIV/0!"}]
[null,null,0,0,{"$error":"#DIV/0!"}]
[null,null,0,0,{"$error":"#DIV/0!"}]
[null,null,0,0,{"$error":"#DIV/0!"}]
[null,null,0,0,{"$error":"#DIV/0!"}]
[null,null,0,0,{"$error":"#DIV/0!"}]
[null,null,0,0,{"$error":"#DIV/0!"}]
[null,null,0,0,{"$error":"#DIV/0!"}]
[null,null,0,0,{"$error":"#DIV/0!"}]
[null,null,0,0,{"$error":"#DIV/0!"}]
[null,null,0,0,{"$error":"#DIV/0!"}]
[null,null,0,0,{"$error":"#DIV/0!"}]
[null,null,0,0,{"$error":"#DIV/0!"}]
[null,null,0,0,{"$error":"#DIV/0!"}]
[null,null,0,0,{"$error":"#DIV/0!"}]
[null,null,0,0,{"$error":"#DIV/0!"}]
[null,null,0,0,{"$error":"#DIV/0!"}]
[null,null,0,0,{"$error":"#DIV/0!"}]
[null,null,0,0,{"$error":"#DIV/0!"}]
[null,null,0,0,{"$error":"#DIV/0!"}]
[null,null,0,0,{"$error":"#DIV/0!"}]
[null,null,0,0,{"$error":"#DIV/0!"}]
[null,null,0,0,{"$error":"#DIV/0!"}]
[null,null,0,0,{"$error":"#DIV/0!"}]
[null,null,0,0,{"$error":"#DIV/0!"}]
[null,null,0,0,{"$error":"#DIV/0!"}]
[null,null,0,0,{"$error":"#DIV/0!"}]
[null,null,0,0,{"$error":"#DIV/0!"}]
[null,null,0,0,{"$error":"#DIV/0!"}]
[null,null,0,0,{"$error":"#DIV/0!"}]
[null,null,0,0,{"$error":"#DIV/0!"}]
[null,null,0,0,{"$error":"#DIV/0!"}]
[null,null,0,0,{"$error":"#DIV/0!"}]
[null,null,0,0,{"$error":"#DIV/0!"}]
[null,null,0,0,{"$error":"#DIV/0!"}]
[null,null,0,0,{"$error":"#DIV/0!"}]
[null,null,0,0,{"$error":"#DIV/0!"}]
[null,null,0,0,{"$error":"#DIV/0!"}]
[null,null,0,0,{"$error":"#DIV/0!"}]
[null,null,0,0,{"$error":"#DIV/0!"}]
[null,null,0,0,{"$error":"#DIV/0!"}]
[null,null,0,0,{"$error":"#DIV/0!"}]
[null,null,0,0,{"$error":"#DIV/0!"}]
[null,null,0,0,{"$error":"#DIV/0!"}]
[null,null,0,0,{"$error":"#DIV/0!"}]
[null,null,0,0,{"$error":"#DIV/0!"}]
[null,null,0,0,{"$error":"#DIV/0!"}]
[null,null,0,{"$f":"IF(C2311=0,0,IF(C2311<=D2310,D2310,IF(C2311>D2310,D2310+B$2)))","v":0},{"$f":"IF(AND((D2311-D2310>0),(D2311<=C$2)),\"Controlla operazione\",0)","v":{"$error":"#DIV/0!"}}]
[null,null,{"$f":"IF(B2312>0,C2311+B2312,)","v":0},0,{"$error":"#DIV/0!"}]
[null,null,0,0,{"$error":"#DIV/0!"}]
[null,null,0,0,{"$error":"#DIV/0!"}]
[null,null,0,0,{"$error":"#DIV/0!"}]
[null,null,0,0,{"$error":"#DIV/0!"}]
[null,null,0,0,{"$error":"#DIV/0!"}]
[null,null,0,0,{"$error":"#DIV/0!"}]
[null,null,0,0,{"$error":"#DIV/0!"}]
[null,null,0,0,{"$error":"#DIV/0!"}]
[null,null,0,0,{"$error":"#DIV/0!"}]
[null,null,0,0,{"$error":"#DIV/0!"}]
[null,null,0,0,{"$error":"#DIV/0!"}]
[null,null,0,0,{"$error":"#DIV/0!"}]
[null,null,0,0,{"$error":"#DIV/0!"}]
[null,null,0,0,{"$error":"#DIV/0!"}]
[null,null,0,0,{"$error":"#DIV/0!"}]
[null,null,0,0,{"$error":"#DIV/0!"}]
[null,null,0,0,{"$error":"#DIV/0!"}]
[null,null,0,0,{"$error":"#DIV/0!"}]
[null,null,0,0,{"$error":"#DIV/0!"}]
[null,null,0,0,{"$error":"#DIV/0!"}]
[null,null,0,0,{"$error":"#DIV/0!"}]
[null,null,0,0,{"$error":"#DIV/0!"}]
[null,null,0,0,{"$error":"#DIV/0!"}]
[null,null,0,0,{"$error":"#DIV/0!"}]
[null,null,0,0,{"$error":"#DIV/0!"}]
[null,null,0,0,{"$error":"#DIV/0!"}]
[null,null,0,0,{"$error":"#DIV/0!"}]
[null,null,0,0,{"$error":"#DIV/0!"}]
[null,null,0,0,{"$error":"#DIV/0!"}]
[null,null,0,0,{"$error":"#DIV/0!"}]
[null,null,0,0,{"$error":"#DIV/0!"}]
[null,null,0,0,{"$error":"#DIV/0!"}]
[null,null,0,0,{"$error":"#DIV/0!"}]
[null,null,0,0,{"$error":"#DIV/0!"}]
[null,null,0,0,{"$error":"#DIV/0!"}]
[null,null,0,0,{"$error":"#DIV/0!"}]
[null,null,0,0,{"$error":"#DIV/0!"}]
[null,null,0,0,{"$error":"#DIV/0!"}]
[null,null,0,0,{"$error":"#DIV/0!"}]
[null,null,0,0,{"$error":"#DIV/0!"}]
[null,null,0,0,{"$error":"#DIV/0!"}]
[null,null,0,0,{"$error":"#DIV/0!"}]
[null,null,0,0,{"$error":"#DIV/0!"}]
[null,null,0,0,{"$error":"#DIV/0!"}]
[null,null,0,0,{"$error":"#DIV/0!"}]
[null,null,0,0,{"$error":"#DIV/0!"}]
[null,null,0,0,{"$error":"#DIV/0!"}]
[null,null,0,0,{"$error":"#DIV/0!"}]
[null,null,0,0,{"$error":"#DIV/0!"}]
[null,null,0,0,{"$error":"#DIV/0!"}]
[null,null,0,0,{"$error":"#DIV/0!"}]
[null,null,0,0,{"$error":"#DIV/0!"}]
[null,null,0,0,{"$error":"#DIV/0!"}]
[null,null,0,0,{"$error":"#DIV/0!"}]
[null,null,0,0,{"$error":"#DIV/0!"}]
[null,null,0,0,{"$error":"#DIV/0!"}]
[null,null,0,0,{"$error":"#DIV/0!"}]
[null,null,0,0,{"$error":"#DIV/0!"}]
[null,null,0,0,{"$error":"#DIV/0!"}]
[null,null,0,0,{"$error":"#DIV/0!"}]
[null,null,0,0,{"$error":"#DIV/0!"}]
[null,null,0,0,{"$error":"#DIV/0!"}]
[null,null,0,{"$f":"IF(C2375=0,0,IF(C2375<=D2374,D2374,IF(C2375>D2374,D2374+B$2)))","v":0},{"$f":"IF(AND((D2375-D2374>0),(D2375<=C$2)),\"Controlla operazione\",0)","v":{"$error":"#DIV/0!"}}]
[null,null,{"$f":"IF(B2376>0,C2375+B2376,)","v":0},0,{"$error":"#DIV/0!"}]
[null,null,0,0,{"$error":"#DIV/0!"}]
[null,null,0,0,{"$error":"#DIV/0!"}]
[null,null,0,0,{"$error":"#DIV/0!"}]
[null,null,0,0,{"$error":"#DIV/0!"}]
[null,null,0,0,{"$error":"#DIV/0!"}]
[null,null,0,0,{"$error":"#DIV/0!"}]
[null,null,0,0,{"$error":"#DIV/0!"}]
[null,null,0,0,{"$error":"#DIV/0!"}]
[null,null,0,0,{"$error":"#DIV/0!"}]
[null,null,0,0,{"$error":"#DIV/0!"}]
[null,null,0,0,{"$error":"#DIV/0!"}]
[null,null,0,0,{"$error":"#DIV/0!"}]
[null,null,0,0,{"$error":"#DIV/0!"}]
[null,null,0,0,{"$error":"#DIV/0!"}]
[null,null,0,0,{"$error":"#DIV/0!"}]
[null,null,0,0,{"$error":"#DIV/0!"}]
[null,null,0,0,{"$error":"#DIV/0!"}]
[null,null,0,0,{"$error":"#DIV/0!"}]
[null,null,0,0,{"$error":"#DIV/0!"}]
[null,null,0,0,{"$error":"#DIV/0!"}]
[null,null,0,0,{"$error":"#DIV/0!"}]
[null,null,0,0,{"$error":"#DIV/0!"}]
[null,null,0,0,{"$error":"#DIV/0!"}]
[null,null,0,0,{"$error":"#DIV/0!"}]
[null,null,0,0,{"$error":"#DIV/0!"}]
[null,null,0,0,{"$error":"#DIV/0!"}]
[null,null,0,0,{"$error":"#DIV/0!"}]
[null,null,0,0,{"$error":"#DIV/0!"}]
[null,null,0,0,{"$error":"#DIV/0!"}]
[null,null,0,0,{"$error":"#DIV/0!"}]
[null,null,0,0,{"$error":"#DIV/0!"}]
[null,null,0,0,{"$error":"#DIV/0!"}]
[null,null,0,0,{"$error":"#DIV/0!"}]
[null,null,0,0,{"$error":"#DIV/0!"}]
[null,null,0,0,{"$error":"#DIV/0!"}]
[null,null,0,0,{"$error":"#DIV/0!"}]
[null,null,0,0,{"$error":"#DIV/0!"}]
[null,null,0,0,{"$error":"#DIV/0!"}]
[null,null,0,0,{"$error":"#DIV/0!"}]
[null,null,0,0,{"$error":"#DIV/0!"}]
[null,null,0,0,{"$error":"#DIV/0!"}]
[null,null,0,0,{"$error":"#DIV/0!"}]
[null,null,0,0,{"$error":"#DIV/0!"}]
[null,null,0,0,{"$error":"#DIV/0!"}]
[null,null,0,0,{"$error":"#DIV/0!"}]
[null,null,0,0,{"$error":"#DIV/0!"}]
[null,null,0,0,{"$error":"#DIV/0!"}]
[null,null,0,0,{"$error":"#DIV/0!"}]
[null,null,0,0,{"$error":"#DIV/0!"}]
[null,null,0,0,{"$error":"#DIV/0!"}]
[null,null,0,0,{"$error":"#DIV/0!"}]
[null,null,0,0,{"$error":"#DIV/0!"}]
[null,null,0,0,{"$error":"#DIV/0!"}]
[null,null,0,0,{"$error":"#DIV/0!"}]
[null,null,0,0,{"$error":"#DIV/0!"}]
[null,null,0,0,{"$error":"#DIV/0!"}]
[null,null,0,0,{"$error":"#DIV/0!"}]
[null,null,0,0,{"$error":"#DIV/0!"}]
[null,null,0,0,{"$error":"#DIV/0!"}]
[null,null,0,0,{"$error":"#DIV/0!"}]
[null,null,0,0,{"$error":"#DIV/0!"}]
[null,null,0,0,{"$error":"#DIV/0!"}]
[null,null,0,{"$f":"IF(C2439=0,0,IF(C2439<=D2438,D2438,IF(C2439>D2438,D2438+B$2)))","v":0},{"$f":"IF(AND((D2439-D2438>0),(D2439<=C$2)),\"Controlla operazione\",0)","v":{"$error":"#DIV/0!"}}]
[null,null,{"$f":"IF(B2440>0,C2439+B2440,)","v":0},0,{"$error":"#DIV/0!"}]
[null,null,0,0,{"$error":"#DIV/0!"}]
[null,null,0,0,{"$error":"#DIV/0!"}]
[null,null,0,0,{"$error":"#DIV/0!"}]
[null,null,0,0,{"$error":"#DIV/0!"}]
[null,null,0,0,{"$error":"#DIV/0!"}]
[null,null,0,0,{"$error":"#DIV/0!"}]
[null,null,0,0,{"$error":"#DIV/0!"}]
[null,null,0,0,{"$error":"#DIV/0!"}]
[null,null,0,0,{"$error":"#DIV/0!"}]
[null,null,0,0,{"$error":"#DIV/0!"}]
[null,null,0,0,{"$error":"#DIV/0!"}]
[null,null,0,0,{"$error":"#DIV/0!"}]
[null,null,0,0,{"$error":"#DIV/0!"}]
[null,null,0,0,{"$error":"#DIV/0!"}]
[null,null,0,0,{"$error":"#DIV/0!"}]
[null,null,0,0,{"$error":"#DIV/0!"}]
[null,null,0,0,{"$error":"#DIV/0!"}]
[null,null,0,0,{"$error":"#DIV/0!"}]
[null,null,0,0,{"$error":"#DIV/0!"}]
[null,null,0,0,{"$error":"#DIV/0!"}]
[null,null,0,0,{"$error":"#DIV/0!"}]
[null,null,0,0,{"$error":"#DIV/0!"}]
[null,null,0,0,{"$error":"#DIV/0!"}]
[null,null,0,0,{"$error":"#DIV/0!"}]
[null,null,0,0,{"$error":"#DIV/0!"}]
[null,null,0,0,{"$error":"#DIV/0!"}]
[null,null,0,0,{"$error":"#DIV/0!"}]
[null,null,0,0,{"$error":"#DIV/0!"}]
[null,null,0,0,{"$error":"#DIV/0!"}]
[null,null,0,0,{"$error":"#DIV/0!"}]
[null,null,0,0,{"$error":"#DIV/0!"}]
[null,null,0,0,{"$error":"#DIV/0!"}]
[null,null,0,0,{"$error":"#DIV/0!"}]
[null,null,0,0,{"$error":"#DIV/0!"}]
[null,null,0,0,{"$error":"#DIV/0!"}]
[null,null,0,0,{"$error":"#DIV/0!"}]
[null,null,0,0,{"$error":"#DIV/0!"}]
[null,null,0,0,{"$error":"#DIV/0!"}]
[null,null,0,0,{"$error":"#DIV/0!"}]
[null,null,0,0,{"$error":"#DIV/0!"}]
[null,null,0,0,{"$error":"#DIV/0!"}]
[null,null,0,0,{"$error":"#DIV/0!"}]
[null,null,0,0,{"$error":"#DIV/0!"}]
[null,null,0,0,{"$error":"#DIV/0!"}]
[null,null,0,0,{"$error":"#DIV/0!"}]
[null,null,0,0,{"$error":"#DIV/0!"}]
[null,null,0,0,{"$error":"#DIV/0!"}]
[null,null,0,0,{"$error":"#DIV/0!"}]
[null,null,0,0,{"$error":"#DIV/0!"}]
[null,null,0,0,{"$error":"#DIV/0!"}]
[null,null,0,0,{"$error":"#DIV/0!"}]
[null,null,0,0,{"$error":"#DIV/0!"}]
[null,null,0,0,{"$error":"#DIV/0!"}]
[null,null,0,0,{"$error":"#DIV/0!"}]
[null,null,0,0,{"$error":"#DIV/0!"}]
[null,null,0,0,{"$error":"#DIV/0!"}]
[null,null,0,0,{"$error":"#DIV/0!"}]
[null,null,0,0,{"$error":"#DIV/0!"}]
[null,null,0,0,{"$error":"#DIV/0!"}]
[null,null,0,0,{"$error":"#DIV/0!"}]
[null,null,0,0,{"$error":"#DIV/0!"}]
[null,null,0,0,{"$error":"#DIV/0!"}]
[null,null,0,{"$f":"IF(C2503=0,0,IF(C2503<=D2502,D2502,IF(C2503>D2502,D2502+B$2)))","v":0},{"$f":"IF(AND((D2503-D2502>0),(D2503<=C$2)),\"Controlla operazione\",0)","v":{"$error":"#DIV/0!"}}]
[null,null,{"$f":"IF(B2504>0,C2503+B2504,)","v":0},0,{"$error":"#DIV/0!"}]
[null,null,0,0,{"$error":"#DIV/0!"}]
[null,null,0,0,{"$error":"#DIV/0!"}]
[null,null,0,0,{"$error":"#DIV/0!"}]
[null,null,0,0,{"$error":"#DIV/0!"}]
[null,null,0,0,{"$error":"#DIV/0!"}]
[null,null,0,0,{"$error":"#DIV/0!"}]
[null,null,0,0,{"$error":"#DIV/0!"}]
[null,null,0,0,{"$error":"#DIV/0!"}]
[null,null,0,0,{"$error":"#DIV/0!"}]
[null,null,0,0,{"$error":"#DIV/0!"}]
[null,null,0,0,{"$error":"#DIV/0!"}]
[null,null,0,0,{"$error":"#DIV/0!"}]
[null,null,0,0,{"$error":"#DIV/0!"}]
[null,null,0,0,{"$error":"#DIV/0!"}]
[null,null,0,0,{"$error":"#DIV/0!"}]
[null,null,0,0,{"$error":"#DIV/0!"}]
[null,null,0,0,{"$error":"#DIV/0!"}]
[null,null,0,0,{"$error":"#DIV/0!"}]
[null,null,0,0,{"$error":"#DIV/0!"}]
[null,null,0,0,{"$error":"#DIV/0!"}]
[null,null,0,0,{"$error":"#DIV/0!"}]
[null,null,0,0,{"$error":"#DIV/0!"}]
[null,null,0,0,{"$error":"#DIV/0!"}]
[null,null,0,0,{"$error":"#DIV/0!"}]
[null,null,0,0,{"$error":"#DIV/0!"}]
[null,null,0,0,{"$error":"#DIV/0!"}]
[null,null,0,0,{"$error":"#DIV/0!"}]
[null,null,0,0,{"$error":"#DIV/0!"}]
[null,null,0,0,{"$error":"#DIV/0!"}]
[null,null,0,0,{"$error":"#DIV/0!"}]
[null,null,0,0,{"$error":"#DIV/0!"}]
[null,null,0,0,{"$error":"#DIV/0!"}]
[null,null,0,0,{"$error":"#DIV/0!"}]
[null,null,0,0,{"$error":"#DIV/0!"}]
[null,null,0,0,{"$error":"#DIV/0!"}]
[null,null,0,0,{"$error":"#DIV/0!"}]
[null,null,0,0,{"$error":"#DIV/0!"}]
[null,null,0,0,{"$error":"#DIV/0!"}]
[null,null,0,0,{"$error":"#DIV/0!"}]
[null,null,0,0,{"$error":"#DIV/0!"}]
[null,null,0,0,{"$error":"#DIV/0!"}]
[null,null,0,0,{"$error":"#DIV/0!"}]
[null,null,0,0,{"$error":"#DIV/0!"}]
[null,null,0,0,{"$error":"#DIV/0!"}]
[null,null,0,0,{"$error":"#DIV/0!"}]
[null,null,0,0,{"$error":"#DIV/0!"}]
[null,null,0,0,{"$error":"#DIV/0!"}]
[null,null,0,0,{"$error":"#DIV/0!"}]
[null,null,0,0,{"$error":"#DIV/0!"}]
[null,null,0,0,{"$error":"#DIV/0!"}]
[null,null,0,0,{"$error":"#DIV/0!"}]
[null,null,0,0,{"$error":"#DIV/0!"}]
[null,null,0,0,{"$error":"#DIV/0!"}]
[null,null,0,0,{"$error":"#DIV/0!"}]
[null,null,0,0,{"$error":"#DIV/0!"}]
[null,null,0,0,{"$error":"#DIV/0!"}]
[null,null,0,0,{"$error":"#DIV/0!"}]
[null,null,0,0,{"$error":"#DIV/0!"}]
[null,null,0,0,{"$error":"#DIV/0!"}]
[null,null,0,0,{"$error":"#DIV/0!"}]
[null,null,0,0,{"$error":"#DIV/0!"}]
[null,null,0,0,{"$error":"#DIV/0!"}]
[null,null,0,{"$f":"IF(C2567=0,0,IF(C2567<=D2566,D2566,IF(C2567>D2566,D2566+B$2)))","v":0},{"$f":"IF(AND((D2567-D2566>0),(D2567<=C$2)),\"Controlla operazione\",0)","v":{"$error":"#DIV/0!"}}]
[null,null,{"$f":"IF(B2568>0,C2567+B2568,)","v":0},0,{"$error":"#DIV/0!"}]
[null,null,0,0,{"$error":"#DIV/0!"}]
[null,null,0,0,{"$error":"#DIV/0!"}]
[null,null,0,0,{"$error":"#DIV/0!"}]
[null,null,0,0,{"$error":"#DIV/0!"}]
[null,null,0,0,{"$error":"#DIV/0!"}]
[null,null,0,0,{"$error":"#DIV/0!"}]
[null,null,0,0,{"$error":"#DIV/0!"}]
[null,null,0,0,{"$error":"#DIV/0!"}]
[null,null,0,0,{"$error":"#DIV/0!"}]
[null,null,0,0,{"$error":"#DIV/0!"}]
[null,null,0,0,{"$error":"#DIV/0!"}]
[null,null,0,0,{"$error":"#DIV/0!"}]
[null,null,0,0,{"$error":"#DIV/0!"}]
[null,null,0,0,{"$error":"#DIV/0!"}]
[null,null,0,0,{"$error":"#DIV/0!"}]
[null,null,0,0,{"$error":"#DIV/0!"}]
[null,null,0,0,{"$error":"#DIV/0!"}]
[null,null,0,0,{"$error":"#DIV/0!"}]
[null,null,0,0,{"$error":"#DIV/0!"}]
[null,null,0,0,{"$error":"#DIV/0!"}]
[null,null,0,0,{"$error":"#DIV/0!"}]
[null,null,0,0,{"$error":"#DIV/0!"}]
[null,null,0,0,{"$error":"#DIV/0!"}]
[null,null,0,0,{"$error":"#DIV/0!"}]
[null,null,0,0,{"$error":"#DIV/0!"}]
[null,null,0,0,{"$error":"#DIV/0!"}]
[null,null,0,0,{"$error":"#DIV/0!"}]
[null,null,0,0,{"$error":"#DIV/0!"}]
[null,null,0,0,{"$error":"#DIV/0!"}]
[null,null,0,0,{"$error":"#DIV/0!"}]
[null,null,0,0,{"$error":"#DIV/0!"}]
[null,null,0,0,{"$error":"#DIV/0!"}]
[null,null,0,0,{"$error":"#DIV/0!"}]
[null,null,0,0,{"$error":"#DIV/0!"}]
[null,null,0,0,{"$error":"#DIV/0!"}]
[null,null,0,0,{"$error":"#DIV/0!"}]
[null,null,0,0,{"$error":"#DIV/0!"}]
[null,null,0,0,{"$error":"#DIV/0!"}]
[null,null,0,0,{"$error":"#DIV/0!"}]
[null,null,0,0,{"$error":"#DIV/0!"}]
[null,null,0,0,{"$error":"#DIV/0!"}]
[null,null,0,0,{"$error":"#DIV/0!"}]
[null,null,0,0,{"$error":"#DIV/0!"}]
[null,null,0,0,{"$error":"#DIV/0!"}]
[null,null,0,0,{"$error":"#DIV/0!"}]
[null,null,0,0,{"$error":"#DIV/0!"}]
[null,null,0,0,{"$error":"#DIV/0!"}]
[null,null,0,0,{"$error":"#DIV/0!"}]
[null,null,0,0,{"$error":"#DIV/0!"}]
[null,null,0,0,{"$error":"#DIV/0!"}]
[null,null,0,0,{"$error":"#DIV/0!"}]
[null,null,0,0,{"$error":"#DIV/0!"}]
[null,null,0,0,{"$error":"#DIV/0!"}]
[null,null,0,0,{"$error":"#DIV/0!"}]
[null,null,0,0,{"$error":"#DIV/0!"}]
[null,null,0,0,{"$error":"#DIV/0!"}]
[null,null,0,0,{"$error":"#DIV/0!"}]
[null,null,0,0,{"$error":"#DIV/0!"}]
[null,null,0,0,{"$error":"#DIV/0!"}]
[null,null,0,0,{"$error":"#DIV/0!"}]
[null,null,0,0,{"$error":"#DIV/0!"}]
[null,null,0,0,{"$error":"#DIV/0!"}]
[null,null,0,{"$f":"IF(C2631=0,0,IF(C2631<=D2630,D2630,IF(C2631>D2630,D2630+B$2)))","v":0},{"$f":"IF(AND((D2631-D2630>0),(D2631<=C$2)),\"Controlla operazione\",0)","v":{"$error":"#DIV/0!"}}]
[null,null,{"$f":"IF(B2632>0,C2631+B2632,)","v":0},0,{"$error":"#DIV/0!"}]
[null,null,0,0,{"$error":"#DIV/0!"}]
[null,null,0,0,{"$error":"#DIV/0!"}]
[null,null,0,0,{"$error":"#DIV/0!"}]
[null,null,0,0,{"$error":"#DIV/0!"}]
[null,null,0,0,{"$error":"#DIV/0!"}]
[null,null,0,0,{"$error":"#DIV/0!"}]
[null,null,0,0,{"$error":"#DIV/0!"}]
[null,null,0,0,{"$error":"#DIV/0!"}]
[null,null,0,0,{"$error":"#DIV/0!"}]
[null,null,0,0,{"$error":"#DIV/0!"}]
[null,null,0,0,{"$error":"#DIV/0!"}]
[null,null,0,0,{"$error":"#DIV/0!"}]
[null,null,0,0,{"$error":"#DIV/0!"}]
[null,null,0,0,{"$error":"#DIV/0!"}]
[null,null,0,0,{"$error":"#DIV/0!"}]
[null,null,0,0,{"$error":"#DIV/0!"}]
[null,null,0,0,{"$error":"#DIV/0!"}]
[null,null,0,0,{"$error":"#DIV/0!"}]
[null,null,0,0,{"$error":"#DIV/0!"}]
[null,null,0,0,{"$error":"#DIV/0!"}]
[null,null,0,0,{"$error":"#DIV/0!"}]
[null,null,0,0,{"$error":"#DIV/0!"}]
[null,null,0,0,{"$error":"#DIV/0!"}]
[null,null,0,0,{"$error":"#DIV/0!"}]
[null,null,0,0,{"$error":"#DIV/0!"}]
[null,null,0,0,{"$error":"#DIV/0!"}]
[null,null,0,0,{"$error":"#DIV/0!"}]
[null,null,0,0,{"$error":"#DIV/0!"}]
[null,null,0,0,{"$error":"#DIV/0!"}]
[null,null,0,0,{"$error":"#DIV/0!"}]
[null,null,0,0,{"$error":"#DIV/0!"}]
[null,null,0,0,{"$error":"#DIV/0!"}]
[null,null,0,0,{"$error":"#DIV/0!"}]
[null,null,0,0,{"$error":"#DIV/0!"}]
[null,null,0,0,{"$error":"#DIV/0!"}]
[null,null,0,0,{"$error":"#DIV/0!"}]
[null,null,0,0,{"$error":"#DIV/0!"}]
[null,null,0,0,{"$error":"#DIV/0!"}]
[null,null,0,0,{"$error":"#DIV/0!"}]
[null,null,0,0,{"$error":"#DIV/0!"}]
[null,null,0,0,{"$error":"#DIV/0!"}]
[null,null,0,0,{"$error":"#DIV/0!"}]
[null,null,0,0,{"$error":"#DIV/0!"}]
[null,null,0,0,{"$error":"#DIV/0!"}]
[null,null,0,0,{"$error":"#DIV/0!"}]
[null,null,0,0,{"$error":"#DIV/0!"}]
[null,null,0,0,{"$error":"#DIV/0!"}]
[null,null,0,0,{"$error":"#DIV/0!"}]
[null,null,0,0,{"$error":"#DIV/0!"}]
[null,null,0,0,{"$error":"#DIV/0!"}]
[null,null,0,0,{"$error":"#DIV/0!"}]
[null,null,0,0,{"$error":"#DIV/0!"}]
[null,null,0,0,{"$error":"#DIV/0!"}]
[null,null,0,0,{"$error":"#DIV/0!"}]
[null,null,0,0,{"$error":"#DIV/0!"}]
[null,null,0,0,{"$error":"#DIV/0!"}]
[null,null,0,0,{"$error":"#DIV/0!"}]
[null,null,0,0,{"$error":"#DIV/0!"}]
[null,null,0,0,{"$error":"#DIV/0!"}]
[null,null,0,0,{"$error":"#DIV/0!"}]
[null,null,0,0,{"$error":"#DIV/0!"}]
[null,null,0,0,{"$error":"#DIV/0!"}]
[null,null,0,{"$f":"IF(C2695=0,0,IF(C2695<=D2694,D2694,IF(C2695>D2694,D2694+B$2)))","v":0},{"$f":"IF(AND((D2695-D2694>0),(D2695<=C$2)),\"Controlla operazione\",0)","v":{"$error":"#DIV/0!"}}]
[null,null,{"$f":"IF(B2696>0,C2695+B2696,)","v":0},0,{"$error":"#DIV/0!"}]
[null,null,0,0,{"$error":"#DIV/0!"}]
[null,null,0,0,{"$error":"#DIV/0!"}]
[null,null,0,0,{"$error":"#DIV/0!"}]
[null,null,0,0,{"$error":"#DIV/0!"}]
[null,null,0,0,{"$error":"#DIV/0!"}]
[null,null,0,0,{"$error":"#DIV/0!"}]
[null,null,0,0,{"$error":"#DIV/0!"}]
[null,null,0,0,{"$error":"#DIV/0!"}]
[null,null,0,0,{"$error":"#DIV/0!"}]
[null,null,0,0,{"$error":"#DIV/0!"}]
[null,null,0,0,{"$error":"#DIV/0!"}]
[null,null,0,0,{"$error":"#DIV/0!"}]
[null,null,0,0,{"$error":"#DIV/0!"}]
[null,null,0,0,{"$error":"#DIV/0!"}]
[null,null,0,0,{"$error":"#DIV/0!"}]
[null,null,0,0,{"$error":"#DIV/0!"}]
[null,null,0,0,{"$error":"#DIV/0!"}]
[null,null,0,0,{"$error":"#DIV/0!"}]
[null,null,0,0,{"$error":"#DIV/0!"}]
[null,null,0,0,{"$error":"#DIV/0!"}]
[null,null,0,0,{"$error":"#DIV/0!"}]
[null,null,0,0,{"$error":"#DIV/0!"}]
[null,null,0,0,{"$error":"#DIV/0!"}]
[null,null,0,0,{"$error":"#DIV/0!"}]
[null,null,0,0,{"$error":"#DIV/0!"}]
[null,null,0,0,{"$error":"#DIV/0!"}]
[null,null,0,0,{"$error":"#DIV/0!"}]
[null,null,0,0,{"$error":"#DIV/0!"}]
[null,null,0,0,{"$error":"#DIV/0!"}]
[null,null,0,0,{"$error":"#DIV/0!"}]
[null,null,0,0,{"$error":"#DIV/0!"}]
[null,null,0,0,{"$error":"#DIV/0!"}]
[null,null,0,0,{"$error":"#DIV/0!"}]
[null,null,0,0,{"$error":"#DIV/0!"}]
[null,null,0,0,{"$error":"#DIV/0!"}]
[null,null,0,0,{"$error":"#DIV/0!"}]
[null,null,0,0,{"$error":"#DIV/0!"}]
[null,null,0,0,{"$error":"#DIV/0!"}]
[null,null,0,0,{"$error":"#DIV/0!"}]
[null,null,0,0,{"$error":"#DIV/0!"}]
[null,null,0,0,{"$error":"#DIV/0!"}]
[null,null,0,0,{"$error":"#DIV/0!"}]
[null,null,0,0,{"$error":"#DIV/0!"}]
[null,null,0,0,{"$error":"#DIV/0!"}]
[null,null,0,0,{"$error":"#DIV/0!"}]
[null,null,0,0,{"$error":"#DIV/0!"}]
[null,null,0,0,{"$error":"#DIV/0!"}]
[null,null,0,0,{"$error":"#DIV/0!"}]
[null,null,0,0,{"$error":"#DIV/0!"}]
[null,null,0,0,{"$error":"#DIV/0!"}]
[null,null,0,0,{"$error":"#DIV/0!"}]
[null,null,0,0,{"$error":"#DIV/0!"}]
[null,null,0,0,{"$error":"#DIV/0!"}]
[null,null,0,0,{"$error":"#DIV/0!"}]
[null,null,0,0,{"$error":"#DIV/0!"}]
[null,null,0,0,{"$error":"#DIV/0!"}]
[null,null,0,0,{"$error":"#DIV/0!"}]
[null,null,0,0,{"$error":"#DIV/0!"}]
[null,null,0,0,{"$error":"#DIV/0!"}]
[null,null,0,0,{"$error":"#DIV/0!"}]
[null,null,0,0,{"$error":"#DIV/0!"}]
[null,null,0,0,{"$error":"#DIV/0!"}]
[null,null,0,{"$f":"IF(C2759=0,0,IF(C2759<=D2758,D2758,IF(C2759>D2758,D2758+B$2)))","v":0},{"$f":"IF(AND((D2759-D2758>0),(D2759<=C$2)),\"Controlla operazione\",0)","v":{"$error":"#DIV/0!"}}]
[null,null,{"$f":"IF(B2760>0,C2759+B2760,)","v":0},0,{"$error":"#DIV/0!"}]
[null,null,0,0,{"$error":"#DIV/0!"}]
[null,null,0,0,{"$error":"#DIV/0!"}]
[null,null,0,0,{"$error":"#DIV/0!"}]
[null,null,0,0,{"$error":"#DIV/0!"}]
[null,null,0,0,{"$error":"#DIV/0!"}]
[null,null,0,0,{"$error":"#DIV/0!"}]
[null,null,0,0,{"$error":"#DIV/0!"}]
[null,null,0,0,{"$error":"#DIV/0!"}]
[null,null,0,0,{"$error":"#DIV/0!"}]
[null,null,0,0,{"$error":"#DIV/0!"}]
[null,null,0,0,{"$error":"#DIV/0!"}]
[null,null,0,0,{"$error":"#DIV/0!"}]
[null,null,0,0,{"$error":"#DIV/0!"}]
[null,null,0,0,{"$error":"#DIV/0!"}]
[null,null,0,0,{"$error":"#DIV/0!"}]
[null,null,0,0,{"$error":"#DIV/0!"}]
[null,null,0,0,{"$error":"#DIV/0!"}]
[null,null,0,0,{"$error":"#DIV/0!"}]
[null,null,0,0,{"$error":"#DIV/0!"}]
[null,null,0,0,{"$error":"#DIV/0!"}]
[null,null,0,0,{"$error":"#DIV/0!"}]
[null,null,0,0,{"$error":"#DIV/0!"}]
[null,null,0,0,{"$error":"#DIV/0!"}]
[null,null,0,0,{"$error":"#DIV/0!"}]
[null,null,0,0,{"$error":"#DIV/0!"}]
[null,null,0,0,{"$error":"#DIV/0!"}]
[null,null,0,0,{"$error":"#DIV/0!"}]
[null,null,0,0,{"$error":"#DIV/0!"}]
[null,null,0,0,{"$error":"#DIV/0!"}]
[null,null,0,0,{"$error":"#DIV/0!"}]
[null,null,0,0,{"$error":"#DIV/0!"}]
[null,null,0,0,{"$error":"#DIV/0!"}]
[null,null,0,0,{"$error":"#DIV/0!"}]
[null,null,0,0,{"$error":"#DIV/0!"}]
[null,null,0,0,{"$error":"#DIV/0!"}]
[null,null,0,0,{"$error":"#DIV/0!"}]
[null,null,0,0,{"$error":"#DIV/0!"}]
[null,null,0,0,{"$error":"#DIV/0!"}]
[null,null,0,0,{"$error":"#DIV/0!"}]
[null,null,0,0,{"$error":"#DIV/0!"}]
[null,null,0,0,{"$error":"#DIV/0!"}]
[null,null,0,0,{"$error":"#DIV/0!"}]
[null,null,0,0,{"$error":"#DIV/0!"}]
[null,null,0,0,{"$error":"#DIV/0!"}]
[null,null,0,0,{"$error":"#DIV/0!"}]
[null,null,0,0,{"$error":"#DIV/0!"}]
[null,null,0,0,{"$error":"#DIV/0!"}]
[null,null,0,0,{"$error":"#DIV/0!"}]
[null,null,0,0,{"$error":"#DIV/0!"}]
[null,null,0,0,{"$error":"#DIV/0!"}]
[null,null,0,0,{"$error":"#DIV/0!"}]
[null,null,0,0,{"$error":"#DIV/0!"}]
[null,null,0,0,{"$error":"#DIV/0!"}]
[null,null,0,0,{"$error":"#DIV/0!"}]
[null,null,0,0,{"$error":"#DIV/0!"}]
[null,null,0,0,{"$error":"#DIV/0!"}]
[null,null,0,0,{"$error":"#DIV/0!"}]
[null,null,0,0,{"$error":"#DIV/0!"}]
[null,null,0,0,{"$error":"#DIV/0!"}]
[null,null,0,0,{"$error":"#DIV/0!"}]
[null,null,0,0,{"$error":"#DIV/0!"}]
[null,null,0,0,{"$error":"#DIV/0!"}]
[null,null,0,{"$f":"IF(C2823=0,0,IF(C2823<=D2822,D2822,IF(C2823>D2822,D2822+B$2)))","v":0},{"$f":"IF(AND((D2823-D2822>0),(D2823<=C$2)),\"Controlla operazione\",0)","v":{"$error":"#DIV/0!"}}]
[null,null,{"$f":"IF(B2824>0,C2823+B2824,)","v":0},0,{"$error":"#DIV/0!"}]
[null,null,0,0,{"$error":"#DIV/0!"}]
[null,null,0,0,{"$error":"#DIV/0!"}]
[null,null,0,0,{"$error":"#DIV/0!"}]
[null,null,0,0,{"$error":"#DIV/0!"}]
[null,null,0,0,{"$error":"#DIV/0!"}]
[null,null,0,0,{"$error":"#DIV/0!"}]
[null,null,0,0,{"$error":"#DIV/0!"}]
[null,null,0,0,{"$error":"#DIV/0!"}]
[null,null,0,0,{"$error":"#DIV/0!"}]
[null,null,0,0,{"$error":"#DIV/0!"}]
[null,null,0,0,{"$error":"#DIV/0!"}]
[null,null,0,0,{"$error":"#DIV/0!"}]
[null,null,0,0,{"$error":"#DIV/0!"}]
[null,null,0,0,{"$error":"#DIV/0!"}]
[null,null,0,0,{"$error":"#DIV/0!"}]
[null,null,0,0,{"$error":"#DIV/0!"}]
[null,null,0,0,{"$error":"#DIV/0!"}]
[null,null,0,0,{"$error":"#DIV/0!"}]
[null,null,0,0,{"$error":"#DIV/0!"}]
[null,null,0,0,{"$error":"#DIV/0!"}]
[null,null,0,0,{"$error":"#DIV/0!"}]
[null,null,0,0,{"$error":"#DIV/0!"}]
[null,null,0,0,{"$error":"#DIV/0!"}]
[null,null,0,0,{"$error":"#DIV/0!"}]
[null,null,0,0,{"$error":"#DIV/0!"}]
[null,null,0,0,{"$error":"#DIV/0!"}]
[null,null,0,0,{"$error":"#DIV/0!"}]
[null,null,0,0,{"$error":"#DIV/0!"}]
[null,null,0,0,{"$error":"#DIV/0!"}]
[null,null,0,0,{"$error":"#DIV/0!"}]
[null,null,0,0,{"$error":"#DIV/0!"}]
[null,null,0,0,{"$error":"#DIV/0!"}]
[null,null,0,0,{"$error":"#DIV/0!"}]
[null,null,0,0,{"$error":"#DIV/0!"}]
[null,null,0,0,{"$error":"#DIV/0!"}]
[null,null,0,0,{"$error":"#DIV/0!"}]
[null,null,0,0,{"$error":"#DIV/0!"}]
[null,null,0,0,{"$error":"#DIV/0!"}]
[null,null,0,0,{"$error":"#DIV/0!"}]
[null,null,0,0,{"$error":"#DIV/0!"}]
[null,null,0,0,{"$error":"#DIV/0!"}]
[null,null,0,0,{"$error":"#DIV/0!"}]
[null,null,0,0,{"$error":"#DIV/0!"}]
[null,null,0,0,{"$error":"#DIV/0!"}]
[null,null,0,0,{"$error":"#DIV/0!"}]
[null,null,0,0,{"$error":"#DIV/0!"}]
[null,null,0,0,{"$error":"#DIV/0!"}]
[null,null,0,0,{"$error":"#DIV/0!"}]
[null,null,0,0,{"$error":"#DIV/0!"}]
[null,null,0,0,{"$error":"#DIV/0!"}]
[null,null,0,0,{"$error":"#DIV/0!"}]
[null,null,0,0,{"$error":"#DIV/0!"}]
[null,null,0,0,{"$error":"#DIV/0!"}]
[null,null,0,0,{"$error":"#DIV/0!"}]
[null,null,0,0,{"$error":"#DIV/0!"}]
[null,null,0,0,{"$error":"#DIV/0!"}]
[null,null,0,0,{"$error":"#DIV/0!"}]
[null,null,0,0,{"$error":"#DIV/0!"}]
[null,null,0,0,{"$error":"#DIV/0!"}]
[null,null,0,0,{"$error":"#DIV/0!"}]
[null,null,0,0,{"$error":"#DIV/0!"}]
[null,null,0,0,{"$error":"#DIV/0!"}]
[null,null,0,{"$f":"IF(C2887=0,0,IF(C2887<=D2886,D2886,IF(C2887>D2886,D2886+B$2)))","v":0},{"$f":"IF(AND((D2887-D2886>0),(D2887<=C$2)),\"Controlla operazione\",0)","v":{"$error":"#DIV/0!"}}]
[null,null,{"$f":"IF(B2888>0,C2887+B2888,)","v":0},0,{"$error":"#DIV/0!"}]
[null,null,0,0,{"$error":"#DIV/0!"}]
[null,null,0,0,{"$error":"#DIV/0!"}]
[null,null,0,0,{"$error":"#DIV/0!"}]
[null,null,0,0,{"$error":"#DIV/0!"}]
[null,null,0,0,{"$error":"#DIV/0!"}]
[null,null,0,0,{"$error":"#DIV/0!"}]
[null,null,0,0,{"$error":"#DIV/0!"}]
[null,null,0,0,{"$error":"#DIV/0!"}]
[null,null,0,0,{"$error":"#DIV/0!"}]
[null,null,0,0,{"$error":"#DIV/0!"}]
[null,null,0,0,{"$error":"#DIV/0!"}]
[null,null,0,0,{"$error":"#DIV/0!"}]
[null,null,0,0,{"$error":"#DIV/0!"}]
[null,null,0,0,{"$error":"#DIV/0!"}]
[null,null,0,0,{"$error":"#DIV/0!"}]
[null,null,0,0,{"$error":"#DIV/0!"}]
[null,null,0,0,{"$error":"#DIV/0!"}]
[null,null,0,0,{"$error":"#DIV/0!"}]
[null,null,0,0,{"$error":"#DIV/0!"}]
[null,null,0,0,{"$error":"#DIV/0!"}]
[null,null,0,0,{"$error":"#DIV/0!"}]
[null,null,0,0,{"$error":"#DIV/0!"}]
[null,null,0,0,{"$error":"#DIV/0!"}]
[null,null,0,0,{"$error":"#DIV/0!"}]
[null,null,0,0,{"$error":"#DIV/0!"}]
[null,null,0,0,{"$error":"#DIV/0!"}]
[null,null,0,0,{"$error":"#DIV/0!"}]
[null,null,0,0,{"$error":"#DIV/0!"}]
[null,null,0,0,{"$error":"#DIV/0!"}]
[null,null,0,0,{"$error":"#DIV/0!"}]
[null,null,0,0,{"$error":"#DIV/0!"}]
[null,null,0,0,{"$error":"#DIV/0!"}]
[null,null,0,0,{"$error":"#DIV/0!"}]
[null,null,0,0,{"$error":"#DIV/0!"}]
[null,null,0,0,{"$error":"#DIV/0!"}]
[null,null,0,0,{"$error":"#DIV/0!"}]
[null,null,0,0,{"$error":"#DIV/0!"}]
[null,null,0,0,{"$error":"#DIV/0!"}]
[null,null,0,0,{"$error":"#DIV/0!"}]
[null,null,0,0,{"$error":"#DIV/0!"}]
[null,null,0,0,{"$error":"#DIV/0!"}]
[null,null,0,0,{"$error":"#DIV/0!"}]
[null,null,0,0,{"$error":"#DIV/0!"}]
[null,null,0,0,{"$error":"#DIV/0!"}]
[null,null,0,0,{"$error":"#DIV/0!"}]
[null,null,0,0,{"$error":"#DIV/0!"}]
[null,null,0,0,{"$error":"#DIV/0!"}]
[null,null,0,0,{"$error":"#DIV/0!"}]
[null,null,0,0,{"$error":"#DIV/0!"}]
[null,null,0,0,{"$error":"#DIV/0!"}]
[null,null,0,0,{"$error":"#DIV/0!"}]
[null,null,0,0,{"$error":"#DIV/0!"}]
[null,null,0,0,{"$error":"#DIV/0!"}]
[null,null,0,0,{"$error":"#DIV/0!"}]
[null,null,0,0,{"$error":"#DIV/0!"}]
[null,null,0,0,{"$error":"#DIV/0!"}]
[null,null,0,0,{"$error":"#DIV/0!"}]
[null,null,0,0,{"$error":"#DIV/0!"}]
[null,null,0,0,{"$error":"#DIV/0!"}]
[null,null,0,0,{"$error":"#DIV/0!"}]
[null,null,0,0,{"$error":"#DIV/0!"}]
[null,null,0,0,{"$error":"#DIV/0!"}]
[null,null,0,{"$f":"IF(C2951=0,0,IF(C2951<=D2950,D2950,IF(C2951>D2950,D2950+B$2)))","v":0},{"$f":"IF(AND((D2951-D2950>0),(D2951<=C$2)),\"Controlla operazione\",0)","v":{"$error":"#DIV/0!"}}]
[null,null,{"$f":"IF(B2952>0,C2951+B2952,)","v":0},0,{"$error":"#DIV/0!"}]
[null,null,0,0,{"$error":"#DIV/0!"}]
[null,null,0,0,{"$error":"#DIV/0!"}]
[null,null,0,0,{"$error":"#DIV/0!"}]
[null,null,0,0,{"$error":"#DIV/0!"}]
[null,null,0,0,{"$error":"#DIV/0!"}]
[null,null,0,0,{"$error":"#DIV/0!"}]
[null,null,0,0,{"$error":"#DIV/0!"}]
[null,null,0,0,{"$error":"#DIV/0!"}]
[null,null,0,0,{"$error":"#DIV/0!"}]
[null,null,0,0,{"$error":"#DIV/0!"}]
[null,null,0,0,{"$error":"#DIV/0!"}]
[null,null,0,0,{"$error":"#DIV/0!"}]
[null,null,0,0,{"$error":"#DIV/0!"}]
[null,null,0,0,{"$error":"#DIV/0!"}]
[null,null,0,0,{"$error":"#DIV/0!"}]
[null,null,0,0,{"$error":"#DIV/0!"}]
[null,null,0,0,{"$error":"#DIV/0!"}]
[null,null,0,0,{"$error":"#DIV/0!"}]
[null,null,0,0,{"$error":"#DIV/0!"}]
[null,null,0,0,{"$error":"#DIV/0!"}]
[null,null,0,0,{"$error":"#DIV/0!"}]
[null,null,0,0,{"$error":"#DIV/0!"}]
[null,null,0,0,{"$error":"#DIV/0!"}]
[null,null,0,0,{"$error":"#DIV/0!"}]
[null,null,0,0,{"$error":"#DIV/0!"}]
[null,null,0,0,{"$error":"#DIV/0!"}]
[null,null,0,0,{"$error":"#DIV/0!"}]
[null,null,0,0,{"$error":"#DIV/0!"}]
[null,null,0,0,{"$error":"#DIV/0!"}]
[null,null,0,0,{"$error":"#DIV/0!"}]
[null,null,0,0,{"$error":"#DIV/0!"}]
[null,null,0,0,{"$error":"#DIV/0!"}]
[null,null,0,0,{"$error":"#DIV/0!"}]
[null,null,0,0,{"$error":"#DIV/0!"}]
[null,null,0,0,{"$error":"#DIV/0!"}]
[null,null,0,0,{"$error":"#DIV/0!"}]
[null,null,0,0,{"$error":"#DIV/0!"}]
[null,null,0,0,{"$error":"#DIV/0!"}]
[null,null,0,0,{"$error":"#DIV/0!"}]
[null,null,0,0,{"$error":"#DIV/0!"}]
[null,null,0,0,{"$error":"#DIV/0!"}]
[null,null,0,0,{"$error":"#DIV/0!"}]
[null,null,0,0,{"$error":"#DIV/0!"}]
[null,null,0,0,{"$error":"#DIV/0!"}]
[null,null,0,0,{"$error":"#DIV/0!"}]
[null,null,0,0,{"$error":"#DIV/0!"}]
[null,null,0,0,{"$error":"#DIV/0!"}]
[null,null,0,0,{"$error":"#DIV/0!"}]
[null,null,0,0,{"$error":"#DIV/0!"}]
[null,null,0,0,{"$error":"#DIV/0!"}]
[null,null,0,0,{"$error":"#DIV/0!"}]
[null,null,0,0,{"$error":"#DIV/0!"}]
[null,null,0,0,{"$error":"#DIV/0!"}]
[null,null,0,0,{"$error":"#DIV/0!"}]
[null,null,0,0,{"$error":"#DIV/0!"}]
[null,null,0,0,{"$error":"#DIV/0!"}]
[null,null,0,0,{"$error":"#DIV/0!"}]
[null,null,0,0,{"$error":"#DIV/0!"}]
[null,null,0,0,{"$error":"#DIV/0!"}]
[null,null,0,0,{"$error":"#DIV/0!"}]
[null,null,0,0,{"$error":"#DIV/0!"}]
[null,null,0,0,{"$error":"#DIV/0!"}]
[null,null,0,{"$f":"IF(C3015=0,0,IF(C3015<=D3014,D3014,IF(C3015>D3014,D3014+B$2)))","v":0},{"$f":"IF(AND((D3015-D3014>0),(D3015<=C$2)),\"Controlla operazione\",0)","v":{"$error":"#DIV/0!"}}]
[null,null,{"$f":"IF(B3016>0,C3015+B3016,)","v":0},0,{"$error":"#DIV/0!"}]
[null,null,0,0,{"$error":"#DIV/0!"}]
[null,null,0,0,{"$error":"#DIV/0!"}]
[null,null,0,0,{"$error":"#DIV/0!"}]
[null,null,0,0,{"$error":"#DIV/0!"}]
[null,null,0,0,{"$error":"#DIV/0!"}]
[null,null,0,0,{"$error":"#DIV/0!"}]
[null,null,0,0,{"$error":"#DIV/0!"}]
[null,null,0,0,{"$error":"#DIV/0!"}]
[null,null,0,0,{"$error":"#DIV/0!"}]
[null,null,0,0,{"$error":"#DIV/0!"}]
[null,null,0,0,{"$error":"#DIV/0!"}]
[null,null,0,0,{"$error":"#DIV/0!"}]
[null,null,0,0,{"$error":"#DIV/0!"}]
[null,null,0,0,{"$error":"#DIV/0!"}]
[null,null,0,0,{"$error":"#DIV/0!"}]
[null,null,0,0,{"$error":"#DIV/0!"}]
[null,null,0,0,{"$error":"#DIV/0!"}]
[null,null,0,0,{"$error":"#DIV/0!"}]
[null,null,0,0,{"$error":"#DIV/0!"}]
[null,null,0,0,{"$error":"#DIV/0!"}]
[null,null,0,0,{"$error":"#DIV/0!"}]
[null,null,0,0,{"$error":"#DIV/0!"}]
[null,null,0,0,{"$error":"#DIV/0!"}]
[null,null,0,0,{"$error":"#DIV/0!"}]
[null,null,0,0,{"$error":"#DIV/0!"}]
[null,null,0,0,{"$error":"#DIV/0!"}]
[null,null,0,0,{"$error":"#DIV/0!"}]
[null,null,0,0,{"$error":"#DIV/0!"}]
[null,null,0,0,{"$error":"#DIV/0!"}]
[null,null,0,0,{"$error":"#DIV/0!"}]
[null,null,0,0,{"$error":"#DIV/0!"}]
[null,null,0,0,{"$error":"#DIV/0!"}]
[null,null,0,0,{"$error":"#DIV/0!"}]
[null,null,0,0,{"$error":"#DIV/0!"}]
[null,null,0,0,{"$error":"#DIV/0!"}]
[null,null,0,0,{"$error":"#DIV/0!"}]
[null,null,0,0,{"$error":"#DIV/0!"}]
[null,null,0,0,{"$error":"#DIV/0!"}]
[null,null,0,0,{"$error":"#DIV/0!"}]
[null,null,0,0,{"$error":"#DIV/0!"}]
[null,null,0,0,{"$error":"#DIV/0!"}]
[null,null,0,0,{"$error":"#DIV/0!"}]
[null,null,0,0,{"$error":"#DIV/0!"}]
[null,null,0,0,{"$error":"#DIV/0!"}]
[null,null,0,0,{"$error":"#DIV/0!"}]
[null,null,0,0,{"$error":"#DIV/0!"}]
[null,null,0,0,{"$error":"#DIV/0!"}]
[null,null,0,0,{"$error":"#DIV/0!"}]
[null,null,0,0,{"$error":"#DIV/0!"}]
[null,null,0,0,{"$error":"#DIV/0!"}]
[null,null,0,0,{"$error":"#DIV/0!"}]
[null,null,0,0,{"$error":"#DIV/0!"}]
[null,null,0,0,{"$error":"#DIV/0!"}]
[null,null,0,0,{"$error":"#DIV/0!"}]
[null,null,0,0,{"$error":"#DIV/0!"}]
[null,null,0,0,{"$error":"#DIV/0!"}]
[null,null,0,0,{"$error":"#DIV/0!"}]
[null,null,0,0,{"$error":"#DIV/0!"}]
[null,null,0,0,{"$error":"#DIV/0!"}]
[null,null,0,0,{"$error":"#DIV/0!"}]
[null,null,0,0,{"$error":"#DIV/0!"}]
[null,null,0,0,{"$error":"#DIV/0!"}]
[null,null,0,{"$f":"IF(C3079=0,0,IF(C3079<=D3078,D3078,IF(C3079>D3078,D3078+B$2)))","v":0},{"$f":"IF(AND((D3079-D3078>0),(D3079<=C$2)),\"Controlla operazione\",0)","v":{"$error":"#DIV/0!"}}]
[null,null,{"$f":"IF(B3080>0,C3079+B3080,)","v":0},0,{"$error":"#DIV/0!"}]
[null,null,0,0,{"$error":"#DIV/0!"}]
[null,null,0,0,{"$error":"#DIV/0!"}]
[null,null,0,0,{"$error":"#DIV/0!"}]
[null,null,0,0,{"$error":"#DIV/0!"}]
[null,null,0,0,{"$error":"#DIV/0!"}]
[null,null,0,0,{"$error":"#DIV/0!"}]
[null,null,0,0,{"$error":"#DIV/0!"}]
[null,null,0,0,{"$error":"#DIV/0!"}]
[null,null,0,0,{"$error":"#DIV/0!"}]
[null,null,0,0,{"$error":"#DIV/0!"}]
[null,null,0,0,{"$error":"#DIV/0!"}]
[null,null,0,0,{"$error":"#DIV/0!"}]
[null,null,0,0,{"$error":"#DIV/0!"}]
[null,null,0,0,{"$error":"#DIV/0!"}]
[null,null,0,0,{"$error":"#DIV/0!"}]
[null,null,0,0,{"$error":"#DIV/0!"}]
[null,null,0,0,{"$error":"#DIV/0!"}]
[null,null,0,0,{"$error":"#DIV/0!"}]
[null,null,0,0,{"$error":"#DIV/0!"}]
[null,null,0,0,{"$error":"#DIV/0!"}]
[null,null,0,0,{"$error":"#DIV/0!"}]
[null,null,0,0,{"$error":"#DIV/0!"}]
[null,null,0,0,{"$error":"#DIV/0!"}]
[null,null,0,0,{"$error":"#DIV/0!"}]
[null,null,0,0,{"$error":"#DIV/0!"}]
[null,null,0,0,{"$error":"#DIV/0!"}]
[null,null,0,0,{"$error":"#DIV/0!"}]
[null,null,0,0,{"$error":"#DIV/0!"}]
[null,null,0,0,{"$error":"#DIV/0!"}]
[null,null,0,0,{"$error":"#DIV/0!"}]
[null,null,0,0,{"$error":"#DIV/0!"}]
[null,null,0,0,{"$error":"#DIV/0!"}]
[null,null,0,0,{"$error":"#DIV/0!"}]
[null,null,0,0,{"$error":"#DIV/0!"}]
[null,null,0,0,{"$error":"#DIV/0!"}]
[null,null,0,0,{"$error":"#DIV/0!"}]
[null,null,0,0,{"$error":"#DIV/0!"}]
[null,null,0,0,{"$error":"#DIV/0!"}]
[null,null,0,0,{"$error":"#DIV/0!"}]
[null,null,0,0,{"$error":"#DIV/0!"}]
[null,null,0,0,{"$error":"#DIV/0!"}]
[null,null,0,0,{"$error":"#DIV/0!"}]
[null,null,0,0,{"$error":"#DIV/0!"}]
[null,null,0,0,{"$error":"#DIV/0!"}]
[null,null,0,0,{"$error":"#DIV/0!"}]
[null,null,0,0,{"$error":"#DIV/0!"}]
[null,null,0,0,{"$error":"#DIV/0!"}]
[null,null,0,0,{"$error":"#DIV/0!"}]
[null,null,0,0,{"$error":"#DIV/0!"}]
[null,null,0,0,{"$error":"#DIV/0!"}]
[null,null,0,0,{"$error":"#DIV/0!"}]
[null,null,0,0,{"$error":"#DIV/0!"}]
[null,null,0,0,{"$error":"#DIV/0!"}]
[null,null,0,0,{"$error":"#DIV/0!"}]
[null,null,0,0,{"$error":"#DIV/0!"}]
[null,null,0,0,{"$error":"#DIV/0!"}]
[null,null,0,0,{"$error":"#DIV/0!"}]
[null,null,0,0,{"$error":"#DIV/0!"}]
[null,null,0,0,{"$error":"#DIV/0!"}]
[null,null,0,0,{"$error":"#DIV/0!"}]
[null,null,0,0,{"$error":"#DIV/0!"}]
[null,null,0,0,{"$error":"#DIV/0!"}]
[null,null,0,{"$f":"IF(C3143=0,0,IF(C3143<=D3142,D3142,IF(C3143>D3142,D3142+B$2)))","v":0},{"$f":"IF(AND((D3143-D3142>0),(D3143<=C$2)),\"Controlla operazione\",0)","v":{"$error":"#DIV/0!"}}]
[null,null,{"$f":"IF(B3144>0,C3143+B3144,)","v":0},0,{"$error":"#DIV/0!"}]
[null,null,0,0,{"$error":"#DIV/0!"}]
[null,null,0,0,{"$error":"#DIV/0!"}]
[null,null,0,0,{"$error":"#DIV/0!"}]
[null,null,0,0,{"$error":"#DIV/0!"}]
[null,null,0,0,{"$error":"#DIV/0!"}]
[null,null,0,0,{"$error":"#DIV/0!"}]
[null,null,0,0,{"$error":"#DIV/0!"}]
[null,null,0,0,{"$error":"#DIV/0!"}]
[null,null,0,0,{"$error":"#DIV/0!"}]
[null,null,0,0,{"$error":"#DIV/0!"}]
[null,null,0,0,{"$error":"#DIV/0!"}]
[null,null,0,0,{"$error":"#DIV/0!"}]
[null,null,0,0,{"$error":"#DIV/0!"}]
[null,null,0,0,{"$error":"#DIV/0!"}]
[null,null,0,0,{"$error":"#DIV/0!"}]
[null,null,0,0,{"$error":"#DIV/0!"}]
[null,null,0,0,{"$error":"#DIV/0!"}]
[null,null,0,0,{"$error":"#DIV/0!"}]
[null,null,0,0,{"$error":"#DIV/0!"}]
[null,null,0,0,{"$error":"#DIV/0!"}]
[null,null,0,0,{"$error":"#DIV/0!"}]
[null,null,0,0,{"$error":"#DIV/0!"}]
[null,null,0,0,{"$error":"#DIV/0!"}]
[null,null,0,0,{"$error":"#DIV/0!"}]
[null,null,0,0,{"$error":"#DIV/0!"}]
[null,null,0,0,{"$error":"#DIV/0!"}]
[null,null,0,0,{"$error":"#DIV/0!"}]
[null,null,0,0,{"$error":"#DIV/0!"}]
[null,null,0,0,{"$error":"#DIV/0!"}]
[null,null,0,0,{"$error":"#DIV/0!"}]
[null,null,0,0,{"$error":"#DIV/0!"}]
[null,null,0,0,{"$error":"#DIV/0!"}]
[null,null,0,0,{"$error":"#DIV/0!"}]
[null,null,0,0,{"$error":"#DIV/0!"}]
[null,null,0,0,{"$error":"#DIV/0!"}]
[null,null,0,0,{"$error":"#DIV/0!"}]
[null,null,0,0,{"$error":"#DIV/0!"}]
[null,null,0,0,{"$error":"#DIV/0!"}]
[null,null,0,0,{"$error":"#DIV/0!"}]
[null,null,0,0,{"$error":"#DIV/0!"}]
[null,null,0,0,{"$error":"#DIV/0!"}]
[null,null,0,0,{"$error":"#DIV/0!"}]
[null,null,0,0,{"$error":"#DIV/0!"}]
[null,null,0,0,{"$error":"#DIV/0!"}]
[null,null,0,0,{"$error":"#DIV/0!"}]
[null,null,0,0,{"$error":"#DIV/0!"}]
[null,null,0,0,{"$error":"#DIV/0!"}]
[null,null,0,0,{"$error":"#DIV/0!"}]
[null,null,0,0,{"$error":"#DIV/0!"}]
[null,null,0,0,{"$error":"#DIV/0!"}]
[null,null,0,0,{"$error":"#DIV/0!"}]
[null,null,0,0,{"$error":"#DIV/0!"}]
[null,null,0,0,{"$error":"#DIV/0!"}]
[null,null,0,0,{"$error":"#DIV/0!"}]
[null,null,0,0,{"$error":"#DIV/0!"}]
[null,null,0,0,{"$error":"#DIV/0!"}]
[null,null,0,0,{"$error":"#DIV/0!"}]
[null,null,0,0,{"$error":"#DIV/0!"}]
[null,null,0,0,{"$error":"#DIV/0!"}]
[null,null,0,0,{"$error":"#DIV/0!"}]
[null,null,0,0,{"$error":"#DIV/0!"}]
[null,null,0,0,{"$error":"#DIV/0!"}]
[null,null,0,{"$f":"IF(C3207=0,0,IF(C3207<=D3206,D3206,IF(C3207>D3206,D3206+B$2)))","v":0},{"$f":"IF(AND((D3207-D3206>0),(D3207<=C$2)),\"Controlla operazione\",0)","v":{"$error":"#DIV/0!"}}]
[null,null,{"$f":"IF(B3208>0,C3207+B3208,)","v":0},0,{"$error":"#DIV/0!"}]
[null,null,0,0,{"$error":"#DIV/0!"}]
[null,null,0,0,{"$error":"#DIV/0!"}]
[null,null,0,0,{"$error":"#DIV/0!"}]
[null,null,0,0,{"$error":"#DIV/0!"}]
[null,null,0,0,{"$error":"#DIV/0!"}]
[null,null,0,0,{"$error":"#DIV/0!"}]
[null,null,0,0,{"$error":"#DIV/0!"}]
[null,null,0,0,{"$error":"#DIV/0!"}]
[null,null,0,0,{"$error":"#DIV/0!"}]
[null,null,0,0,{"$error":"#DIV/0!"}]
[null,null,0,0,{"$error":"#DIV/0!"}]
[null,null,0,0,{"$error":"#DIV/0!"}]
[null,null,0,0,{"$error":"#DIV/0!"}]
[null,null,0,0,{"$error":"#DIV/0!"}]
[null,null,0,0,{"$error":"#DIV/0!"}]
[null,null,0,0,{"$error":"#DIV/0!"}]
[null,null,0,0,{"$error":"#DIV/0!"}]
[null,null,0,0,{"$error":"#DIV/0!"}]
[null,null,0,0,{"$error":"#DIV/0!"}]
[null,null,0,0,{"$error":"#DIV/0!"}]
[null,null,0,0,{"$error":"#DIV/0!"}]
[null,null,0,0,{"$error":"#DIV/0!"}]
[null,null,0,0,{"$error":"#DIV/0!"}]
[null,null,0,0,{"$error":"#DIV/0!"}]
[null,null,0,0,{"$error":"#DIV/0!"}]
[null,null,0,0,{"$error":"#DIV/0!"}]
[null,null,0,0,{"$error":"#DIV/0!"}]
[null,null,0,0,{"$error":"#DIV/0!"}]
[null,null,0,0,{"$error":"#DIV/0!"}]
[null,null,0,0,{"$error":"#DIV/0!"}]
[null,null,0,0,{"$error":"#DIV/0!"}]
[null,null,0,0,{"$error":"#DIV/0!"}]
[null,null,0,0,{"$error":"#DIV/0!"}]
[null,null,0,0,{"$error":"#DIV/0!"}]
[null,null,0,0,{"$error":"#DIV/0!"}]
[null,null,0,0,{"$error":"#DIV/0!"}]
[null,null,0,0,{"$error":"#DIV/0!"}]
[null,null,0,0,{"$error":"#DIV/0!"}]
[null,null,0,0,{"$error":"#DIV/0!"}]
[null,null,0,0,{"$error":"#DIV/0!"}]
[null,null,0,0,{"$error":"#DIV/0!"}]
[null,null,0,0,{"$error":"#DIV/0!"}]
[null,null,0,0,{"$error":"#DIV/0!"}]
[null,null,0,0,{"$error":"#DIV/0!"}]
[null,null,0,0,{"$error":"#DIV/0!"}]
[null,null,0,0,{"$error":"#DIV/0!"}]
[null,null,0,0,{"$error":"#DIV/0!"}]
[null,null,0,0,{"$error":"#DIV/0!"}]
[null,null,0,0,{"$error":"#DIV/0!"}]
[null,null,0,0,{"$error":"#DIV/0!"}]
[null,null,0,0,{"$error":"#DIV/0!"}]
[null,null,0,0,{"$error":"#DIV/0!"}]
[null,null,0,0,{"$error":"#DIV/0!"}]
[null,null,0,0,{"$error":"#DIV/0!"}]
[null,null,0,0,{"$error":"#DIV/0!"}]
[null,null,0,0,{"$error":"#DIV/0!"}]
[null,null,0,0,{"$error":"#DIV/0!"}]
[null,null,0,0,{"$error":"#DIV/0!"}]
[null,null,0,0,{"$error":"#DIV/0!"}]
[null,null,0,0,{"$error":"#DIV/0!"}]
[null,null,0,0,{"$error":"#DIV/0!"}]
[null,null,0,0,{"$error":"#DIV/0!"}]
[null,null,0,{"$f":"IF(C3271=0,0,IF(C3271<=D3270,D3270,IF(C3271>D3270,D3270+B$2)))","v":0},{"$f":"IF(AND((D3271-D3270>0),(D3271<=C$2)),\"Controlla operazione\",0)","v":{"$error":"#DIV/0!"}}]
[null,null,{"$f":"IF(B3272>0,C3271+B3272,)","v":0},0,{"$error":"#DIV/0!"}]
[null,null,0,0,{"$error":"#DIV/0!"}]
[null,null,0,0,{"$error":"#DIV/0!"}]
[null,null,0,0,{"$error":"#DIV/0!"}]
[null,null,0,0,{"$error":"#DIV/0!"}]
[null,null,0,0,{"$error":"#DIV/0!"}]
[null,null,0,0,{"$error":"#DIV/0!"}]
[null,null,0,0,{"$error":"#DIV/0!"}]
[null,null,0,0,{"$error":"#DIV/0!"}]
[null,null,0,0,{"$error":"#DIV/0!"}]
[null,null,0,0,{"$error":"#DIV/0!"}]
[null,null,0,0,{"$error":"#DIV/0!"}]
[null,null,0,0,{"$error":"#DIV/0!"}]
[null,null,0,0,{"$error":"#DIV/0!"}]
[null,null,0,0,{"$error":"#DIV/0!"}]
[null,null,0,0,{"$error":"#DIV/0!"}]
[null,null,0,0,{"$error":"#DIV/0!"}]
[null,null,0,0,{"$error":"#DIV/0!"}]
[null,null,0,0,{"$error":"#DIV/0!"}]
[null,null,0,0,{"$error":"#DIV/0!"}]
[null,null,0,0,{"$error":"#DIV/0!"}]
[null,null,0,0,{"$error":"#DIV/0!"}]
[null,null,0,0,{"$error":"#DIV/0!"}]
[null,null,0,0,{"$error":"#DIV/0!"}]
[null,null,0,0,{"$error":"#DIV/0!"}]
[null,null,0,0,{"$error":"#DIV/0!"}]
[null,null,0,0,{"$error":"#DIV/0!"}]
[null,null,0,0,{"$error":"#DIV/0!"}]
[null,null,0,0,{"$error":"#DIV/0!"}]
[null,null,0,0,{"$error":"#DIV/0!"}]
[null,null,0,0,{"$error":"#DIV/0!"}]
[null,null,0,0,{"$error":"#DIV/0!"}]
[null,null,0,0,{"$error":"#DIV/0!"}]
[null,null,0,0,{"$error":"#DIV/0!"}]
[null,null,0,0,{"$error":"#DIV/0!"}]
[null,null,0,0,{"$error":"#DIV/0!"}]
[null,null,0,0,{"$error":"#DIV/0!"}]
[null,null,0,0,{"$error":"#DIV/0!"}]
[null,null,0,0,{"$error":"#DIV/0!"}]
[null,null,0,0,{"$error":"#DIV/0!"}]
[null,null,0,0,{"$error":"#DIV/0!"}]
[null,null,0,0,{"$error":"#DIV/0!"}]
[null,null,0,0,{"$error":"#DIV/0!"}]
[null,null,0,0,{"$error":"#DIV/0!"}]
[null,null,0,0,{"$error":"#DIV/0!"}]
[null,null,0,0,{"$error":"#DIV/0!"}]
[null,null,0,0,{"$error":"#DIV/0!"}]
[null,null,0,0,{"$error":"#DIV/0!"}]
[null,null,0,0,{"$error":"#DIV/0!"}]
[null,null,0,0,{"$error":"#DIV/0!"}]
[null,null,0,0,{"$error":"#DIV/0!"}]
[null,null,0,0,{"$error":"#DIV/0!"}]
[null,null,0,0,{"$error":"#DIV/0!"}]
[null,null,0,0,{"$error":"#DIV/0!"}]
[null,null,0,0,{"$error":"#DIV/0!"}]
[null,null,0,0,{"$error":"#DIV/0!"}]
[null,null,0,0,{"$error":"#DIV/0!"}]
[null,null,0,0,{"$error":"#DIV/0!"}]
[null,null,0,0,{"$error":"#DIV/0!"}]
[null,null,0,0,{"$error":"#DIV/0!"}]
[null,null,0,0,{"$error":"#DIV/0!"}]
[null,null,0,0,{"$error":"#DIV/0!"}]
[null,null,0,0,{"$error":"#DIV/0!"}]
[null,null,0,{"$f":"IF(C3335=0,0,IF(C3335<=D3334,D3334,IF(C3335>D3334,D3334+B$2)))","v":0},{"$f":"IF(AND((D3335-D3334>0),(D3335<=C$2)),\"Controlla operazione\",0)","v":{"$error":"#DIV/0!"}}]
[null,null,{"$f":"IF(B3336>0,C3335+B3336,)","v":0},0,{"$error":"#DIV/0!"}]
[null,null,0,0,{"$error":"#DIV/0!"}]
[null,null,0,0,{"$error":"#DIV/0!"}]
[null,null,0,0,{"$error":"#DIV/0!"}]
[null,null,0,0,{"$error":"#DIV/0!"}]
[null,null,0,0,{"$error":"#DIV/0!"}]
[null,null,0,0,{"$error":"#DIV/0!"}]
[null,null,0,0,{"$error":"#DIV/0!"}]
[null,null,0,0,{"$error":"#DIV/0!"}]
[null,null,0,0,{"$error":"#DIV/0!"}]
[null,null,0,0,{"$error":"#DIV/0!"}]
[null,null,0,0,{"$error":"#DIV/0!"}]
[null,null,0,0,{"$error":"#DIV/0!"}]
[null,null,0,0,{"$error":"#DIV/0!"}]
[null,null,0,0,{"$error":"#DIV/0!"}]
[null,null,0,0,{"$error":"#DIV/0!"}]
[null,null,0,0,{"$error":"#DIV/0!"}]
[null,null,0,0,{"$error":"#DIV/0!"}]
[null,null,0,0,{"$error":"#DIV/0!"}]
[null,null,0,0,{"$error":"#DIV/0!"}]
[null,null,0,0,{"$error":"#DIV/0!"}]
[null,null,0,0,{"$error":"#DIV/0!"}]
[null,null,0,0,{"$error":"#DIV/0!"}]
[null,null,0,0,{"$error":"#DIV/0!"}]
[null,null,0,0,{"$error":"#DIV/0!"}]
[null,null,0,0,{"$error":"#DIV/0!"}]
[null,null,0,0,{"$error":"#DIV/0!"}]
[null,null,0,0,{"$error":"#DIV/0!"}]
[null,null,0,0,{"$error":"#DIV/0!"}]
[null,null,0,0,{"$error":"#DIV/0!"}]
[null,null,0,0,{"$error":"#DIV/0!"}]
[null,null,0,0,{"$error":"#DIV/0!"}]
[null,null,0,0,{"$error":"#DIV/0!"}]
[null,null,0,0,{"$error":"#DIV/0!"}]
[null,null,0,0,{"$error":"#DIV/0!"}]
[null,null,0,0,{"$error":"#DIV/0!"}]
[null,null,0,0,{"$error":"#DIV/0!"}]
[null,null,0,0,{"$error":"#DIV/0!"}]
[null,null,0,0,{"$error":"#DIV/0!"}]
[null,null,0,0,{"$error":"#DIV/0!"}]
[null,null,0,0,{"$error":"#DIV/0!"}]
[null,null,0,0,{"$error":"#DIV/0!"}]
[null,null,0,0,{"$error":"#DIV/0!"}]
[null,null,0,0,{"$error":"#DIV/0!"}]
[null,null,0,0,{"$error":"#DIV/0!"}]
[null,null,0,0,{"$error":"#DIV/0!"}]
[null,null,0,0,{"$error":"#DIV/0!"}]
[null,null,0,0,{"$error":"#DIV/0!"}]
[null,null,0,0,{"$error":"#DIV/0!"}]
[null,null,0,0,{"$error":"#DIV/0!"}]
[null,null,0,0,{"$error":"#DIV/0!"}]
[null,null,0,0,{"$error":"#DIV/0!"}]
[null,null,0,0,{"$error":"#DIV/0!"}]
[null,null,0,0,{"$error":"#DIV/0!"}]
[null,null,0,0,{"$error":"#DIV/0!"}]
[null,null,0,0,{"$error":"#DIV/0!"}]
[null,null,0,0,{"$error":"#DIV/0!"}]
[null,null,0,0,{"$error":"#DIV/0!"}]
[null,null,0,0,{"$error":"#DIV/0!"}]
[null,null,0,0,{"$error":"#DIV/0!"}]
[null,null,0,0,{"$error":"#DIV/0!"}]
[null,null,0,0,{"$error":"#DIV/0!"}]
[null,null,0,0,{"$error":"#DIV/0!"}]
[null,null,0,{"$f":"IF(C3399=0,0,IF(C3399<=D3398,D3398,IF(C3399>D3398,D3398+B$2)))","v":0},{"$f":"IF(AND((D3399-D3398>0),(D3399<=C$2)),\"Controlla operazione\",0)","v":{"$error":"#DIV/0!"}}]
[null,null,{"$f":"IF(B3400>0,C3399+B3400,)","v":0},0,{"$error":"#DIV/0!"}]
[null,null,0,0,{"$error":"#DIV/0!"}]
[null,null,0,0,{"$error":"#DIV/0!"}]
[null,null,0,0,{"$error":"#DIV/0!"}]
[null,null,0,0,{"$error":"#DIV/0!"}]
[null,null,0,0,{"$error":"#DIV/0!"}]
[null,null,0,0,{"$error":"#DIV/0!"}]
[null,null,0,0,{"$error":"#DIV/0!"}]
[null,null,0,0,{"$error":"#DIV/0!"}]
[null,null,0,0,{"$error":"#DIV/0!"}]
[null,null,0,0,{"$error":"#DIV/0!"}]
[null,null,0,0,{"$error":"#DIV/0!"}]
[null,null,0,0,{"$error":"#DIV/0!"}]
[null,null,0,0,{"$error":"#DIV/0!"}]
[null,null,0,0,{"$error":"#DIV/0!"}]
[null,null,0,0,{"$error":"#DIV/0!"}]
[null,null,0,0,{"$error":"#DIV/0!"}]
[null,null,0,0,{"$error":"#DIV/0!"}]
[null,null,0,0,{"$error":"#DIV/0!"}]
[null,null,0,0,{"$error":"#DIV/0!"}]
[null,null,0,0,{"$error":"#DIV/0!"}]
[null,null,0,0,{"$error":"#DIV/0!"}]
[null,null,0,0,{"$error":"#DIV/0!"}]
[null,null,0,0,{"$error":"#DIV/0!"}]
[null,null,0,0,{"$error":"#DIV/0!"}]
[null,null,0,0,{"$error":"#DIV/0!"}]
[null,null,0,0,{"$error":"#DIV/0!"}]
[null,null,0,0,{"$error":"#DIV/0!"}]
[null,null,0,0,{"$error":"#DIV/0!"}]
[null,null,0,0,{"$error":"#DIV/0!"}]
[null,null,0,0,{"$error":"#DIV/0!"}]
[null,null,0,0,{"$error":"#DIV/0!"}]
[null,null,0,0,{"$error":"#DIV/0!"}]
[null,null,0,0,{"$error":"#DIV/0!"}]
[null,null,0,0,{"$error":"#DIV/0!"}]
[null,null,0,0,{"$error":"#DIV/0!"}]
[null,null,0,0,{"$error":"#DIV/0!"}]
[null,null,0,0,{"$error":"#DIV/0!"}]
[null,null,0,0,{"$error":"#DIV/0!"}]
[null,null,0,0,{"$error":"#DIV/0!"}]
[null,null,0,0,{"$error":"#DIV/0!"}]
[null,null,0,0,{"$error":"#DIV/0!"}]
[null,null,0,0,{"$error":"#DIV/0!"}]
[null,null,0,0,{"$error":"#DIV/0!"}]
[null,null,0,0,{"$error":"#DIV/0!"}]
[null,null,0,0,{"$error":"#DIV/0!"}]
[null,null,0,0,{"$error":"#DIV/0!"}]
[null,null,0,0,{"$error":"#DIV/0!"}]
[null,null,0,0,{"$error":"#DIV/0!"}]
[null,null,0,0,{"$error":"#DIV/0!"}]
[null,null,0,0,{"$error":"#DIV/0!"}]
[null,null,0,0,{"$error":"#DIV/0!"}]
[null,null,0,0,{"$error":"#DIV/0!"}]
[null,null,0,0,{"$error":"#DIV/0!"}]
[null,null,0,0,{"$error":"#DIV/0!"}]
[null,null,0,0,{"$error":"#DIV/0!"}]
[null,null,0,0,{"$error":"#DIV/0!"}]
[null,null,0,0,{"$error":"#DIV/0!"}]
[null,null,0,0,{"$error":"#DIV/0!"}]
[null,null,0,0,{"$error":"#DIV/0!"}]
[null,null,0,0,{"$error":"#DIV/0!"}]
[null,null,0,0,{"$error":"#DIV/0!"}]
[null,null,0,0,{"$error":"#DIV/0!"}]
[null,null,0,{"$f":"IF(C3463=0,0,IF(C3463<=D3462,D3462,IF(C3463>D3462,D3462+B$2)))","v":0},{"$f":"IF(AND((D3463-D3462>0),(D3463<=C$2)),\"Controlla operazione\",0)","v":{"$error":"#DIV/0!"}}]
[null,null,{"$f":"IF(B3464>0,C3463+B3464,)","v":0},0,{"$error":"#DIV/0!"}]
[null,null,0,0,{"$error":"#DIV/0!"}]
[null,null,0,0,{"$error":"#DIV/0!"}]
[null,null,0,0,{"$error":"#DIV/0!"}]
[null,null,0,0,{"$error":"#DIV/0!"}]
[null,null,0,0,{"$error":"#DIV/0!"}]
[null,null,0,0,{"$error":"#DIV/0!"}]
[null,null,0,0,{"$error":"#DIV/0!"}]
[null,null,0,0,{"$error":"#DIV/0!"}]
[null,null,0,0,{"$error":"#DIV/0!"}]
[null,null,0,0,{"$error":"#DIV/0!"}]
[null,null,0,0,{"$error":"#DIV/0!"}]
[null,null,0,0,{"$error":"#DIV/0!"}]
[null,null,0,0,{"$error":"#DIV/0!"}]
[null,null,0,0,{"$error":"#DIV/0!"}]
[null,null,0,0,{"$error":"#DIV/0!"}]
[null,null,0,0,{"$error":"#DIV/0!"}]
[null,null,0,0,{"$error":"#DIV/0!"}]
[null,null,0,0,{"$error":"#DIV/0!"}]
[null,null,0,0,{"$error":"#DIV/0!"}]
[null,null,0,0,{"$error":"#DIV/0!"}]
[null,null,0,0,{"$error":"#DIV/0!"}]
[null,null,0,0,{"$error":"#DIV/0!"}]
[null,null,0,0,{"$error":"#DIV/0!"}]
[null,null,0,0,{"$error":"#DIV/0!"}]
[null,null,0,0,{"$error":"#DIV/0!"}]
[null,null,0,0,{"$error":"#DIV/0!"}]
[null,null,0,0,{"$error":"#DIV/0!"}]
[null,null,0,0,{"$error":"#DIV/0!"}]
[null,null,0,0,{"$error":"#DIV/0!"}]
[null,null,0,0,{"$error":"#DIV/0!"}]
[null,null,0,0,{"$error":"#DIV/0!"}]
[null,null,0,0,{"$error":"#DIV/0!"}]
[null,null,0,0,{"$error":"#DIV/0!"}]
[null,null,0,0,{"$error":"#DIV/0!"}]
[null,null,0,0,{"$error":"#DIV/0!"}]
[null,null,0,0,{"$error":"#DIV/0!"}]
[null,null,0,0,{"$error":"#DIV/0!"}]
[null,null,0,0,{"$error":"#DIV/0!"}]
[null,null,0,0,{"$error":"#DIV/0!"}]
[null,null,0,0,{"$error":"#DIV/0!"}]
[null,null,0,0,{"$error":"#DIV/0!"}]
[null,null,0,0,{"$error":"#DIV/0!"}]
[null,null,0,0,{"$error":"#DIV/0!"}]
[null,null,0,0,{"$error":"#DIV/0!"}]
[null,null,0,0,{"$error":"#DIV/0!"}]
[null,null,0,0,{"$error":"#DIV/0!"}]
[null,null,0,0,{"$error":"#DIV/0!"}]
[null,null,0,0,{"$error":"#DIV/0!"}]
[null,null,0,0,{"$error":"#DIV/0!"}]
[null,null,0,0,{"$error":"#DIV/0!"}]
[null,null,0,0,{"$error":"#DIV/0!"}]
[null,null,0,0,{"$error":"#DIV/0!"}]
[null,null,0,0,{"$error":"#DIV/0!"}]
[null,null,0,0,{"$error":"#DIV/0!"}]
[null,null,0,0,{"$error":"#DIV/0!"}]
[null,null,0,0,{"$error":"#DIV/0!"}]
[null,null,0,0,{"$error":"#DIV/0!"}]
[null,null,0,0,{"$error":"#DIV/0!"}]
[null,null,0,0,{"$error":"#DIV/0!"}]
[null,null,0,0,{"$error":"#DIV/0!"}]
[null,null,0,0,{"$error":"#DIV/0!"}]
[null,null,0,0,{"$error":"#DIV/0!"}]
[null,null,0,{"$f":"IF(C3527=0,0,IF(C3527<=D3526,D3526,IF(C3527>D3526,D3526+B$2)))","v":0},{"$f":"IF(AND((D3527-D3526>0),(D3527<=C$2)),\"Controlla operazione\",0)","v":{"$error":"#DIV/0!"}}]
[null,null,{"$f":"IF(B3528>0,C3527+B3528,)","v":0},0,{"$error":"#DIV/0!"}]
[null,null,0,0,{"$error":"#DIV/0!"}]
[null,null,0,0,{"$error":"#DIV/0!"}]
[null,null,0,0,{"$error":"#DIV/0!"}]
[null,null,0,0,{"$error":"#DIV/0!"}]
[null,null,0,0,{"$error":"#DIV/0!"}]
[null,null,0,0,{"$error":"#DIV/0!"}]
[null,null,0,0,{"$error":"#DIV/0!"}]
[null,null,0,0,{"$error":"#DIV/0!"}]
[null,null,0,0,{"$error":"#DIV/0!"}]
[null,null,0,0,{"$error":"#DIV/0!"}]
[null,null,0,0,{"$error":"#DIV/0!"}]
[null,null,0,0,{"$error":"#DIV/0!"}]
[null,null,0,0,{"$error":"#DIV/0!"}]
[null,null,0,0,{"$error":"#DIV/0!"}]
[null,null,0,0,{"$error":"#DIV/0!"}]
[null,null,0,0,{"$error":"#DIV/0!"}]
[null,null,0,0,{"$error":"#DIV/0!"}]
[null,null,0,0,{"$error":"#DIV/0!"}]
[null,null,0,0,{"$error":"#DIV/0!"}]
[null,null,0,0,{"$error":"#DIV/0!"}]
[null,null,0,0,{"$error":"#DIV/0!"}]
[null,null,0,0,{"$error":"#DIV/0!"}]
[null,null,0,0,{"$error":"#DIV/0!"}]
[null,null,0,0,{"$error":"#DIV/0!"}]
[null,null,0,0,{"$error":"#DIV/0!"}]
[null,null,0,0,{"$error":"#DIV/0!"}]
[null,null,0,0,{"$error":"#DIV/0!"}]
[null,null,0,0,{"$error":"#DIV/0!"}]
[null,null,0,0,{"$error":"#DIV/0!"}]
[null,null,0,0,{"$error":"#DIV/0!"}]
[null,null,0,0,{"$error":"#DIV/0!"}]
[null,null,0,0,{"$error":"#DIV/0!"}]
[null,null,0,0,{"$error":"#DIV/0!"}]
[null,null,0,0,{"$error":"#DIV/0!"}]
[null,null,0,0,{"$error":"#DIV/0!"}]
[null,null,0,0,{"$error":"#DIV/0!"}]
[null,null,0,0,{"$error":"#DIV/0!"}]
[null,null,0,0,{"$error":"#DIV/0!"}]
[null,null,0,0,{"$error":"#DIV/0!"}]
[null,null,0,0,{"$error":"#DIV/0!"}]
[null,null,0,0,{"$error":"#DIV/0!"}]
[null,null,0,0,{"$error":"#DIV/0!"}]
[null,null,0,0,{"$error":"#DIV/0!"}]
[null,null,0,0,{"$error":"#DIV/0!"}]
[null,null,0,0,{"$error":"#DIV/0!"}]
[null,null,0,0,{"$error":"#DIV/0!"}]
[null,null,0,0,{"$error":"#DIV/0!"}]
[null,null,0,0,{"$error":"#DIV/0!"}]
[null,null,0,0,{"$error":"#DIV/0!"}]
[null,null,0,0,{"$error":"#DIV/0!"}]
[null,null,0,0,{"$error":"#DIV/0!"}]
[null,null,0,0,{"$error":"#DIV/0!"}]
[null,null,0,0,{"$error":"#DIV/0!"}]
[null,null,0,0,{"$error":"#DIV/0!"}]
[null,null,0,0,{"$error":"#DIV/0!"}]
[null,null,0,0,{"$error":"#DIV/0!"}]
[null,null,0,0,{"$error":"#DIV/0!"}]
[null,null,0,0,{"$error":"#DIV/0!"}]
[null,null,0,0,{"$error":"#DIV/0!"}]
[null,null,0,0,{"$error":"#DIV/0!"}]
[null,null,0,0,{"$error":"#DIV/0!"}]
[null,null,0,0,{"$error":"#DIV/0!"}]
[null,null,0,{"$f":"IF(C3591=0,0,IF(C3591<=D3590,D3590,IF(C3591>D3590,D3590+B$2)))","v":0},{"$f":"IF(AND((D3591-D3590>0),(D3591<=C$2)),\"Controlla operazione\",0)","v":{"$error":"#DIV/0!"}}]
[null,null,{"$f":"IF(B3592>0,C3591+B3592,)","v":0},0,{"$error":"#DIV/0!"}]
[null,null,0,0,{"$error":"#DIV/0!"}]
[null,null,0,0,{"$error":"#DIV/0!"}]
[null,null,0,0,{"$error":"#DIV/0!"}]
[null,null,0,0,{"$error":"#DIV/0!"}]
[null,null,0,0,{"$error":"#DIV/0!"}]
[null,null,0,0,{"$error":"#DIV/0!"}]
[null,null,0,0,{"$error":"#DIV/0!"}]
[null,null,0,0,{"$error":"#DIV/0!"}]
[null,null,0,0,{"$error":"#DIV/0!"}]
[null,null,0,0,{"$error":"#DIV/0!"}]
[null,null,0,0,{"$error":"#DIV/0!"}]
[null,null,0,0,{"$error":"#DIV/0!"}]
[null,null,0,0,{"$error":"#DIV/0!"}]
[null,null,0,0,{"$error":"#DIV/0!"}]
[null,null,0,0,{"$error":"#DIV/0!"}]
[null,null,0,0,{"$error":"#DIV/0!"}]
[null,null,0,0,{"$error":"#DIV/0!"}]
[null,null,0,0,{"$error":"#DIV/0!"}]
[null,null,0,0,{"$error":"#DIV/0!"}]
[null,null,0,0,{"$error":"#DIV/0!"}]
[null,null,0,0,{"$error":"#DIV/0!"}]
[null,null,0,0,{"$error":"#DIV/0!"}]
[null,null,0,0,{"$error":"#DIV/0!"}]
[null,null,0,0,{"$error":"#DIV/0!"}]
[null,null,0,0,{"$error":"#DIV/0!"}]
[null,null,0,0,{"$error":"#DIV/0!"}]
[null,null,0,0,{"$error":"#DIV/0!"}]
[null,null,0,0,{"$error":"#DIV/0!"}]
[null,null,0,0,{"$error":"#DIV/0!"}]
[null,null,0,0,{"$error":"#DIV/0!"}]
[null,null,0,0,{"$error":"#DIV/0!"}]
[null,null,0,0,{"$error":"#DIV/0!"}]
[null,null,0,0,{"$error":"#DIV/0!"}]
[null,null,0,0,{"$error":"#DIV/0!"}]
[null,null,0,0,{"$error":"#DIV/0!"}]
[null,null,0,0,{"$error":"#DIV/0!"}]
[null,null,0,0,{"$error":"#DIV/0!"}]
[null,null,0,0,{"$error":"#DIV/0!"}]
[null,null,0,0,{"$error":"#DIV/0!"}]
[null,null,0,0,{"$error":"#DIV/0!"}]
[null,null,0,0,{"$error":"#DIV/0!"}]
[null,null,0,0,{"$error":"#DIV/0!"}]
[null,null,0,0,{"$error":"#DIV/0!"}]
[null,null,0,0,{"$error":"#DIV/0!"}]
[null,null,0,0,{"$error":"#DIV/0!"}]
[null,null,0,0,{"$error":"#DIV/0!"}]
[null,null,0,0,{"$error":"#DIV/0!"}]
[null,null,0,0,{"$error":"#DIV/0!"}]
[null,null,0,0,{"$error":"#DIV/0!"}]
[null,null,0,0,{"$error":"#DIV/0!"}]
[null,null,0,0,{"$error":"#DIV/0!"}]
[null,null,0,0,{"$error":"#DIV/0!"}]
[null,null,0,0,{"$error":"#DIV/0!"}]
[null,null,0,0,{"$error":"#DIV/0!"}]
[null,null,0,0,{"$error":"#DIV/0!"}]
[null,null,0,0,{"$error":"#DIV/0!"}]
[null,null,0,0,{"$error":"#DIV/0!"}]
[null,null,0,0,{"$error":"#DIV/0!"}]
[null,null,0,0,{"$error":"#DIV/0!"}]
[null,null,0,0,{"$error":"#DIV/0!"}]
[null,null,0,0,{"$error":"#DIV/0!"}]
[null,null,0,0,{"$error":"#DIV/0!"}]
[null,null,0,{"$f":"IF(C3655=0,0,IF(C3655<=D3654,D3654,IF(C3655>D3654,D3654+B$2)))","v":0},{"$f":"IF(AND((D3655-D3654>0),(D3655<=C$2)),\"Controlla operazione\",0)","v":{"$error":"#DIV/0!"}}]
[null,null,{"$f":"IF(B3656>0,C3655+B3656,)","v":0},0,{"$error":"#DIV/0!"}]
[null,null,0,0,{"$error":"#DIV/0!"}]
[null,null,0,0,{"$error":"#DIV/0!"}]
[null,null,0,0,{"$error":"#DIV/0!"}]
[null,null,0,0,{"$error":"#DIV/0!"}]
[null,null,0,0,{"$error":"#DIV/0!"}]
[null,null,0,0,{"$error":"#DIV/0!"}]
[null,null,0,0,{"$error":"#DIV/0!"}]
[null,null,0,0,{"$error":"#DIV/0!"}]
[null,null,0,0,{"$error":"#DIV/0!"}]
[null,null,0,0,{"$error":"#DIV/0!"}]
[null,null,0,0,{"$error":"#DIV/0!"}]
[null,null,0,0,{"$error":"#DIV/0!"}]
[null,null,0,0,{"$error":"#DIV/0!"}]
[null,null,0,0,{"$error":"#DIV/0!"}]
[null,null,0,0,{"$error":"#DIV/0!"}]
[null,null,0,0,{"$error":"#DIV/0!"}]
[null,null,0,0,{"$error":"#DIV/0!"}]
[null,null,0,0,{"$error":"#DIV/0!"}]
[null,null,0,0,{"$error":"#DIV/0!"}]
[null,null,0,0,{"$error":"#DIV/0!"}]
[null,null,0,0,{"$error":"#DIV/0!"}]
[null,null,0,0,{"$error":"#DIV/0!"}]
[null,null,0,0,{"$error":"#DIV/0!"}]
[null,null,0,0,{"$error":"#DIV/0!"}]
[null,null,0,0,{"$error":"#DIV/0!"}]
[null,null,0,0,{"$error":"#DIV/0!"}]
[null,null,0,0,{"$error":"#DIV/0!"}]
[null,null,0,0,{"$error":"#DIV/0!"}]
[null,null,0,0,{"$error":"#DIV/0!"}]
[null,null,0,0,{"$error":"#DIV/0!"}]
[null,null,0,0,{"$error":"#DIV/0!"}]
[null,null,0,0,{"$error":"#DIV/0!"}]
[null,null,0,0,{"$error":"#DIV/0!"}]
[null,null,0,0,{"$error":"#DIV/0!"}]
[null,null,0,0,{"$error":"#DIV/0!"}]
[null,null,0,0,{"$error":"#DIV/0!"}]
[null,null,0,0,{"$error":"#DIV/0!"}]
[null,null,0,0,{"$error":"#DIV/0!"}]
[null,null,0,0,{"$error":"#DIV/0!"}]
[null,null,0,0,{"$error":"#DIV/0!"}]
[null,null,0,0,{"$error":"#DIV/0!"}]
[null,null,0,0,{"$error":"#DIV/0!"}]
[null,null,0,0,{"$error":"#DIV/0!"}]
[null,null,0,0,{"$error":"#DIV/0!"}]
[null,null,0,0,{"$error":"#DIV/0!"}]
[null,null,0,0,{"$error":"#DIV/0!"}]
[null,null,0,0,{"$error":"#DIV/0!"}]
[null,null,0,0,{"$error":"#DIV/0!"}]
[null,null,0,0,{"$error":"#DIV/0!"}]
[null,null,0,0,{"$error":"#DIV/0!"}]
[null,null,0,0,{"$error":"#DIV/0!"}]
[null,null,0,0,{"$error":"#DIV/0!"}]
[null,null,0,0,{"$error":"#DIV/0!"}]
[null,null,0,0,{"$error":"#DIV/0!"}]
[null,null,0,0,{"$error":"#DIV/0!"}]
[null,null,0,0,{"$error":"#DIV/0!"}]
[null,null,0,0,{"$error":"#DIV/0!"}]
[null,null,0,0,{"$error":"#DIV/0!"}]
[null,null,0,0,{"$error":"#DIV/0!"}]
[null,null,0,0,{"$error":"#DIV/0!"}]
[null,null,0,0,{"$error":"#DIV/0!"}]
[null,null,0,0,{"$error":"#DIV/0!"}]
[null,null,0,{"$f":"IF(C3719=0,0,IF(C3719<=D3718,D3718,IF(C3719>D3718,D3718+B$2)))","v":0},{"$f":"IF(AND((D3719-D3718>0),(D3719<=C$2)),\"Controlla operazione\",0)","v":{"$error":"#DIV/0!"}}]
[null,null,{"$f":"IF(B3720>0,C3719+B3720,)","v":0},0,{"$error":"#DIV/0!"}]
[null,null,0,0,{"$error":"#DIV/0!"}]
[null,null,0,0,{"$error":"#DIV/0!"}]
[null,null,0,0,{"$error":"#DIV/0!"}]
[null,null,0,0,{"$error":"#DIV/0!"}]
[null,null,0,0,{"$error":"#DIV/0!"}]
[null,null,0,0,{"$error":"#DIV/0!"}]
[null,null,0,0,{"$error":"#DIV/0!"}]
[null,null,0,0,{"$error":"#DIV/0!"}]
[null,null,0,0,{"$error":"#DIV/0!"}]
[null,null,0,0,{"$error":"#DIV/0!"}]
[null,null,0,0,{"$error":"#DIV/0!"}]
[null,null,0,0,{"$error":"#DIV/0!"}]
[null,null,0,0,{"$error":"#DIV/0!"}]
[null,null,0,0,{"$error":"#DIV/0!"}]
[null,null,0,0,{"$error":"#DIV/0!"}]
[null,null,0,0,{"$error":"#DIV/0!"}]
[null,null,0,0,{"$error":"#DIV/0!"}]
[null,null,0,0,{"$error":"#DIV/0!"}]
[null,null,0,0,{"$error":"#DIV/0!"}]
[null,null,0,0,{"$error":"#DIV/0!"}]
[null,null,0,0,{"$error":"#DIV/0!"}]
[null,null,0,0,{"$error":"#DIV/0!"}]
[null,null,0,0,{"$error":"#DIV/0!"}]
[null,null,0,0,{"$error":"#DIV/0!"}]
[null,null,0,0,{"$error":"#DIV/0!"}]
[null,null,0,0,{"$error":"#DIV/0!"}]
[null,null,0,0,{"$error":"#DIV/0!"}]
[null,null,0,0,{"$error":"#DIV/0!"}]
[null,null,0,0,{"$error":"#DIV/0!"}]
[null,null,0,0,{"$error":"#DIV/0!"}]
[null,null,0,0,{"$error":"#DIV/0!"}]
[null,null,0,0,{"$error":"#DIV/0!"}]
[null,null,0,0,{"$error":"#DIV/0!"}]
[null,null,0,0,{"$error":"#DIV/0!"}]
[null,null,0,0,{"$error":"#DIV/0!"}]
[null,null,0,0,{"$error":"#DIV/0!"}]
[null,null,0,0,{"$error":"#DIV/0!"}]
[null,null,0,0,{"$error":"#DIV/0!"}]
[null,null,0,0,{"$error":"#DIV/0!"}]
[null,null,0,0,{"$error":"#DIV/0!"}]
[null,null,0,0,{"$error":"#DIV/0!"}]
[null,null,0,0,{"$error":"#DIV/0!"}]
[null,null,0,0,{"$error":"#DIV/0!"}]
[null,null,0,0,{"$error":"#DIV/0!"}]
[null,null,0,0,{"$error":"#DIV/0!"}]
[null,null,0,0,{"$error":"#DIV/0!"}]
[null,null,0,0,{"$error":"#DIV/0!"}]
[null,null,0,0,{"$error":"#DIV/0!"}]
[null,null,0,0,{"$error":"#DIV/0!"}]
[null,null,0,0,{"$error":"#DIV/0!"}]
[null,null,0,0,{"$error":"#DIV/0!"}]
[null,null,0,0,{"$error":"#DIV/0!"}]
[null,null,0,0,{"$error":"#DIV/0!"}]
[null,null,0,0,{"$error":"#DIV/0!"}]
[null,null,0,0,{"$error":"#DIV/0!"}]
[null,null,0,0,{"$error":"#DIV/0!"}]
[null,null,0,0,{"$error":"#DIV/0!"}]
[null,null,0,0,{"$error":"#DIV/0!"}]
[null,null,0,0,{"$error":"#DIV/0!"}]
[null,null,0,0,{"$error":"#DIV/0!"}]
[null,null,0,0,{"$error":"#DIV/0!"}]
[null,null,0,0,{"$error":"#DIV/0!"}]
[null,null,0,{"$f":"IF(C3783=0,0,IF(C3783<=D3782,D3782,IF(C3783>D3782,D3782+B$2)))","v":0},{"$f":"IF(AND((D3783-D3782>0),(D3783<=C$2)),\"Controlla operazione\",0)","v":{"$error":"#DIV/0!"}}]
[null,null,{"$f":"IF(B3784>0,C3783+B3784,)","v":0},0,{"$error":"#DIV/0!"}]
[null,null,0,0,{"$error":"#DIV/0!"}]
[null,null,0,0,{"$error":"#DIV/0!"}]
[null,null,0,0,{"$error":"#DIV/0!"}]
[null,null,0,0,{"$error":"#DIV/0!"}]
[null,null,0,0,{"$error":"#DIV/0!"}]
[null,null,0,0,{"$error":"#DIV/0!"}]
[null,null,0,0,{"$error":"#DIV/0!"}]
[null,null,0,0,{"$error":"#DIV/0!"}]
[null,null,0,0,{"$error":"#DIV/0!"}]
[null,null,0,0,{"$error":"#DIV/0!"}]
[null,null,0,0,{"$error":"#DIV/0!"}]
[null,null,0,0,{"$error":"#DIV/0!"}]
[null,null,0,0,{"$error":"#DIV/0!"}]
[null,null,0,0,{"$error":"#DIV/0!"}]
[null,null,0,0,{"$error":"#DIV/0!"}]
[null,null,0,0,{"$error":"#DIV/0!"}]
[null,null,0,0,{"$error":"#DIV/0!"}]
[null,null,0,0,{"$error":"#DIV/0!"}]
[null,null,0,0,{"$error":"#DIV/0!"}]
[null,null,0,0,{"$error":"#DIV/0!"}]
[null,null,0,0,{"$error":"#DIV/0!"}]
[null,null,0,0,{"$error":"#DIV/0!"}]
[null,null,0,0,{"$error":"#DIV/0!"}]
[null,null,0,0,{"$error":"#DIV/0!"}]
[null,null,0,0,{"$error":"#DIV/0!"}]
[null,null,0,0,{"$error":"#DIV/0!"}]
[null,null,0,0,{"$error":"#DIV/0!"}]
[null,null,0,0,{"$error":"#DIV/0!"}]
[null,null,0,0,{"$error":"#DIV/0!"}]
[null,null,0,0,{"$error":"#DIV/0!"}]
[null,null,0,0,{"$error":"#DIV/0!"}]
[null,null,0,0,{"$error":"#DIV/0!"}]
[null,null,0,0,{"$error":"#DIV/0!"}]
[null,null,0,0,{"$error":"#DIV/0!"}]
[null,null,0,0,{"$error":"#DIV/0!"}]
[null,null,0,0,{"$error":"#DIV/0!"}]
[null,null,0,0,{"$error":"#DIV/0!"}]
[null,null,0,0,{"$error":"#DIV/0!"}]
[null,null,0,0,{"$error":"#DIV/0!"}]
[null,null,0,0,{"$error":"#DIV/0!"}]
[null,null,0,0,{"$error":"#DIV/0!"}]
[null,null,0,0,{"$error":"#DIV/0!"}]
[null,null,0,0,{"$error":"#DIV/0!"}]
[null,null,0,0,{"$error":"#DIV/0!"}]
[null,null,0,0,{"$error":"#DIV/0!"}]
[null,null,0,0,{"$error":"#DIV/0!"}]
[null,null,0,0,{"$error":"#DIV/0!"}]
[null,null,0,0,{"$error":"#DIV/0!"}]
[null,null,0,0,{"$error":"#DIV/0!"}]
[null,null,0,0,{"$error":"#DIV/0!"}]
[null,null,0,0,{"$error":"#DIV/0!"}]
[null,null,0,0,{"$error":"#DIV/0!"}]
[null,null,0,0,{"$error":"#DIV/0!"}]
[null,null,0,0,{"$error":"#DIV/0!"}]
[null,null,0,0,{"$error":"#DIV/0!"}]
[null,null,0,0,{"$error":"#DIV/0!"}]
[null,null,0,0,{"$error":"#DIV/0!"}]
[null,null,0,0,{"$error":"#DIV/0!"}]
[null,null,0,0,{"$error":"#DIV/0!"}]
[null,null,0,0,{"$error":"#DIV/0!"}]
[null,null,0,0,{"$error":"#DIV/0!"}]
[null,null,0,0,{"$error":"#DIV/0!"}]
[null,null,0,{"$f":"IF(C3847=0,0,IF(C3847<=D3846,D3846,IF(C3847>D3846,D3846+B$2)))","v":0},{"$f":"IF(AND((D3847-D3846>0),(D3847<=C$2)),\"Controlla operazione\",0)","v":{"$error":"#DIV/0!"}}]
[null,null,{"$f":"IF(B3848>0,C3847+B3848,)","v":0},0,{"$error":"#DIV/0!"}]
[null,null,0,0,{"$error":"#DIV/0!"}]
[null,null,0,0,{"$error":"#DIV/0!"}]
[null,null,0,0,{"$error":"#DIV/0!"}]
[null,null,0,0,{"$error":"#DIV/0!"}]
[null,null,0,0,{"$error":"#DIV/0!"}]
[null,null,0,0,{"$error":"#DIV/0!"}]
[null,null,0,0,{"$error":"#DIV/0!"}]
[null,null,0,0,{"$error":"#DIV/0!"}]
[null,null,0,0,{"$error":"#DIV/0!"}]
[null,null,0,0,{"$error":"#DIV/0!"}]
[null,null,0,0,{"$error":"#DIV/0!"}]
[null,null,0,0,{"$error":"#DIV/0!"}]
[null,null,0,0,{"$error":"#DIV/0!"}]
[null,null,0,0,{"$error":"#DIV/0!"}]
[null,null,0,0,{"$error":"#DIV/0!"}]
[null,null,0,0,{"$error":"#DIV/0!"}]
[null,null,0,0,{"$error":"#DIV/0!"}]
[null,null,0,0,{"$error":"#DIV/0!"}]
[null,null,0,0,{"$error":"#DIV/0!"}]
[null,null,0,0,{"$error":"#DIV/0!"}]
[null,null,0,0,{"$error":"#DIV/0!"}]
[null,null,0,0,{"$error":"#DIV/0!"}]
[null,null,0,0,{"$error":"#DIV/0!"}]
[null,null,0,0,{"$error":"#DIV/0!"}]
[null,null,0,0,{"$error":"#DIV/0!"}]
[null,null,0,0,{"$error":"#DIV/0!"}]
[null,null,0,0,{"$error":"#DIV/0!"}]
[null,null,0,0,{"$error":"#DIV/0!"}]
[null,null,0,0,{"$error":"#DIV/0!"}]
[null,null,0,0,{"$error":"#DIV/0!"}]
[null,null,0,0,{"$error":"#DIV/0!"}]
[null,null,0,0,{"$error":"#DIV/0!"}]
[null,null,0,0,{"$error":"#DIV/0!"}]
[null,null,0,0,{"$error":"#DIV/0!"}]
[null,null,0,0,{"$error":"#DIV/0!"}]
[null,null,0,0,{"$error":"#DIV/0!"}]
[null,null,0,0,{"$error":"#DIV/0!"}]
[null,null,0,0,{"$error":"#DIV/0!"}]
[null,null,0,0,{"$error":"#DIV/0!"}]
[null,null,0,0,{"$error":"#DIV/0!"}]
[null,null,0,0,{"$error":"#DIV/0!"}]
[null,null,0,0,{"$error":"#DIV/0!"}]
[null,null,0,0,{"$error":"#DIV/0!"}]
[null,null,0,0,{"$error":"#DIV/0!"}]
[null,null,0,0,{"$error":"#DIV/0!"}]
[null,null,0,0,{"$error":"#DIV/0!"}]
[null,null,0,0,{"$error":"#DIV/0!"}]
[null,null,0,0,{"$error":"#DIV/0!"}]
[null,null,0,0,{"$error":"#DIV/0!"}]
[null,null,0,0,{"$error":"#DIV/0!"}]
[null,null,0,0,{"$error":"#DIV/0!"}]
[null,null,0,0,{"$error":"#DIV/0!"}]
[null,null,0,0,{"$error":"#DIV/0!"}]
[null,null,0,0,{"$error":"#DIV/0!"}]
[null,null,0,0,{"$error":"#DIV/0!"}]
[null,null,0,0,{"$error":"#DIV/0!"}]
[null,null,0,0,{"$error":"#DIV/0!"}]
[null,null,0,0,{"$error":"#DIV/0!"}]
[null,null,0,0,{"$error":"#DIV/0!"}]
[null,null,0,0,{"$error":"#DIV/0!"}]
[null,null,0,0,{"$error":"#DIV/0!"}]
[null,null,0,0,{"$error":"#DIV/0!"}]
[null,null,0,{"$f":"IF(C3911=0,0,IF(C3911<=D3910,D3910,IF(C3911>D3910,D3910+B$2)))","v":0},{"$f":"IF(AND((D3911-D3910>0),(D3911<=C$2)),\"Controlla operazione\",0)","v":{"$error":"#DIV/0!"}}]
[null,null,{"$f":"IF(B3912>0,C3911+B3912,)","v":0},0,{"$error":"#DIV/0!"}]
[null,null,0,0,{"$error":"#DIV/0!"}]
[null,null,0,0,{"$error":"#DIV/0!"}]
[null,null,0,0,{"$error":"#DIV/0!"}]
[null,null,0,0,{"$error":"#DIV/0!"}]
[null,null,0,0,{"$error":"#DIV/0!"}]
[null,null,0,0,{"$error":"#DIV/0!"}]
[null,null,0,0,{"$error":"#DIV/0!"}]
[null,null,0,0,{"$error":"#DIV/0!"}]
[null,null,0,0,{"$error":"#DIV/0!"}]
[null,null,0,0,{"$error":"#DIV/0!"}]
[null,null,0,0,{"$error":"#DIV/0!"}]
[null,null,0,0,{"$error":"#DIV/0!"}]
[null,null,0,0,{"$error":"#DIV/0!"}]
[null,null,0,0,{"$error":"#DIV/0!"}]
[null,null,0,0,{"$error":"#DIV/0!"}]
[null,null,0,0,{"$error":"#DIV/0!"}]
[null,null,0,0,{"$error":"#DIV/0!"}]
[null,null,0,0,{"$error":"#DIV/0!"}]
[null,null,0,0,{"$error":"#DIV/0!"}]
[null,null,0,0,{"$error":"#DIV/0!"}]
[null,null,0,0,{"$error":"#DIV/0!"}]
[null,null,0,0,{"$error":"#DIV/0!"}]
[null,null,0,0,{"$error":"#DIV/0!"}]
[null,null,0,0,{"$error":"#DIV/0!"}]
[null,null,0,0,{"$error":"#DIV/0!"}]
[null,null,0,0,{"$error":"#DIV/0!"}]
[null,null,0,0,{"$error":"#DIV/0!"}]
[null,null,0,0,{"$error":"#DIV/0!"}]
[null,null,0,0,{"$error":"#DIV/0!"}]
[null,null,0,0,{"$error":"#DIV/0!"}]
[null,null,0,0,{"$error":"#DIV/0!"}]
[null,null,0,0,{"$error":"#DIV/0!"}]
[null,null,0,0,{"$error":"#DIV/0!"}]
[null,null,0,0,{"$error":"#DIV/0!"}]
[null,null,0,0,{"$error":"#DIV/0!"}]
[null,null,0,0,{"$error":"#DIV/0!"}]
[null,null,0,0,{"$error":"#DIV/0!"}]
[null,null,0,0,{"$error":"#DIV/0!"}]
[null,null,0,0,{"$error":"#DIV/0!"}]
[null,null,0,0,{"$error":"#DIV/0!"}]
[null,null,0,0,{"$error":"#DIV/0!"}]
[null,null,0,0,{"$error":"#DIV/0!"}]
[null,null,0,0,{"$error":"#DIV/0!"}]
[null,null,0,0,{"$error":"#DIV/0!"}]
[null,null,0,0,{"$error":"#DIV/0!"}]
[null,null,0,0,{"$error":"#DIV/0!"}]
[null,null,0,0,{"$error":"#DIV/0!"}]
[null,null,0,0,{"$error":"#DIV/0!"}]
[null,null,0,0,{"$error":"#DIV/0!"}]
[null,null,0,0,{"$error":"#DIV/0!"}]
[null,null,0,0,{"$error":"#DIV/0!"}]
[null,null,0,0,{"$error":"#DIV/0!"}]
[null,null,0,0,{"$error":"#DIV/0!"}]
[null,null,0,0,{"$error":"#DIV/0!"}]
[null,null,0,0,{"$error":"#DIV/0!"}]
[null,null,0,0,{"$error":"#DIV/0!"}]
[null,null,0,0,{"$error":"#DIV/0!"}]
[null,null,0,0,{"$error":"#DIV/0!"}]
[null,null,0,0,{"$error":"#DIV/0!"}]
[null,null,0,0,{"$error":"#DIV/0!"}]
[null,null,0,0,{"$error":"#DIV/0!"}]
[null,null,0,0,{"$error":"#DIV/0!"}]
[null,null,0,{"$f":"IF(C3975=0,0,IF(C3975<=D3974,D3974,IF(C3975>D3974,D3974+B$2)))","v":0},{"$f":"IF(AND((D3975-D3974>0),(D3975<=C$2)),\"Controlla operazione\",0)","v":{"$error":"#DIV/0!"}}]
[null,null,{"$f":"IF(B3976>0,C3975+B3976,)","v":0},0,{"$error":"#DIV/0!"}]
[null,null,0,0,{"$error":"#DIV/0!"}]
[null,null,0,0,{"$error":"#DIV/0!"}]
[null,null,0,0,{"$error":"#DIV/0!"}]
[null,null,0,0,{"$error":"#DIV/0!"}]
[null,null,0,0,{"$error":"#DIV/0!"}]
[null,null,0,0,{"$error":"#DIV/0!"}]
[null,null,0,0,{"$error":"#DIV/0!"}]
[null,null,0,0,{"$error":"#DIV/0!"}]
[null,null,0,0,{"$error":"#DIV/0!"}]
[null,null,0,0,{"$error":"#DIV/0!"}]
[null,null,0,0,{"$error":"#DIV/0!"}]
[null,null,0,0,{"$error":"#DIV/0!"}]
[null,null,0,0,{"$error":"#DIV/0!"}]
[null,null,0,0,{"$error":"#DIV/0!"}]
[null,null,0,0,{"$error":"#DIV/0!"}]
[null,null,0,0,{"$error":"#DIV/0!"}]
[null,null,0,0,{"$error":"#DIV/0!"}]
[null,null,0,0,{"$error":"#DIV/0!"}]
[null,null,0,0,{"$error":"#DIV/0!"}]
[null,null,0,0,{"$error":"#DIV/0!"}]
[null,null,0,0,{"$error":"#DIV/0!"}]
[null,null,0,0,{"$error":"#DIV/0!"}]
[null,null,0,0,{"$error":"#DIV/0!"}]
[null,null,0,0,{"$error":"#DIV/0!"}]
[null,null,0,0,{"$error":"#DIV/0!"}]
[null,null,0,0,{"$error":"#DIV/0!"}]
[null,null,0,0,{"$error":"#DIV/0!"}]
[null,null,0,0,{"$error":"#DIV/0!"}]
[null,null,0,0,{"$error":"#DIV/0!"}]
[null,null,0,0,{"$error":"#DIV/0!"}]
[null,null,0,0,{"$error":"#DIV/0!"}]
[null,null,0,0,{"$error":"#DIV/0!"}]
[null,null,0,0,{"$error":"#DIV/0!"}]
[null,null,0,0,{"$error":"#DIV/0!"}]
[null,null,0,0,{"$error":"#DIV/0!"}]
[null,null,0,0,{"$error":"#DIV/0!"}]
[null,null,0,0,{"$error":"#DIV/0!"}]
[null,null,0,0,{"$error":"#DIV/0!"}]
[null,null,0,0,{"$error":"#DIV/0!"}]
[null,null,0,0,{"$error":"#DIV/0!"}]
[null,null,0,0,{"$error":"#DIV/0!"}]
[null,null,0,0,{"$error":"#DIV/0!"}]
[null,null,0,0,{"$error":"#DIV/0!"}]
[null,null,0,0,{"$error":"#DIV/0!"}]
[null,null,0,0,{"$error":"#DIV/0!"}]
[null,null,0,0,{"$error":"#DIV/0!"}]
[null,null,0,0,{"$error":"#DIV/0!"}]
[null,null,0,0,{"$error":"#DIV/0!"}]
[null,null,0,0,{"$error":"#DIV/0!"}]
[null,null,0,0,{"$error":"#DIV/0!"}]
[null,null,0,0,{"$error":"#DIV/0!"}]
[null,null,0,0,{"$error":"#DIV/0!"}]
[null,null,0,0,{"$error":"#DIV/0!"}]
[null,null,0,0,{"$error":"#DIV/0!"}]
[null,null,0,0,{"$error":"#DIV/0!"}]
[null,null,0,0,{"$error":"#DIV/0!"}]
[null,null,0,0,{"$error":"#DIV/0!"}]
[null,null,0,0,{"$error":"#DIV/0!"}]
[null,null,0,0,{"$error":"#DIV/0!"}]
[null,null,0,0,{"$error":"#DIV/0!"}]
[null,null,0,0,{"$error":"#DIV/0!"}]
[null,null,0,0,{"$error":"#DIV/0!"}]
[null,null,0,{"$f":"IF(C4039=0,0,IF(C4039<=D4038,D4038,IF(C4039>D4038,D4038+B$2)))","v":0},{"$f":"IF(AND((D4039-D4038>0),(D4039<=C$2)),\"Controlla operazione\",0)","v":{"$error":"#DIV/0!"}}]
[null,null,{"$f":"IF(B4040>0,C4039+B4040,)","v":0},0,{"$error":"#DIV/0!"}]
[null,null,0,0,{"$error":"#DIV/0!"}]
[null,null,0,0,{"$error":"#DIV/0!"}]
[null,null,0,0,{"$error":"#DIV/0!"}]
[null,null,0,0,{"$error":"#DIV/0!"}]
[null,null,0,0,{"$error":"#DIV/0!"}]
[null,null,0,0,{"$error":"#DIV/0!"}]
[null,null,0,0,{"$error":"#DIV/0!"}]
[null,null,0,0,{"$error":"#DIV/0!"}]
[null,null,0,0,{"$error":"#DIV/0!"}]
[null,null,0,0,{"$error":"#DIV/0!"}]
[null,null,0,0,{"$error":"#DIV/0!"}]
[null,null,0,0,{"$error":"#DIV/0!"}]
[null,null,0,0,{"$error":"#DIV/0!"}]
[null,null,0,0,{"$error":"#DIV/0!"}]
[null,null,0,0,{"$error":"#DIV/0!"}]
[null,null,0,0,{"$error":"#DIV/0!"}]
[null,null,0,0,{"$error":"#DIV/0!"}]
[null,null,0,0,{"$error":"#DIV/0!"}]
[null,null,0,0,{"$error":"#DIV/0!"}]
[null,null,0,0,{"$error":"#DIV/0!"}]
[null,null,0,0,{"$error":"#DIV/0!"}]
[null,null,0,0,{"$error":"#DIV/0!"}]
[null,null,0,0,{"$error":"#DIV/0!"}]
[null,null,0,0,{"$error":"#DIV/0!"}]
[null,null,0,0,{"$error":"#DIV/0!"}]
[null,null,0,0,{"$error":"#DIV/0!"}]
[null,null,0,0,{"$error":"#DIV/0!"}]
[null,null,0,0,{"$error":"#DIV/0!"}]
[null,null,0,0,{"$error":"#DIV/0!"}]
[null,null,0,0,{"$error":"#DIV/0!"}]
[null,null,0,0,{"$error":"#DIV/0!"}]
[null,null,0,0,{"$error":"#DIV/0!"}]
[null,null,0,0,{"$error":"#DIV/0!"}]
[null,null,0,0,{"$error":"#DIV/0!"}]
[null,null,0,0,{"$error":"#DIV/0!"}]
[null,null,0,0,{"$error":"#DIV/0!"}]
[null,null,0,0,{"$error":"#DIV/0!"}]
[null,null,0,0,{"$error":"#DIV/0!"}]
[null,null,0,0,{"$error":"#DIV/0!"}]
[null,null,0,0,{"$error":"#DIV/0!"}]
[null,null,0,0,{"$error":"#DIV/0!"}]
[null,null,0,0,{"$error":"#DIV/0!"}]
[null,null,0,0,{"$error":"#DIV/0!"}]
[null,null,0,0,{"$error":"#DIV/0!"}]
[null,null,0,0,{"$error":"#DIV/0!"}]
[null,null,0,0,{"$error":"#DIV/0!"}]
[null,null,0,0,{"$error":"#DIV/0!"}]
[null,null,0,0,{"$error":"#DIV/0!"}]
[null,null,0,0,{"$error":"#DIV/0!"}]
[null,null,0,0,{"$error":"#DIV/0!"}]
[null,null,0,0,{"$error":"#DIV/0!"}]
[null,null,0,0,{"$error":"#DIV/0!"}]
[null,null,0,0,{"$error":"#DIV/0!"}]
[null,null,0,0,{"$error":"#DIV/0!"}]
[null,null,0,0,{"$error":"#DIV/0!"}]
[null,null,0,0,{"$error":"#DIV/0!"}]
[null,null,0,0,{"$error":"#DIV/0!"}]
[null,null,0,0,{"$error":"#DIV/0!"}]
[null,null,0,0,{"$error":"#DIV/0!"}]
[null,null,0,0,{"$error":"#DIV/0!"}]
[null,null,0,0,{"$error":"#DIV/0!"}]
[null,null,0,0,{"$error":"#DIV/0!"}]
[null,null,0,{"$f":"IF(C4103=0,0,IF(C4103<=D4102,D4102,IF(C4103>D4102,D4102+B$2)))","v":0},{"$f":"IF(AND((D4103-D4102>0),(D4103<=C$2)),\"Controlla operazione\",0)","v":{"$error":"#DIV/0!"}}]
[null,null,{"$f":"IF(B4104>0,C4103+B4104,)","v":0},0,{"$error":"#DIV/0!"}]
[null,null,0,0,{"$error":"#DIV/0!"}]
[null,null,0,0,{"$error":"#DIV/0!"}]
[null,null,0,0,{"$error":"#DIV/0!"}]
[null,null,0,0,{"$error":"#DIV/0!"}]
[null,null,0,0,{"$error":"#DIV/0!"}]
[null,null,0,0,{"$error":"#DIV/0!"}]
[null,null,0,0,{"$error":"#DIV/0!"}]
[null,null,0,0,{"$error":"#DIV/0!"}]
[null,null,0,0,{"$error":"#DIV/0!"}]
[null,null,0,0,{"$error":"#DIV/0!"}]
[null,null,0,0,{"$error":"#DIV/0!"}]
[null,null,0,0,{"$error":"#DIV/0!"}]
[null,null,0,0,{"$error":"#DIV/0!"}]
[null,null,0,0,{"$error":"#DIV/0!"}]
[null,null,0,0,{"$error":"#DIV/0!"}]
[null,null,0,0,{"$error":"#DIV/0!"}]
[null,null,0,0,{"$error":"#DIV/0!"}]
[null,null,0,0,{"$error":"#DIV/0!"}]
[null,null,0,0,{"$error":"#DIV/0!"}]
[null,null,0,0,{"$error":"#DIV/0!"}]
[null,null,0,0,{"$error":"#DIV/0!"}]
[null,null,0,0,{"$error":"#DIV/0!"}]
[null,null,0,0,{"$error":"#DIV/0!"}]
[null,null,0,0,{"$error":"#DIV/0!"}]
[null,null,0,0,{"$error":"#DIV/0!"}]
[null,null,0,0,{"$error":"#DIV/0!"}]
[null,null,0,0,{"$error":"#DIV/0!"}]
[null,null,0,0,{"$error":"#DIV/0!"}]
[null,null,0,0,{"$error":"#DIV/0!"}]
[null,null,0,0,{"$error":"#DIV/0!"}]
[null,null,0,0,{"$error":"#DIV/0!"}]
[null,null,0,0,{"$error":"#DIV/0!"}]
[null,null,0,0,{"$error":"#DIV/0!"}]
[null,null,0,0,{"$error":"#DIV/0!"}]
[null,null,0,0,{"$error":"#DIV/0!"}]
[null,null,0,0,{"$error":"#DIV/0!"}]
[null,null,0,0,{"$error":"#DIV/0!"}]
[null,null,0,0,{"$error":"#DIV/0!"}]
[null,null,0,0,{"$error":"#DIV/0!"}]
[null,null,0,0,{"$error":"#DIV/0!"}]
[null,null,0,0,{"$error":"#DIV/0!"}]
[null,null,0,0,{"$error":"#DIV/0!"}]
[null,null,0,0,{"$error":"#DIV/0!"}]
[null,null,0,0,{"$error":"#DIV/0!"}]
[null,null,0,0,{"$error":"#DIV/0!"}]
[null,null,0,0,{"$error":"#DIV/0!"}]
[null,null,0,0,{"$error":"#DIV/0!"}]
[null,null,0,0,{"$error":"#DIV/0!"}]
[null,null,0,0,{"$error":"#DIV/0!"}]
[null,null,0,0,{"$error":"#DIV/0!"}]
[null,null,0,0,{"$error":"#DIV/0!"}]
[null,null,0,0,{"$error":"#DIV/0!"}]
[null,null,0,0,{"$error":"#DIV/0!"}]
[null,null,0,0,{"$error":"#DIV/0!"}]
[null,null,0,0,{"$error":"#DIV/0!"}]
[null,null,0,0,{"$error":"#DIV/0!"}]
[null,null,0,0,{"$error":"#DIV/0!"}]
[null,null,0,0,{"$error":"#DIV/0!"}]
[null,null,0,0,{"$error":"#DIV/0!"}]
[null,null,0,0,{"$error":"#DIV/0!"}]
[null,null,0,0,{"$error":"#DIV/0!"}]
[null,null,0,0,{"$error":"#DIV/0!"}]
[null,null,0,{"$f":"IF(C4167=0,0,IF(C4167<=D4166,D4166,IF(C4167>D4166,D4166+B$2)))","v":0},{"$f":"IF(AND((D4167-D4166>0),(D4167<=C$2)),\"Controlla operazione\",0)","v":{"$error":"#DIV/0!"}}]
[null,null,{"$f":"IF(B4168>0,C4167+B4168,)","v":0},0,{"$error":"#DIV/0!"}]
[null,null,0,0,{"$error":"#DIV/0!"}]
[null,null,0,0,{"$error":"#DIV/0!"}]
[null,null,0,0,{"$error":"#DIV/0!"}]
[null,null,0,0,{"$error":"#DIV/0!"}]
[null,null,0,0,{"$error":"#DIV/0!"}]
[null,null,0,0,{"$error":"#DIV/0!"}]
[null,null,0,0,{"$error":"#DIV/0!"}]
[null,null,0,0,{"$error":"#DIV/0!"}]
[null,null,0,0,{"$error":"#DIV/0!"}]
[null,null,0,0,{"$error":"#DIV/0!"}]
[null,null,0,0,{"$error":"#DIV/0!"}]
[null,null,0,0,{"$error":"#DIV/0!"}]
[null,null,0,0,{"$error":"#DIV/0!"}]
[null,null,0,0,{"$error":"#DIV/0!"}]
[null,null,0,0,{"$error":"#DIV/0!"}]
[null,null,0,0,{"$error":"#DIV/0!"}]
[null,null,0,0,{"$error":"#DIV/0!"}]
[null,null,0,0,{"$error":"#DIV/0!"}]
[null,null,0,0,{"$error":"#DIV/0!"}]
[null,null,0,0,{"$error":"#DIV/0!"}]
[null,null,0,0,{"$error":"#DIV/0!"}]
[null,null,0,0,{"$error":"#DIV/0!"}]
[null,null,0,0,{"$error":"#DIV/0!"}]
[null,null,0,0,{"$error":"#DIV/0!"}]
[null,null,0,0,{"$error":"#DIV/0!"}]
[null,null,0,0,{"$error":"#DIV/0!"}]
[null,null,0,0,{"$error":"#DIV/0!"}]
[null,null,0,0,{"$error":"#DIV/0!"}]
[null,null,0,0,{"$error":"#DIV/0!"}]
[null,null,0,0,{"$error":"#DIV/0!"}]
[null,null,0,0,{"$error":"#DIV/0!"}]
[null,null,0,0,{"$error":"#DIV/0!"}]
[null,null,0,0,{"$error":"#DIV/0!"}]
[null,null,0,0,{"$error":"#DIV/0!"}]
[null,null,0,0,{"$error":"#DIV/0!"}]
[null,null,0,0,{"$error":"#DIV/0!"}]
[null,null,0,0,{"$error":"#DIV/0!"}]
[null,null,0,0,{"$error":"#DIV/0!"}]
[null,null,0,0,{"$error":"#DIV/0!"}]
[null,null,0,0,{"$error":"#DIV/0!"}]
[null,null,0,0,{"$error":"#DIV/0!"}]
[null,null,0,0,{"$error":"#DIV/0!"}]
[null,null,0,0,{"$error":"#DIV/0!"}]
[null,null,0,0,{"$error":"#DIV/0!"}]
[null,null,0,0,{"$error":"#DIV/0!"}]
[null,null,0,0,{"$error":"#DIV/0!"}]
[null,null,0,0,{"$error":"#DIV/0!"}]
[null,null,0,0,{"$error":"#DIV/0!"}]
[null,null,0,0,{"$error":"#DIV/0!"}]
[null,null,0,0,{"$error":"#DIV/0!"}]
[null,null,0,0,{"$error":"#DIV/0!"}]
[null,null,0,0,{"$error":"#DIV/0!"}]
[null,null,0,0,{"$error":"#DIV/0!"}]
[null,null,0,0,{"$error":"#DIV/0!"}]
[null,null,0,0,{"$error":"#DIV/0!"}]
[null,null,0,0,{"$error":"#DIV/0!"}]
[null,null,0,0,{"$error":"#DIV/0!"}]
[null,null,0,0,{"$error":"#DIV/0!"}]
[null,null,0,0,{"$error":"#DIV/0!"}]
[null,null,0,0,{"$error":"#DIV/0!"}]
[null,null,0,0,{"$error":"#DIV/0!"}]
[null,null,0,0,{"$error":"#DIV/0!"}]
[null,null,0,{"$f":"IF(C4231=0,0,IF(C4231<=D4230,D4230,IF(C4231>D4230,D4230+B$2)))","v":0},{"$f":"IF(AND((D4231-D4230>0),(D4231<=C$2)),\"Controlla operazione\",0)","v":{"$error":"#DIV/0!"}}]
[null,null,{"$f":"IF(B4232>0,C4231+B4232,)","v":0},0,{"$error":"#DIV/0!"}]
[null,null,0,0,{"$error":"#DIV/0!"}]
[null,null,0,0,{"$error":"#DIV/0!"}]
[null,null,0,0,{"$error":"#DIV/0!"}]
[null,null,0,0,{"$error":"#DIV/0!"}]
[null,null,0,0,{"$error":"#DIV/0!"}]
[null,null,0,0,{"$error":"#DIV/0!"}]
[null,null,0,0,{"$error":"#DIV/0!"}]
[null,null,0,0,{"$error":"#DIV/0!"}]
[null,null,0,0,{"$error":"#DIV/0!"}]
[null,null,0,0,{"$error":"#DIV/0!"}]
[null,null,0,0,{"$error":"#DIV/0!"}]
[null,null,0,0,{"$error":"#DIV/0!"}]
[null,null,0,0,{"$error":"#DIV/0!"}]
[null,null,0,0,{"$error":"#DIV/0!"}]
[null,null,0,0,{"$error":"#DIV/0!"}]
[null,null,0,0,{"$error":"#DIV/0!"}]
[null,null,0,0,{"$error":"#DIV/0!"}]
[null,null,0,0,{"$error":"#DIV/0!"}]
[null,null,0,0,{"$error":"#DIV/0!"}]
[null,null,0,0,{"$error":"#DIV/0!"}]
[null,null,0,0,{"$error":"#DIV/0!"}]
[null,null,0,0,{"$error":"#DIV/0!"}]
[null,null,0,0,{"$error":"#DIV/0!"}]
[null,null,0,0,{"$error":"#DIV/0!"}]
[null,null,0,0,{"$error":"#DIV/0!"}]
[null,null,0,0,{"$error":"#DIV/0!"}]
[null,null,0,0,{"$error":"#DIV/0!"}]
[null,null,0,0,{"$error":"#DIV/0!"}]
[null,null,0,0,{"$error":"#DIV/0!"}]
[null,null,0,0,{"$error":"#DIV/0!"}]
[null,null,0,0,{"$error":"#DIV/0!"}]
[null,null,0,0,{"$error":"#DIV/0!"}]
[null,null,0,0,{"$error":"#DIV/0!"}]
[null,null,0,0,{"$error":"#DIV/0!"}]
[null,null,0,0,{"$error":"#DIV/0!"}]
[null,null,0,0,{"$error":"#DIV/0!"}]
[null,null,0,0,{"$error":"#DIV/0!"}]
[null,null,0,0,{"$error":"#DIV/0!"}]
[null,null,0,0,{"$error":"#DIV/0!"}]
[null,null,0,0,{"$error":"#DIV/0!"}]
[null,null,0,0,{"$error":"#DIV/0!"}]
[null,null,0,0,{"$error":"#DIV/0!"}]
[null,null,0,0,{"$error":"#DIV/0!"}]
[null,null,0,0,{"$error":"#DIV/0!"}]
[null,null,0,0,{"$error":"#DIV/0!"}]
[null,null,0,0,{"$error":"#DIV/0!"}]
[null,null,0,0,{"$error":"#DIV/0!"}]
[null,null,0,0,{"$error":"#DIV/0!"}]
[null,null,0,0,{"$error":"#DIV/0!"}]
[null,null,0,0,{"$error":"#DIV/0!"}]
[null,null,0,0,{"$error":"#DIV/0!"}]
[null,null,0,0,{"$error":"#DIV/0!"}]
[null,null,0,0,{"$error":"#DIV/0!"}]
[null,null,0,0,{"$error":"#DIV/0!"}]
[null,null,0,0,{"$error":"#DIV/0!"}]
[null,null,0,0,{"$error":"#DIV/0!"}]
[null,null,0,0,{"$error":"#DIV/0!"}]
[null,null,0,0,{"$error":"#DIV/0!"}]
[null,null,0,0,{"$error":"#DIV/0!"}]
[null,null,0,0,{"$error":"#DIV/0!"}]
[null,null,0,0,{"$error":"#DIV/0!"}]
[null,null,0,0,{"$error":"#DIV/0!"}]
[null,null,0,{"$f":"IF(C4295=0,0,IF(C4295<=D4294,D4294,IF(C4295>D4294,D4294+B$2)))","v":0},{"$f":"IF(AND((D4295-D4294>0),(D4295<=C$2)),\"Controlla operazione\",0)","v":{"$error":"#DIV/0!"}}]
[null,null,{"$f":"IF(B4296>0,C4295+B4296,)","v":0},0,{"$error":"#DIV/0!"}]
[null,null,0,0,{"$error":"#DIV/0!"}]
[null,null,0,0,{"$error":"#DIV/0!"}]
[null,null,0,0,{"$error":"#DIV/0!"}]
[null,null,0,0,{"$error":"#DIV/0!"}]
[null,null,0,0,{"$error":"#DIV/0!"}]
[null,null,0,0,{"$error":"#DIV/0!"}]
[null,null,0,0,{"$error":"#DIV/0!"}]
[null,null,0,0,{"$error":"#DIV/0!"}]
[null,null,0,0,{"$error":"#DIV/0!"}]
[null,null,0,0,{"$error":"#DIV/0!"}]
[null,null,0,0,{"$error":"#DIV/0!"}]
[null,null,0,0,{"$error":"#DIV/0!"}]
[null,null,0,0,{"$error":"#DIV/0!"}]
[null,null,0,0,{"$error":"#DIV/0!"}]
[null,null,0,0,{"$error":"#DIV/0!"}]
[null,null,0,0,{"$error":"#DIV/0!"}]
[null,null,0,0,{"$error":"#DIV/0!"}]
[null,null,0,0,{"$error":"#DIV/0!"}]
[null,null,0,0,{"$error":"#DIV/0!"}]
[null,null,0,0,{"$error":"#DIV/0!"}]
[null,null,0,0,{"$error":"#DIV/0!"}]
[null,null,0,0,{"$error":"#DIV/0!"}]
[null,null,0,0,{"$error":"#DIV/0!"}]
[null,null,0,0,{"$error":"#DIV/0!"}]
[null,null,0,0,{"$error":"#DIV/0!"}]
[null,null,0,0,{"$error":"#DIV/0!"}]
[null,null,0,0,{"$error":"#DIV/0!"}]
[null,null,0,0,{"$error":"#DIV/0!"}]
[null,null,0,0,{"$error":"#DIV/0!"}]
[null,null,0,0,{"$error":"#DIV/0!"}]
[null,null,0,0,{"$error":"#DIV/0!"}]
[null,null,0,0,{"$error":"#DIV/0!"}]
[null,null,0,0,{"$error":"#DIV/0!"}]
[null,null,0,0,{"$error":"#DIV/0!"}]
[null,null,0,0,{"$error":"#DIV/0!"}]
[null,null,0,0,{"$error":"#DIV/0!"}]
[null,null,0,0,{"$error":"#DIV/0!"}]
[null,null,0,0,{"$error":"#DIV/0!"}]
[null,null,0,0,{"$error":"#DIV/0!"}]
[null,null,0,0,{"$error":"#DIV/0!"}]
[null,null,0,0,{"$error":"#DIV/0!"}]
[null,null,0,0,{"$error":"#DIV/0!"}]
[null,null,0,0,{"$error":"#DIV/0!"}]
[null,null,0,0,{"$error":"#DIV/0!"}]
[null,null,0,0,{"$error":"#DIV/0!"}]
[null,null,0,0,{"$error":"#DIV/0!"}]
[null,null,0,0,{"$error":"#DIV/0!"}]
[null,null,0,0,{"$error":"#DIV/0!"}]
[null,null,0,0,{"$error":"#DIV/0!"}]
[null,null,0,0,{"$error":"#DIV/0!"}]
[null,null,0,0,{"$error":"#DIV/0!"}]
[null,null,0,0,{"$error":"#DIV/0!"}]
[null,null,0,0,{"$error":"#DIV/0!"}]
[null,null,0,0,{"$error":"#DIV/0!"}]
[null,null,0,0,{"$error":"#DIV/0!"}]
[null,null,0,0,{"$error":"#DIV/0!"}]
[null,null,0,0,{"$error":"#DIV/0!"}]
[null,null,0,0,{"$error":"#DIV/0!"}]
[null,null,0,0,{"$error":"#DIV/0!"}]
[null,null,0,0,{"$error":"#DIV/0!"}]
[null,null,0,0,{"$error":"#DIV/0!"}]
[null,null,0,0,{"$error":"#DIV/0!"}]
[null,null,0,{"$f":"IF(C4359=0,0,IF(C4359<=D4358,D4358,IF(C4359>D4358,D4358+B$2)))","v":0},{"$f":"IF(AND((D4359-D4358>0),(D4359<=C$2)),\"Controlla operazione\",0)","v":{"$error":"#DIV/0!"}}]
[null,null,{"$f":"IF(B4360>0,C4359+B4360,)","v":0},0,{"$error":"#DIV/0!"}]
[null,null,0,0,{"$error":"#DIV/0!"}]
[null,null,0,0,{"$error":"#DIV/0!"}]
[null,null,0,0,{"$error":"#DIV/0!"}]
[null,null,0,0,{"$error":"#DIV/0!"}]
[null,null,0,0,{"$error":"#DIV/0!"}]
[null,null,0,0,{"$error":"#DIV/0!"}]
[null,null,0,0,{"$error":"#DIV/0!"}]
[null,null,0,0,{"$error":"#DIV/0!"}]
[null,null,0,0,{"$error":"#DIV/0!"}]
[null,null,0,0,{"$error":"#DIV/0!"}]
[null,null,0,0,{"$error":"#DIV/0!"}]
[null,null,0,0,{"$error":"#DIV/0!"}]
[null,null,0,0,{"$error":"#DIV/0!"}]
[null,null,0,0,{"$error":"#DIV/0!"}]
[null,null,0,0,{"$error":"#DIV/0!"}]
[null,null,0,0,{"$error":"#DIV/0!"}]
[null,null,0,0,{"$error":"#DIV/0!"}]
[null,null,0,0,{"$error":"#DIV/0!"}]
[null,null,0,0,{"$error":"#DIV/0!"}]
[null,null,0,0,{"$error":"#DIV/0!"}]
[null,null,0,0,{"$error":"#DIV/0!"}]
[null,null,0,0,{"$error":"#DIV/0!"}]
[null,null,0,0,{"$error":"#DIV/0!"}]
[null,null,0,0,{"$error":"#DIV/0!"}]
[null,null,0,0,{"$error":"#DIV/0!"}]
[null,null,0,0,{"$error":"#DIV/0!"}]
[null,null,0,0,{"$error":"#DIV/0!"}]
[null,null,0,0,{"$error":"#DIV/0!"}]
[null,null,0,0,{"$error":"#DIV/0!"}]
[null,null,0,0,{"$error":"#DIV/0!"}]
[null,null,0,0,{"$error":"#DIV/0!"}]
[null,null,0,0,{"$error":"#DIV/0!"}]
[null,null,0,0,{"$error":"#DIV/0!"}]
[null,null,0,0,{"$error":"#DIV/0!"}]
[null,null,0,0,{"$error":"#DIV/0!"}]
[null,null,0,0,{"$error":"#DIV/0!"}]
[null,null,0,0,{"$error":"#DIV/0!"}]
[null,null,0,0,{"$error":"#DIV/0!"}]
[null,null,0,0,{"$error":"#DIV/0!"}]
[null,null,0,0,{"$error":"#DIV/0!"}]
[null,null,0,0,{"$error":"#DIV/0!"}]
[null,null,0,0,{"$error":"#DIV/0!"}]
[null,null,0,0,{"$error":"#DIV/0!"}]
[null,null,0,0,{"$error":"#DIV/0!"}]
[null,null,0,0,{"$error":"#DIV/0!"}]
[null,null,0,0,{"$error":"#DIV/0!"}]
[null,null,0,0,{"$error":"#DIV/0!"}]
[null,null,0,0,{"$error":"#DIV/0!"}]
[null,null,0,0,{"$error":"#DIV/0!"}]
[null,null,0,0,{"$error":"#DIV/0!"}]
[null,null,0,0,{"$error":"#DIV/0!"}]
[null,null,0,0,{"$error":"#DIV/0!"}]
[null,null,0,0,{"$error":"#DIV/0!"}]
[null,null,0,0,{"$error":"#DIV/0!"}]
[null,null,0,0,{"$error":"#DIV/0!"}]
[null,null,0,0,{"$error":"#DIV/0!"}]
[null,null,0,0,{"$error":"#DIV/0!"}]
[null,null,0,0,{"$error":"#DIV/0!"}]
[null,null,0,0,{"$error":"#DIV/0!"}]
[null,null,0,0,{"$error":"#DIV/0!"}]
[null,null,0,0,{"$error":"#DIV/0!"}]
[null,null,0,0,{"$error":"#DIV/0!"}]
[null,null,0,{"$f":"IF(C4423=0,0,IF(C4423<=D4422,D4422,IF(C4423>D4422,D4422+B$2)))","v":0},{"$f":"IF(AND((D4423-D4422>0),(D4423<=C$2)),\"Controlla operazione\",0)","v":{"$error":"#DIV/0!"}}]
[null,null,{"$f":"IF(B4424>0,C4423+B4424,)","v":0},0,{"$error":"#DIV/0!"}]
[null,null,0,0,{"$error":"#DIV/0!"}]
[null,null,0,0,{"$error":"#DIV/0!"}]
[null,null,0,0,{"$error":"#DIV/0!"}]
[null,null,0,0,{"$error":"#DIV/0!"}]
[null,null,0,0,{"$error":"#DIV/0!"}]
[null,null,0,0,{"$error":"#DIV/0!"}]
[null,null,0,0,{"$error":"#DIV/0!"}]
[null,null,0,0,{"$error":"#DIV/0!"}]
[null,null,0,0,{"$error":"#DIV/0!"}]
[null,null,0,0,{"$error":"#DIV/0!"}]
[null,null,0,0,{"$error":"#DIV/0!"}]
[null,null,0,0,{"$error":"#DIV/0!"}]
[null,null,0,0,{"$error":"#DIV/0!"}]
[null,null,0,0,{"$error":"#DIV/0!"}]
[null,null,0,0,{"$error":"#DIV/0!"}]
[null,null,0,0,{"$error":"#DIV/0!"}]
[null,null,0,0,{"$error":"#DIV/0!"}]
[null,null,0,0,{"$error":"#DIV/0!"}]
[null,null,0,0,{"$error":"#DIV/0!"}]
[null,null,0,0,{"$error":"#DIV/0!"}]
[null,null,0,0,{"$error":"#DIV/0!"}]
[null,null,0,0,{"$error":"#DIV/0!"}]
[null,null,0,0,{"$error":"#DIV/0!"}]
[null,null,0,0,{"$error":"#DIV/0!"}]
[null,null,0,0,{"$error":"#DIV/0!"}]
[null,null,0,0,{"$error":"#DIV/0!"}]
[null,null,0,0,{"$error":"#DIV/0!"}]
[null,null,0,0,{"$error":"#DIV/0!"}]
[null,null,0,0,{"$error":"#DIV/0!"}]
[null,null,0,0,{"$error":"#DIV/0!"}]
[null,null,0,0,{"$error":"#DIV/0!"}]
[null,null,0,0,{"$error":"#DIV/0!"}]
[null,null,0,0,{"$error":"#DIV/0!"}]
[null,null,0,0,{"$error":"#DIV/0!"}]
[null,null,0,0,{"$error":"#DIV/0!"}]
[null,null,0,0,{"$error":"#DIV/0!"}]
[null,null,0,0,{"$error":"#DIV/0!"}]
[null,null,0,0,{"$error":"#DIV/0!"}]
[null,null,0,0,{"$error":"#DIV/0!"}]
[null,null,0,0,{"$error":"#DIV/0!"}]
[null,null,0,0,{"$error":"#DIV/0!"}]
[null,null,0,0,{"$error":"#DIV/0!"}]
[null,null,0,0,{"$error":"#DIV/0!"}]
[null,null,0,0,{"$error":"#DIV/0!"}]
[null,null,0,0,{"$error":"#DIV/0!"}]
[null,null,0,0,{"$error":"#DIV/0!"}]
[null,null,0,0,{"$error":"#DIV/0!"}]
[null,null,0,0,{"$error":"#DIV/0!"}]
[null,null,0,0,{"$error":"#DIV/0!"}]
[null,null,0,0,{"$error":"#DIV/0!"}]
[null,null,0,0,{"$error":"#DIV/0!"}]
[null,null,0,0,{"$error":"#DIV/0!"}]
[null,null,0,0,{"$error":"#DIV/0!"}]
[null,null,0,0,{"$error":"#DIV/0!"}]
[null,null,0,0,{"$error":"#DIV/0!"}]
[null,null,0,0,{"$error":"#DIV/0!"}]
[null,null,0,0,{"$error":"#DIV/0!"}]
[null,null,0,0,{"$error":"#DIV/0!"}]
[null,null,0,0,{"$error":"#DIV/0!"}]
[null,null,0,0,{"$error":"#DIV/0!"}]
[null,null,0,0,{"$error":"#DIV/0!"}]
[null,null,0,0,{"$error":"#DIV/0!"}]
[null,null,0,{"$f":"IF(C4487=0,0,IF(C4487<=D4486,D4486,IF(C4487>D4486,D4486+B$2)))","v":0},{"$f":"IF(AND((D4487-D4486>0),(D4487<=C$2)),\"Controlla operazione\",0)","v":{"$error":"#DIV/0!"}}]
[null,null,{"$f":"IF(B4488>0,C4487+B4488,)","v":0},0,{"$error":"#DIV/0!"}]
[null,null,0,0,{"$error":"#DIV/0!"}]
[null,null,0,0,{"$error":"#DIV/0!"}]
[null,null,0,0,{"$error":"#DIV/0!"}]
[null,null,0,0,{"$error":"#DIV/0!"}]
[null,null,0,0,{"$error":"#DIV/0!"}]
[null,null,0,0,{"$error":"#DIV/0!"}]
[null,null,0,0,{"$error":"#DIV/0!"}]
[null,null,0,0,{"$error":"#DIV/0!"}]
[null,null,0,0,{"$error":"#DIV/0!"}]
[null,null,0,0,{"$error":"#DIV/0!"}]
[null,null,0,0,{"$error":"#DIV/0!"}]
[null,null,0,0,{"$error":"#DIV/0!"}]
[null,null,0,0,{"$error":"#DIV/0!"}]
[null,null,0,0,{"$error":"#DIV/0!"}]
[null,null,0,0,{"$error":"#DIV/0!"}]
[null,null,0,0,{"$error":"#DIV/0!"}]
[null,null,0,0,{"$error":"#DIV/0!"}]
[null,null,0,0,{"$error":"#DIV/0!"}]
[null,null,0,0,{"$error":"#DIV/0!"}]
[null,null,0,0,{"$error":"#DIV/0!"}]
[null,null,0,0,{"$error":"#DIV/0!"}]
[null,null,0,0,{"$error":"#DIV/0!"}]
[null,null,0,0,{"$error":"#DIV/0!"}]
[null,null,0,0,{"$error":"#DIV/0!"}]
[null,null,0,0,{"$error":"#DIV/0!"}]
[null,null,0,0,{"$error":"#DIV/0!"}]
[null,null,0,0,{"$error":"#DIV/0!"}]
[null,null,0,0,{"$error":"#DIV/0!"}]
[null,null,0,0,{"$error":"#DIV/0!"}]
[null,null,0,0,{"$error":"#DIV/0!"}]
[null,null,0,0,{"$error":"#DIV/0!"}]
[null,null,0,0,{"$error":"#DIV/0!"}]
[null,null,0,0,{"$error":"#DIV/0!"}]
[null,null,0,0,{"$error":"#DIV/0!"}]
[null,null,0,0,{"$error":"#DIV/0!"}]
[null,null,0,0,{"$error":"#DIV/0!"}]
[null,null,0,0,{"$error":"#DIV/0!"}]
[null,null,0,0,{"$error":"#DIV/0!"}]
[null,null,0,0,{"$error":"#DIV/0!"}]
[null,null,0,0,{"$error":"#DIV/0!"}]
[null,null,0,0,{"$error":"#DIV/0!"}]
[null,null,0,0,{"$error":"#DIV/0!"}]
[null,null,0,0,{"$error":"#DIV/0!"}]
[null,null,0,0,{"$error":"#DIV/0!"}]
[null,null,0,0,{"$error":"#DIV/0!"}]
[null,null,0,0,{"$error":"#DIV/0!"}]
[null,null,0,0,{"$error":"#DIV/0!"}]
[null,null,0,0,{"$error":"#DIV/0!"}]
[null,null,0,0,{"$error":"#DIV/0!"}]
[null,null,0,0,{"$error":"#DIV/0!"}]
[null,null,0,0,{"$error":"#DIV/0!"}]
[null,null,0,0,{"$error":"#DIV/0!"}]
[null,null,0,0,{"$error":"#DIV/0!"}]
[null,null,0,0,{"$error":"#DIV/0!"}]
[null,null,0,0,{"$error":"#DIV/0!"}]
[null,null,0,0,{"$error":"#DIV/0!"}]
[null,null,0,0,{"$error":"#DIV/0!"}]
[null,null,0,0,{"$error":"#DIV/0!"}]
[null,null,0,0,{"$error":"#DIV/0!"}]
[null,null,0,0,{"$error":"#DIV/0!"}]
[null,null,0,0,{"$error":"#DIV/0!"}]
[null,null,0,0,{"$error":"#DIV/0!"}]
[null,null,0,{"$f":"IF(C4551=0,0,IF(C4551<=D4550,D4550,IF(C4551>D4550,D4550+B$2)))","v":0},{"$f":"IF(AND((D4551-D4550>0),(D4551<=C$2)),\"Controlla operazione\",0)","v":{"$error":"#DIV/0!"}}]
[null,null,{"$f":"IF(B4552>0,C4551+B4552,)","v":0},0,{"$error":"#DIV/0!"}]
[null,null,0,0,{"$error":"#DIV/0!"}]
[null,null,0,0,{"$error":"#DIV/0!"}]
[null,null,0,0,{"$error":"#DIV/0!"}]
[null,null,0,0,{"$error":"#DIV/0!"}]
[null,null,0,0,{"$error":"#DIV/0!"}]
[null,null,0,0,{"$error":"#DIV/0!"}]
[null,null,0,0,{"$error":"#DIV/0!"}]
[null,null,0,0,{"$error":"#DIV/0!"}]
[null,null,0,0,{"$error":"#DIV/0!"}]
[null,null,0,0,{"$error":"#DIV/0!"}]
[null,null,0,0,{"$error":"#DIV/0!"}]
[null,null,0,0,{"$error":"#DIV/0!"}]
[null,null,0,0,{"$error":"#DIV/0!"}]
[null,null,0,0,{"$error":"#DIV/0!"}]
[null,null,0,0,{"$error":"#DIV/0!"}]
[null,null,0,0,{"$error":"#DIV/0!"}]
[null,null,0,0,{"$error":"#DIV/0!"}]
[null,null,0,0,{"$error":"#DIV/0!"}]
[null,null,0,0,{"$error":"#DIV/0!"}]
[null,null,0,0,{"$error":"#DIV/0!"}]
[null,null,0,0,{"$error":"#DIV/0!"}]
[null,null,0,0,{"$error":"#DIV/0!"}]
[null,null,0,0,{"$error":"#DIV/0!"}]
[null,null,0,0,{"$error":"#DIV/0!"}]
[null,null,0,0,{"$error":"#DIV/0!"}]
[null,null,0,0,{"$error":"#DIV/0!"}]
[null,null,0,0,{"$error":"#DIV/0!"}]
[null,null,0,0,{"$error":"#DIV/0!"}]
[null,null,0,0,{"$error":"#DIV/0!"}]
[null,null,0,0,{"$error":"#DIV/0!"}]
[null,null,0,0,{"$error":"#DIV/0!"}]
[null,null,0,0,{"$error":"#DIV/0!"}]
[null,null,0,0,{"$error":"#DIV/0!"}]
[null,null,0,0,{"$error":"#DIV/0!"}]
[null,null,0,0,{"$error":"#DIV/0!"}]
[null,null,0,0,{"$error":"#DIV/0!"}]
[null,null,0,0,{"$error":"#DIV/0!"}]
[null,null,0,0,{"$error":"#DIV/0!"}]
[null,null,0,0,{"$error":"#DIV/0!"}]
[null,null,0,0,{"$error":"#DIV/0!"}]
[null,null,0,0,{"$error":"#DIV/0!"}]
[null,null,0,0,{"$error":"#DIV/0!"}]
[null,null,0,0,{"$error":"#DIV/0!"}]
[null,null,0,0,{"$error":"#DIV/0!"}]
[null,null,0,0,{"$error":"#DIV/0!"}]
[null,null,0,0,{"$error":"#DIV/0!"}]
[null,null,0,0,{"$error":"#DIV/0!"}]
[null,null,0,0,{"$error":"#DIV/0!"}]
[null,null,0,0,{"$error":"#DIV/0!"}]
[null,null,0,0,{"$error":"#DIV/0!"}]
[null,null,0,0,{"$error":"#DIV/0!"}]
[null,null,0,0,{"$error":"#DIV/0!"}]
[null,null,0,0,{"$error":"#DIV/0!"}]
[null,null,0,0,{"$error":"#DIV/0!"}]
[null,null,0,0,{"$error":"#DIV/0!"}]
[null,null,0,0,{"$error":"#DIV/0!"}]
[null,null,0,0,{"$error":"#DIV/0!"}]
[null,null,0,0,{"$error":"#DIV/0!"}]
[null,null,0,0,{"$error":"#DIV/0!"}]
[null,null,0,0,{"$error":"#DIV/0!"}]
[null,null,0,0,{"$error":"#DIV/0!"}]
[null,null,0,0,{"$error":"#DIV/0!"}]
[null,null,0,{"$f":"IF(C4615=0,0,IF(C4615<=D4614,D4614,IF(C4615>D4614,D4614+B$2)))","v":0},{"$f":"IF(AND((D4615-D4614>0),(D4615<=C$2)),\"Controlla operazione\",0)","v":{"$error":"#DIV/0!"}}]
[null,null,{"$f":"IF(B4616>0,C4615+B4616,)","v":0},0,{"$error":"#DIV/0!"}]
[null,null,0,0,{"$error":"#DIV/0!"}]
[null,null,0,0,{"$error":"#DIV/0!"}]
[null,null,0,0,{"$error":"#DIV/0!"}]
[null,null,0,0,{"$error":"#DIV/0!"}]
[null,null,0,0,{"$error":"#DIV/0!"}]
[null,null,0,0,{"$error":"#DIV/0!"}]
[null,null,0,0,{"$error":"#DIV/0!"}]
[null,null,0,0,{"$error":"#DIV/0!"}]
[null,null,0,0,{"$error":"#DIV/0!"}]
[null,null,0,0,{"$error":"#DIV/0!"}]
[null,null,0,0,{"$error":"#DIV/0!"}]
[null,null,0,0,{"$error":"#DIV/0!"}]
[null,null,0,0,{"$error":"#DIV/0!"}]
[null,null,0,0,{"$error":"#DIV/0!"}]
[null,null,0,0,{"$error":"#DIV/0!"}]
[null,null,0,0,{"$error":"#DIV/0!"}]
[null,null,0,0,{"$error":"#DIV/0!"}]
[null,null,0,0,{"$error":"#DIV/0!"}]
[null,null,0,0,{"$error":"#DIV/0!"}]
[null,null,0,0,{"$error":"#DIV/0!"}]
[null,null,0,0,{"$error":"#DIV/0!"}]
[null,null,0,0,{"$error":"#DIV/0!"}]
[null,null,0,0,{"$error":"#DIV/0!"}]
[null,null,0,0,{"$error":"#DIV/0!"}]
[null,null,0,0,{"$error":"#DIV/0!"}]
[null,null,0,0,{"$error":"#DIV/0!"}]
[null,null,0,0,{"$error":"#DIV/0!"}]
[null,null,0,0,{"$error":"#DIV/0!"}]
[null,null,0,0,{"$error":"#DIV/0!"}]
[null,null,0,0,{"$error":"#DIV/0!"}]
[null,null,0,0,{"$error":"#DIV/0!"}]
[null,null,0,0,{"$error":"#DIV/0!"}]
[null,null,0,0,{"$error":"#DIV/0!"}]
[null,null,0,0,{"$error":"#DIV/0!"}]
[null,null,0,0,{"$error":"#DIV/0!"}]
[null,null,0,0,{"$error":"#DIV/0!"}]
[null,null,0,0,{"$error":"#DIV/0!"}]
[null,null,0,0,{"$error":"#DIV/0!"}]
[null,null,0,0,{"$error":"#DIV/0!"}]
[null,null,0,0,{"$error":"#DIV/0!"}]
[null,null,0,0,{"$error":"#DIV/0!"}]
[null,null,0,0,{"$error":"#DIV/0!"}]
[null,null,0,0,{"$error":"#DIV/0!"}]
[null,null,0,0,{"$error":"#DIV/0!"}]
[null,null,0,0,{"$error":"#DIV/0!"}]
[null,null,0,0,{"$error":"#DIV/0!"}]
[null,null,0,0,{"$error":"#DIV/0!"}]
[null,null,0,0,{"$error":"#DIV/0!"}]
[null,null,0,0,{"$error":"#DIV/0!"}]
[null,null,0,0,{"$error":"#DIV/0!"}]
[null,null,0,0,{"$error":"#DIV/0!"}]
[null,null,0,0,{"$error":"#DIV/0!"}]
[null,null,0,0,{"$error":"#DIV/0!"}]
[null,null,0,0,{"$error":"#DIV/0!"}]
[null,null,0,0,{"$error":"#DIV/0!"}]
[null,null,0,0,{"$error":"#DIV/0!"}]
[null,null,0,0,{"$error":"#DIV/0!"}]
[null,null,0,0,{"$error":"#DIV/0!"}]
[null,null,0,0,{"$error":"#DIV/0!"}]
[null,null,0,0,{"$error":"#DIV/0!"}]
[null,null,0,0,{"$error":"#DIV/0!"}]
[null,null,0,0,{"$error":"#DIV/0!"}]
[null,null,0,{"$f":"IF(C4679=0,0,IF(C4679<=D4678,D4678,IF(C4679>D4678,D4678+B$2)))","v":0},{"$f":"IF(AND((D4679-D4678>0),(D4679<=C$2)),\"Controlla operazione\",0)","v":{"$error":"#DIV/0!"}}]
[null,null,{"$f":"IF(B4680>0,C4679+B4680,)","v":0},0,{"$error":"#DIV/0!"}]
[null,null,0,0,{"$error":"#DIV/0!"}]
[null,null,0,0,{"$error":"#DIV/0!"}]
[null,null,0,0,{"$error":"#DIV/0!"}]
[null,null,0,0,{"$error":"#DIV/0!"}]
[null,null,0,0,{"$error":"#DIV/0!"}]
[null,null,0,0,{"$error":"#DIV/0!"}]
[null,null,0,0,{"$error":"#DIV/0!"}]
[null,null,0,0,{"$error":"#DIV/0!"}]
[null,null,0,0,{"$error":"#DIV/0!"}]
[null,null,0,0,{"$error":"#DIV/0!"}]
[null,null,0,0,{"$error":"#DIV/0!"}]
[null,null,0,0,{"$error":"#DIV/0!"}]
[null,null,0,0,{"$error":"#DIV/0!"}]
[null,null,0,0,{"$error":"#DIV/0!"}]
[null,null,0,0,{"$error":"#DIV/0!"}]
[null,null,0,0,{"$error":"#DIV/0!"}]
[null,null,0,0,{"$error":"#DIV/0!"}]
[null,null,0,0,{"$error":"#DIV/0!"}]
[null,null,0,0,{"$error":"#DIV/0!"}]
[null,null,0,0,{"$error":"#DIV/0!"}]
[null,null,0,0,{"$error":"#DIV/0!"}]
[null,null,0,0,{"$error":"#DIV/0!"}]
[null,null,0,0,{"$error":"#DIV/0!"}]
[null,null,0,0,{"$error":"#DIV/0!"}]
[null,null,0,0,{"$error":"#DIV/0!"}]
[null,null,0,0,{"$error":"#DIV/0!"}]
[null,null,0,0,{"$error":"#DIV/0!"}]
[null,null,0,0,{"$error":"#DIV/0!"}]
[null,null,0,0,{"$error":"#DIV/0!"}]
[null,null,0,0,{"$error":"#DIV/0!"}]
[null,null,0,0,{"$error":"#DIV/0!"}]
[null,null,0,0,{"$error":"#DIV/0!"}]
[null,null,0,0,{"$error":"#DIV/0!"}]
[null,null,0,0,{"$error":"#DIV/0!"}]
[null,null,0,0,{"$error":"#DIV/0!"}]
[null,null,0,0,{"$error":"#DIV/0!"}]
[null,null,0,0,{"$error":"#DIV/0!"}]
[null,null,0,0,{"$error":"#DIV/0!"}]
[null,null,0,0,{"$error":"#DIV/0!"}]
[null,null,0,0,{"$error":"#DIV/0!"}]
[null,null,0,0,{"$error":"#DIV/0!"}]
[null,null,0,0,{"$error":"#DIV/0!"}]
[null,null,0,0,{"$error":"#DIV/0!"}]
[null,null,0,0,{"$error":"#DIV/0!"}]
[null,null,0,0,{"$error":"#DIV/0!"}]
[null,null,0,0,{"$error":"#DIV/0!"}]
[null,null,0,0,{"$error":"#DIV/0!"}]
[null,null,0,0,{"$error":"#DIV/0!"}]
[null,null,0,0,{"$error":"#DIV/0!"}]
[null,null,0,0,{"$error":"#DIV/0!"}]
[null,null,0,0,{"$error":"#DIV/0!"}]
[null,null,0,0,{"$error":"#DIV/0!"}]
[null,null,0,0,{"$error":"#DIV/0!"}]
[null,null,0,0,{"$error":"#DIV/0!"}]
[null,null,0,0,{"$error":"#DIV/0!"}]
[null,null,0,0,{"$error":"#DIV/0!"}]
[null,null,0,0,{"$error":"#DIV/0!"}]
[null,null,0,0,{"$error":"#DIV/0!"}]
[null,null,0,0,{"$error":"#DIV/0!"}]
[null,null,0,0,{"$error":"#DIV/0!"}]
[null,null,0,0,{"$error":"#DIV/0!"}]
[null,null,0,0,{"$error":"#DIV/0!"}]
[null,null,0,{"$f":"IF(C4743=0,0,IF(C4743<=D4742,D4742,IF(C4743>D4742,D4742+B$2)))","v":0},{"$f":"IF(AND((D4743-D4742>0),(D4743<=C$2)),\"Controlla operazione\",0)","v":{"$error":"#DIV/0!"}}]
[null,null,{"$f":"IF(B4744>0,C4743+B4744,)","v":0},0,{"$error":"#DIV/0!"}]
[null,null,0,0,{"$error":"#DIV/0!"}]
[null,null,0,0,{"$error":"#DIV/0!"}]
[null,null,0,0,{"$error":"#DIV/0!"}]
[null,null,0,0,{"$error":"#DIV/0!"}]
[null,null,0,0,{"$error":"#DIV/0!"}]
[null,null,0,0,{"$error":"#DIV/0!"}]
[null,null,0,0,{"$error":"#DIV/0!"}]
[null,null,0,0,{"$error":"#DIV/0!"}]
[null,null,0,0,{"$error":"#DIV/0!"}]
[null,null,0,0,{"$error":"#DIV/0!"}]
[null,null,0,0,{"$error":"#DIV/0!"}]
[null,null,0,0,{"$error":"#DIV/0!"}]
[null,null,0,0,{"$error":"#DIV/0!"}]
[null,null,0,0,{"$error":"#DIV/0!"}]
[null,null,0,0,{"$error":"#DIV/0!"}]
[null,null,0,0,{"$error":"#DIV/0!"}]
[null,null,0,0,{"$error":"#DIV/0!"}]
[null,null,0,0,{"$error":"#DIV/0!"}]
[null,null,0,0,{"$error":"#DIV/0!"}]
[null,null,0,0,{"$error":"#DIV/0!"}]
[null,null,0,0,{"$error":"#DIV/0!"}]
[null,null,0,0,{"$error":"#DIV/0!"}]
[null,null,0,0,{"$error":"#DIV/0!"}]
[null,null,0,0,{"$error":"#DIV/0!"}]
[null,null,0,0,{"$error":"#DIV/0!"}]
[null,null,0,0,{"$error":"#DIV/0!"}]
[null,null,0,0,{"$error":"#DIV/0!"}]
[null,null,0,0,{"$error":"#DIV/0!"}]
[null,null,0,0,{"$error":"#DIV/0!"}]
[null,null,0,0,{"$error":"#DIV/0!"}]
[null,null,0,0,{"$error":"#DIV/0!"}]
[null,null,0,0,{"$error":"#DIV/0!"}]
[null,null,0,0,{"$error":"#DIV/0!"}]
[null,null,0,0,{"$error":"#DIV/0!"}]
[null,null,0,0,{"$error":"#DIV/0!"}]
[null,null,0,0,{"$error":"#DIV/0!"}]
[null,null,0,0,{"$error":"#DIV/0!"}]
[null,null,0,0,{"$error":"#DIV/0!"}]
[null,null,0,0,{"$error":"#DIV/0!"}]
[null,null,0,0,{"$error":"#DIV/0!"}]
[null,null,0,0,{"$error":"#DIV/0!"}]
[null,null,0,0,{"$error":"#DIV/0!"}]
[null,null,0,0,{"$error":"#DIV/0!"}]
[null,null,0,0,{"$error":"#DIV/0!"}]
[null,null,0,0,{"$error":"#DIV/0!"}]
[null,null,0,0,{"$error":"#DIV/0!"}]
[null,null,0,0,{"$error":"#DIV/0!"}]
[null,null,0,0,{"$error":"#DIV/0!"}]
[null,null,0,0,{"$error":"#DIV/0!"}]
[null,null,0,0,{"$error":"#DIV/0!"}]
[null,null,0,0,{"$error":"#DIV/0!"}]
[null,null,0,0,{"$error":"#DIV/0!"}]
[null,null,0,0,{"$error":"#DIV/0!"}]
[null,null,0,0,{"$error":"#DIV/0!"}]
[null,null,0,0,{"$error":"#DIV/0!"}]
[null,null,0,0,{"$error":"#DIV/0!"}]
[null,null,0,0,{"$error":"#DIV/0!"}]
[null,null,0,0,{"$error":"#DIV/0!"}]
[null,null,0,0,{"$error":"#DIV/0!"}]
[null,null,0,0,{"$error":"#DIV/0!"}]
[null,null,0,0,{"$error":"#DIV/0!"}]
[null,null,0,0,{"$error":"#DIV/0!"}]
[null,null,0,{"$f":"IF(C4807=0,0,IF(C4807<=D4806,D4806,IF(C4807>D4806,D4806+B$2)))","v":0},{"$f":"IF(AND((D4807-D4806>0),(D4807<=C$2)),\"Controlla operazione\",0)","v":{"$error":"#DIV/0!"}}]
[null,null,{"$f":"IF(B4808>0,C4807+B4808,)","v":0},0,{"$error":"#DIV/0!"}]
[null,null,0,0,{"$error":"#DIV/0!"}]
[null,null,0,0,{"$error":"#DIV/0!"}]
[null,null,0,0,{"$error":"#DIV/0!"}]
[null,null,0,0,{"$error":"#DIV/0!"}]
[null,null,0,0,{"$error":"#DIV/0!"}]
[null,null,0,0,{"$error":"#DIV/0!"}]
[null,null,0,0,{"$error":"#DIV/0!"}]
[null,null,0,0,{"$error":"#DIV/0!"}]
[null,null,0,0,{"$error":"#DIV/0!"}]
[null,null,0,0,{"$error":"#DIV/0!"}]
[null,null,0,0,{"$error":"#DIV/0!"}]
[null,null,0,0,{"$error":"#DIV/0!"}]
[null,null,0,0,{"$error":"#DIV/0!"}]
[null,null,0,0,{"$error":"#DIV/0!"}]
[null,null,0,0,{"$error":"#DIV/0!"}]
[null,null,0,0,{"$error":"#DIV/0!"}]
[null,null,0,0,{"$error":"#DIV/0!"}]
[null,null,0,0,{"$error":"#DIV/0!"}]
[null,null,0,0,{"$error":"#DIV/0!"}]
[null,null,0,0,{"$error":"#DIV/0!"}]
[null,null,0,0,{"$error":"#DIV/0!"}]
[null,null,0,0,{"$error":"#DIV/0!"}]
[null,null,0,0,{"$error":"#DIV/0!"}]
[null,null,0,0,{"$error":"#DIV/0!"}]
[null,null,0,0,{"$error":"#DIV/0!"}]
[null,null,0,0,{"$error":"#DIV/0!"}]
[null,null,0,0,{"$error":"#DIV/0!"}]
[null,null,0,0,{"$error":"#DIV/0!"}]
[null,null,0,0,{"$error":"#DIV/0!"}]
[null,null,0,0,{"$error":"#DIV/0!"}]
[null,null,0,0,{"$error":"#DIV/0!"}]
[null,null,0,0,{"$error":"#DIV/0!"}]
[null,null,0,0,{"$error":"#DIV/0!"}]
[null,null,0,0,{"$error":"#DIV/0!"}]
[null,null,0,0,{"$error":"#DIV/0!"}]
[null,null,0,0,{"$error":"#DIV/0!"}]
[null,null,0,0,{"$error":"#DIV/0!"}]
[null,null,0,0,{"$error":"#DIV/0!"}]
[null,null,0,0,{"$error":"#DIV/0!"}]
[null,null,0,0,{"$error":"#DIV/0!"}]
[null,null,0,0,{"$error":"#DIV/0!"}]
[null,null,0,0,{"$error":"#DIV/0!"}]
[null,null,0,0,{"$error":"#DIV/0!"}]
[null,null,0,0,{"$error":"#DIV/0!"}]
[null,null,0,0,{"$error":"#DIV/0!"}]
[null,null,0,0,{"$error":"#DIV/0!"}]
[null,null,0,0,{"$error":"#DIV/0!"}]
[null,null,0,0,{"$error":"#DIV/0!"}]
[null,null,0,0,{"$error":"#DIV/0!"}]
[null,null,0,0,{"$error":"#DIV/0!"}]
[null,null,0,0,{"$error":"#DIV/0!"}]
[null,null,0,0,{"$error":"#DIV/0!"}]
[null,null,0,0,{"$error":"#DIV/0!"}]
[null,null,0,0,{"$error":"#DIV/0!"}]
[null,null,0,0,{"$error":"#DIV/0!"}]
[null,null,0,0,{"$error":"#DIV/0!"}]
[null,null,0,0,{"$error":"#DIV/0!"}]
[null,null,0,0,{"$error":"#DIV/0!"}]
[null,null,0,0,{"$error":"#DIV/0!"}]
[null,null,0,0,{"$error":"#DIV/0!"}]
[null,null,0,0,{"$error":"#DIV/0!"}]
[null,null,0,0,{"$error":"#DIV/0!"}]
[null,null,0,{"$f":"IF(C4871=0,0,IF(C4871<=D4870,D4870,IF(C4871>D4870,D4870+B$2)))","v":0},{"$f":"IF(AND((D4871-D4870>0),(D4871<=C$2)),\"Controlla operazione\",0)","v":{"$error":"#DIV/0!"}}]
[null,null,{"$f":"IF(B4872>0,C4871+B4872,)","v":0},0,{"$error":"#DIV/0!"}]
[null,null,0,0,{"$error":"#DIV/0!"}]
[null,null,0,0,{"$error":"#DIV/0!"}]
[null,null,0,0,{"$error":"#DIV/0!"}]
[null,null,0,0,{"$error":"#DIV/0!"}]
[null,null,0,0,{"$error":"#DIV/0!"}]
[null,null,0,0,{"$error":"#DIV/0!"}]
[null,null,0,0,{"$error":"#DIV/0!"}]
[null,null,0,0,{"$error":"#DIV/0!"}]
[null,null,0,0,{"$error":"#DIV/0!"}]
[null,null,0,0,{"$error":"#DIV/0!"}]
[null,null,0,0,{"$error":"#DIV/0!"}]
[null,null,0,0,{"$error":"#DIV/0!"}]
[null,null,0,0,{"$error":"#DIV/0!"}]
[null,null,0,0,{"$error":"#DIV/0!"}]
[null,null,0,0,{"$error":"#DIV/0!"}]
[null,null,0,0,{"$error":"#DIV/0!"}]
[null,null,0,0,{"$error":"#DIV/0!"}]
[null,null,0,0,{"$error":"#DIV/0!"}]
[null,null,0,0,{"$error":"#DIV/0!"}]
[null,null,0,0,{"$error":"#DIV/0!"}]
[null,null,0,0,{"$error":"#DIV/0!"}]
[null,null,0,0,{"$error":"#DIV/0!"}]
[null,null,0,0,{"$error":"#DIV/0!"}]
[null,null,0,0,{"$error":"#DIV/0!"}]
[null,null,0,0,{"$error":"#DIV/0!"}]
[null,null,0,0,{"$error":"#DIV/0!"}]
[null,null,0,0,{"$error":"#DIV/0!"}]
[null,null,0,0,{"$error":"#DIV/0!"}]
[null,null,0,0,{"$error":"#DIV/0!"}]
[null,null,0,0,{"$error":"#DIV/0!"}]
[null,null,0,0,{"$error":"#DIV/0!"}]
[null,null,0,0,{"$error":"#DIV/0!"}]
[null,null,0,0,{"$error":"#DIV/0!"}]
[null,null,0,0,{"$error":"#DIV/0!"}]
[null,null,0,0,{"$error":"#DIV/0!"}]
[null,null,0,0,{"$error":"#DIV/0!"}]
[null,null,0,0,{"$error":"#DIV/0!"}]
[null,null,0,0,{"$error":"#DIV/0!"}]
[null,null,0,0,{"$error":"#DIV/0!"}]
[null,null,0,0,{"$error":"#DIV/0!"}]
[null,null,0,0,{"$error":"#DIV/0!"}]
[null,null,0,0,{"$error":"#DIV/0!"}]
[null,null,0,0,{"$error":"#DIV/0!"}]
[null,null,0,0,{"$error":"#DIV/0!"}]
[null,null,0,0,{"$error":"#DIV/0!"}]
[null,null,0,0,{"$error":"#DIV/0!"}]
[null,null,0,0,{"$error":"#DIV/0!"}]
[null,null,0,0,{"$error":"#DIV/0!"}]
[null,null,0,0,{"$error":"#DIV/0!"}]
[null,null,0,0,{"$error":"#DIV/0!"}]
[null,null,0,0,{"$error":"#DIV/0!"}]
[null,null,0,0,{"$error":"#DIV/0!"}]
[null,null,0,0,{"$error":"#DIV/0!"}]
[null,null,0,0,{"$error":"#DIV/0!"}]
[null,null,0,0,{"$error":"#DIV/0!"}]
[null,null,0,0,{"$error":"#DIV/0!"}]
[null,null,0,0,{"$error":"#DIV/0!"}]
[null,null,0,0,{"$error":"#DIV/0!"}]
[null,null,0,0,{"$error":"#DIV/0!"}]
[null,null,0,0,{"$error":"#DIV/0!"}]
[null,null,0,0,{"$error":"#DIV/0!"}]
[null,null,0,0,{"$error":"#DIV/0!"}]
[null,null,0,{"$f":"IF(C4935=0,0,IF(C4935<=D4934,D4934,IF(C4935>D4934,D4934+B$2)))","v":0},{"$f":"IF(AND((D4935-D4934>0),(D4935<=C$2)),\"Controlla operazione\",0)","v":{"$error":"#DIV/0!"}}]
[null,null,{"$f":"IF(B4936>0,C4935+B4936,)","v":0},0,{"$error":"#DIV/0!"}]
[null,null,0,0,{"$error":"#DIV/0!"}]
[null,null,0,0,{"$error":"#DIV/0!"}]
[null,null,0,0,{"$error":"#DIV/0!"}]
[null,null,0,0,{"$error":"#DIV/0!"}]
[null,null,0,0,{"$error":"#DIV/0!"}]
[null,null,0,0,{"$error":"#DIV/0!"}]
[null,null,0,0,{"$error":"#DIV/0!"}]
[null,null,0,0,{"$error":"#DIV/0!"}]
[null,null,0,0,{"$error":"#DIV/0!"}]
[null,null,0,0,{"$error":"#DIV/0!"}]
[null,null,0,0,{"$error":"#DIV/0!"}]
[null,null,0,0,{"$error":"#DIV/0!"}]
[null,null,0,0,{"$error":"#DIV/0!"}]
[null,null,0,0,{"$error":"#DIV/0!"}]
[null,null,0,0,{"$error":"#DIV/0!"}]
[null,null,0,0,{"$error":"#DIV/0!"}]
[null,null,0,0,{"$error":"#DIV/0!"}]
[null,null,0,0,{"$error":"#DIV/0!"}]
[null,null,0,0,{"$error":"#DIV/0!"}]
[null,null,0,0,{"$error":"#DIV/0!"}]
[null,null,0,0,{"$error":"#DIV/0!"}]
[null,null,0,0,{"$error":"#DIV/0!"}]
[null,null,0,0,{"$error":"#DIV/0!"}]
[null,null,0,0,{"$error":"#DIV/0!"}]
[null,null,0,0,{"$error":"#DIV/0!"}]
[null,null,0,0,{"$error":"#DIV/0!"}]
[null,null,0,0,{"$error":"#DIV/0!"}]
[null,null,0,0,{"$error":"#DIV/0!"}]
[null,null,0,0,{"$error":"#DIV/0!"}]
[null,null,0,0,{"$error":"#DIV/0!"}]
[null,null,0,0,{"$error":"#DIV/0!"}]
[null,null,0,0,{"$error":"#DIV/0!"}]
[null,null,0,0,{"$error":"#DIV/0!"}]
[null,null,0,0,{"$error":"#DIV/0!"}]
[null,null,0,0,{"$error":"#DIV/0!"}]
[null,null,0,0,{"$error":"#DIV/0!"}]
[null,null,0,0,{"$error":"#DIV/0!"}]
[null,null,0,0,{"$error":"#DIV/0!"}]
[null,null,0,0,{"$error":"#DIV/0!"}]
[null,null,0,0,{"$error":"#DIV/0!"}]
[null,null,0,0,{"$error":"#DIV/0!"}]
[null,null,0,0,{"$error":"#DIV/0!"}]
[null,null,0,0,{"$error":"#DIV/0!"}]
[null,null,0,0,{"$error":"#DIV/0!"}]
[null,null,0,0,{"$error":"#DIV/0!"}]
[null,null,0,0,{"$error":"#DIV/0!"}]
[null,null,0,0,{"$error":"#DIV/0!"}]
[null,null,0,0,{"$error":"#DIV/0!"}]
[null,null,0,0,{"$error":"#DIV/0!"}]
[null,null,0,0,{"$error":"#DIV/0!"}]
[null,null,0,0,{"$error":"#DIV/0!"}]
[null,null,0,0,{"$error":"#DIV/0!"}]
[null,null,0,0,{"$error":"#DIV/0!"}]
[null,null,0,0,{"$error":"#DIV/0!"}]
[null,null,0,0,{"$error":"#DIV/0!"}]
[null,null,0,0,{"$error":"#DIV/0!"}]
[null,null,0,0,{"$error":"#DIV/0!"}]
[null,null,0,0,{"$error":"#DIV/0!"}]
[null,null,0,0,{"$error":"#DIV/0!"}]
[null,null,0,0,{"$error":"#DIV/0!"}]
[null,null,0,0,{"$error":"#DIV/0!"}]
[null,null,0,0,{"$error":"#DIV/0!"}]
[null,null,0,{"$f":"IF(C4999=0,0,IF(C4999<=D4998,D4998,IF(C4999>D4998,D4998+B$2)))","v":0},{"$f":"IF(AND((D4999-D4998>0),(D4999<=C$2)),\"Controlla operazione\",0)","v":{"$error":"#DIV/0!"}}]
[null,null,{"$f":"IF(B5000>0,C4999+B5000,)","v":0},0,{"$error":"#DIV/0!"}]
[null,null,0,0,{"$error":"#DIV/0!"}]
[null,null,0,0,{"$error":"#DIV/0!"}]
[null,null,0,0,{"$error":"#DIV/0!"}]
[null,null,0,0,{"$error":"#DIV/0!"}]
[null,null,0,0,{"$error":"#DIV/0!"}]
[null,null,0,0,{"$error":"#DIV/0!"}]
[null,null,0,0,{"$error":"#DIV/0!"}]
[null,null,0,0,{"$error":"#DIV/0!"}]
[null,null,0,0,{"$error":"#DIV/0!"}]
[null,null,0,0,{"$error":"#DIV/0!"}]
[null,null,0,0,{"$error":"#DIV/0!"}]
[null,null,0,0,{"$error":"#DIV/0!"}]
[null,null,0,0,{"$error":"#DIV/0!"}]
[null,null,0,0,{"$error":"#DIV/0!"}]
[null,null,0,0,{"$error":"#DIV/0!"}]
[null,null,0,0,{"$error":"#DIV/0!"}]
[null,null,0,0,{"$error":"#DIV/0!"}]
[null,null,0,0,{"$error":"#DIV/0!"}]
[null,null,0,0,{"$error":"#DIV/0!"}]
[null,null,0,0,{"$error":"#DIV/0!"}]
[null,null,0,0,{"$error":"#DIV/0!"}]
[null,null,0,0,{"$error":"#DIV/0!"}]
[null,null,0,0,{"$error":"#DIV/0!"}]
[null,null,0,0,{"$error":"#DIV/0!"}]
[null,null,0,0,{"$error":"#DIV/0!"}]
[null,null,0,0,{"$error":"#DIV/0!"}]
[null,null,0,0,{"$error":"#DIV/0!"}]
[null,null,0,0,{"$error":"#DIV/0!"}]
[null,null,0,0,{"$error":"#DIV/0!"}]
[null,null,0,0,{"$error":"#DIV/0!"}]
[null,null,0,0,{"$error":"#DIV/0!"}]
[null,null,0,0,{"$error":"#DIV/0!"}]
[null,null,0,0,{"$error":"#DIV/0!"}]
[null,null,0,0,{"$error":"#DIV/0!"}]
[null,null,0,0,{"$error":"#DIV/0!"}]
[null,null,0,0,{"$error":"#DIV/0!"}]
[null,null,0,0,{"$error":"#DIV/0!"}]
[null,null,0,0,{"$error":"#DIV/0!"}]
[null,null,0,0,{"$error":"#DIV/0!"}]
[null,null,0,0,{"$error":"#DIV/0!"}]
[null,null,0,0,{"$error":"#DIV/0!"}]
[null,null,0,0,{"$error":"#DIV/0!"}]
[null,null,0,0,{"$error":"#DIV/0!"}]
[null,null,0,0,{"$error":"#DIV/0!"}]
[null,null,0,0,{"$error":"#DIV/0!"}]
[null,null,0,0,{"$error":"#DIV/0!"}]
[null,null,0,0,{"$error":"#DIV/0!"}]
[null,null,0,0,{"$error":"#DIV/0!"}]
[null,null,0,0,{"$error":"#DIV/0!"}]
[null,null,0,0,{"$error":"#DIV/0!"}]
[null,null,0,0,{"$error":"#DIV/0!"}]
[null,null,0,0,{"$error":"#DIV/0!"}]
[null,null,0,0,{"$error":"#DIV/0!"}]
[null,null,0,0,{"$error":"#DIV/0!"}]
[null,null,0,0,{"$error":"#DIV/0!"}]
[null,null,0,0,{"$error":"#DIV/0!"}]
[null,null,0,0,{"$error":"#DIV/0!"}]
[null,null,0,0,{"$error":"#DIV/0!"}]
[null,null,0,0,{"$error":"#DIV/0!"}]
[null,null,0,0,{"$error":"#DIV/0!"}]
[null,null,0,0,{"$error":"#DIV/0!"}]
[null,null,0,0,{"$error":"#DIV/0!"}]
[null,null,0,{"$f":"IF(C5063=0,0,IF(C5063<=D5062,D5062,IF(C5063>D5062,D5062+B$2)))","v":0},{"$f":"IF(AND((D5063-D5062>0),(D5063<=C$2)),\"Controlla operazione\",0)","v":{"$error":"#DIV/0!"}}]
[null,null,{"$f":"IF(B5064>0,C5063+B5064,)","v":0},0,{"$error":"#DIV/0!"}]
[null,null,0,0,{"$error":"#DIV/0!"}]
[null,null,0,0,{"$error":"#DIV/0!"}]
[null,null,0,0,{"$error":"#DIV/0!"}]
[null,null,0,0,{"$error":"#DIV/0!"}]
[null,null,0,0,{"$error":"#DIV/0!"}]
[null,null,0,0,{"$error":"#DIV/0!"}]
[null,null,0,0,{"$error":"#DIV/0!"}]
[null,null,0,0,{"$error":"#DIV/0!"}]
[null,null,0,0,{"$error":"#DIV/0!"}]
[null,null,0,0,{"$error":"#DIV/0!"}]
[null,null,0,0,{"$error":"#DIV/0!"}]
[null,null,0,0,{"$error":"#DIV/0!"}]
[null,null,0,0,{"$error":"#DIV/0!"}]
[null,null,0,0,{"$error":"#DIV/0!"}]
[null,null,0,0,{"$error":"#DIV/0!"}]
[null,null,0,0,{"$error":"#DIV/0!"}]
[null,null,0,0,{"$error":"#DIV/0!"}]
[null,null,0,0,{"$error":"#DIV/0!"}]
[null,null,0,0,{"$error":"#DIV/0!"}]
[null,null,0,0,{"$error":"#DIV/0!"}]
[null,null,0,0,{"$error":"#DIV/0!"}]
[null,null,0,0,{"$error":"#DIV/0!"}]
[null,null,0,0,{"$error":"#DIV/0!"}]
[null,null,0,0,{"$error":"#DIV/0!"}]
[null,null,0,0,{"$error":"#DIV/0!"}]
[null,null,0,0,{"$error":"#DIV/0!"}]
[null,null,0,0,{"$error":"#DIV/0!"}]
[null,null,0,0,{"$error":"#DIV/0!"}]
[null,null,0,0,{"$error":"#DIV/0!"}]
[null,null,0,0,{"$error":"#DIV/0!"}]
[null,null,0,0,{"$error":"#DIV/0!"}]
[null,null,0,0,{"$error":"#DIV/0!"}]
[null,null,0,0,{"$error":"#DIV/0!"}]
[null,null,0,0,{"$error":"#DIV/0!"}]
[null,null,0,0,{"$error":"#DIV/0!"}]
[null,null,0,0,{"$error":"#DIV/0!"}]
[null,null,0,0,{"$error":"#DIV/0!"}]
[null,null,0,0,{"$error":"#DIV/0!"}]
[null,null,0,0,{"$error":"#DIV/0!"}]
[null,null,0,0,{"$error":"#DIV/0!"}]
[null,null,0,0,{"$error":"#DIV/0!"}]
[null,null,0,0,{"$error":"#DIV/0!"}]
[null,null,0,0,{"$error":"#DIV/0!"}]
[null,null,0,0,{"$error":"#DIV/0!"}]
[null,null,0,0,{"$error":"#DIV/0!"}]
[null,null,0,0,{"$error":"#DIV/0!"}]
[null,null,0,0,{"$error":"#DIV/0!"}]
[null,null,0,0,{"$error":"#DIV/0!"}]
[null,null,0,0,{"$error":"#DIV/0!"}]
[null,null,0,0,{"$error":"#DIV/0!"}]
[null,null,0,0,{"$error":"#DIV/0!"}]
[null,null,0,0,{"$error":"#DIV/0!"}]
[null,null,0,0,{"$error":"#DIV/0!"}]
[null,null,0,0,{"$error":"#DIV/0!"}]
[null,null,0,0,{"$error":"#DIV/0!"}]
[null,null,0,0,{"$error":"#DIV/0!"}]
[null,null,0,0,{"$error":"#DIV/0!"}]
[null,null,0,0,{"$error":"#DIV/0!"}]
[null,null,0,0,{"$error":"#DIV/0!"}]
[null,null,0,0,{"$error":"#DIV/0!"}]
[null,null,0,0,{"$error":"#DIV/0!"}]
[null,null,0,0,{"$error":"#DIV/0!"}]
[null,null,0,{"$f":"IF(C5127=0,0,IF(C5127<=D5126,D5126,IF(C5127>D5126,D5126+B$2)))","v":0},{"$f":"IF(AND((D5127-D5126>0),(D5127<=C$2)),\"Controlla operazione\",0)","v":{"$error":"#DIV/0!"}}]
[null,null,{"$f":"IF(B5128>0,C5127+B5128,)","v":0},0,{"$error":"#DIV/0!"}]
[null,null,0,0,{"$error":"#DIV/0!"}]
[null,null,0,0,{"$error":"#DIV/0!"}]
[null,null,0,0,{"$error":"#DIV/0!"}]
[null,null,0,0,{"$error":"#DIV/0!"}]
[null,null,0,0,{"$error":"#DIV/0!"}]
[null,null,0,0,{"$error":"#DIV/0!"}]
[null,null,0,0,{"$error":"#DIV/0!"}]
[null,null,0,0,{"$error":"#DIV/0!"}]
[null,null,0,0,{"$error":"#DIV/0!"}]
[null,null,0,0,{"$error":"#DIV/0!"}]
[null,null,0,0,{"$error":"#DIV/0!"}]
[null,null,0,0,{"$error":"#DIV/0!"}]
[null,null,0,0,{"$error":"#DIV/0!"}]
[null,null,0,0,{"$error":"#DIV/0!"}]
[null,null,0,0,{"$error":"#DIV/0!"}]
[null,null,0,0,{"$error":"#DIV/0!"}]
[null,null,0,0,{"$error":"#DIV/0!"}]
[null,null,0,0,{"$error":"#DIV/0!"}]
[null,null,0,0,{"$error":"#DIV/0!"}]
[null,null,0,0,{"$error":"#DIV/0!"}]
[null,null,0,0,{"$error":"#DIV/0!"}]
[null,null,0,0,{"$error":"#DIV/0!"}]
[null,null,0,0,{"$error":"#DIV/0!"}]
[null,null,0,0,{"$error":"#DIV/0!"}]
[null,null,0,0,{"$error":"#DIV/0!"}]
[null,null,0,0,{"$error":"#DIV/0!"}]
[null,null,0,0,{"$error":"#DIV/0!"}]
[null,null,0,0,{"$error":"#DIV/0!"}]
[null,null,0,0,{"$error":"#DIV/0!"}]
[null,null,0,0,{"$error":"#DIV/0!"}]
[null,null,0,0,{"$error":"#DIV/0!"}]
[null,null,0,0,{"$error":"#DIV/0!"}]
[null,null,0,0,{"$error":"#DIV/0!"}]
[null,null,0,0,{"$error":"#DIV/0!"}]
[null,null,0,0,{"$error":"#DIV/0!"}]
[null,null,0,0,{"$error":"#DIV/0!"}]
[null,null,0,0,{"$error":"#DIV/0!"}]
[null,null,0,0,{"$error":"#DIV/0!"}]
[null,null,0,0,{"$error":"#DIV/0!"}]
[null,null,0,0,{"$error":"#DIV/0!"}]
[null,null,0,0,{"$error":"#DIV/0!"}]
[null,null,0,0,{"$error":"#DIV/0!"}]
[null,null,0,0,{"$error":"#DIV/0!"}]
[null,null,0,0,{"$error":"#DIV/0!"}]
[null,null,0,0,{"$error":"#DIV/0!"}]
[null,null,0,0,{"$error":"#DIV/0!"}]
[null,null,0,0,{"$error":"#DIV/0!"}]
[null,null,0,0,{"$error":"#DIV/0!"}]
[null,null,0,0,{"$error":"#DIV/0!"}]
[null,null,0,0,{"$error":"#DIV/0!"}]
[null,null,0,0,{"$error":"#DIV/0!"}]
[null,null,0,0,{"$error":"#DIV/0!"}]
[null,null,0,0,{"$error":"#DIV/0!"}]
[null,null,0,0,{"$error":"#DIV/0!"}]
[null,null,0,0,{"$error":"#DIV/0!"}]
[null,null,0,0,{"$error":"#DIV/0!"}]
[null,null,0,0,{"$error":"#DIV/0!"}]
[null,null,0,0,{"$error":"#DIV/0!"}]
[null,null,0,0,{"$error":"#DIV/0!"}]
[null,null,0,0,{"$error":"#DIV/0!"}]
[null,null,0,0,{"$error":"#DIV/0!"}]
[null,null,0,0,{"$error":"#DIV/0!"}]
[null,null,0,{"$f":"IF(C5191=0,0,IF(C5191<=D5190,D5190,IF(C5191>D5190,D5190+B$2)))","v":0},{"$f":"IF(AND((D5191-D5190>0),(D5191<=C$2)),\"Controlla operazione\",0)","v":{"$error":"#DIV/0!"}}]
[null,null,{"$f":"IF(B5192>0,C5191+B5192,)","v":0},0,{"$error":"#DIV/0!"}]
[null,null,0,0,{"$error":"#DIV/0!"}]
[null,null,0,0,{"$error":"#DIV/0!"}]
[null,null,0,0,{"$error":"#DIV/0!"}]
[null,null,0,0,{"$error":"#DIV/0!"}]
[null,null,0,0,{"$error":"#DIV/0!"}]
[null,null,0,0,{"$error":"#DIV/0!"}]
[null,null,0,0,{"$error":"#DIV/0!"}]
[null,null,0,0,{"$error":"#DIV/0!"}]
[null,null,0,0,{"$error":"#DIV/0!"}]
[null,null,0,0,{"$error":"#DIV/0!"}]
[null,null,0,0,{"$error":"#DIV/0!"}]
[null,null,0,0,{"$error":"#DIV/0!"}]
[null,null,0,0,{"$error":"#DIV/0!"}]
[null,null,0,0,{"$error":"#DIV/0!"}]
[null,null,0,0,{"$error":"#DIV/0!"}]
[null,null,0,0,{"$error":"#DIV/0!"}]
[null,null,0,0,{"$error":"#DIV/0!"}]
[null,null,0,0,{"$error":"#DIV/0!"}]
[null,null,0,0,{"$error":"#DIV/0!"}]
[null,null,0,0,{"$error":"#DIV/0!"}]
[null,null,0,0,{"$error":"#DIV/0!"}]
[null,null,0,0,{"$error":"#DIV/0!"}]
[null,null,0,0,{"$error":"#DIV/0!"}]
[null,null,0,0,{"$error":"#DIV/0!"}]
[null,null,0,0,{"$error":"#DIV/0!"}]
[null,null,0,0,{"$error":"#DIV/0!"}]
[null,null,0,0,{"$error":"#DIV/0!"}]
[null,null,0,0,{"$error":"#DIV/0!"}]
[null,null,0,0,{"$error":"#DIV/0!"}]
[null,null,0,0,{"$error":"#DIV/0!"}]
[null,null,0,0,{"$error":"#DIV/0!"}]
[null,null,0,0,{"$error":"#DIV/0!"}]
[null,null,0,0,{"$error":"#DIV/0!"}]
[null,null,0,0,{"$error":"#DIV/0!"}]
[null,null,0,0,{"$error":"#DIV/0!"}]
[null,null,0,0,{"$error":"#DIV/0!"}]
[null,null,0,0,{"$error":"#DIV/0!"}]
[null,null,0,0,{"$error":"#DIV/0!"}]
[null,null,0,0,{"$error":"#DIV/0!"}]
[null,null,0,0,{"$error":"#DIV/0!"}]
[null,null,0,0,{"$error":"#DIV/0!"}]
[null,null,0,0,{"$error":"#DIV/0!"}]
[null,null,0,0,{"$error":"#DIV/0!"}]
[null,null,0,0,{"$error":"#DIV/0!"}]
[null,null,0,0,{"$error":"#DIV/0!"}]
[null,null,0,0,{"$error":"#DIV/0!"}]
[null,null,0,0,{"$error":"#DIV/0!"}]
[null,null,0,0,{"$error":"#DIV/0!"}]
[null,null,0,0,{"$error":"#DIV/0!"}]
[null,null,0,0,{"$error":"#DIV/0!"}]
[null,null,0,0,{"$error":"#DIV/0!"}]
[null,null,0,0,{"$error":"#DIV/0!"}]
[null,null,0,0,{"$error":"#DIV/0!"}]
[null,null,0,0,{"$error":"#DIV/0!"}]
[null,null,0,0,{"$error":"#DIV/0!"}]
[null,null,0,0,{"$error":"#DIV/0!"}]
[null,null,0,0,{"$error":"#DIV/0!"}]
[null,null,0,0,{"$error":"#DIV/0!"}]
[null,null,0,0,{"$error":"#DIV/0!"}]
[null,null,0,0,{"$error":"#DIV/0!"}]
[null,null,0,0,{"$error":"#DIV/0!"}]
[null,null,0,0,{"$error":"#DIV/0!"}]
[null,null,0,{"$f":"IF(C5255=0,0,IF(C5255<=D5254,D5254,IF(C5255>D5254,D5254+B$2)))","v":0},{"$f":"IF(AND((D5255-D5254>0),(D5255<=C$2)),\"Controlla operazione\",0)","v":{"$error":"#DIV/0!"}}]
[null,null,{"$f":"IF(B5256>0,C5255+B5256,)","v":0},0,{"$error":"#DIV/0!"}]
[null,null,0,0,{"$error":"#DIV/0!"}]
[null,null,0,0,{"$error":"#DIV/0!"}]
[null,null,0,0,{"$error":"#DIV/0!"}]
[null,null,0,0,{"$error":"#DIV/0!"}]
[null,null,0,0,{"$error":"#DIV/0!"}]
[null,null,0,0,{"$error":"#DIV/0!"}]
[null,null,0,0,{"$error":"#DIV/0!"}]
[null,null,0,0,{"$error":"#DIV/0!"}]
[null,null,0,0,{"$error":"#DIV/0!"}]
[null,null,0,0,{"$error":"#DIV/0!"}]
[null,null,0,0,{"$error":"#DIV/0!"}]
[null,null,0,0,{"$error":"#DIV/0!"}]
[null,null,0,0,{"$error":"#DIV/0!"}]
[null,null,0,0,{"$error":"#DIV/0!"}]
[null,null,0,0,{"$error":"#DIV/0!"}]
[null,null,0,0,{"$error":"#DIV/0!"}]
[null,null,0,0,{"$error":"#DIV/0!"}]
[null,null,0,0,{"$error":"#DIV/0!"}]
[null,null,0,0,{"$error":"#DIV/0!"}]
[null,null,0,0,{"$error":"#DIV/0!"}]
[null,null,0,0,{"$error":"#DIV/0!"}]
[null,null,0,0,{"$error":"#DIV/0!"}]
[null,null,0,0,{"$error":"#DIV/0!"}]
[null,null,0,0,{"$error":"#DIV/0!"}]
[null,null,0,0,{"$error":"#DIV/0!"}]
[null,null,0,0,{"$error":"#DIV/0!"}]
[null,null,0,0,{"$error":"#DIV/0!"}]
[null,null,0,0,{"$error":"#DIV/0!"}]
[null,null,0,0,{"$error":"#DIV/0!"}]
[null,null,0,0,{"$error":"#DIV/0!"}]
[null,null,0,0,{"$error":"#DIV/0!"}]
[null,null,0,0,{"$error":"#DIV/0!"}]
[null,null,0,0,{"$error":"#DIV/0!"}]
[null,null,0,0,{"$error":"#DIV/0!"}]
[null,null,0,0,{"$error":"#DIV/0!"}]
[null,null,0,0,{"$error":"#DIV/0!"}]
[null,null,0,0,{"$error":"#DIV/0!"}]
[null,null,0,0,{"$error":"#DIV/0!"}]
[null,null,0,0,{"$error":"#DIV/0!"}]
[null,null,0,0,{"$error":"#DIV/0!"}]
[null,null,0,0,{"$error":"#DIV/0!"}]
[null,null,0,0,{"$error":"#DIV/0!"}]
[null,null,0,0,{"$error":"#DIV/0!"}]
[null,null,0,0,{"$error":"#DIV/0!"}]
[null,null,0,0,{"$error":"#DIV/0!"}]
[null,null,0,0,{"$error":"#DIV/0!"}]
[null,null,0,0,{"$error":"#DIV/0!"}]
[null,null,0,0,{"$error":"#DIV/0!"}]
[null,null,0,0,{"$error":"#DIV/0!"}]
[null,null,0,0,{"$error":"#DIV/0!"}]
[null,null,0,0,{"$error":"#DIV/0!"}]
[null,null,0,0,{"$error":"#DIV/0!"}]
[null,null,0,0,{"$error":"#DIV/0!"}]
[null,null,0,0,{"$error":"#DIV/0!"}]
[null,null,0,0,{"$error":"#DIV/0!"}]
[null,null,0,0,{"$error":"#DIV/0!"}]
[null,null,0,0,{"$error":"#DIV/0!"}]
[null,null,0,0,{"$error":"#DIV/0!"}]
[null,null,0,0,{"$error":"#DIV/0!"}]
[null,null,0,0,{"$error":"#DIV/0!"}]
[null,null,0,0,{"$error":"#DIV/0!"}]
[null,null,0,0,{"$error":"#DIV/0!"}]
[null,null,0,{"$f":"IF(C5319=0,0,IF(C5319<=D5318,D5318,IF(C5319>D5318,D5318+B$2)))","v":0},{"$f":"IF(AND((D5319-D5318>0),(D5319<=C$2)),\"Controlla operazione\",0)","v":{"$error":"#DIV/0!"}}]
[null,null,{"$f":"IF(B5320>0,C5319+B5320,)","v":0},0,{"$error":"#DIV/0!"}]
[null,null,0,0,{"$error":"#DIV/0!"}]
[null,null,0,0,{"$error":"#DIV/0!"}]
[null,null,0,0,{"$error":"#DIV/0!"}]
[null,null,0,0,{"$error":"#DIV/0!"}]
[null,null,0,0,{"$error":"#DIV/0!"}]
[null,null,0,0,{"$error":"#DIV/0!"}]
[null,null,0,0,{"$error":"#DIV/0!"}]
[null,null,0,0,{"$error":"#DIV/0!"}]
[null,null,0,0,{"$error":"#DIV/0!"}]
[null,null,0,0,{"$error":"#DIV/0!"}]
[null,null,0,0,{"$error":"#DIV/0!"}]
[null,null,0,0,{"$error":"#DIV/0!"}]
[null,null,0,0,{"$error":"#DIV/0!"}]
[null,null,0,0,{"$error":"#DIV/0!"}]
[null,null,0,0,{"$error":"#DIV/0!"}]
[null,null,0,0,{"$error":"#DIV/0!"}]
[null,null,0,0,{"$error":"#DIV/0!"}]
[null,null,0,0,{"$error":"#DIV/0!"}]
[null,null,0,0,{"$error":"#DIV/0!"}]
[null,null,0,0,{"$error":"#DIV/0!"}]
[null,null,0,0,{"$error":"#DIV/0!"}]
[null,null,0,0,{"$error":"#DIV/0!"}]
[null,null,0,0,{"$error":"#DIV/0!"}]
[null,null,0,0,{"$error":"#DIV/0!"}]
[null,null,0,0,{"$error":"#DIV/0!"}]
[null,null,0,0,{"$error":"#DIV/0!"}]
[null,null,0,0,{"$error":"#DIV/0!"}]
[null,null,0,0,{"$error":"#DIV/0!"}]
[null,null,0,0,{"$error":"#DIV/0!"}]
[null,null,0,0,{"$error":"#DIV/0!"}]
[null,null,0,0,{"$error":"#DIV/0!"}]
[null,null,0,0,{"$error":"#DIV/0!"}]
[null,null,0,0,{"$error":"#DIV/0!"}]
[null,null,0,0,{"$error":"#DIV/0!"}]
[null,null,0,0,{"$error":"#DIV/0!"}]
[null,null,0,0,{"$error":"#DIV/0!"}]
[null,null,0,0,{"$error":"#DIV/0!"}]
[null,null,0,0,{"$error":"#DIV/0!"}]
[null,null,0,0,{"$error":"#DIV/0!"}]
[null,null,0,0,{"$error":"#DIV/0!"}]
[null,null,0,0,{"$error":"#DIV/0!"}]
[null,null,0,0,{"$error":"#DIV/0!"}]
[null,null,0,0,{"$error":"#DIV/0!"}]
[null,null,0,0,{"$error":"#DIV/0!"}]
[null,null,0,0,{"$error":"#DIV/0!"}]
[null,null,0,0,{"$error":"#DIV/0!"}]
[null,null,0,0,{"$error":"#DIV/0!"}]
[null,null,0,0,{"$error":"#DIV/0!"}]
[null,null,0,0,{"$error":"#DIV/0!"}]
[null,null,0,0,{"$error":"#DIV/0!"}]
[null,null,0,0,{"$error":"#DIV/0!"}]
[null,null,0,0,{"$error":"#DIV/0!"}]
[null,null,0,0,{"$error":"#DIV/0!"}]
[null,null,0,0,{"$error":"#DIV/0!"}]
[null,null,0,0,{"$error":"#DIV/0!"}]
[null,null,0,0,{"$error":"#DIV/0!"}]
[null,null,0,0,{"$error":"#DIV/0!"}]
[null,null,0,0,{"$error":"#DIV/0!"}]
[null,null,0,0,{"$error":"#DIV/0!"}]
[null,null,0,0,{"$error":"#DIV/0!"}]
[null,null,0,0,{"$error":"#DIV/0!"}]
[null,null,0,0,{"$error":"#DIV/0!"}]
[null,null,0,{"$f":"IF(C5383=0,0,IF(C5383<=D5382,D5382,IF(C5383>D5382,D5382+B$2)))","v":0},{"$f":"IF(AND((D5383-D5382>0),(D5383<=C$2)),\"Controlla operazione\",0)","v":{"$error":"#DIV/0!"}}]
[null,null,{"$f":"IF(B5384>0,C5383+B5384,)","v":0},0,{"$error":"#DIV/0!"}]
[null,null,0,0,{"$error":"#DIV/0!"}]
[null,null,0,0,{"$error":"#DIV/0!"}]
[null,null,0,0,{"$error":"#DIV/0!"}]
[null,null,0,0,{"$error":"#DIV/0!"}]
[null,null,0,0,{"$error":"#DIV/0!"}]
[null,null,0,0,{"$error":"#DIV/0!"}]
[null,null,0,0,{"$error":"#DIV/0!"}]
[null,null,0,0,{"$error":"#DIV/0!"}]
[null,null,0,0,{"$error":"#DIV/0!"}]
[null,null,0,0,{"$error":"#DIV/0!"}]
[null,null,0,0,{"$error":"#DIV/0!"}]
[null,null,0,0,{"$error":"#DIV/0!"}]
[null,null,0,0,{"$error":"#DIV/0!"}]
[null,null,0,0,{"$error":"#DIV/0!"}]
[null,null,0,0,{"$error":"#DIV/0!"}]
[null,null,0,0,{"$error":"#DIV/0!"}]
[null,null,0,0,{"$error":"#DIV/0!"}]
[null,null,0,0,{"$error":"#DIV/0!"}]
[null,null,0,0,{"$error":"#DIV/0!"}]
[null,null,0,0,{"$error":"#DIV/0!"}]
[null,null,0,0,{"$error":"#DIV/0!"}]
[null,null,0,0,{"$error":"#DIV/0!"}]
[null,null,0,0,{"$error":"#DIV/0!"}]
[null,null,0,0,{"$error":"#DIV/0!"}]
[null,null,0,0,{"$error":"#DIV/0!"}]
[null,null,0,0,{"$error":"#DIV/0!"}]
[null,null,0,0,{"$error":"#DIV/0!"}]
[null,null,0,0,{"$error":"#DIV/0!"}]
[null,null,0,0,{"$error":"#DIV/0!"}]
[null,null,0,0,{"$error":"#DIV/0!"}]
[null,null,0,0,{"$error":"#DIV/0!"}]
[null,null,0,0,{"$error":"#DIV/0!"}]
[null,null,0,0,{"$error":"#DIV/0!"}]
[null,null,0,0,{"$error":"#DIV/0!"}]
[null,null,0,0,{"$error":"#DIV/0!"}]
[null,null,0,0,{"$error":"#DIV/0!"}]
[null,null,0,0,{"$error":"#DIV/0!"}]
[null,null,0,0,{"$error":"#DIV/0!"}]
[null,null,0,0,{"$error":"#DIV/0!"}]
[null,null,0,0,{"$error":"#DIV/0!"}]
[null,null,0,0,{"$error":"#DIV/0!"}]
[null,null,0,0,{"$error":"#DIV/0!"}]
[null,null,0,0,{"$error":"#DIV/0!"}]
[null,null,0,0,{"$error":"#DIV/0!"}]
[null,null,0,0,{"$error":"#DIV/0!"}]
[null,null,0,0,{"$error":"#DIV/0!"}]
[null,null,0,0,{"$error":"#DIV/0!"}]
[null,null,0,0,{"$error":"#DIV/0!"}]
[null,null,0,0,{"$error":"#DIV/0!"}]
[null,null,0,0,{"$error":"#DIV/0!"}]
[null,null,0,0,{"$error":"#DIV/0!"}]
[null,null,0,0,{"$error":"#DIV/0!"}]
[null,null,0,0,{"$error":"#DIV/0!"}]
[null,null,0,0,{"$error":"#DIV/0!"}]
[null,null,0,0,{"$error":"#DIV/0!"}]
[null,null,0,0,{"$error":"#DIV/0!"}]
[null,null,0,0,{"$error":"#DIV/0!"}]
[null,null,0,0,{"$error":"#DIV/0!"}]
[null,null,0,0,{"$error":"#DIV/0!"}]
[null,null,0,0,{"$error":"#DIV/0!"}]
[null,null,0,0,{"$error":"#DIV/0!"}]
[null,null,0,0,{"$error":"#DIV/0!"}]
[null,null,0,{"$f":"IF(C5447=0,0,IF(C5447<=D5446,D5446,IF(C5447>D5446,D5446+B$2)))","v":0},{"$f":"IF(AND((D5447-D5446>0),(D5447<=C$2)),\"Controlla operazione\",0)","v":{"$error":"#DIV/0!"}}]
[null,null,{"$f":"IF(B5448>0,C5447+B5448,)","v":0},0,{"$error":"#DIV/0!"}]
[null,null,0,0,{"$error":"#DIV/0!"}]
[null,null,0,0,{"$error":"#DIV/0!"}]
[null,null,0,0,{"$error":"#DIV/0!"}]
[null,null,0,0,{"$error":"#DIV/0!"}]
[null,null,0,0,{"$error":"#DIV/0!"}]
[null,null,0,0,{"$error":"#DIV/0!"}]
[null,null,0,0,{"$error":"#DIV/0!"}]
[null,null,0,0,{"$error":"#DIV/0!"}]
[null,null,0,0,{"$error":"#DIV/0!"}]
[null,null,0,0,{"$error":"#DIV/0!"}]
[null,null,0,0,{"$error":"#DIV/0!"}]
[null,null,0,0,{"$error":"#DIV/0!"}]
[null,null,0,0,{"$error":"#DIV/0!"}]
[null,null,0,0,{"$error":"#DIV/0!"}]
[null,null,0,0,{"$error":"#DIV/0!"}]
[null,null,0,0,{"$error":"#DIV/0!"}]
[null,null,0,0,{"$error":"#DIV/0!"}]
[null,null,0,0,{"$error":"#DIV/0!"}]
[null,null,0,0,{"$error":"#DIV/0!"}]
[null,null,0,0,{"$error":"#DIV/0!"}]
[null,null,0,0,{"$error":"#DIV/0!"}]
[null,null,0,0,{"$error":"#DIV/0!"}]
[null,null,0,0,{"$error":"#DIV/0!"}]
[null,null,0,0,{"$error":"#DIV/0!"}]
[null,null,0,0,{"$error":"#DIV/0!"}]
[null,null,0,0,{"$error":"#DIV/0!"}]
[null,null,0,0,{"$error":"#DIV/0!"}]
[null,null,0,0,{"$error":"#DIV/0!"}]
[null,null,0,0,{"$error":"#DIV/0!"}]
[null,null,0,0,{"$error":"#DIV/0!"}]
[null,null,0,0,{"$error":"#DIV/0!"}]
[null,null,0,0,{"$error":"#DIV/0!"}]
[null,null,0,0,{"$error":"#DIV/0!"}]
[null,null,0,0,{"$error":"#DIV/0!"}]
[null,null,0,0,{"$error":"#DIV/0!"}]
[null,null,0,0,{"$error":"#DIV/0!"}]
[null,null,0,0,{"$error":"#DIV/0!"}]
[null,null,0,0,{"$error":"#DIV/0!"}]
[null,null,0,0,{"$error":"#DIV/0!"}]
[null,null,0,0,{"$error":"#DIV/0!"}]
[null,null,0,0,{"$error":"#DIV/0!"}]
[null,null,0,0,{"$error":"#DIV/0!"}]
[null,null,0,0,{"$error":"#DIV/0!"}]
[null,null,0,0,{"$error":"#DIV/0!"}]
[null,null,0,0,{"$error":"#DIV/0!"}]
[null,null,0,0,{"$error":"#DIV/0!"}]
[null,null,0,0,{"$error":"#DIV/0!"}]
[null,null,0,0,{"$error":"#DIV/0!"}]
[null,null,0,0,{"$error":"#DIV/0!"}]
[null,null,0,0,{"$error":"#DIV/0!"}]
[null,null,0,0,{"$error":"#DIV/0!"}]
[null,null,0,0,{"$error":"#DIV/0!"}]
[null,null,0,0,{"$error":"#DIV/0!"}]
[null,null,0,0,{"$error":"#DIV/0!"}]
[null,null,0,0,{"$error":"#DIV/0!"}]
[null,null,0,0,{"$error":"#DIV/0!"}]
[null,null,0,0,{"$error":"#DIV/0!"}]
[null,null,0,0,{"$error":"#DIV/0!"}]
[null,null,0,0,{"$error":"#DIV/0!"}]
[null,null,0,0,{"$error":"#DIV/0!"}]
[null,null,0,0,{"$error":"#DIV/0!"}]
[null,null,0,0,{"$error":"#DIV/0!"}]
[null,null,0,{"$f":"IF(C5511=0,0,IF(C5511<=D5510,D5510,IF(C5511>D5510,D5510+B$2)))","v":0},{"$f":"IF(AND((D5511-D5510>0),(D5511<=C$2)),\"Controlla operazione\",0)","v":{"$error":"#DIV/0!"}}]
[null,null,{"$f":"IF(B5512>0,C5511+B5512,)","v":0},0,{"$error":"#DIV/0!"}]
[null,null,0,0,{"$error":"#DIV/0!"}]
[null,null,0,0,{"$error":"#DIV/0!"}]
[null,null,0,0,{"$error":"#DIV/0!"}]
[null,null,0,0,{"$error":"#DIV/0!"}]
[null,null,0,0,{"$error":"#DIV/0!"}]
[null,null,0,0,{"$error":"#DIV/0!"}]
[null,null,0,0,{"$error":"#DIV/0!"}]
[null,null,0,0,{"$error":"#DIV/0!"}]
[null,null,0,0,{"$error":"#DIV/0!"}]
[null,null,0,0,{"$error":"#DIV/0!"}]
[null,null,0,0,{"$error":"#DIV/0!"}]
[null,null,0,0,{"$error":"#DIV/0!"}]
[null,null,0,0,{"$error":"#DIV/0!"}]
[null,null,0,0,{"$error":"#DIV/0!"}]
[null,null,0,0,{"$error":"#DIV/0!"}]
[null,null,0,0,{"$error":"#DIV/0!"}]
[null,null,0,0,{"$error":"#DIV/0!"}]
[null,null,0,0,{"$error":"#DIV/0!"}]
[null,null,0,0,{"$error":"#DIV/0!"}]
[null,null,0,0,{"$error":"#DIV/0!"}]
[null,null,0,0,{"$error":"#DIV/0!"}]
[null,null,0,0,{"$error":"#DIV/0!"}]
[null,null,0,0,{"$error":"#DIV/0!"}]
[null,null,0,0,{"$error":"#DIV/0!"}]
[null,null,0,0,{"$error":"#DIV/0!"}]
[null,null,0,0,{"$error":"#DIV/0!"}]
[null,null,0,0,{"$error":"#DIV/0!"}]
[null,null,0,0,{"$error":"#DIV/0!"}]
[null,null,0,0,{"$error":"#DIV/0!"}]
[null,null,0,0,{"$error":"#DIV/0!"}]
[null,null,0,0,{"$error":"#DIV/0!"}]
[null,null,0,0,{"$error":"#DIV/0!"}]
[null,null,0,0,{"$error":"#DIV/0!"}]
[null,null,0,0,{"$error":"#DIV/0!"}]
[null,null,0,0,{"$error":"#DIV/0!"}]
[null,null,0,0,{"$error":"#DIV/0!"}]
[null,null,0,0,{"$error":"#DIV/0!"}]
[null,null,0,0,{"$error":"#DIV/0!"}]
[null,null,0,0,{"$error":"#DIV/0!"}]
[null,null,0,0,{"$error":"#DIV/0!"}]
[null,null,0,0,{"$error":"#DIV/0!"}]
[null,null,0,0,{"$error":"#DIV/0!"}]
[null,null,0,0,{"$error":"#DIV/0!"}]
[null,null,0,0,{"$error":"#DIV/0!"}]
[null,null,0,0,{"$error":"#DIV/0!"}]
[null,null,0,0,{"$error":"#DIV/0!"}]
[null,null,0,0,{"$error":"#DIV/0!"}]
[null,null,0,0,{"$error":"#DIV/0!"}]
[null,null,0,0,{"$error":"#DIV/0!"}]
[null,null,0,0,{"$error":"#DIV/0!"}]
[null,null,0,0,{"$error":"#DIV/0!"}]
[null,null,0,0,{"$error":"#DIV/0!"}]
[null,null,0,0,{"$error":"#DIV/0!"}]
[null,null,0,0,{"$error":"#DIV/0!"}]
[null,null,0,0,{"$error":"#DIV/0!"}]
[null,null,0,0,{"$error":"#DIV/0!"}]
[null,null,0,0,{"$error":"#DIV/0!"}]
[null,null,0,0,{"$error":"#DIV/0!"}]
[null,null,0,0,{"$error":"#DIV/0!"}]
[null,null,0,0,{"$error":"#DIV/0!"}]
[null,null,0,0,{"$error":"#DIV/0!"}]
[null,null,0,0,{"$error":"#DIV/0!"}]
[null,null,0,{"$f":"IF(C5575=0,0,IF(C5575<=D5574,D5574,IF(C5575>D5574,D5574+B$2)))","v":0},{"$f":"IF(AND((D5575-D5574>0),(D5575<=C$2)),\"Controlla operazione\",0)","v":{"$error":"#DIV/0!"}}]
[null,null,{"$f":"IF(B5576>0,C5575+B5576,)","v":0},0,{"$error":"#DIV/0!"}]
[null,null,0,0,{"$error":"#DIV/0!"}]
[null,null,0,0,{"$error":"#DIV/0!"}]
[null,null,0,0,{"$error":"#DIV/0!"}]
[null,null,0,0,{"$error":"#DIV/0!"}]
[null,null,0,0,{"$error":"#DIV/0!"}]
[null,null,0,0,{"$error":"#DIV/0!"}]
[null,null,0,0,{"$error":"#DIV/0!"}]
[null,null,0,0,{"$error":"#DIV/0!"}]
[null,null,0,0,{"$error":"#DIV/0!"}]
[null,null,0,0,{"$error":"#DIV/0!"}]
[null,null,0,0,{"$error":"#DIV/0!"}]
[null,null,0,0,{"$error":"#DIV/0!"}]
[null,null,0,0,{"$error":"#DIV/0!"}]
[null,null,0,0,{"$error":"#DIV/0!"}]
[null,null,0,0,{"$error":"#DIV/0!"}]
[null,null,0,0,{"$error":"#DIV/0!"}]
[null,null,0,0,{"$error":"#DIV/0!"}]
[null,null,0,0,{"$error":"#DIV/0!"}]
[null,null,0,0,{"$error":"#DIV/0!"}]
[null,null,0,0,{"$error":"#DIV/0!"}]
[null,null,0,0,{"$error":"#DIV/0!"}]
[null,null,0,0,{"$error":"#DIV/0!"}]
[null,null,0,0,{"$error":"#DIV/0!"}]
[null,null,0,0,{"$error":"#DIV/0!"}]
[null,null,0,0,{"$error":"#DIV/0!"}]
[null,null,0,0,{"$error":"#DIV/0!"}]
[null,null,0,0,{"$error":"#DIV/0!"}]
[null,null,0,0,{"$error":"#DIV/0!"}]
[null,null,0,0,{"$error":"#DIV/0!"}]
[null,null,0,0,{"$error":"#DIV/0!"}]
[null,null,0,0,{"$error":"#DIV/0!"}]
[null,null,0,0,{"$error":"#DIV/0!"}]
[null,null,0,0,{"$error":"#DIV/0!"}]
[null,null,0,0,{"$error":"#DIV/0!"}]
[null,null,0,0,{"$error":"#DIV/0!"}]
[null,null,0,0,{"$error":"#DIV/0!"}]
[null,null,0,0,{"$error":"#DIV/0!"}]
[null,null,0,0,{"$error":"#DIV/0!"}]
[null,null,0,0,{"$error":"#DIV/0!"}]
[null,null,0,0,{"$error":"#DIV/0!"}]
[null,null,0,0,{"$error":"#DIV/0!"}]
[null,null,0,0,{"$error":"#DIV/0!"}]
[null,null,0,0,{"$error":"#DIV/0!"}]
[null,null,0,0,{"$error":"#DIV/0!"}]
[null,null,0,0,{"$error":"#DIV/0!"}]
[null,null,0,0,{"$error":"#DIV/0!"}]
[null,null,0,0,{"$error":"#DIV/0!"}]
[null,null,0,0,{"$error":"#DIV/0!"}]
[null,null,0,0,{"$error":"#DIV/0!"}]
[null,null,0,0,{"$error":"#DIV/0!"}]
[null,null,0,0,{"$error":"#DIV/0!"}]
[null,null,0,0,{"$error":"#DIV/0!"}]
[null,null,0,0,{"$error":"#DIV/0!"}]
[null,null,0,0,{"$error":"#DIV/0!"}]
[null,null,0,0,{"$error":"#DIV/0!"}]
[null,null,0,0,{"$error":"#DIV/0!"}]
[null,null,0,0,{"$error":"#DIV/0!"}]
[null,null,0,0,{"$error":"#DIV/0!"}]
[null,null,0,0,{"$error":"#DIV/0!"}]
[null,null,0,0,{"$error":"#DIV/0!"}]
[null,null,0,0,{"$error":"#DIV/0!"}]
[null,null,0,0,{"$error":"#DIV/0!"}]
[null,null,0,{"$f":"IF(C5639=0,0,IF(C5639<=D5638,D5638,IF(C5639>D5638,D5638+B$2)))","v":0},{"$f":"IF(AND((D5639-D5638>0),(D5639<=C$2)),\"Controlla operazione\",0)","v":{"$error":"#DIV/0!"}}]
[null,null,{"$f":"IF(B5640>0,C5639+B5640,)","v":0},0,{"$error":"#DIV/0!"}]
[null,null,0,0,{"$error":"#DIV/0!"}]
[null,null,0,0,{"$error":"#DIV/0!"}]
[null,null,0,0,{"$error":"#DIV/0!"}]
[null,null,0,0,{"$error":"#DIV/0!"}]
[null,null,0,0,{"$error":"#DIV/0!"}]
[null,null,0,0,{"$error":"#DIV/0!"}]
[null,null,0,0,{"$error":"#DIV/0!"}]
[null,null,0,0,{"$error":"#DIV/0!"}]
[null,null,0,0,{"$error":"#DIV/0!"}]
[null,null,0,0,{"$error":"#DIV/0!"}]
[null,null,0,0,{"$error":"#DIV/0!"}]
[null,null,0,0,{"$error":"#DIV/0!"}]
[null,null,0,0,{"$error":"#DIV/0!"}]
[null,null,0,0,{"$error":"#DIV/0!"}]
[null,null,0,0,{"$error":"#DIV/0!"}]
[null,null,0,0,{"$error":"#DIV/0!"}]
[null,null,0,0,{"$error":"#DIV/0!"}]
[null,null,0,0,{"$error":"#DIV/0!"}]
[null,null,0,0,{"$error":"#DIV/0!"}]
[null,null,0,0,{"$error":"#DIV/0!"}]
[null,null,0,0,{"$error":"#DIV/0!"}]
[null,null,0,0,{"$error":"#DIV/0!"}]
[null,null,0,0,{"$error":"#DIV/0!"}]
[null,null,0,0,{"$error":"#DIV/0!"}]
[null,null,0,0,{"$error":"#DIV/0!"}]
[null,null,0,0,{"$error":"#DIV/0!"}]
[null,null,0,0,{"$error":"#DIV/0!"}]
[null,null,0,0,{"$error":"#DIV/0!"}]
[null,null,0,0,{"$error":"#DIV/0!"}]
[null,null,0,0,{"$error":"#DIV/0!"}]
[null,null,0,0,{"$error":"#DIV/0!"}]
[null,null,0,0,{"$error":"#DIV/0!"}]
[null,null,0,0,{"$error":"#DIV/0!"}]
[null,null,0,0,{"$error":"#DIV/0!"}]
[null,null,0,0,{"$error":"#DIV/0!"}]
[null,null,0,0,{"$error":"#DIV/0!"}]
[null,null,0,0,{"$error":"#DIV/0!"}]
[null,null,0,0,{"$error":"#DIV/0!"}]
[null,null,0,0,{"$error":"#DIV/0!"}]
[null,null,0,0,{"$error":"#DIV/0!"}]
[null,null,0,0,{"$error":"#DIV/0!"}]
[null,null,0,0,{"$error":"#DIV/0!"}]
[null,null,0,0,{"$error":"#DIV/0!"}]
[null,null,0,0,{"$error":"#DIV/0!"}]
[null,null,0,0,{"$error":"#DIV/0!"}]
[null,null,0,0,{"$error":"#DIV/0!"}]
[null,null,0,0,{"$error":"#DIV/0!"}]
[null,null,0,0,{"$error":"#DIV/0!"}]
[null,null,0,0,{"$error":"#DIV/0!"}]
[null,null,0,0,{"$error":"#DIV/0!"}]
[null,null,0,0,{"$error":"#DIV/0!"}]
[null,null,0,0,{"$error":"#DIV/0!"}]
[null,null,0,0,{"$error":"#DIV/0!"}]
[null,null,0,0,{"$error":"#DIV/0!"}]
[null,null,0,0,{"$error":"#DIV/0!"}]
[null,null,0,0,{"$error":"#DIV/0!"}]
[null,null,0,0,{"$error":"#DIV/0!"}]
[null,null,0,0,{"$error":"#DIV/0!"}]
[null,null,0,0,{"$error":"#DIV/0!"}]
[null,null,0,0,{"$error":"#DIV/0!"}]
[null,null,0,0,{"$error":"#DIV/0!"}]
[null,null,0,0,{"$error":"#DIV/0!"}]
[null,null,0,{"$f":"IF(C5703=0,0,IF(C5703<=D5702,D5702,IF(C5703>D5702,D5702+B$2)))","v":0},{"$f":"IF(AND((D5703-D5702>0),(D5703<=C$2)),\"Controlla operazione\",0)","v":{"$error":"#DIV/0!"}}]
[null,null,{"$f":"IF(B5704>0,C5703+B5704,)","v":0},0,{"$error":"#DIV/0!"}]
[null,null,0,0,{"$error":"#DIV/0!"}]
[null,null,0,0,{"$error":"#DIV/0!"}]
[null,null,0,0,{"$error":"#DIV/0!"}]
[null,null,0,0,{"$error":"#DIV/0!"}]
[null,null,0,0,{"$error":"#DIV/0!"}]
[null,null,0,0,{"$error":"#DIV/0!"}]
[null,null,0,0,{"$error":"#DIV/0!"}]
[null,null,0,0,{"$error":"#DIV/0!"}]
[null,null,0,0,{"$error":"#DIV/0!"}]
[null,null,0,0,{"$error":"#DIV/0!"}]
[null,null,0,0,{"$error":"#DIV/0!"}]
[null,null,0,0,{"$error":"#DIV/0!"}]
[null,null,0,0,{"$error":"#DIV/0!"}]
[null,null,0,0,{"$error":"#DIV/0!"}]
[null,null,0,0,{"$error":"#DIV/0!"}]
[null,null,0,0,{"$error":"#DIV/0!"}]
[null,null,0,0,{"$error":"#DIV/0!"}]
[null,null,0,0,{"$error":"#DIV/0!"}]
[null,null,0,0,{"$error":"#DIV/0!"}]
[null,null,0,0,{"$error":"#DIV/0!"}]
[null,null,0,0,{"$error":"#DIV/0!"}]
[null,null,0,0,{"$error":"#DIV/0!"}]
[null,null,0,0,{"$error":"#DIV/0!"}]
[null,null,0,0,{"$error":"#DIV/0!"}]
[null,null,0,0,{"$error":"#DIV/0!"}]
[null,null,0,0,{"$error":"#DIV/0!"}]
[null,null,0,0,{"$error":"#DIV/0!"}]
[null,null,0,0,{"$error":"#DIV/0!"}]
[null,null,0,0,{"$error":"#DIV/0!"}]
[null,null,0,0,{"$error":"#DIV/0!"}]
[null,null,0,0,{"$error":"#DIV/0!"}]
[null,null,0,0,{"$error":"#DIV/0!"}]
[null,null,0,0,{"$error":"#DIV/0!"}]
[null,null,0,0,{"$error":"#DIV/0!"}]
[null,null,0,0,{"$error":"#DIV/0!"}]
[null,null,0,0,{"$error":"#DIV/0!"}]
[null,null,0,0,{"$error":"#DIV/0!"}]
[null,null,0,0,{"$error":"#DIV/0!"}]
[null,null,0,0,{"$error":"#DIV/0!"}]
[null,null,0,0,{"$error":"#DIV/0!"}]
[null,null,0,0,{"$error":"#DIV/0!"}]
[null,null,0,0,{"$error":"#DIV/0!"}]
[null,null,0,0,{"$error":"#DIV/0!"}]
[null,null,0,0,{"$error":"#DIV/0!"}]
[null,null,0,0,{"$error":"#DIV/0!"}]
[null,null,0,0,{"$error":"#DIV/0!"}]
[null,null,0,0,{"$error":"#DIV/0!"}]
[null,null,0,0,{"$error":"#DIV/0!"}]
[null,null,0,0,{"$error":"#DIV/0!"}]
[null,null,0,0,{"$error":"#DIV/0!"}]
[null,null,0,0,{"$error":"#DIV/0!"}]
[null,null,0,0,{"$error":"#DIV/0!"}]
[null,null,0,0,{"$error":"#DIV/0!"}]
[null,null,0,0,{"$error":"#DIV/0!"}]
[null,null,0,0,{"$error":"#DIV/0!"}]
[null,null,0,0,{"$error":"#DIV/0!"}]
[null,null,0,0,{"$error":"#DIV/0!"}]
[null,null,0,0,{"$error":"#DIV/0!"}]
[null,null,0,0,{"$error":"#DIV/0!"}]
[null,null,0,0,{"$error":"#DIV/0!"}]
[null,null,0,0,{"$error":"#DIV/0!"}]
[null,null,0,0,{"$error":"#DIV/0!"}]
[null,null,0,{"$f":"IF(C5767=0,0,IF(C5767<=D5766,D5766,IF(C5767>D5766,D5766+B$2)))","v":0},{"$f":"IF(AND((D5767-D5766>0),(D5767<=C$2)),\"Controlla operazione\",0)","v":{"$error":"#DIV/0!"}}]
[null,null,{"$f":"IF(B5768>0,C5767+B5768,)","v":0},0,{"$error":"#DIV/0!"}]
[null,null,0,0,{"$error":"#DIV/0!"}]
[null,null,0,0,{"$error":"#DIV/0!"}]
[null,null,0,0,{"$error":"#DIV/0!"}]
[null,null,0,0,{"$error":"#DIV/0!"}]
[null,null,0,0,{"$error":"#DIV/0!"}]
[null,null,0,0,{"$error":"#DIV/0!"}]
[null,null,0,0,{"$error":"#DIV/0!"}]
[null,null,0,0,{"$error":"#DIV/0!"}]
[null,null,0,0,{"$error":"#DIV/0!"}]
[null,null,0,0,{"$error":"#DIV/0!"}]
[null,null,0,0,{"$error":"#DIV/0!"}]
[null,null,0,0,{"$error":"#DIV/0!"}]
[null,null,0,0,{"$error":"#DIV/0!"}]
[null,null,0,0,{"$error":"#DIV/0!"}]
[null,null,0,0,{"$error":"#DIV/0!"}]
[null,null,0,0,{"$error":"#DIV/0!"}]
[null,null,0,0,{"$error":"#DIV/0!"}]
[null,null,0,0,{"$error":"#DIV/0!"}]
[null,null,0,0,{"$error":"#DIV/0!"}]
[null,null,0,0,{"$error":"#DIV/0!"}]
[null,null,0,0,{"$error":"#DIV/0!"}]
[null,null,0,0,{"$error":"#DIV/0!"}]
[null,null,0,0,{"$error":"#DIV/0!"}]
[null,null,0,0,{"$error":"#DIV/0!"}]
[null,null,0,0,{"$error":"#DIV/0!"}]
[null,null,0,0,{"$error":"#DIV/0!"}]
[null,null,0,0,{"$error":"#DIV/0!"}]
[null,null,0,0,{"$error":"#DIV/0!"}]
[null,null,0,0,{"$error":"#DIV/0!"}]
[null,null,0,0,{"$error":"#DIV/0!"}]
[null,null,0,0,{"$error":"#DIV/0!"}]
[null,null,0,0,{"$error":"#DIV/0!"}]
[null,null,0,0,{"$error":"#DIV/0!"}]
[null,null,0,0,{"$error":"#DIV/0!"}]
[null,null,0,0,{"$error":"#DIV/0!"}]
[null,null,0,0,{"$error":"#DIV/0!"}]
[null,null,0,0,{"$error":"#DIV/0!"}]
[null,null,0,0,{"$error":"#DIV/0!"}]
[null,null,0,0,{"$error":"#DIV/0!"}]
[null,null,0,0,{"$error":"#DIV/0!"}]
[null,null,0,0,{"$error":"#DIV/0!"}]
[null,null,0,0,{"$error":"#DIV/0!"}]
[null,null,0,0,{"$error":"#DIV/0!"}]
[null,null,0,0,{"$error":"#DIV/0!"}]
[null,null,0,0,{"$error":"#DIV/0!"}]
[null,null,0,0,{"$error":"#DIV/0!"}]
[null,null,0,0,{"$error":"#DIV/0!"}]
[null,null,0,0,{"$error":"#DIV/0!"}]
[null,null,0,0,{"$error":"#DIV/0!"}]
[null,null,0,0,{"$error":"#DIV/0!"}]
[null,null,0,0,{"$error":"#DIV/0!"}]
[null,null,0,0,{"$error":"#DIV/0!"}]
[null,null,0,0,{"$error":"#DIV/0!"}]
[null,null,0,0,{"$error":"#DIV/0!"}]
[null,null,0,0,{"$error":"#DIV/0!"}]
[null,null,0,0,{"$error":"#DIV/0!"}]
[null,null,0,0,{"$error":"#DIV/0!"}]
[null,null,0,0,{"$error":"#DIV/0!"}]
[null,null,0,0,{"$error":"#DIV/0!"}]
[null,null,0,0,{"$error":"#DIV/0!"}]
[null,null,0,0,{"$error":"#DIV/0!"}]
[null,null,0,0,{"$error":"#DIV/0!"}]
[null,null,0,{"$f":"IF(C5831=0,0,IF(C5831<=D5830,D5830,IF(C5831>D5830,D5830+B$2)))","v":0},{"$f":"IF(AND((D5831-D5830>0),(D5831<=C$2)),\"Controlla operazione\",0)","v":{"$error":"#DIV/0!"}}]
[null,null,{"$f":"IF(B5832>0,C5831+B5832,)","v":0},0,{"$error":"#DIV/0!"}]
[null,null,0,0,{"$error":"#DIV/0!"}]
[null,null,0,0,{"$error":"#DIV/0!"}]
[null,null,0,0,{"$error":"#DIV/0!"}]
[null,null,0,0,{"$error":"#DIV/0!"}]
[null,null,0,0,{"$error":"#DIV/0!"}]
[null,null,0,0,{"$error":"#DIV/0!"}]
[null,null,0,0,{"$error":"#DIV/0!"}]
[null,null,0,0,{"$error":"#DIV/0!"}]
[null,null,0,0,{"$error":"#DIV/0!"}]
[null,null,0,0,{"$error":"#DIV/0!"}]
[null,null,0,0,{"$error":"#DIV/0!"}]
[null,null,0,0,{"$error":"#DIV/0!"}]
[null,null,0,0,{"$error":"#DIV/0!"}]
[null,null,0,0,{"$error":"#DIV/0!"}]
[null,null,0,0,{"$error":"#DIV/0!"}]
[null,null,0,0,{"$error":"#DIV/0!"}]
[null,null,0,0,{"$error":"#DIV/0!"}]
[null,null,0,0,{"$error":"#DIV/0!"}]
[null,null,0,0,{"$error":"#DIV/0!"}]
[null,null,0,0,{"$error":"#DIV/0!"}]
[null,null,0,0,{"$error":"#DIV/0!"}]
[null,null,0,0,{"$error":"#DIV/0!"}]
[null,null,0,0,{"$error":"#DIV/0!"}]
[null,null,0,0,{"$error":"#DIV/0!"}]
[null,null,0,0,{"$error":"#DIV/0!"}]
[null,null,0,0,{"$error":"#DIV/0!"}]
[null,null,0,0,{"$error":"#DIV/0!"}]
[null,null,0,0,{"$error":"#DIV/0!"}]
[null,null,0,0,{"$error":"#DIV/0!"}]
[null,null,0,0,{"$error":"#DIV/0!"}]
[null,null,0,0,{"$error":"#DIV/0!"}]
[null,null,0,0,{"$error":"#DIV/0!"}]
[null,null,0,0,{"$error":"#DIV/0!"}]
[null,null,0,0,{"$error":"#DIV/0!"}]
[null,null,0,0,{"$error":"#DIV/0!"}]
[null,null,0,0,{"$error":"#DIV/0!"}]
[null,null,0,0,{"$error":"#DIV/0!"}]
[null,null,0,0,{"$error":"#DIV/0!"}]
[null,null,0,0,{"$error":"#DIV/0!"}]
[null,null,0,0,{"$error":"#DIV/0!"}]
[null,null,0,0,{"$error":"#DIV/0!"}]
[null,null,0,0,{"$error":"#DIV/0!"}]
[null,null,0,0,{"$error":"#DIV/0!"}]
[null,null,0,0,{"$error":"#DIV/0!"}]
[null,null,0,0,{"$error":"#DIV/0!"}]
[null,null,0,0,{"$error":"#DIV/0!"}]
[null,null,0,0,{"$error":"#DIV/0!"}]
[null,null,0,0,{"$error":"#DIV/0!"}]
[null,null,0,0,{"$error":"#DIV/0!"}]
[null,null,0,0,{"$error":"#DIV/0!"}]
[null,null,0,0,{"$error":"#DIV/0!"}]
[null,null,0,0,{"$error":"#DIV/0!"}]
[null,null,0,0,{"$error":"#DIV/0!"}]
[null,null,0,0,{"$error":"#DIV/0!"}]
[null,null,0,0,{"$error":"#DIV/0!"}]
[null,null,0,0,{"$error":"#DIV/0!"}]
[null,null,0,0,{"$error":"#DIV/0!"}]
[null,null,0,0,{"$error":"#DIV/0!"}]
[null,null,0,0,{"$error":"#DIV/0!"}]
[null,null,0,0,{"$error":"#DIV/0!"}]
[null,null,0,0,{"$error":"#DIV/0!"}]
[null,null,0,0,{"$error":"#DIV/0!"}]
[null,null,0,{"$f":"IF(C5895=0,0,IF(C5895<=D5894,D5894,IF(C5895>D5894,D5894+B$2)))","v":0},{"$f":"IF(AND((D5895-D5894>0),(D5895<=C$2)),\"Controlla operazione\",0)","v":{"$error":"#DIV/0!"}}]
[null,null,{"$f":"IF(B5896>0,C5895+B5896,)","v":0},0,{"$error":"#DIV/0!"}]
[null,null,0,0,{"$error":"#DIV/0!"}]
[null,null,0,0,{"$error":"#DIV/0!"}]
[null,null,0,0,{"$error":"#DIV/0!"}]
[null,null,0,0,{"$error":"#DIV/0!"}]
[null,null,0,0,{"$error":"#DIV/0!"}]
[null,null,0,0,{"$error":"#DIV/0!"}]
[null,null,0,0,{"$error":"#DIV/0!"}]
[null,null,0,0,{"$error":"#DIV/0!"}]
[null,null,0,0,{"$error":"#DIV/0!"}]
[null,null,0,0,{"$error":"#DIV/0!"}]
[null,null,0,0,{"$error":"#DIV/0!"}]
[null,null,0,0,{"$error":"#DIV/0!"}]
[null,null,0,0,{"$error":"#DIV/0!"}]
[null,null,0,0,{"$error":"#DIV/0!"}]
[null,null,0,0,{"$error":"#DIV/0!"}]
[null,null,0,0,{"$error":"#DIV/0!"}]
[null,null,0,0,{"$error":"#DIV/0!"}]
[null,null,0,0,{"$error":"#DIV/0!"}]
[null,null,0,0,{"$error":"#DIV/0!"}]
[null,null,0,0,{"$error":"#DIV/0!"}]
[null,null,0,0,{"$error":"#DIV/0!"}]
[null,null,0,0,{"$error":"#DIV/0!"}]
[null,null,0,0,{"$error":"#DIV/0!"}]
[null,null,0,0,{"$error":"#DIV/0!"}]
[null,null,0,0,{"$error":"#DIV/0!"}]
[null,null,0,0,{"$error":"#DIV/0!"}]
[null,null,0,0,{"$error":"#DIV/0!"}]
[null,null,0,0,{"$error":"#DIV/0!"}]
[null,null,0,0,{"$error":"#DIV/0!"}]
[null,null,0,0,{"$error":"#DIV/0!"}]
[null,null,0,0,{"$error":"#DIV/0!"}]
[null,null,0,0,{"$error":"#DIV/0!"}]
[null,null,0,0,{"$error":"#DIV/0!"}]
[null,null,0,0,{"$error":"#DIV/0!"}]
[null,null,0,0,{"$error":"#DIV/0!"}]
[null,null,0,0,{"$error":"#DIV/0!"}]
[null,null,0,0,{"$error":"#DIV/0!"}]
[null,null,0,0,{"$error":"#DIV/0!"}]
[null,null,0,0,{"$error":"#DIV/0!"}]
[null,null,0,0,{"$error":"#DIV/0!"}]
[null,null,0,0,{"$error":"#DIV/0!"}]
[null,null,0,0,{"$error":"#DIV/0!"}]
[null,null,0,0,{"$error":"#DIV/0!"}]
[null,null,0,0,{"$error":"#DIV/0!"}]
[null,null,0,0,{"$error":"#DIV/0!"}]
[null,null,0,0,{"$error":"#DIV/0!"}]
[null,null,0,0,{"$error":"#DIV/0!"}]
[null,null,0,0,{"$error":"#DIV/0!"}]
[null,null,0,0,{"$error":"#DIV/0!"}]
[null,null,0,0,{"$error":"#DIV/0!"}]
[null,null,0,0,{"$error":"#DIV/0!"}]
[null,null,0,0,{"$error":"#DIV/0!"}]
[null,null,0,0,{"$error":"#DIV/0!"}]
[null,null,0,0,{"$error":"#DIV/0!"}]
[null,null,0,0,{"$error":"#DIV/0!"}]
[null,null,0,0,{"$error":"#DIV/0!"}]
[null,null,0,0,{"$error":"#DIV/0!"}]
[null,null,0,0,{"$error":"#DIV/0!"}]
[null,null,0,0,{"$error":"#DIV/0!"}]
[null,null,0,0,{"$error":"#DIV/0!"}]
[null,null,0,0,{"$error":"#DIV/0!"}]
[null,null,0,0,{"$error":"#DIV/0!"}]
[null,null,0,{"$f":"IF(C5959=0,0,IF(C5959<=D5958,D5958,IF(C5959>D5958,D5958+B$2)))","v":0},{"$f":"IF(AND((D5959-D5958>0),(D5959<=C$2)),\"Controlla operazione\",0)","v":{"$error":"#DIV/0!"}}]
[null,null,{"$f":"IF(B5960>0,C5959+B5960,)","v":0},0,{"$error":"#DIV/0!"}]
[null,null,0,0,{"$error":"#DIV/0!"}]
[null,null,0,0,{"$error":"#DIV/0!"}]
[null,null,0,0,{"$error":"#DIV/0!"}]
[null,null,0,0,{"$error":"#DIV/0!"}]
[null,null,0,0,{"$error":"#DIV/0!"}]
[null,null,0,0,{"$error":"#DIV/0!"}]
[null,null,0,0,{"$error":"#DIV/0!"}]
[null,null,0,0,{"$error":"#DIV/0!"}]
[null,null,0,0,{"$error":"#DIV/0!"}]
[null,null,0,0,{"$error":"#DIV/0!"}]
[null,null,0,0,{"$error":"#DIV/0!"}]
[null,null,0,0,{"$error":"#DIV/0!"}]
[null,null,0,0,{"$error":"#DIV/0!"}]
[null,null,0,0,{"$error":"#DIV/0!"}]
[null,null,0,0,{"$error":"#DIV/0!"}]
[null,null,0,0,{"$error":"#DIV/0!"}]
[null,null,0,0,{"$error":"#DIV/0!"}]
[null,null,0,0,{"$error":"#DIV/0!"}]
[null,null,0,0,{"$error":"#DIV/0!"}]
[null,null,0,0,{"$error":"#DIV/0!"}]
[null,null,0,0,{"$error":"#DIV/0!"}]
[null,null,0,0,{"$error":"#DIV/0!"}]
[null,null,0,0,{"$error":"#DIV/0!"}]
[null,null,0,0,{"$error":"#DIV/0!"}]
[null,null,0,0,{"$error":"#DIV/0!"}]
[null,null,0,0,{"$error":"#DIV/0!"}]
[null,null,0,0,{"$error":"#DIV/0!"}]
[null,null,0,0,{"$error":"#DIV/0!"}]
[null,null,0,0,{"$error":"#DIV/0!"}]
[null,null,0,0,{"$error":"#DIV/0!"}]
[null,null,0,0,{"$error":"#DIV/0!"}]
[null,null,0,0,{"$error":"#DIV/0!"}]
[null,null,0,0,{"$error":"#DIV/0!"}]
[null,null,0,0,{"$error":"#DIV/0!"}]
[null,null,0,0,{"$error":"#DIV/0!"}]
[null,null,0,0,{"$error":"#DIV/0!"}]
[null,null,0,0,{"$error":"#DIV/0!"}]
[null,null,0,0,{"$error":"#DIV/0!"}]
[null,null,0,0,{"$error":"#DIV/0!"}]
[null,null,0,0,{"$error":"#DIV/0!"}]
[null,null,0,0,{"$error":"#DIV/0!"}]
[null,null,0,0,{"$error":"#DIV/0!"}]
[null,null,0,0,{"$error":"#DIV/0!"}]
[null,null,0,0,{"$error":"#DIV/0!"}]
[null,null,0,0,{"$error":"#DIV/0!"}]
[null,null,0,0,{"$error":"#DIV/0!"}]
[null,null,0,0,{"$error":"#DIV/0!"}]
[null,null,0,0,{"$error":"#DIV/0!"}]
[null,null,0,0,{"$error":"#DIV/0!"}]
[null,null,0,0,{"$error":"#DIV/0!"}]
[null,null,0,0,{"$error":"#DIV/0!"}]
[null,null,0,0,{"$error":"#DIV/0!"}]
[null,null,0,0,{"$error":"#DIV/0!"}]
[null,null,0,0,{"$error":"#DIV/0!"}]
[null,null,0,0,{"$error":"#DIV/0!"}]
[null,null,0,0,{"$error":"#DIV/0!"}]
[null,null,0,0,{"$error":"#DIV/0!"}]
[null,null,0,0,{"$error":"#DIV/0!"}]
[null,null,0,0,{"$error":"#DIV/0!"}]
[null,null,0,0,{"$error":"#DIV/0!"}]
[null,null,0,0,{"$error":"#DIV/0!"}]
[null,null,0,0,{"$error":"#DIV/0!"}]
[null,null,0,{"$f":"IF(C6023=0,0,IF(C6023<=D6022,D6022,IF(C6023>D6022,D6022+B$2)))","v":0},{"$f":"IF(AND((D6023-D6022>0),(D6023<=C$2)),\"Controlla operazione\",0)","v":{"$error":"#DIV/0!"}}]
[null,null,{"$f":"IF(B6024>0,C6023+B6024,)","v":0},0,{"$error":"#DIV/0!"}]
[null,null,0,0,{"$error":"#DIV/0!"}]
[null,null,0,0,{"$error":"#DIV/0!"}]
[null,null,0,0,{"$error":"#DIV/0!"}]
[null,null,0,0,{"$error":"#DIV/0!"}]
[null,null,0,0,{"$error":"#DIV/0!"}]
[null,null,0,0,{"$error":"#DIV/0!"}]
[null,null,0,0,{"$error":"#DIV/0!"}]
[null,null,0,0,{"$error":"#DIV/0!"}]
[null,null,0,0,{"$error":"#DIV/0!"}]
[null,null,0,0,{"$error":"#DIV/0!"}]
[null,null,0,0,{"$error":"#DIV/0!"}]
[null,null,0,0,{"$error":"#DIV/0!"}]
[null,null,0,0,{"$error":"#DIV/0!"}]
[null,null,0,0,{"$error":"#DIV/0!"}]
[null,null,0,0,{"$error":"#DIV/0!"}]
[null,null,0,0,{"$error":"#DIV/0!"}]
[null,null,0,0,{"$error":"#DIV/0!"}]
[null,null,0,0,{"$error":"#DIV/0!"}]
[null,null,0,0,{"$error":"#DIV/0!"}]
[null,null,0,0,{"$error":"#DIV/0!"}]
[null,null,0,0,{"$error":"#DIV/0!"}]
[null,null,0,0,{"$error":"#DIV/0!"}]
[null,null,0,0,{"$error":"#DIV/0!"}]
[null,null,0,0,{"$error":"#DIV/0!"}]
[null,null,0,0,{"$error":"#DIV/0!"}]
[null,null,0,0,{"$error":"#DIV/0!"}]
[null,null,0,0,{"$error":"#DIV/0!"}]
[null,null,0,0,{"$error":"#DIV/0!"}]
[null,null,0,0,{"$error":"#DIV/0!"}]
[null,null,0,0,{"$error":"#DIV/0!"}]
[null,null,0,0,{"$error":"#DIV/0!"}]
[null,null,0,0,{"$error":"#DIV/0!"}]
[null,null,0,0,{"$error":"#DIV/0!"}]
[null,null,0,0,{"$error":"#DIV/0!"}]
[null,null,0,0,{"$error":"#DIV/0!"}]
[null,null,0,0,{"$error":"#DIV/0!"}]
[null,null,0,0,{"$error":"#DIV/0!"}]
[null,null,0,0,{"$error":"#DIV/0!"}]
[null,null,0,0,{"$error":"#DIV/0!"}]
[null,null,0,0,{"$error":"#DIV/0!"}]
[null,null,0,0,{"$error":"#DIV/0!"}]
[null,null,0,0,{"$error":"#DIV/0!"}]
[null,null,0,0,{"$error":"#DIV/0!"}]
[null,null,0,0,{"$error":"#DIV/0!"}]
[null,null,0,0,{"$error":"#DIV/0!"}]
[null,null,0,0,{"$error":"#DIV/0!"}]
[null,null,0,0,{"$error":"#DIV/0!"}]
[null,null,0,0,{"$error":"#DIV/0!"}]
[null,null,0,0,{"$error":"#DIV/0!"}]
[null,null,0,0,{"$error":"#DIV/0!"}]
[null,null,0,0,{"$error":"#DIV/0!"}]
[null,null,0,0,{"$error":"#DIV/0!"}]
[null,null,0,0,{"$error":"#DIV/0!"}]
[null,null,0,0,{"$error":"#DIV/0!"}]
[null,null,0,0,{"$error":"#DIV/0!"}]
[null,null,0,0,{"$error":"#DIV/0!"}]
[null,null,0,0,{"$error":"#DIV/0!"}]
[null,null,0,0,{"$error":"#DIV/0!"}]
[null,null,0,0,{"$error":"#DIV/0!"}]
[null,null,0,0,{"$error":"#DIV/0!"}]
[null,null,0,0,{"$error":"#DIV/0!"}]
[null,null,0,0,{"$error":"#DIV/0!"}]
[null,null,0,{"$f":"IF(C6087=0,0,IF(C6087<=D6086,D6086,IF(C6087>D6086,D6086+B$2)))","v":0},{"$f":"IF(AND((D6087-D6086>0),(D6087<=C$2)),\"Controlla operazione\",0)","v":{"$error":"#DIV/0!"}}]
[null,null,{"$f":"IF(B6088>0,C6087+B6088,)","v":0},0,{"$error":"#DIV/0!"}]
[null,null,0,0,{"$error":"#DIV/0!"}]
[null,null,0,0,{"$error":"#DIV/0!"}]
[null,null,0,0,{"$error":"#DIV/0!"}]
[null,null,0,0,{"$error":"#DIV/0!"}]
[null,null,0,0,{"$error":"#DIV/0!"}]
[null,null,0,0,{"$error":"#DIV/0!"}]
[null,null,0,0,{"$error":"#DIV/0!"}]
[null,null,0,0,{"$error":"#DIV/0!"}]
[null,null,0,0,{"$error":"#DIV/0!"}]
[null,null,0,0,{"$error":"#DIV/0!"}]
[null,null,0,0,{"$error":"#DIV/0!"}]
[null,null,0,0,{"$error":"#DIV/0!"}]
[null,null,0,0,{"$error":"#DIV/0!"}]
[null,null,0,0,{"$error":"#DIV/0!"}]
[null,null,0,0,{"$error":"#DIV/0!"}]
[null,null,0,0,{"$error":"#DIV/0!"}]
[null,null,0,0,{"$error":"#DIV/0!"}]
[null,null,0,0,{"$error":"#DIV/0!"}]
[null,null,0,0,{"$error":"#DIV/0!"}]
[null,null,0,0,{"$error":"#DIV/0!"}]
[null,null,0,0,{"$error":"#DIV/0!"}]
[null,null,0,0,{"$error":"#DIV/0!"}]
[null,null,0,0,{"$error":"#DIV/0!"}]
[null,null,0,0,{"$error":"#DIV/0!"}]
[null,null,0,0,{"$error":"#DIV/0!"}]
[null,null,0,0,{"$error":"#DIV/0!"}]
[null,null,0,0,{"$error":"#DIV/0!"}]
[null,null,0,0,{"$error":"#DIV/0!"}]
[null,null,0,0,{"$error":"#DIV/0!"}]
[null,null,0,0,{"$error":"#DIV/0!"}]
[null,null,0,0,{"$error":"#DIV/0!"}]
[null,null,0,0,{"$error":"#DIV/0!"}]
[null,null,0,0,{"$error":"#DIV/0!"}]
[null,null,0,0,{"$error":"#DIV/0!"}]
[null,null,0,0,{"$error":"#DIV/0!"}]
[null,null,0,0,{"$error":"#DIV/0!"}]
[null,null,0,0,{"$error":"#DIV/0!"}]
[null,null,0,0,{"$error":"#DIV/0!"}]
[null,null,0,0,{"$error":"#DIV/0!"}]
[null,null,0,0,{"$error":"#DIV/0!"}]
[null,null,0,0,{"$error":"#DIV/0!"}]
[null,null,0,0,{"$error":"#DIV/0!"}]
[null,null,0,0,{"$error":"#DIV/0!"}]
[null,null,0,0,{"$error":"#DIV/0!"}]
[null,null,0,0,{"$error":"#DIV/0!"}]
[null,null,0,0,{"$error":"#DIV/0!"}]
[null,null,0,0,{"$error":"#DIV/0!"}]
[null,null,0,0,{"$error":"#DIV/0!"}]
[null,null,0,0,{"$error":"#DIV/0!"}]
[null,null,0,0,{"$error":"#DIV/0!"}]
[null,null,0,0,{"$error":"#DIV/0!"}]
[null,null,0,0,{"$error":"#DIV/0!"}]
[null,null,0,0,{"$error":"#DIV/0!"}]
[null,null,0,0,{"$error":"#DIV/0!"}]
[null,null,0,0,{"$error":"#DIV/0!"}]
[null,null,0,0,{"$error":"#DIV/0!"}]
[null,null,0,0,{"$error":"#DIV/0!"}]
[null,null,0,0,{"$error":"#DIV/0!"}]
[null,null,0,0,{"$error":"#DIV/0!"}]
[null,null,0,0,{"$error":"#DIV/0!"}]
[null,null,0,0,{"$error":"#DIV/0!"}]
[null,null,0,0,{"$error":"#DIV/0!"}]
[null,null,0,{"$f":"IF(C6151=0,0,IF(C6151<=D6150,D6150,IF(C6151>D6150,D6150+B$2)))","v":0},{"$f":"IF(AND((D6151-D6150>0),(D6151<=C$2)),\"Controlla operazione\",0)","v":{"$error":"#DIV/0!"}}]
[null,null,{"$f":"IF(B6152>0,C6151+B6152,)","v":0},0,{"$error":"#DIV/0!"}]
[null,null,0,0,{"$error":"#DIV/0!"}]
[null,null,0,0,{"$error":"#DIV/0!"}]
[null,null,0,0,{"$error":"#DIV/0!"}]
[null,null,0,0,{"$error":"#DIV/0!"}]
[null,null,0,0,{"$error":"#DIV/0!"}]
[null,null,0,0,{"$error":"#DIV/0!"}]
[null,null,0,0,{"$error":"#DIV/0!"}]
[null,null,0,0,{"$error":"#DIV/0!"}]
[null,null,0,0,{"$error":"#DIV/0!"}]
[null,null,0,0,{"$error":"#DIV/0!"}]
[null,null,0,0,{"$error":"#DIV/0!"}]
[null,null,0,0,{"$error":"#DIV/0!"}]
[null,null,0,0,{"$error":"#DIV/0!"}]
[null,null,0,0,{"$error":"#DIV/0!"}]
[null,null,0,0,{"$error":"#DIV/0!"}]
[null,null,0,0,{"$error":"#DIV/0!"}]
[null,null,0,0,{"$error":"#DIV/0!"}]
[null,null,0,0,{"$error":"#DIV/0!"}]
[null,null,0,0,{"$error":"#DIV/0!"}]
[null,null,0,0,{"$error":"#DIV/0!"}]
[null,null,0,0,{"$error":"#DIV/0!"}]
[null,null,0,0,{"$error":"#DIV/0!"}]
[null,null,0,0,{"$error":"#DIV/0!"}]
[null,null,0,0,{"$error":"#DIV/0!"}]
[null,null,0,0,{"$error":"#DIV/0!"}]
[null,null,0,0,{"$error":"#DIV/0!"}]
[null,null,0,0,{"$error":"#DIV/0!"}]
[null,null,0,0,{"$error":"#DIV/0!"}]
[null,null,0,0,{"$error":"#DIV/0!"}]
[null,null,0,0,{"$error":"#DIV/0!"}]
[null,null,0,0,{"$error":"#DIV/0!"}]
[null,null,0,0,{"$error":"#DIV/0!"}]
[null,null,0,0,{"$error":"#DIV/0!"}]
[null,null,0,0,{"$error":"#DIV/0!"}]
[null,null,0,0,{"$error":"#DIV/0!"}]
[null,null,0,0,{"$error":"#DIV/0!"}]
[null,null,0,0,{"$error":"#DIV/0!"}]
[null,null,0,0,{"$error":"#DIV/0!"}]
[null,null,0,0,{"$error":"#DIV/0!"}]
[null,null,0,0,{"$error":"#DIV/0!"}]
[null,null,0,0,{"$error":"#DIV/0!"}]
[null,null,0,0,{"$error":"#DIV/0!"}]
[null,null,0,0,{"$error":"#DIV/0!"}]
[null,null,0,0,{"$error":"#DIV/0!"}]
[null,null,0,0,{"$error":"#DIV/0!"}]
[null,null,0,0,{"$error":"#DIV/0!"}]
[null,null,0,0,{"$error":"#DIV/0!"}]
[null,null,0,0,{"$error":"#DIV/0!"}]
[null,null,0,0,{"$error":"#DIV/0!"}]
[null,null,0,0,{"$error":"#DIV/0!"}]
[null,null,0,0,{"$error":"#DIV/0!"}]
[null,null,0,0,{"$error":"#DIV/0!"}]
[null,null,0,0,{"$error":"#DIV/0!"}]
[null,null,0,0,{"$error":"#DIV/0!"}]
[null,null,0,0,{"$error":"#DIV/0!"}]
[null,null,0,0,{"$error":"#DIV/0!"}]
[null,null,0,0,{"$error":"#DIV/0!"}]
[null,null,0,0,{"$error":"#DIV/0!"}]
[null,null,0,0,{"$error":"#DIV/0!"}]
[null,null,0,0,{"$error":"#DIV/0!"}]
[null,null,0,0,{"$error":"#DIV/0!"}]
[null,null,0,0,{"$error":"#DIV/0!"}]
[null,null,0,{"$f":"IF(C6215=0,0,IF(C6215<=D6214,D6214,IF(C6215>D6214,D6214+B$2)))","v":0},{"$f":"IF(AND((D6215-D6214>0),(D6215<=C$2)),\"Controlla operazione\",0)","v":{"$error":"#DIV/0!"}}]
[null,null,{"$f":"IF(B6216>0,C6215+B6216,)","v":0},0,{"$error":"#DIV/0!"}]
[null,null,0,0,{"$error":"#DIV/0!"}]
[null,null,0,0,{"$error":"#DIV/0!"}]
[null,null,0,0,{"$error":"#DIV/0!"}]
[null,null,0,0,{"$error":"#DIV/0!"}]
[null,null,0,0,{"$error":"#DIV/0!"}]
[null,null,0,0,{"$error":"#DIV/0!"}]
[null,null,0,0,{"$error":"#DIV/0!"}]
[null,null,0,0,{"$error":"#DIV/0!"}]
[null,null,0,0,{"$error":"#DIV/0!"}]
[null,null,0,0,{"$error":"#DIV/0!"}]
[null,null,0,0,{"$error":"#DIV/0!"}]
[null,null,0,0,{"$error":"#DIV/0!"}]
[null,null,0,0,{"$error":"#DIV/0!"}]
[null,null,0,0,{"$error":"#DIV/0!"}]
[null,null,0,0,{"$error":"#DIV/0!"}]
[null,null,0,0,{"$error":"#DIV/0!"}]
[null,null,0,0,{"$error":"#DIV/0!"}]
[null,null,0,0,{"$error":"#DIV/0!"}]
[null,null,0,0,{"$error":"#DIV/0!"}]
[null,null,0,0,{"$error":"#DIV/0!"}]
[null,null,0,0,{"$error":"#DIV/0!"}]
[null,null,0,0,{"$error":"#DIV/0!"}]
[null,null,0,0,{"$error":"#DIV/0!"}]
[null,null,0,0,{"$error":"#DIV/0!"}]
[null,null,0,0,{"$error":"#DIV/0!"}]
[null,null,0,0,{"$error":"#DIV/0!"}]
[null,null,0,0,{"$error":"#DIV/0!"}]
[null,null,0,0,{"$error":"#DIV/0!"}]
[null,null,0,0,{"$error":"#DIV/0!"}]
[null,null,0,0,{"$error":"#DIV/0!"}]
[null,null,0,0,{"$error":"#DIV/0!"}]
[null,null,0,0,{"$error":"#DIV/0!"}]
[null,null,0,0,{"$error":"#DIV/0!"}]
[null,null,0,0,{"$error":"#DIV/0!"}]
[null,null,0,0,{"$error":"#DIV/0!"}]
[null,null,0,0,{"$error":"#DIV/0!"}]
[null,null,0,0,{"$error":"#DIV/0!"}]
[null,null,0,0,{"$error":"#DIV/0!"}]
[null,null,0,0,{"$error":"#DIV/0!"}]
[null,null,0,0,{"$error":"#DIV/0!"}]
[null,null,0,0,{"$error":"#DIV/0!"}]
[null,null,0,0,{"$error":"#DIV/0!"}]
[null,null,0,0,{"$error":"#DIV/0!"}]
[null,null,0,0,{"$error":"#DIV/0!"}]
[null,null,0,0,{"$error":"#DIV/0!"}]
[null,null,0,0,{"$error":"#DIV/0!"}]
[null,null,0,0,{"$error":"#DIV/0!"}]
[null,null,0,0,{"$error":"#DIV/0!"}]
[null,null,0,0,{"$error":"#DIV/0!"}]
[null,null,0,0,{"$error":"#DIV/0!"}]
[null,null,0,0,{"$error":"#DIV/0!"}]
[null,null,0,0,{"$error":"#DIV/0!"}]
[null,null,0,0,{"$error":"#DIV/0!"}]
[null,null,0,0,{"$error":"#DIV/0!"}]
[null,null,0,0,{"$error":"#DIV/0!"}]
[null,null,0,0,{"$error":"#DIV/0!"}]
[null,null,0,0,{"$error":"#DIV/0!"}]
[null,null,0,0,{"$error":"#DIV/0!"}]
[null,null,0,0,{"$error":"#DIV/0!"}]
[null,null,0,0,{"$error":"#DIV/0!"}]
[null,null,0,0,{"$error":"#DIV/0!"}]
[null,null,0,0,{"$error":"#DIV/0!"}]
[null,null,0,{"$f":"IF(C6279=0,0,IF(C6279<=D6278,D6278,IF(C6279>D6278,D6278+B$2)))","v":0},{"$f":"IF(AND((D6279-D6278>0),(D6279<=C$2)),\"Controlla operazione\",0)","v":{"$error":"#DIV/0!"}}]
[null,null,{"$f":"IF(B6280>0,C6279+B6280,)","v":0},0,{"$error":"#DIV/0!"}]
[null,null,0,0,{"$error":"#DIV/0!"}]
[null,null,0,0,{"$error":"#DIV/0!"}]
[null,null,0,0,{"$error":"#DIV/0!"}]
[null,null,0,0,{"$error":"#DIV/0!"}]
[null,null,0,0,{"$error":"#DIV/0!"}]
[null,null,0,0,{"$error":"#DIV/0!"}]
[null,null,0,0,{"$error":"#DIV/0!"}]
[null,null,0,0,{"$error":"#DIV/0!"}]
[null,null,0,0,{"$error":"#DIV/0!"}]
[null,null,0,0,{"$error":"#DIV/0!"}]
[null,null,0,0,{"$error":"#DIV/0!"}]
[null,null,0,0,{"$error":"#DIV/0!"}]
[null,null,0,0,{"$error":"#DIV/0!"}]
[null,null,0,0,{"$error":"#DIV/0!"}]
[null,null,0,0,{"$error":"#DIV/0!"}]
[null,null,0,0,{"$error":"#DIV/0!"}]
[null,null,0,0,{"$error":"#DIV/0!"}]
[null,null,0,0,{"$error":"#DIV/0!"}]
[null,null,0,0,{"$error":"#DIV/0!"}]
[null,null,0,0,{"$error":"#DIV/0!"}]
[null,null,0,0,{"$error":"#DIV/0!"}]
[null,null,0,0,{"$error":"#DIV/0!"}]
[null,null,0,0,{"$error":"#DIV/0!"}]
[null,null,0,0,{"$error":"#DIV/0!"}]
[null,null,0,0,{"$error":"#DIV/0!"}]
[null,null,0,0,{"$error":"#DIV/0!"}]
[null,null,0,0,{"$error":"#DIV/0!"}]
[null,null,0,0,{"$error":"#DIV/0!"}]
[null,null,0,0,{"$error":"#DIV/0!"}]
[null,null,0,0,{"$error":"#DIV/0!"}]
[null,null,0,0,{"$error":"#DIV/0!"}]
[null,null,0,0,{"$error":"#DIV/0!"}]
[null,null,0,0,{"$error":"#DIV/0!"}]
[null,null,0,0,{"$error":"#DIV/0!"}]
[null,null,0,0,{"$error":"#DIV/0!"}]
[null,null,0,0,{"$error":"#DIV/0!"}]
[null,null,0,0,{"$error":"#DIV/0!"}]
[null,null,0,0,{"$error":"#DIV/0!"}]
[null,null,0,0,{"$error":"#DIV/0!"}]
[null,null,0,0,{"$error":"#DIV/0!"}]
[null,null,0,0,{"$error":"#DIV/0!"}]
[null,null,0,0,{"$error":"#DIV/0!"}]
[null,null,0,0,{"$error":"#DIV/0!"}]
[null,null,0,0,{"$error":"#DIV/0!"}]
[null,null,0,0,{"$error":"#DIV/0!"}]
[null,null,0,0,{"$error":"#DIV/0!"}]
[null,null,0,0,{"$error":"#DIV/0!"}]
[null,null,0,0,{"$error":"#DIV/0!"}]
[null,null,0,0,{"$error":"#DIV/0!"}]
[null,null,0,0,{"$error":"#DIV/0!"}]
[null,null,0,0,{"$error":"#DIV/0!"}]
[null,null,0,0,{"$error":"#DIV/0!"}]
[null,null,0,0,{"$error":"#DIV/0!"}]
[null,null,0,0,{"$error":"#DIV/0!"}]
[null,null,0,0,{"$error":"#DIV/0!"}]
[null,null,0,0,{"$error":"#DIV/0!"}]
[null,null,0,0,{"$error":"#DIV/0!"}]
[null,null,0,0,{"$error":"#DIV/0!"}]
[null,null,0,0,{"$error":"#DIV/0!"}]
[null,null,0,0,{"$error":"#DIV/0!"}]
[null,null,0,0,{"$error":"#DIV/0!"}]
[null,null,0,0,{"$error":"#DIV/0!"}]
[null,null,0,{"$f":"IF(C6343=0,0,IF(C6343<=D6342,D6342,IF(C6343>D6342,D6342+B$2)))","v":0},{"$f":"IF(AND((D6343-D6342>0),(D6343<=C$2)),\"Controlla operazione\",0)","v":{"$error":"#DIV/0!"}}]
[null,null,{"$f":"IF(B6344>0,C6343+B6344,)","v":0},0,{"$error":"#DIV/0!"}]
[null,null,0,0,{"$error":"#DIV/0!"}]
[null,null,0,0,{"$error":"#DIV/0!"}]
[null,null,0,0,{"$error":"#DIV/0!"}]
[null,null,0,0,{"$error":"#DIV/0!"}]
[null,null,0,0,{"$error":"#DIV/0!"}]
[null,null,0,0,{"$error":"#DIV/0!"}]
[null,null,0,0,{"$error":"#DIV/0!"}]
[null,null,0,0,{"$error":"#DIV/0!"}]
[null,null,0,0,{"$error":"#DIV/0!"}]
[null,null,0,0,{"$error":"#DIV/0!"}]
[null,null,0,0,{"$error":"#DIV/0!"}]
[null,null,0,0,{"$error":"#DIV/0!"}]
[null,null,0,0,{"$error":"#DIV/0!"}]
[null,null,0,0,{"$error":"#DIV/0!"}]
[null,null,0,0,{"$error":"#DIV/0!"}]
[null,null,0,0,{"$error":"#DIV/0!"}]
[null,null,0,0,{"$error":"#DIV/0!"}]
[null,null,0,0,{"$error":"#DIV/0!"}]
[null,null,0,0,{"$error":"#DIV/0!"}]
[null,null,0,0,{"$error":"#DIV/0!"}]
[null,null,0,0,{"$error":"#DIV/0!"}]
[null,null,0,0,{"$error":"#DIV/0!"}]
[null,null,0,0,{"$error":"#DIV/0!"}]
[null,null,0,0,{"$error":"#DIV/0!"}]
[null,null,0,0,{"$error":"#DIV/0!"}]
[null,null,0,0,{"$error":"#DIV/0!"}]
[null,null,0,0,{"$error":"#DIV/0!"}]
[null,null,0,0,{"$error":"#DIV/0!"}]
[null,null,0,0,{"$error":"#DIV/0!"}]
[null,null,0,0,{"$error":"#DIV/0!"}]
[null,null,0,0,{"$error":"#DIV/0!"}]
[null,null,0,0,{"$error":"#DIV/0!"}]
[null,null,0,0,{"$error":"#DIV/0!"}]
[null,null,0,0,{"$error":"#DIV/0!"}]
[null,null,0,0,{"$error":"#DIV/0!"}]
[null,null,0,0,{"$error":"#DIV/0!"}]
[null,null,0,0,{"$error":"#DIV/0!"}]
[null,null,0,0,{"$error":"#DIV/0!"}]
[null,null,0,0,{"$error":"#DIV/0!"}]
[null,null,0,0,{"$error":"#DIV/0!"}]
[null,null,0,0,{"$error":"#DIV/0!"}]
[null,null,0,0,{"$error":"#DIV/0!"}]
[null,null,0,0,{"$error":"#DIV/0!"}]
[null,null,0,0,{"$error":"#DIV/0!"}]
[null,null,0,0,{"$error":"#DIV/0!"}]
[null,null,0,0,{"$error":"#DIV/0!"}]
[null,null,0,0,{"$error":"#DIV/0!"}]
[null,null,0,0,{"$error":"#DIV/0!"}]
[null,null,0,0,{"$error":"#DIV/0!"}]
[null,null,0,0,{"$error":"#DIV/0!"}]
[null,null,0,0,{"$error":"#DIV/0!"}]
[null,null,0,0,{"$error":"#DIV/0!"}]
[null,null,0,0,{"$error":"#DIV/0!"}]
[null,null,0,0,{"$error":"#DIV/0!"}]
[null,null,0,0,{"$error":"#DIV/0!"}]
[null,null,0,0,{"$error":"#DIV/0!"}]
[null,null,0,0,{"$error":"#DIV/0!"}]
[null,null,0,0,{"$error":"#DIV/0!"}]
[null,null,0,0,{"$error":"#DIV/0!"}]
[null,null,0,0,{"$error":"#DIV/0!"}]
[null,null,0,0,{"$error":"#DIV/0!"}]
[null,null,0,0,{"$error":"#DIV/0!"}]
[null,null,0,{"$f":"IF(C6407=0,0,IF(C6407<=D6406,D6406,IF(C6407>D6406,D6406+B$2)))","v":0},{"$f":"IF(AND((D6407-D6406>0),(D6407<=C$2)),\"Controlla operazione\",0)","v":{"$error":"#DIV/0!"}}]
[null,null,{"$f":"IF(B6408>0,C6407+B6408,)","v":0},0,{"$error":"#DIV/0!"}]
[null,null,0,0,{"$error":"#DIV/0!"}]
[null,null,0,0,{"$error":"#DIV/0!"}]
[null,null,0,0,{"$error":"#DIV/0!"}]
[null,null,0,0,{"$error":"#DIV/0!"}]
[null,null,0,0,{"$error":"#DIV/0!"}]
[null,null,0,0,{"$error":"#DIV/0!"}]
[null,null,0,0,{"$error":"#DIV/0!"}]
[null,null,0,0,{"$error":"#DIV/0!"}]
[null,null,0,0,{"$error":"#DIV/0!"}]
[null,null,0,0,{"$error":"#DIV/0!"}]
[null,null,0,0,{"$error":"#DIV/0!"}]
[null,null,0,0,{"$error":"#DIV/0!"}]
[null,null,0,0,{"$error":"#DIV/0!"}]
[null,null,0,0,{"$error":"#DIV/0!"}]
[null,null,0,0,{"$error":"#DIV/0!"}]
[null,null,0,0,{"$error":"#DIV/0!"}]
[null,null,0,0,{"$error":"#DIV/0!"}]
[null,null,0,0,{"$error":"#DIV/0!"}]
[null,null,0,0,{"$error":"#DIV/0!"}]
[null,null,0,0,{"$error":"#DIV/0!"}]
[null,null,0,0,{"$error":"#DIV/0!"}]
[null,null,0,0,{"$error":"#DIV/0!"}]
[null,null,0,0,{"$error":"#DIV/0!"}]
[null,null,0,0,{"$error":"#DIV/0!"}]
[null,null,0,0,{"$error":"#DIV/0!"}]
[null,null,0,0,{"$error":"#DIV/0!"}]
[null,null,0,0,{"$error":"#DIV/0!"}]
[null,null,0,0,{"$error":"#DIV/0!"}]
[null,null,0,0,{"$error":"#DIV/0!"}]
[null,null,0,0,{"$error":"#DIV/0!"}]
[null,null,0,0,{"$error":"#DIV/0!"}]
[null,null,0,0,{"$error":"#DIV/0!"}]
[null,null,0,0,{"$error":"#DIV/0!"}]
[null,null,0,0,{"$error":"#DIV/0!"}]
[null,null,0,0,{"$error":"#DIV/0!"}]
[null,null,0,0,{"$error":"#DIV/0!"}]
[null,null,0,0,{"$error":"#DIV/0!"}]
[null,null,0,0,{"$error":"#DIV/0!"}]
[null,null,0,0,{"$error":"#DIV/0!"}]
[null,null,0,0,{"$error":"#DIV/0!"}]
[null,null,0,0,{"$error":"#DIV/0!"}]
[null,null,0,0,{"$error":"#DIV/0!"}]
[null,null,0,0,{"$error":"#DIV/0!"}]
[null,null,0,0,{"$error":"#DIV/0!"}]
[null,null,0,0,{"$error":"#DIV/0!"}]
[null,null,0,0,{"$error":"#DIV/0!"}]
[null,null,0,0,{"$error":"#DIV/0!"}]
[null,null,0,0,{"$error":"#DIV/0!"}]
[null,null,0,0,{"$error":"#DIV/0!"}]
[null,null,0,0,{"$error":"#DIV/0!"}]
[null,null,0,0,{"$error":"#DIV/0!"}]
[null,null,0,0,{"$error":"#DIV/0!"}]
[null,null,0,0,{"$error":"#DIV/0!"}]
[null,null,0,0,{"$error":"#DIV/0!"}]
[null,null,0,0,{"$error":"#DIV/0!"}]
[null,null,0,0,{"$error":"#DIV/0!"}]
[null,null,0,0,{"$error":"#DIV/0!"}]
[null,null,0,0,{"$error":"#DIV/0!"}]
[null,null,0,0,{"$error":"#DIV/0!"}]
[null,null,0,0,{"$error":"#DIV/0!"}]
[null,null,0,0,{"$error":"#DIV/0!"}]
[null,null,0,0,{"$error":"#DIV/0!"}]
[null,null,0,{"$f":"IF(C6471=0,0,IF(C6471<=D6470,D6470,IF(C6471>D6470,D6470+B$2)))","v":0},{"$f":"IF(AND((D6471-D6470>0),(D6471<=C$2)),\"Controlla operazione\",0)","v":{"$error":"#DIV/0!"}}]
[null,null,{"$f":"IF(B6472>0,C6471+B6472,)","v":0},0,{"$error":"#DIV/0!"}]
[null,null,0,0,{"$error":"#DIV/0!"}]
[null,null,0,0,{"$error":"#DIV/0!"}]
[null,null,0,0,{"$error":"#DIV/0!"}]
[null,null,0,0,{"$error":"#DIV/0!"}]
[null,null,0,0,{"$error":"#DIV/0!"}]
[null,null,0,0,{"$error":"#DIV/0!"}]
[null,null,0,0,{"$error":"#DIV/0!"}]
[null,null,0,0,{"$error":"#DIV/0!"}]
[null,null,0,0,{"$error":"#DIV/0!"}]
[null,null,0,0,{"$error":"#DIV/0!"}]
[null,null,0,0,{"$error":"#DIV/0!"}]
[null,null,0,0,{"$error":"#DIV/0!"}]
[null,null,0,0,{"$error":"#DIV/0!"}]
[null,null,0,0,{"$error":"#DIV/0!"}]
[null,null,0,0,{"$error":"#DIV/0!"}]
[null,null,0,0,{"$error":"#DIV/0!"}]
[null,null,0,0,{"$error":"#DIV/0!"}]
[null,null,0,0,{"$error":"#DIV/0!"}]
[null,null,0,0,{"$error":"#DIV/0!"}]
[null,null,0,0,{"$error":"#DIV/0!"}]
[null,null,0,0,{"$error":"#DIV/0!"}]
[null,null,0,0,{"$error":"#DIV/0!"}]
[null,null,0,0,{"$error":"#DIV/0!"}]
[null,null,0,0,{"$error":"#DIV/0!"}]
[null,null,0,0,{"$error":"#DIV/0!"}]
[null,null,0,0,{"$error":"#DIV/0!"}]
[null,null,0,0,{"$error":"#DIV/0!"}]
[null,null,0,0,{"$error":"#DIV/0!"}]
[null,null,0,0,{"$error":"#DIV/0!"}]
[null,null,0,0,{"$error":"#DIV/0!"}]
[null,null,0,0,{"$error":"#DIV/0!"}]
[null,null,0,0,{"$error":"#DIV/0!"}]
[null,null,0,0,{"$error":"#DIV/0!"}]
[null,null,0,0,{"$error":"#DIV/0!"}]
[null,null,0,0,{"$error":"#DIV/0!"}]
[null,null,0,0,{"$error":"#DIV/0!"}]
[null,null,0,0,{"$error":"#DIV/0!"}]
[null,null,0,0,{"$error":"#DIV/0!"}]
[null,null,0,0,{"$error":"#DIV/0!"}]
[null,null,0,0,{"$error":"#DIV/0!"}]
[null,null,0,0,{"$error":"#DIV/0!"}]
[null,null,0,0,{"$error":"#DIV/0!"}]
[null,null,0,0,{"$error":"#DIV/0!"}]
[null,null,0,0,{"$error":"#DIV/0!"}]
[null,null,0,0,{"$error":"#DIV/0!"}]
[null,null,0,0,{"$error":"#DIV/0!"}]
[null,null,0,0,{"$error":"#DIV/0!"}]
[null,null,0,0,{"$error":"#DIV/0!"}]
[null,null,0,0,{"$error":"#DIV/0!"}]
[null,null,0,0,{"$error":"#DIV/0!"}]
[null,null,0,0,{"$error":"#DIV/0!"}]
[null,null,0,0,{"$error":"#DIV/0!"}]
[null,null,0,0,{"$error":"#DIV/0!"}]
[null,null,0,0,{"$error":"#DIV/0!"}]
[null,null,0,0,{"$error":"#DIV/0!"}]
[null,null,0,0,{"$error":"#DIV/0!"}]
[null,null,0,0,{"$error":"#DIV/0!"}]
[null,null,0,0,{"$error":"#DIV/0!"}]
[null,null,0,0,{"$error":"#DIV/0!"}]
[null,null,0,0,{"$error":"#DIV/0!"}]
[null,null,0,0,{"$error":"#DIV/0!"}]
[null,null,0,0,{"$error":"#DIV/0!"}]
[null,null,0,{"$f":"IF(C6535=0,0,IF(C6535<=D6534,D6534,IF(C6535>D6534,D6534+B$2)))","v":0},{"$f":"IF(AND((D6535-D6534>0),(D6535<=C$2)),\"Controlla operazione\",0)","v":{"$error":"#DIV/0!"}}]
[null,null,{"$f":"IF(B6536>0,C6535+B6536,)","v":0},0,{"$error":"#DIV/0!"}]
[null,null,0,0,{"$error":"#DIV/0!"}]
[null,null,0,0,{"$error":"#DIV/0!"}]
[null,null,0,0,{"$error":"#DIV/0!"}]
[null,null,0,0,{"$error":"#DIV/0!"}]
[null,null,0,0,{"$error":"#DIV/0!"}]
[null,null,0,0,{"$error":"#DIV/0!"}]
[null,null,0,0,{"$error":"#DIV/0!"}]
[null,null,0,0,{"$error":"#DIV/0!"}]
[null,null,0,0,{"$error":"#DIV/0!"}]
[null,null,0,0,{"$error":"#DIV/0!"}]
[null,null,0,0,{"$error":"#DIV/0!"}]
[null,null,0,0,{"$error":"#DIV/0!"}]
[null,null,0,0,{"$error":"#DIV/0!"}]
[null,null,0,0,{"$error":"#DIV/0!"}]
[null,null,0,0,{"$error":"#DIV/0!"}]
[null,null,0,0,{"$error":"#DIV/0!"}]
[null,null,0,0,{"$error":"#DIV/0!"}]
[null,null,0,0,{"$error":"#DIV/0!"}]
[null,null,0,0,{"$error":"#DIV/0!"}]
[null,null,0,0,{"$error":"#DIV/0!"}]
[null,null,0,0,{"$error":"#DIV/0!"}]
[null,null,0,0,{"$error":"#DIV/0!"}]
[null,null,0,0,{"$error":"#DIV/0!"}]
[null,null,0,0,{"$error":"#DIV/0!"}]
[null,null,0,0,{"$error":"#DIV/0!"}]
[null,null,0,0,{"$error":"#DIV/0!"}]
[null,null,0,0,{"$error":"#DIV/0!"}]
[null,null,0,0,{"$error":"#DIV/0!"}]
[null,null,0,0,{"$error":"#DIV/0!"}]
[null,null,0,0,{"$error":"#DIV/0!"}]
[null,null,0,0,{"$error":"#DIV/0!"}]
[null,null,0,0,{"$error":"#DIV/0!"}]
[null,null,0,0,{"$error":"#DIV/0!"}]
[null,null,0,0,{"$error":"#DIV/0!"}]
[null,null,0,0,{"$error":"#DIV/0!"}]
[null,null,0,0,{"$error":"#DIV/0!"}]
[null,null,0,0,{"$error":"#DIV/0!"}]
[null,null,0,0,{"$error":"#DIV/0!"}]
[null,null,0,0,{"$error":"#DIV/0!"}]
[null,null,0,0,{"$error":"#DIV/0!"}]
[null,null,0,0,{"$error":"#DIV/0!"}]
[null,null,0,0,{"$error":"#DIV/0!"}]
[null,null,0,0,{"$error":"#DIV/0!"}]
[null,null,0,0,{"$error":"#DIV/0!"}]
[null,null,0,0,{"$error":"#DIV/0!"}]
[null,null,0,0,{"$error":"#DIV/0!"}]
[null,null,0,0,{"$error":"#DIV/0!"}]
[null,null,0,0,{"$error":"#DIV/0!"}]
[null,null,0,0,{"$error":"#DIV/0!"}]
[null,null,0,0,{"$error":"#DIV/0!"}]
[null,null,0,0,{"$error":"#DIV/0!"}]
[null,null,0,0,{"$error":"#DIV/0!"}]
[null,null,0,0,{"$error":"#DIV/0!"}]
[null,null,0,0,{"$error":"#DIV/0!"}]
[null,null,0,0,{"$error":"#DIV/0!"}]
[null,null,0,0,{"$error":"#DIV/0!"}]
[null,null,0,0,{"$error":"#DIV/0!"}]
[null,null,0,0,{"$error":"#DIV/0!"}]
[null,null,0,0,{"$error":"#DIV/0!"}]
[null,null,0,0,{"$error":"#DIV/0!"}]
[null,null,0,0,{"$error":"#DIV/0!"}]
[null,null,0,0,{"$error":"#DIV/0!"}]
[null,null,0,{"$f":"IF(C6599=0,0,IF(C6599<=D6598,D6598,IF(C6599>D6598,D6598+B$2)))","v":0},{"$f":"IF(AND((D6599-D6598>0),(D6599<=C$2)),\"Controlla operazione\",0)","v":{"$error":"#DIV/0!"}}]
[null,null,{"$f":"IF(B6600>0,C6599+B6600,)","v":0},0,{"$error":"#DIV/0!"}]
[null,null,0,0,{"$error":"#DIV/0!"}]
[null,null,0,0,{"$error":"#DIV/0!"}]
[null,null,0,0,{"$error":"#DIV/0!"}]
[null,null,0,0,{"$error":"#DIV/0!"}]
[null,null,0,0,{"$error":"#DIV/0!"}]
[null,null,0,0,{"$error":"#DIV/0!"}]
[null,null,0,0,{"$error":"#DIV/0!"}]
[null,null,0,0,{"$error":"#DIV/0!"}]
[null,null,0,0,{"$error":"#DIV/0!"}]
[null,null,0,0,{"$error":"#DIV/0!"}]
[null,null,0,0,{"$error":"#DIV/0!"}]
[null,null,0,0,{"$error":"#DIV/0!"}]
[null,null,0,0,{"$error":"#DIV/0!"}]
[null,null,0,0,{"$error":"#DIV/0!"}]
[null,null,0,0,{"$error":"#DIV/0!"}]
[null,null,0,0,{"$error":"#DIV/0!"}]
[null,null,0,0,{"$error":"#DIV/0!"}]
[null,null,0,0,{"$error":"#DIV/0!"}]
[null,null,0,0,{"$error":"#DIV/0!"}]
[null,null,0,0,{"$error":"#DIV/0!"}]
[null,null,0,0,{"$error":"#DIV/0!"}]
[null,null,0,0,{"$error":"#DIV/0!"}]
[null,null,0,0,{"$error":"#DIV/0!"}]
[null,null,0,0,{"$error":"#DIV/0!"}]
[null,null,0,0,{"$error":"#DIV/0!"}]
[null,null,0,0,{"$error":"#DIV/0!"}]
[null,null,0,0,{"$error":"#DIV/0!"}]
[null,null,0,0,{"$error":"#DIV/0!"}]
[null,null,0,0,{"$error":"#DIV/0!"}]
[null,null,0,0,{"$error":"#DIV/0!"}]
[null,null,0,0,{"$error":"#DIV/0!"}]
[null,null,0,0,{"$error":"#DIV/0!"}]
[null,null,0,0,{"$error":"#DIV/0!"}]
[null,null,0,0,{"$error":"#DIV/0!"}]
[null,null,0,0,{"$error":"#DIV/0!"}]
[null,null,0,0,{"$error":"#DIV/0!"}]
[null,null,0,0,{"$error":"#DIV/0!"}]
[null,null,0,0,{"$error":"#DIV/0!"}]
[null,null,0,0,{"$error":"#DIV/0!"}]
[null,null,0,0,{"$error":"#DIV/0!"}]
[null,null,0,0,{"$error":"#DIV/0!"}]
[null,null,0,0,{"$error":"#DIV/0!"}]
[null,null,0,0,{"$error":"#DIV/0!"}]
[null,null,0,0,{"$error":"#DIV/0!"}]
[null,null,0,0,{"$error":"#DIV/0!"}]
[null,null,0,0,{"$error":"#DIV/0!"}]
[null,null,0,0,{"$error":"#DIV/0!"}]
[null,null,0,0,{"$error":"#DIV/0!"}]
[null,null,0,0,{"$error":"#DIV/0!"}]
[null,null,0,0,{"$error":"#DIV/0!"}]
[null,null,0,0,{"$error":"#DIV/0!"}]
[null,null,0,0,{"$error":"#DIV/0!"}]
[null,null,0,0,{"$error":"#DIV/0!"}]
[null,null,0,0,{"$error":"#DIV/0!"}]
[null,null,0,0,{"$error":"#DIV/0!"}]
[null,null,0,0,{"$error":"#DIV/0!"}]
[null,null,0,0,{"$error":"#DIV/0!"}]
[null,null,0,0,{"$error":"#DIV/0!"}]
[null,null,0,0,{"$error":"#DIV/0!"}]
[null,null,0,0,{"$error":"#DIV/0!"}]
[null,null,0,0,{"$error":"#DIV/0!"}]
[null,null,0,0,{"$error":"#DIV/0!"}]
[null,null,0,{"$f":"IF(C6663=0,0,IF(C6663<=D6662,D6662,IF(C6663>D6662,D6662+B$2)))","v":0},{"$f":"IF(AND((D6663-D6662>0),(D6663<=C$2)),\"Controlla operazione\",0)","v":{"$error":"#DIV/0!"}}]
[null,null,{"$f":"IF(B6664>0,C6663+B6664,)","v":0},0,{"$error":"#DIV/0!"}]
[null,null,0,0,{"$error":"#DIV/0!"}]
[null,null,0,0,{"$error":"#DIV/0!"}]
[null,null,0,0,{"$error":"#DIV/0!"}]
[null,null,0,0,{"$error":"#DIV/0!"}]
[null,null,0,0,{"$error":"#DIV/0!"}]
[null,null,0,0,{"$error":"#DIV/0!"}]
[null,null,0,0,{"$error":"#DIV/0!"}]
[null,null,0,0,{"$error":"#DIV/0!"}]
[null,null,0,0,{"$error":"#DIV/0!"}]
[null,null,0,0,{"$error":"#DIV/0!"}]
[null,null,0,0,{"$error":"#DIV/0!"}]
[null,null,0,0,{"$error":"#DIV/0!"}]
[null,null,0,0,{"$error":"#DIV/0!"}]
[null,null,0,0,{"$error":"#DIV/0!"}]
[null,null,0,0,{"$error":"#DIV/0!"}]
[null,null,0,0,{"$error":"#DIV/0!"}]
[null,null,0,0,{"$error":"#DIV/0!"}]
[null,null,0,0,{"$error":"#DIV/0!"}]
[null,null,0,0,{"$error":"#DIV/0!"}]
[null,null,0,0,{"$error":"#DIV/0!"}]
[null,null,0,0,{"$error":"#DIV/0!"}]
[null,null,0,0,{"$error":"#DIV/0!"}]
[null,null,0,0,{"$error":"#DIV/0!"}]
[null,null,0,0,{"$error":"#DIV/0!"}]
[null,null,0,0,{"$error":"#DIV/0!"}]
[null,null,0,0,{"$error":"#DIV/0!"}]
[null,null,0,0,{"$error":"#DIV/0!"}]
[null,null,0,0,{"$error":"#DIV/0!"}]
[null,null,0,0,{"$error":"#DIV/0!"}]
[null,null,0,0,{"$error":"#DIV/0!"}]
[null,null,0,0,{"$error":"#DIV/0!"}]
[null,null,0,0,{"$error":"#DIV/0!"}]
[null,null,0,0,{"$error":"#DIV/0!"}]
[null,null,0,0,{"$error":"#DIV/0!"}]
[null,null,0,0,{"$error":"#DIV/0!"}]
[null,null,0,0,{"$error":"#DIV/0!"}]
[null,null,0,0,{"$error":"#DIV/0!"}]
[null,null,0,0,{"$error":"#DIV/0!"}]
[null,null,0,0,{"$error":"#DIV/0!"}]
[null,null,0,0,{"$error":"#DIV/0!"}]
[null,null,0,0,{"$error":"#DIV/0!"}]
[null,null,0,0,{"$error":"#DIV/0!"}]
[null,null,0,0,{"$error":"#DIV/0!"}]
[null,null,0,0,{"$error":"#DIV/0!"}]
[null,null,0,0,{"$error":"#DIV/0!"}]
[null,null,0,0,{"$error":"#DIV/0!"}]
[null,null,0,0,{"$error":"#DIV/0!"}]
[null,null,0,0,{"$error":"#DIV/0!"}]
[null,null,0,0,{"$error":"#DIV/0!"}]
[null,null,0,0,{"$error":"#DIV/0!"}]
[null,null,0,0,{"$error":"#DIV/0!"}]
[null,null,0,0,{"$error":"#DIV/0!"}]
[null,null,0,0,{"$error":"#DIV/0!"}]
[null,null,0,0,{"$error":"#DIV/0!"}]
[null,null,0,0,{"$error":"#DIV/0!"}]
[null,null,0,0,{"$error":"#DIV/0!"}]
[null,null,0,0,{"$error":"#DIV/0!"}]
[null,null,0,0,{"$error":"#DIV/0!"}]
[null,null,0,0,{"$error":"#DIV/0!"}]
[null,null,0,0,{"$error":"#DIV/0!"}]
[null,null,0,0,{"$error":"#DIV/0!"}]
[null,null,0,0,{"$error":"#DIV/0!"}]
[null,null,0,{"$f":"IF(C6727=0,0,IF(C6727<=D6726,D6726,IF(C6727>D6726,D6726+B$2)))","v":0},{"$f":"IF(AND((D6727-D6726>0),(D6727<=C$2)),\"Controlla operazione\",0)","v":{"$error":"#DIV/0!"}}]
[null,null,{"$f":"IF(B6728>0,C6727+B6728,)","v":0},0,{"$error":"#DIV/0!"}]
[null,null,0,0,{"$error":"#DIV/0!"}]
[null,null,0,0,{"$error":"#DIV/0!"}]
[null,null,0,0,{"$error":"#DIV/0!"}]
[null,null,0,0,{"$error":"#DIV/0!"}]
[null,null,0,0,{"$error":"#DIV/0!"}]
[null,null,0,0,{"$error":"#DIV/0!"}]
[null,null,0,0,{"$error":"#DIV/0!"}]
[null,null,0,0,{"$error":"#DIV/0!"}]
[null,null,0,0,{"$error":"#DIV/0!"}]
[null,null,0,0,{"$error":"#DIV/0!"}]
[null,null,0,0,{"$error":"#DIV/0!"}]
[null,null,0,0,{"$error":"#DIV/0!"}]
[null,null,0,0,{"$error":"#DIV/0!"}]
[null,null,0,0,{"$error":"#DIV/0!"}]
[null,null,0,0,{"$error":"#DIV/0!"}]
[null,null,0,0,{"$error":"#DIV/0!"}]
[null,null,0,0,{"$error":"#DIV/0!"}]
[null,null,0,0,{"$error":"#DIV/0!"}]
[null,null,0,0,{"$error":"#DIV/0!"}]
[null,null,0,0,{"$error":"#DIV/0!"}]
[null,null,0,0,{"$error":"#DIV/0!"}]
[null,null,0,0,{"$error":"#DIV/0!"}]
[null,null,0,0,{"$error":"#DIV/0!"}]
[null,null,0,0,{"$error":"#DIV/0!"}]
[null,null,0,0,{"$error":"#DIV/0!"}]
[null,null,0,0,{"$error":"#DIV/0!"}]
[null,null,0,0,{"$error":"#DIV/0!"}]
[null,null,0,0,{"$error":"#DIV/0!"}]
[null,null,0,0,{"$error":"#DIV/0!"}]
[null,null,0,0,{"$error":"#DIV/0!"}]
[null,null,0,0,{"$error":"#DIV/0!"}]
[null,null,0,0,{"$error":"#DIV/0!"}]
[null,null,0,0,{"$error":"#DIV/0!"}]
[null,null,0,0,{"$error":"#DIV/0!"}]
[null,null,0,0,{"$error":"#DIV/0!"}]
[null,null,0,0,{"$error":"#DIV/0!"}]
[null,null,0,0,{"$error":"#DIV/0!"}]
[null,null,0,0,{"$error":"#DIV/0!"}]
[null,null,0,0,{"$error":"#DIV/0!"}]
[null,null,0,0,{"$error":"#DIV/0!"}]
[null,null,0,0,{"$error":"#DIV/0!"}]
[null,null,0,0,{"$error":"#DIV/0!"}]
[null,null,0,0,{"$error":"#DIV/0!"}]
[null,null,0,0,{"$error":"#DIV/0!"}]
[null,null,0,0,{"$error":"#DIV/0!"}]
[null,null,0,0,{"$error":"#DIV/0!"}]
[null,null,0,0,{"$error":"#DIV/0!"}]
[null,null,0,0,{"$error":"#DIV/0!"}]
[null,null,0,0,{"$error":"#DIV/0!"}]
[null,null,0,0,{"$error":"#DIV/0!"}]
[null,null,0,0,{"$error":"#DIV/0!"}]
[null,null,0,0,{"$error":"#DIV/0!"}]
[null,null,0,0,{"$error":"#DIV/0!"}]
[null,null,0,0,{"$error":"#DIV/0!"}]
[null,null,0,0,{"$error":"#DIV/0!"}]
[null,null,0,0,{"$error":"#DIV/0!"}]
[null,null,0,0,{"$error":"#DIV/0!"}]
[null,null,0,0,{"$error":"#DIV/0!"}]
[null,null,0,0,{"$error":"#DIV/0!"}]
[null,null,0,0,{"$error":"#DIV/0!"}]
[null,null,0,0,{"$error":"#DIV/0!"}]
[null,null,0,0,{"$error":"#DIV/0!"}]
[null,null,0,{"$f":"IF(C6791=0,0,IF(C6791<=D6790,D6790,IF(C6791>D6790,D6790+B$2)))","v":0},{"$f":"IF(AND((D6791-D6790>0),(D6791<=C$2)),\"Controlla operazione\",0)","v":{"$error":"#DIV/0!"}}]
[null,null,{"$f":"IF(B6792>0,C6791+B6792,)","v":0},0,{"$error":"#DIV/0!"}]
[null,null,0,0,{"$error":"#DIV/0!"}]
[null,null,0,0,{"$error":"#DIV/0!"}]
[null,null,0,0,{"$error":"#DIV/0!"}]
[null,null,0,0,{"$error":"#DIV/0!"}]
[null,null,0,0,{"$error":"#DIV/0!"}]
[null,null,0,0,{"$error":"#DIV/0!"}]
[null,null,0,0,{"$error":"#DIV/0!"}]
[null,null,0,0,{"$error":"#DIV/0!"}]
[null,null,0,0,{"$error":"#DIV/0!"}]
[null,null,0,0,{"$error":"#DIV/0!"}]
[null,null,0,0,{"$error":"#DIV/0!"}]
[null,null,0,0,{"$error":"#DIV/0!"}]
[null,null,0,0,{"$error":"#DIV/0!"}]
[null,null,0,0,{"$error":"#DIV/0!"}]
[null,null,0,0,{"$error":"#DIV/0!"}]
[null,null,0,0,{"$error":"#DIV/0!"}]
[null,null,0,0,{"$error":"#DIV/0!"}]
[null,null,0,0,{"$error":"#DIV/0!"}]
[null,null,0,0,{"$error":"#DIV/0!"}]
[null,null,0,0,{"$error":"#DIV/0!"}]
[null,null,0,0,{"$error":"#DIV/0!"}]
[null,null,0,0,{"$error":"#DIV/0!"}]
[null,null,0,0,{"$error":"#DIV/0!"}]
[null,null,0,0,{"$error":"#DIV/0!"}]
[null,null,0,0,{"$error":"#DIV/0!"}]
[null,null,0,0,{"$error":"#DIV/0!"}]
[null,null,0,0,{"$error":"#DIV/0!"}]
[null,null,0,0,{"$error":"#DIV/0!"}]
[null,null,0,0,{"$error":"#DIV/0!"}]
[null,null,0,0,{"$error":"#DIV/0!"}]
[null,null,0,0,{"$error":"#DIV/0!"}]
[null,null,0,0,{"$error":"#DIV/0!"}]
[null,null,0,0,{"$error":"#DIV/0!"}]
[null,null,0,0,{"$error":"#DIV/0!"}]
[null,null,0,0,{"$error":"#DIV/0!"}]
[null,null,0,0,{"$error":"#DIV/0!"}]
[null,null,0,0,{"$error":"#DIV/0!"}]
[null,null,0,0,{"$error":"#DIV/0!"}]
[null,null,0,0,{"$error":"#DIV/0!"}]
[null,null,0,0,{"$error":"#DIV/0!"}]
[null,null,0,0,{"$error":"#DIV/0!"}]
[null,null,0,0,{"$error":"#DIV/0!"}]
[null,null,0,0,{"$error":"#DIV/0!"}]
[null,null,0,0,{"$error":"#DIV/0!"}]
[null,null,0,0,{"$error":"#DIV/0!"}]
[null,null,0,0,{"$error":"#DIV/0!"}]
[null,null,0,0,{"$error":"#DIV/0!"}]
[null,null,0,0,{"$error":"#DIV/0!"}]
[null,null,0,0,{"$error":"#DIV/0!"}]
[null,null,0,0,{"$error":"#DIV/0!"}]
[null,null,0,0,{"$error":"#DIV/0!"}]
[null,null,0,0,{"$error":"#DIV/0!"}]
[null,null,0,0,{"$error":"#DIV/0!"}]
[null,null,0,0,{"$error":"#DIV/0!"}]
[null,null,0,0,{"$error":"#DIV/0!"}]
[null,null,0,0,{"$error":"#DIV/0!"}]
[null,null,0,0,{"$error":"#DIV/0!"}]
[null,null,0,0,{"$error":"#DIV/0!"}]
[null,null,0,0,{"$error":"#DIV/0!"}]
[null,null,0,0,{"$error":"#DIV/0!"}]
[null,null,0,0,{"$error":"#DIV/0!"}]
[null,null,0,0,{"$error":"#DIV/0!"}]
[null,null,0,{"$f":"IF(C6855=0,0,IF(C6855<=D6854,D6854,IF(C6855>D6854,D6854+B$2)))","v":0},{"$f":"IF(AND((D6855-D6854>0),(D6855<=C$2)),\"Controlla operazione\",0)","v":{"$error":"#DIV/0!"}}]
[null,null,{"$f":"IF(B6856>0,C6855+B6856,)","v":0},0,{"$error":"#DIV/0!"}]
[null,null,0,0,{"$error":"#DIV/0!"}]
[null,null,0,0,{"$error":"#DIV/0!"}]
[null,null,0,0,{"$error":"#DIV/0!"}]
[null,null,0,0,{"$error":"#DIV/0!"}]
[null,null,0,0,{"$error":"#DIV/0!"}]
[null,null,0,0,{"$error":"#DIV/0!"}]
[null,null,0,0,{"$error":"#DIV/0!"}]
[null,null,0,0,{"$error":"#DIV/0!"}]
[null,null,0,0,{"$error":"#DIV/0!"}]
[null,null,0,0,{"$error":"#DIV/0!"}]
[null,null,0,0,{"$error":"#DIV/0!"}]
[null,null,0,0,{"$error":"#DIV/0!"}]
[null,null,0,0,{"$error":"#DIV/0!"}]
[null,null,0,0,{"$error":"#DIV/0!"}]
[null,null,0,0,{"$error":"#DIV/0!"}]
[null,null,0,0,{"$error":"#DIV/0!"}]
[null,null,0,0,{"$error":"#DIV/0!"}]
[null,null,0,0,{"$error":"#DIV/0!"}]
[null,null,0,0,{"$error":"#DIV/0!"}]
[null,null,0,0,{"$error":"#DIV/0!"}]
[null,null,0,0,{"$error":"#DIV/0!"}]
[null,null,0,0,{"$error":"#DIV/0!"}]
[null,null,0,0,{"$error":"#DIV/0!"}]
[null,null,0,0,{"$error":"#DIV/0!"}]
[null,null,0,0,{"$error":"#DIV/0!"}]
[null,null,0,0,{"$error":"#DIV/0!"}]
[null,null,0,0,{"$error":"#DIV/0!"}]
[null,null,0,0,{"$error":"#DIV/0!"}]
[null,null,0,0,{"$error":"#DIV/0!"}]
[null,null,0,0,{"$error":"#DIV/0!"}]
[null,null,0,0,{"$error":"#DIV/0!"}]
[null,null,0,0,{"$error":"#DIV/0!"}]
[null,null,0,0,{"$error":"#DIV/0!"}]
[null,null,0,0,{"$error":"#DIV/0!"}]
[null,null,0,0,{"$error":"#DIV/0!"}]
[null,null,0,0,{"$error":"#DIV/0!"}]
[null,null,0,0,{"$error":"#DIV/0!"}]
[null,null,0,0,{"$error":"#DIV/0!"}]
[null,null,0,0,{"$error":"#DIV/0!"}]
[null,null,0,0,{"$error":"#DIV/0!"}]
[null,null,0,0,{"$error":"#DIV/0!"}]
[null,null,0,0,{"$error":"#DIV/0!"}]
[null,null,0,0,{"$error":"#DIV/0!"}]
[null,null,0,0,{"$error":"#DIV/0!"}]
[null,null,0,0,{"$error":"#DIV/0!"}]
[null,null,0,0,{"$error":"#DIV/0!"}]
[null,null,0,0,{"$error":"#DIV/0!"}]
[null,null,0,0,{"$error":"#DIV/0!"}]
[null,null,0,0,{"$error":"#DIV/0!"}]
[null,null,0,0,{"$error":"#DIV/0!"}]
[null,null,0,0,{"$error":"#DIV/0!"}]
[null,null,0,0,{"$error":"#DIV/0!"}]
[null,null,0,0,{"$error":"#DIV/0!"}]
[null,null,0,0,{"$error":"#DIV/0!"}]
[null,null,0,0,{"$error":"#DIV/0!"}]
[null,null,0,0,{"$error":"#DIV/0!"}]
[null,null,0,0,{"$error":"#DIV/0!"}]
[null,null,0,0,{"$error":"#DIV/0!"}]
[null,null,0,0,{"$error":"#DIV/0!"}]
[null,null,0,0,{"$error":"#DIV/0!"}]
[null,null,0,0,{"$error":"#DIV/0!"}]
[null,null,0,0,{"$error":"#DIV/0!"}]
[null,null,0,{"$f":"IF(C6919=0,0,IF(C6919<=D6918,D6918,IF(C6919>D6918,D6918+B$2)))","v":0},{"$f":"IF(AND((D6919-D6918>0),(D6919<=C$2)),\"Controlla operazione\",0)","v":{"$error":"#DIV/0!"}}]
[null,null,{"$f":"IF(B6920>0,C6919+B6920,)","v":0},0,{"$error":"#DIV/0!"}]
[null,null,0,0,{"$error":"#DIV/0!"}]
[null,null,0,0,{"$error":"#DIV/0!"}]
[null,null,0,0,{"$error":"#DIV/0!"}]
[null,null,0,0,{"$error":"#DIV/0!"}]
[null,null,0,0,{"$error":"#DIV/0!"}]
[null,null,0,0,{"$error":"#DIV/0!"}]
[null,null,0,0,{"$error":"#DIV/0!"}]
[null,null,0,0,{"$error":"#DIV/0!"}]
[null,null,0,0,{"$error":"#DIV/0!"}]
[null,null,0,0,{"$error":"#DIV/0!"}]
[null,null,0,0,{"$error":"#DIV/0!"}]
[null,null,0,0,{"$error":"#DIV/0!"}]
[null,null,0,0,{"$error":"#DIV/0!"}]
[null,null,0,0,{"$error":"#DIV/0!"}]
[null,null,0,0,{"$error":"#DIV/0!"}]
[null,null,0,0,{"$error":"#DIV/0!"}]
[null,null,0,0,{"$error":"#DIV/0!"}]
[null,null,0,0,{"$error":"#DIV/0!"}]
[null,null,0,0,{"$error":"#DIV/0!"}]
[null,null,0,0,{"$error":"#DIV/0!"}]
[null,null,0,0,{"$error":"#DIV/0!"}]
[null,null,0,0,{"$error":"#DIV/0!"}]
[null,null,0,0,{"$error":"#DIV/0!"}]
[null,null,0,0,{"$error":"#DIV/0!"}]
[null,null,0,0,{"$error":"#DIV/0!"}]
[null,null,0,0,{"$error":"#DIV/0!"}]
[null,null,0,0,{"$error":"#DIV/0!"}]
[null,null,0,0,{"$error":"#DIV/0!"}]
[null,null,0,0,{"$error":"#DIV/0!"}]
[null,null,0,0,{"$error":"#DIV/0!"}]
[null,null,0,0,{"$error":"#DIV/0!"}]
[null,null,0,0,{"$error":"#DIV/0!"}]
[null,null,0,0,{"$error":"#DIV/0!"}]
[null,null,0,0,{"$error":"#DIV/0!"}]
[null,null,0,0,{"$error":"#DIV/0!"}]
[null,null,0,0,{"$error":"#DIV/0!"}]
[null,null,0,0,{"$error":"#DIV/0!"}]
[null,null,0,0,{"$error":"#DIV/0!"}]
[null,null,0,0,{"$error":"#DIV/0!"}]
[null,null,0,0,{"$error":"#DIV/0!"}]
[null,null,0,0,{"$error":"#DIV/0!"}]
[null,null,0,0,{"$error":"#DIV/0!"}]
[null,null,0,0,{"$error":"#DIV/0!"}]
[null,null,0,0,{"$error":"#DIV/0!"}]
[null,null,0,0,{"$error":"#DIV/0!"}]
[null,null,0,0,{"$error":"#DIV/0!"}]
[null,null,0,0,{"$error":"#DIV/0!"}]
[null,null,0,0,{"$error":"#DIV/0!"}]
[null,null,0,0,{"$error":"#DIV/0!"}]
[null,null,0,0,{"$error":"#DIV/0!"}]
[null,null,0,0,{"$error":"#DIV/0!"}]
[null,null,0,0,{"$error":"#DIV/0!"}]
[null,null,0,0,{"$error":"#DIV/0!"}]
[null,null,0,0,{"$error":"#DIV/0!"}]
[null,null,0,0,{"$error":"#DIV/0!"}]
[null,null,0,0,{"$error":"#DIV/0!"}]
[null,null,0,0,{"$error":"#DIV/0!"}]
[null,null,0,0,{"$error":"#DIV/0!"}]
[null,null,0,0,{"$error":"#DIV/0!"}]
[null,null,0,0,{"$error":"#DIV/0!"}]
[null,null,0,0,{"$error":"#DIV/0!"}]
[null,null,0,0,{"$error":"#DIV/0!"}]
[null,null,0,{"$f":"IF(C6983=0,0,IF(C6983<=D6982,D6982,IF(C6983>D6982,D6982+B$2)))","v":0},{"$f":"IF(AND((D6983-D6982>0),(D6983<=C$2)),\"Controlla operazione\",0)","v":{"$error":"#DIV/0!"}}]
[null,null,{"$f":"IF(B6984>0,C6983+B6984,)","v":0},0,{"$error":"#DIV/0!"}]
[null,null,0,0,{"$error":"#DIV/0!"}]
[null,null,0,0,{"$error":"#DIV/0!"}]
[null,null,0,0,{"$error":"#DIV/0!"}]
[null,null,0,0,{"$error":"#DIV/0!"}]
[null,null,0,0,{"$error":"#DIV/0!"}]
[null,null,0,0,{"$error":"#DIV/0!"}]
[null,null,0,0,{"$error":"#DIV/0!"}]
[null,null,0,0,{"$error":"#DIV/0!"}]
[null,null,0,0,{"$error":"#DIV/0!"}]
[null,null,0,0,{"$error":"#DIV/0!"}]
[null,null,0,0,{"$error":"#DIV/0!"}]
[null,null,0,0,{"$error":"#DIV/0!"}]
[null,null,0,0,{"$error":"#DIV/0!"}]
[null,null,0,0,{"$error":"#DIV/0!"}]
[null,null,0,0,{"$error":"#DIV/0!"}]
[null,null,0,0,{"$error":"#DIV/0!"}]
[null,null,0,0,{"$error":"#DIV/0!"}]
[null,null,0,0,{"$error":"#DIV/0!"}]
[null,null,0,0,{"$error":"#DIV/0!"}]
[null,null,0,0,{"$error":"#DIV/0!"}]
[null,null,0,0,{"$error":"#DIV/0!"}]
[null,null,0,0,{"$error":"#DIV/0!"}]
[null,null,0,0,{"$error":"#DIV/0!"}]
[null,null,0,0,{"$error":"#DIV/0!"}]
[null,null,0,0,{"$error":"#DIV/0!"}]
[null,null,0,0,{"$error":"#DIV/0!"}]
[null,null,0,0,{"$error":"#DIV/0!"}]
[null,null,0,0,{"$error":"#DIV/0!"}]
[null,null,0,0,{"$error":"#DIV/0!"}]
[null,null,0,0,{"$error":"#DIV/0!"}]
[null,null,0,0,{"$error":"#DIV/0!"}]
[null,null,0,0,{"$error":"#DIV/0!"}]
[null,null,0,0,{"$error":"#DIV/0!"}]
[null,null,0,0,{"$error":"#DIV/0!"}]
[null,null,0,0,{"$error":"#DIV/0!"}]
[null,null,0,0,{"$error":"#DIV/0!"}]
[null,null,0,0,{"$error":"#DIV/0!"}]
[null,null,0,0,{"$error":"#DIV/0!"}]
[null,null,0,0,{"$error":"#DIV/0!"}]
[null,null,0,0,{"$error":"#DIV/0!"}]
[null,null,0,0,{"$error":"#DIV/0!"}]
[null,null,0,0,{"$error":"#DIV/0!"}]
[null,null,0,0,{"$error":"#DIV/0!"}]
[null,null,0,0,{"$error":"#DIV/0!"}]
[null,null,0,0,{"$error":"#DIV/0!"}]
[null,null,0,0,{"$error":"#DIV/0!"}]
[null,null,0,0,{"$error":"#DIV/0!"}]
[null,null,0,0,{"$error":"#DIV/0!"}]
[null,null,0,0,{"$error":"#DIV/0!"}]
[null,null,0,0,{"$error":"#DIV/0!"}]
[null,null,0,0,{"$error":"#DIV/0!"}]
[null,null,0,0,{"$error":"#DIV/0!"}]
[null,null,0,0,{"$error":"#DIV/0!"}]
[null,null,0,0,{"$error":"#DIV/0!"}]
[null,null,0,0,{"$error":"#DIV/0!"}]
[null,null,0,0,{"$error":"#DIV/0!"}]
[null,null,0,0,{"$error":"#DIV/0!"}]
[null,null,0,0,{"$error":"#DIV/0!"}]
[null,null,0,0,{"$error":"#DIV/0!"}]
[null,null,0,0,{"$error":"#DIV/0!"}]
[null,null,0,0,{"$error":"#DIV/0!"}]
[null,null,0,0,{"$error":"#DIV/0!"}]
[null,null,0,{"$f":"IF(C7047=0,0,IF(C7047<=D7046,D7046,IF(C7047>D7046,D7046+B$2)))","v":0},{"$f":"IF(AND((D7047-D7046>0),(D7047<=C$2)),\"Controlla operazione\",0)","v":{"$error":"#DIV/0!"}}]
[null,null,{"$f":"IF(B7048>0,C7047+B7048,)","v":0},0,{"$error":"#DIV/0!"}]
[null,null,0,0,{"$error":"#DIV/0!"}]
[null,null,0,0,{"$error":"#DIV/0!"}]
[null,null,0,0,{"$error":"#DIV/0!"}]
[null,null,0,0,{"$error":"#DIV/0!"}]
[null,null,0,0,{"$error":"#DIV/0!"}]
[null,null,0,0,{"$error":"#DIV/0!"}]
[null,null,0,0,{"$error":"#DIV/0!"}]
[null,null,0,0,{"$error":"#DIV/0!"}]
[null,null,0,0,{"$error":"#DIV/0!"}]
[null,null,0,0,{"$error":"#DIV/0!"}]
[null,null,0,0,{"$error":"#DIV/0!"}]
[null,null,0,0,{"$error":"#DIV/0!"}]
[null,null,0,0,{"$error":"#DIV/0!"}]
[null,null,0,0,{"$error":"#DIV/0!"}]
[null,null,0,0,{"$error":"#DIV/0!"}]
[null,null,0,0,{"$error":"#DIV/0!"}]
[null,null,0,0,{"$error":"#DIV/0!"}]
[null,null,0,0,{"$error":"#DIV/0!"}]
[null,null,0,0,{"$error":"#DIV/0!"}]
[null,null,0,0,{"$error":"#DIV/0!"}]
[null,null,0,0,{"$error":"#DIV/0!"}]
[null,null,0,0,{"$error":"#DIV/0!"}]
[null,null,0,0,{"$error":"#DIV/0!"}]
[null,null,0,0,{"$error":"#DIV/0!"}]
[null,null,0,0,{"$error":"#DIV/0!"}]
[null,null,0,0,{"$error":"#DIV/0!"}]
[null,null,0,0,{"$error":"#DIV/0!"}]
[null,null,0,0,{"$error":"#DIV/0!"}]
[null,null,0,0,{"$error":"#DIV/0!"}]
[null,null,0,0,{"$error":"#DIV/0!"}]
[null,null,0,0,{"$error":"#DIV/0!"}]
[null,null,0,0,{"$error":"#DIV/0!"}]
[null,null,0,0,{"$error":"#DIV/0!"}]
[null,null,0,0,{"$error":"#DIV/0!"}]
[null,null,0,0,{"$error":"#DIV/0!"}]
[null,null,0,0,{"$error":"#DIV/0!"}]
[null,null,0,0,{"$error":"#DIV/0!"}]
[null,null,0,0,{"$error":"#DIV/0!"}]
[null,null,0,0,{"$error":"#DIV/0!"}]
[null,null,0,0,{"$error":"#DIV/0!"}]
[null,null,0,0,{"$error":"#DIV/0!"}]
[null,null,0,0,{"$error":"#DIV/0!"}]
[null,null,0,0,{"$error":"#DIV/0!"}]
[null,null,0,0,{"$error":"#DIV/0!"}]
[null,null,0,0,{"$error":"#DIV/0!"}]
[null,null,0,0,{"$error":"#DIV/0!"}]
[null,null,0,0,{"$error":"#DIV/0!"}]
[null,null,0,0,{"$error":"#DIV/0!"}]
[null,null,0,0,{"$error":"#DIV/0!"}]
[null,null,0,0,{"$error":"#DIV/0!"}]
[null,null,0,0,{"$error":"#DIV/0!"}]
[null,null,0,0,{"$error":"#DIV/0!"}]
[null,null,0,0,{"$error":"#DIV/0!"}]
[null,null,0,0,{"$error":"#DIV/0!"}]
[null,null,0,0,{"$error":"#DIV/0!"}]
[null,null,0,0,{"$error":"#DIV/0!"}]
[null,null,0,0,{"$error":"#DIV/0!"}]
[null,null,0,0,{"$error":"#DIV/0!"}]
[null,null,0,0,{"$error":"#DIV/0!"}]
[null,null,0,0,{"$error":"#DIV/0!"}]
[null,null,0,0,{"$error":"#DIV/0!"}]
[null,null,0,0,{"$error":"#DIV/0!"}]
[null,null,0,{"$f":"IF(C7111=0,0,IF(C7111<=D7110,D7110,IF(C7111>D7110,D7110+B$2)))","v":0},{"$f":"IF(AND((D7111-D7110>0),(D7111<=C$2)),\"Controlla operazione\",0)","v":{"$error":"#DIV/0!"}}]
[null,null,{"$f":"IF(B7112>0,C7111+B7112,)","v":0},0,{"$error":"#DIV/0!"}]
[null,null,0,0,{"$error":"#DIV/0!"}]
[null,null,0,0,{"$error":"#DIV/0!"}]
[null,null,0,0,{"$error":"#DIV/0!"}]
[null,null,0,0,{"$error":"#DIV/0!"}]
[null,null,0,0,{"$error":"#DIV/0!"}]
[null,null,0,0,{"$error":"#DIV/0!"}]
[null,null,0,0,{"$error":"#DIV/0!"}]
[null,null,0,0,{"$error":"#DIV/0!"}]
[null,null,0,0,{"$error":"#DIV/0!"}]
[null,null,0,0,{"$error":"#DIV/0!"}]
[null,null,0,0,{"$error":"#DIV/0!"}]
[null,null,0,0,{"$error":"#DIV/0!"}]
[null,null,0,0,{"$error":"#DIV/0!"}]
[null,null,0,0,{"$error":"#DIV/0!"}]
[null,null,0,0,{"$error":"#DIV/0!"}]
[null,null,0,0,{"$error":"#DIV/0!"}]
[null,null,0,0,{"$error":"#DIV/0!"}]
[null,null,0,0,{"$error":"#DIV/0!"}]
[null,null,0,0,{"$error":"#DIV/0!"}]
[null,null,0,0,{"$error":"#DIV/0!"}]
[null,null,0,0,{"$error":"#DIV/0!"}]
[null,null,0,0,{"$error":"#DIV/0!"}]
[null,null,0,0,{"$error":"#DIV/0!"}]
[null,null,0,0,{"$error":"#DIV/0!"}]
[null,null,0,0,{"$error":"#DIV/0!"}]
[null,null,0,0,{"$error":"#DIV/0!"}]
[null,null,0,0,{"$error":"#DIV/0!"}]
[null,null,0,0,{"$error":"#DIV/0!"}]
[null,null,0,0,{"$error":"#DIV/0!"}]
[null,null,0,0,{"$error":"#DIV/0!"}]
[null,null,0,0,{"$error":"#DIV/0!"}]
[null,null,0,0,{"$error":"#DIV/0!"}]
[null,null,0,0,{"$error":"#DIV/0!"}]
[null,null,0,0,{"$error":"#DIV/0!"}]
[null,null,0,0,{"$error":"#DIV/0!"}]
[null,null,0,0,{"$error":"#DIV/0!"}]
[null,null,0,0,{"$error":"#DIV/0!"}]
[null,null,0,0,{"$error":"#DIV/0!"}]
[null,null,0,0,{"$error":"#DIV/0!"}]
[null,null,0,0,{"$error":"#DIV/0!"}]
[null,null,0,0,{"$error":"#DIV/0!"}]
[null,null,0,0,{"$error":"#DIV/0!"}]
[null,null,0,0,{"$error":"#DIV/0!"}]
[null,null,0,0,{"$error":"#DIV/0!"}]
[null,null,0,0,{"$error":"#DIV/0!"}]
[null,null,0,0,{"$error":"#DIV/0!"}]
[null,null,0,0,{"$error":"#DIV/0!"}]
[null,null,0,0,{"$error":"#DIV/0!"}]
[null,null,0,0,{"$error":"#DIV/0!"}]
[null,null,0,0,{"$error":"#DIV/0!"}]
[null,null,0,0,{"$error":"#DIV/0!"}]
[null,null,0,0,{"$error":"#DIV/0!"}]
[null,null,0,0,{"$error":"#DIV/0!"}]
[null,null,0,0,{"$error":"#DIV/0!"}]
[null,null,0,0,{"$error":"#DIV/0!"}]
[null,null,0,0,{"$error":"#DIV/0!"}]
[null,null,0,0,{"$error":"#DIV/0!"}]
[null,null,0,0,{"$error":"#DIV/0!"}]
[null,null,0,0,{"$error":"#DIV/0!"}]
[null,null,0,0,{"$error":"#DIV/0!"}]
[null,null,0,0,{"$error":"#DIV/0!"}]
[null,null,0,0,{"$error":"#DIV/0!"}]
[null,null,0,{"$f":"IF(C7175=0,0,IF(C7175<=D7174,D7174,IF(C7175>D7174,D7174+B$2)))","v":0},{"$f":"IF(AND((D7175-D7174>0),(D7175<=C$2)),\"Controlla operazione\",0)","v":{"$error":"#DIV/0!"}}]
[null,null,{"$f":"IF(B7176>0,C7175+B7176,)","v":0},0,{"$error":"#DIV/0!"}]
[null,null,0,0,{"$error":"#DIV/0!"}]
[null,null,0,0,{"$error":"#DIV/0!"}]
[null,null,0,0,{"$error":"#DIV/0!"}]
[null,null,0,0,{"$error":"#DIV/0!"}]
[null,null,0,0,{"$error":"#DIV/0!"}]
[null,null,0,0,{"$error":"#DIV/0!"}]
[null,null,0,0,{"$error":"#DIV/0!"}]
[null,null,0,0,{"$error":"#DIV/0!"}]
[null,null,0,0,{"$error":"#DIV/0!"}]
[null,null,0,0,{"$error":"#DIV/0!"}]
[null,null,0,0,{"$error":"#DIV/0!"}]
[null,null,0,0,{"$error":"#DIV/0!"}]
[null,null,0,0,{"$error":"#DIV/0!"}]
[null,null,0,0,{"$error":"#DIV/0!"}]
[null,null,0,0,{"$error":"#DIV/0!"}]
[null,null,0,0,{"$error":"#DIV/0!"}]
[null,null,0,0,{"$error":"#DIV/0!"}]
[null,null,0,0,{"$error":"#DIV/0!"}]
[null,null,0,0,{"$error":"#DIV/0!"}]
[null,null,0,0,{"$error":"#DIV/0!"}]
[null,null,0,0,{"$error":"#DIV/0!"}]
[null,null,0,0,{"$error":"#DIV/0!"}]
[null,null,0,0,{"$error":"#DIV/0!"}]
[null,null,0,0,{"$error":"#DIV/0!"}]
[null,null,0,0,{"$error":"#DIV/0!"}]
[null,null,0,0,{"$error":"#DIV/0!"}]
[null,null,0,0,{"$error":"#DIV/0!"}]
[null,null,0,0,{"$error":"#DIV/0!"}]
[null,null,0,0,{"$error":"#DIV/0!"}]
[null,null,0,0,{"$error":"#DIV/0!"}]
[null,null,0,0,{"$error":"#DIV/0!"}]
[null,null,0,0,{"$error":"#DIV/0!"}]
[null,null,0,0,{"$error":"#DIV/0!"}]
[null,null,0,0,{"$error":"#DIV/0!"}]
[null,null,0,0,{"$error":"#DIV/0!"}]
[null,null,0,0,{"$error":"#DIV/0!"}]
[null,null,0,0,{"$error":"#DIV/0!"}]
[null,null,0,0,{"$error":"#DIV/0!"}]
[null,null,0,0,{"$error":"#DIV/0!"}]
[null,null,0,0,{"$error":"#DIV/0!"}]
[null,null,0,0,{"$error":"#DIV/0!"}]
[null,null,0,0,{"$error":"#DIV/0!"}]
[null,null,0,0,{"$error":"#DIV/0!"}]
[null,null,0,0,{"$error":"#DIV/0!"}]
[null,null,0,0,{"$error":"#DIV/0!"}]
[null,null,0,0,{"$error":"#DIV/0!"}]
[null,null,0,0,{"$error":"#DIV/0!"}]
[null,null,0,0,{"$error":"#DIV/0!"}]
[null,null,0,0,{"$error":"#DIV/0!"}]
[null,null,0,0,{"$error":"#DIV/0!"}]
[null,null,0,0,{"$error":"#DIV/0!"}]
[null,null,0,0,{"$error":"#DIV/0!"}]
[null,null,0,0,{"$error":"#DIV/0!"}]
[null,null,0,0,{"$error":"#DIV/0!"}]
[null,null,0,0,{"$error":"#DIV/0!"}]
[null,null,0,0,{"$error":"#DIV/0!"}]
[null,null,0,0,{"$error":"#DIV/0!"}]
[null,null,0,0,{"$error":"#DIV/0!"}]
[null,null,0,0,{"$error":"#DIV/0!"}]
[null,null,0,0,{"$error":"#DIV/0!"}]
[null,null,0,0,{"$error":"#DIV/0!"}]
[null,null,0,0,{"$error":"#DIV/0!"}]
[null,null,0,{"$f":"IF(C7239=0,0,IF(C7239<=D7238,D7238,IF(C7239>D7238,D7238+B$2)))","v":0},{"$f":"IF(AND((D7239-D7238>0),(D7239<=C$2)),\"Controlla operazione\",0)","v":{"$error":"#DIV/0!"}}]
[null,null,{"$f":"IF(B7240>0,C7239+B7240,)","v":0},0,{"$error":"#DIV/0!"}]
[null,null,0,0,{"$error":"#DIV/0!"}]
[null,null,0,0,{"$error":"#DIV/0!"}]
[null,null,0,0,{"$error":"#DIV/0!"}]
[null,null,0,0,{"$error":"#DIV/0!"}]
[null,null,0,0,{"$error":"#DIV/0!"}]
[null,null,0,0,{"$error":"#DIV/0!"}]
[null,null,0,0,{"$error":"#DIV/0!"}]
[null,null,0,0,{"$error":"#DIV/0!"}]
[null,null,0,0,{"$error":"#DIV/0!"}]
[null,null,0,0,{"$error":"#DIV/0!"}]
[null,null,0,0,{"$error":"#DIV/0!"}]
[null,null,0,0,{"$error":"#DIV/0!"}]
[null,null,0,0,{"$error":"#DIV/0!"}]
[null,null,0,0,{"$error":"#DIV/0!"}]
[null,null,0,0,{"$error":"#DIV/0!"}]
[null,null,0,0,{"$error":"#DIV/0!"}]
[null,null,0,0,{"$error":"#DIV/0!"}]
[null,null,0,0,{"$error":"#DIV/0!"}]
[null,null,0,0,{"$error":"#DIV/0!"}]
[null,null,0,0,{"$error":"#DIV/0!"}]
[null,null,0,0,{"$error":"#DIV/0!"}]
[null,null,0,0,{"$error":"#DIV/0!"}]
[null,null,0,0,{"$error":"#DIV/0!"}]
[null,null,0,0,{"$error":"#DIV/0!"}]
[null,null,0,0,{"$error":"#DIV/0!"}]
[null,null,0,0,{"$error":"#DIV/0!"}]
[null,null,0,0,{"$error":"#DIV/0!"}]
[null,null,0,0,{"$error":"#DIV/0!"}]
[null,null,0,0,{"$error":"#DIV/0!"}]
[null,null,0,0,{"$error":"#DIV/0!"}]
[null,null,0,0,{"$error":"#DIV/0!"}]
[null,null,0,0,{"$error":"#DIV/0!"}]
[null,null,0,0,{"$error":"#DIV/0!"}]
[null,null,0,0,{"$error":"#DIV/0!"}]
[null,null,0,0,{"$error":"#DIV/0!"}]
[null,null,0,0,{"$error":"#DIV/0!"}]
[null,null,0,0,{"$error":"#DIV/0!"}]
[null,null,0,0,{"$error":"#DIV/0!"}]
[null,null,0,0,{"$error":"#DIV/0!"}]
[null,null,0,0,{"$error":"#DIV/0!"}]
[null,null,0,0,{"$error":"#DIV/0!"}]
[null,null,0,0,{"$error":"#DIV/0!"}]
[null,null,0,0,{"$error":"#DIV/0!"}]
[null,null,0,0,{"$error":"#DIV/0!"}]
[null,null,0,0,{"$error":"#DIV/0!"}]
[null,null,0,0,{"$error":"#DIV/0!"}]
[null,null,0,0,{"$error":"#DIV/0!"}]
[null,null,0,0,{"$error":"#DIV/0!"}]
[null,null,0,0,{"$error":"#DIV/0!"}]
[null,null,0,0,{"$error":"#DIV/0!"}]
[null,null,0,0,{"$error":"#DIV/0!"}]
[null,null,0,0,{"$error":"#DIV/0!"}]
[null,null,0,0,{"$error":"#DIV/0!"}]
[null,null,0,0,{"$error":"#DIV/0!"}]
[null,null,0,0,{"$error":"#DIV/0!"}]
[null,null,0,0,{"$error":"#DIV/0!"}]
[null,null,0,0,{"$error":"#DIV/0!"}]
[null,null,0,0,{"$error":"#DIV/0!"}]
[null,null,0,0,{"$error":"#DIV/0!"}]
[null,null,0,0,{"$error":"#DIV/0!"}]
[null,null,0,0,{"$error":"#DIV/0!"}]
[null,null,0,0,{"$error":"#DIV/0!"}]
[null,null,0,{"$f":"IF(C7303=0,0,IF(C7303<=D7302,D7302,IF(C7303>D7302,D7302+B$2)))","v":0},{"$f":"IF(AND((D7303-D7302>0),(D7303<=C$2)),\"Controlla operazione\",0)","v":{"$error":"#DIV/0!"}}]
[null,null,{"$f":"IF(B7304>0,C7303+B7304,)","v":0},0,{"$error":"#DIV/0!"}]
[null,null,0,0,{"$error":"#DIV/0!"}]
[null,null,0,0,{"$error":"#DIV/0!"}]
[null,null,0,0,{"$error":"#DIV/0!"}]
[null,null,0,0,{"$error":"#DIV/0!"}]
[null,null,0,0,{"$error":"#DIV/0!"}]
[null,null,0,0,{"$error":"#DIV/0!"}]
[null,null,0,0,{"$error":"#DIV/0!"}]
[null,null,0,0,{"$error":"#DIV/0!"}]
[null,null,0,0,{"$error":"#DIV/0!"}]
[null,null,0,0,{"$error":"#DIV/0!"}]
[null,null,0,0,{"$error":"#DIV/0!"}]
[null,null,0,0,{"$error":"#DIV/0!"}]
[null,null,0,0,{"$error":"#DIV/0!"}]
[null,null,0,0,{"$error":"#DIV/0!"}]
[null,null,0,0,{"$error":"#DIV/0!"}]
[null,null,0,0,{"$error":"#DIV/0!"}]
[null,null,0,0,{"$error":"#DIV/0!"}]
[null,null,0,0,{"$error":"#DIV/0!"}]
[null,null,0,0,{"$error":"#DIV/0!"}]
[null,null,0,0,{"$error":"#DIV/0!"}]
[null,null,0,0,{"$error":"#DIV/0!"}]
[null,null,0,0,{"$error":"#DIV/0!"}]
[null,null,0,0,{"$error":"#DIV/0!"}]
[null,null,0,0,{"$error":"#DIV/0!"}]
[null,null,0,0,{"$error":"#DIV/0!"}]
[null,null,0,0,{"$error":"#DIV/0!"}]
[null,null,0,0,{"$error":"#DIV/0!"}]
[null,null,0,0,{"$error":"#DIV/0!"}]
[null,null,0,0,{"$error":"#DIV/0!"}]
[null,null,0,0,{"$error":"#DIV/0!"}]
[null,null,0,0,{"$error":"#DIV/0!"}]
[null,null,0,0,{"$error":"#DIV/0!"}]
[null,null,0,0,{"$error":"#DIV/0!"}]
[null,null,0,0,{"$error":"#DIV/0!"}]
[null,null,0,0,{"$error":"#DIV/0!"}]
[null,null,0,0,{"$error":"#DIV/0!"}]
[null,null,0,0,{"$error":"#DIV/0!"}]
[null,null,0,0,{"$error":"#DIV/0!"}]
[null,null,0,0,{"$error":"#DIV/0!"}]
[null,null,0,0,{"$error":"#DIV/0!"}]
[null,null,0,0,{"$error":"#DIV/0!"}]
[null,null,0,0,{"$error":"#DIV/0!"}]
[null,null,0,0,{"$error":"#DIV/0!"}]
[null,null,0,0,{"$error":"#DIV/0!"}]
[null,null,0,0,{"$error":"#DIV/0!"}]
[null,null,0,0,{"$error":"#DIV/0!"}]
[null,null,0,0,{"$error":"#DIV/0!"}]
[null,null,0,0,{"$error":"#DIV/0!"}]
[null,null,0,0,{"$error":"#DIV/0!"}]
[null,null,0,0,{"$error":"#DIV/0!"}]
[null,null,0,0,{"$error":"#DIV/0!"}]
[null,null,0,0,{"$error":"#DIV/0!"}]
[null,null,0,0,{"$error":"#DIV/0!"}]
[null,null,0,0,{"$error":"#DIV/0!"}]
[null,null,0,0,{"$error":"#DIV/0!"}]
[null,null,0,0,{"$error":"#DIV/0!"}]
[null,null,0,0,{"$error":"#DIV/0!"}]
[null,null,0,0,{"$error":"#DIV/0!"}]
[null,null,0,0,{"$error":"#DIV/0!"}]
[null,null,0,0,{"$error":"#DIV/0!"}]
[null,null,0,0,{"$error":"#DIV/0!"}]
[null,null,0,0,{"$error":"#DIV/0!"}]
[null,null,0,{"$f":"IF(C7367=0,0,IF(C7367<=D7366,D7366,IF(C7367>D7366,D7366+B$2)))","v":0},{"$f":"IF(AND((D7367-D7366>0),(D7367<=C$2)),\"Controlla operazione\",0)","v":{"$error":"#DIV/0!"}}]
[null,null,{"$f":"IF(B7368>0,C7367+B7368,)","v":0},0,{"$error":"#DIV/0!"}]
[null,null,0,0,{"$error":"#DIV/0!"}]
[null,null,0,0,{"$error":"#DIV/0!"}]
[null,null,0,0,{"$error":"#DIV/0!"}]
[null,null,0,0,{"$error":"#DIV/0!"}]
[null,null,0,0,{"$error":"#DIV/0!"}]
[null,null,0,0,{"$error":"#DIV/0!"}]
[null,null,0,0,{"$error":"#DIV/0!"}]
[null,null,0,0,{"$error":"#DIV/0!"}]
[null,null,0,0,{"$error":"#DIV/0!"}]
[null,null,0,0,{"$error":"#DIV/0!"}]
[null,null,0,0,{"$error":"#DIV/0!"}]
[null,null,0,0,{"$error":"#DIV/0!"}]
[null,null,0,0,{"$error":"#DIV/0!"}]
[null,null,0,0,{"$error":"#DIV/0!"}]
[null,null,0,0,{"$error":"#DIV/0!"}]
[null,null,0,0,{"$error":"#DIV/0!"}]
[null,null,0,0,{"$error":"#DIV/0!"}]
[null,null,0,0,{"$error":"#DIV/0!"}]
[null,null,0,0,{"$error":"#DIV/0!"}]
[null,null,0,0,{"$error":"#DIV/0!"}]
[null,null,0,0,{"$error":"#DIV/0!"}]
[null,null,0,0,{"$error":"#DIV/0!"}]
[null,null,0,0,{"$error":"#DIV/0!"}]
[null,null,0,0,{"$error":"#DIV/0!"}]
[null,null,0,0,{"$error":"#DIV/0!"}]
[null,null,0,0,{"$error":"#DIV/0!"}]
[null,null,0,0,{"$error":"#DIV/0!"}]
[null,null,0,0,{"$error":"#DIV/0!"}]
[null,null,0,0,{"$error":"#DIV/0!"}]
[null,null,0,0,{"$error":"#DIV/0!"}]
[null,null,0,0,{"$error":"#DIV/0!"}]
[null,null,0,0,{"$error":"#DIV/0!"}]
[null,null,0,0,{"$error":"#DIV/0!"}]
[null,null,0,0,{"$error":"#DIV/0!"}]
[null,null,0,0,{"$error":"#DIV/0!"}]
[null,null,0,0,{"$error":"#DIV/0!"}]
[null,null,0,0,{"$error":"#DIV/0!"}]
[null,null,0,0,{"$error":"#DIV/0!"}]
[null,null,0,0,{"$error":"#DIV/0!"}]
[null,null,0,0,{"$error":"#DIV/0!"}]
[null,null,0,0,{"$error":"#DIV/0!"}]
[null,null,0,0,{"$error":"#DIV/0!"}]
[null,null,0,0,{"$error":"#DIV/0!"}]
[null,null,0,0,{"$error":"#DIV/0!"}]
[null,null,0,0,{"$error":"#DIV/0!"}]
[null,null,0,0,{"$error":"#DIV/0!"}]
[null,null,0,0,{"$error":"#DIV/0!"}]
[null,null,0,0,{"$error":"#DIV/0!"}]
[null,null,0,0,{"$error":"#DIV/0!"}]
[null,null,0,0,{"$error":"#DIV/0!"}]
[null,null,0,0,{"$error":"#DIV/0!"}]
[null,null,0,0,{"$error":"#DIV/0!"}]
[null,null,0,0,{"$error":"#DIV/0!"}]
[null,null,0,0,{"$error":"#DIV/0!"}]
[null,null,0,0,{"$error":"#DIV/0!"}]
[null,null,0,0,{"$error":"#DIV/0!"}]
[null,null,0,0,{"$error":"#DIV/0!"}]
[null,null,0,0,{"$error":"#DIV/0!"}]
[null,null,0,0,{"$error":"#DIV/0!"}]
[null,null,0,0,{"$error":"#DIV/0!"}]
[null,null,0,0,{"$error":"#DIV/0!"}]
[null,null,0,0,{"$error":"#DIV/0!"}]
[null,null,0,{"$f":"IF(C7431=0,0,IF(C7431<=D7430,D7430,IF(C7431>D7430,D7430+B$2)))","v":0},{"$f":"IF(AND((D7431-D7430>0),(D7431<=C$2)),\"Controlla operazione\",0)","v":{"$error":"#DIV/0!"}}]
[null,null,{"$f":"IF(B7432>0,C7431+B7432,)","v":0},0,{"$error":"#DIV/0!"}]
[null,null,0,0,{"$error":"#DIV/0!"}]
[null,null,0,0,{"$error":"#DIV/0!"}]
[null,null,0,0,{"$error":"#DIV/0!"}]
[null,null,0,0,{"$error":"#DIV/0!"}]
[null,null,0,0,{"$error":"#DIV/0!"}]
[null,null,0,0,{"$error":"#DIV/0!"}]
[null,null,0,0,{"$error":"#DIV/0!"}]
[null,null,0,0,{"$error":"#DIV/0!"}]
[null,null,0,0,{"$error":"#DIV/0!"}]
[null,null,0,0,{"$error":"#DIV/0!"}]
[null,null,0,0,{"$error":"#DIV/0!"}]
[null,null,0,0,{"$error":"#DIV/0!"}]
[null,null,0,0,{"$error":"#DIV/0!"}]
[null,null,0,0,{"$error":"#DIV/0!"}]
[null,null,0,0,{"$error":"#DIV/0!"}]
[null,null,0,0,{"$error":"#DIV/0!"}]
[null,null,0,0,{"$error":"#DIV/0!"}]
[null,null,0,0,{"$error":"#DIV/0!"}]
[null,null,0,0,{"$error":"#DIV/0!"}]
[null,null,0,0,{"$error":"#DIV/0!"}]
[null,null,0,0,{"$error":"#DIV/0!"}]
[null,null,0,0,{"$error":"#DIV/0!"}]
[null,null,0,0,{"$error":"#DIV/0!"}]
[null,null,0,0,{"$error":"#DIV/0!"}]
[null,null,0,0,{"$error":"#DIV/0!"}]
[null,null,0,0,{"$error":"#DIV/0!"}]
[null,null,0,0,{"$error":"#DIV/0!"}]
[null,null,0,0,{"$error":"#DIV/0!"}]
[null,null,0,0,{"$error":"#DIV/0!"}]
[null,null,0,0,{"$error":"#DIV/0!"}]
[null,null,0,0,{"$error":"#DIV/0!"}]
[null,null,0,0,{"$error":"#DIV/0!"}]
[null,null,0,0,{"$error":"#DIV/0!"}]
[null,null,0,0,{"$error":"#DIV/0!"}]
[null,null,0,0,{"$error":"#DIV/0!"}]
[null,null,0,0,{"$error":"#DIV/0!"}]
[null,null,0,0,{"$error":"#DIV/0!"}]
[null,null,0,0,{"$error":"#DIV/0!"}]
[null,null,0,0,{"$error":"#DIV/0!"}]
[null,null,0,0,{"$error":"#DIV/0!"}]
[null,null,0,0,{"$error":"#DIV/0!"}]
[null,null,0,0,{"$error":"#DIV/0!"}]
[null,null,0,0,{"$error":"#DIV/0!"}]
[null,null,0,0,{"$error":"#DIV/0!"}]
[null,null,0,0,{"$error":"#DIV/0!"}]
[null,null,0,0,{"$error":"#DIV/0!"}]
[null,null,0,0,{"$error":"#DIV/0!"}]
[null,null,0,0,{"$error":"#DIV/0!"}]
[null,null,0,0,{"$error":"#DIV/0!"}]
[null,null,0,0,{"$error":"#DIV/0!"}]
[null,null,0,0,{"$error":"#DIV/0!"}]
[null,null,0,0,{"$error":"#DIV/0!"}]
[null,null,0,0,{"$error":"#DIV/0!"}]
[null,null,0,0,{"$error":"#DIV/0!"}]
[null,null,0,0,{"$error":"#DIV/0!"}]
[null,null,0,0,{"$error":"#DIV/0!"}]
[null,null,0,0,{"$error":"#DIV/0!"}]
[null,null,0,0,{"$error":"#DIV/0!"}]
[null,null,0,0,{"$error":"#DIV/0!"}]
[null,null,0,0,{"$error":"#DIV/0!"}]
[null,null,0,0,{"$error":"#DIV/0!"}]
[null,null,0,0,{"$error":"#DIV/0!"}]
[null,null,0,{"$f":"IF(C7495=0,0,IF(C7495<=D7494,D7494,IF(C7495>D7494,D7494+B$2)))","v":0},{"$f":"IF(AND((D7495-D7494>0),(D7495<=C$2)),\"Controlla operazione\",0)","v":{"$error":"#DIV/0!"}}]
[null,null,{"$f":"IF(B7496>0,C7495+B7496,)","v":0},0,{"$error":"#DIV/0!"}]
[null,null,0,0,{"$error":"#DIV/0!"}]
[null,null,0,0,{"$error":"#DIV/0!"}]
[null,null,0,0,{"$error":"#DIV/0!"}]
[null,null,0,0,{"$error":"#DIV/0!"}]
[null,null,0,0,{"$error":"#DIV/0!"}]
[null,null,0,0,{"$error":"#DIV/0!"}]
[null,null,0,0,{"$error":"#DIV/0!"}]
[null,null,0,0,{"$error":"#DIV/0!"}]
[null,null,0,0,{"$error":"#DIV/0!"}]
[null,null,0,0,{"$error":"#DIV/0!"}]
[null,null,0,0,{"$error":"#DIV/0!"}]
[null,null,0,0,{"$error":"#DIV/0!"}]
[null,null,0,0,{"$error":"#DIV/0!"}]
[null,null,0,0,{"$error":"#DIV/0!"}]
[null,null,0,0,{"$error":"#DIV/0!"}]
[null,null,0,0,{"$error":"#DIV/0!"}]
[null,null,0,0,{"$error":"#DIV/0!"}]
[null,null,0,0,{"$error":"#DIV/0!"}]
[null,null,0,0,{"$error":"#DIV/0!"}]
[null,null,0,0,{"$error":"#DIV/0!"}]
[null,null,0,0,{"$error":"#DIV/0!"}]
[null,null,0,0,{"$error":"#DIV/0!"}]
[null,null,0,0,{"$error":"#DIV/0!"}]
[null,null,0,0,{"$error":"#DIV/0!"}]
[null,null,0,0,{"$error":"#DIV/0!"}]
[null,null,0,0,{"$error":"#DIV/0!"}]
[null,null,0,0,{"$error":"#DIV/0!"}]
[null,null,0,0,{"$error":"#DIV/0!"}]
[null,null,0,0,{"$error":"#DIV/0!"}]
[null,null,0,0,{"$error":"#DIV/0!"}]
[null,null,0,0,{"$error":"#DIV/0!"}]
[null,null,0,0,{"$error":"#DIV/0!"}]
[null,null,0,0,{"$error":"#DIV/0!"}]
[null,null,0,0,{"$error":"#DIV/0!"}]
[null,null,0,0,{"$error":"#DIV/0!"}]
[null,null,0,0,{"$error":"#DIV/0!"}]
[null,null,0,0,{"$error":"#DIV/0!"}]
[null,null,0,0,{"$error":"#DIV/0!"}]
[null,null,0,0,{"$error":"#DIV/0!"}]
[null,null,0,0,{"$error":"#DIV/0!"}]
[null,null,0,0,{"$error":"#DIV/0!"}]
[null,null,0,0,{"$error":"#DIV/0!"}]
[null,null,0,0,{"$error":"#DIV/0!"}]
[null,null,0,0,{"$error":"#DIV/0!"}]
[null,null,0,0,{"$error":"#DIV/0!"}]
[null,null,0,0,{"$error":"#DIV/0!"}]
[null,null,0,0,{"$error":"#DIV/0!"}]
[null,null,0,0,{"$error":"#DIV/0!"}]
[null,null,0,0,{"$error":"#DIV/0!"}]
[null,null,0,0,{"$error":"#DIV/0!"}]
[null,null,0,0,{"$error":"#DIV/0!"}]
[null,null,0,0,{"$error":"#DIV/0!"}]
[null,null,0,0,{"$error":"#DIV/0!"}]
[null,null,0,0,{"$error":"#DIV/0!"}]
[null,null,0,0,{"$error":"#DIV/0!"}]
[null,null,0,0,{"$error":"#DIV/0!"}]
[null,null,0,0,{"$error":"#DIV/0!"}]
[null,null,0,0,{"$error":"#DIV/0!"}]
[null,null,0,0,{"$error":"#DIV/0!"}]
[null,null,0,0,{"$error":"#DIV/0!"}]
[null,null,0,0,{"$error":"#DIV/0!"}]
[null,null,0,0,{"$error":"#DIV/0!"}]
[null,null,0,{"$f":"IF(C7559=0,0,IF(C7559<=D7558,D7558,IF(C7559>D7558,D7558+B$2)))","v":0},{"$f":"IF(AND((D7559-D7558>0),(D7559<=C$2)),\"Controlla operazione\",0)","v":{"$error":"#DIV/0!"}}]
[null,null,{"$f":"IF(B7560>0,C7559+B7560,)","v":0},0,{"$error":"#DIV/0!"}]
[null,null,0,0,{"$error":"#DIV/0!"}]
[null,null,0,0,{"$error":"#DIV/0!"}]
[null,null,0,0,{"$error":"#DIV/0!"}]
[null,null,0,0,{"$error":"#DIV/0!"}]
[null,null,0,0,{"$error":"#DIV/0!"}]
[null,null,0,0,{"$error":"#DIV/0!"}]
[null,null,0,0,{"$error":"#DIV/0!"}]
[null,null,0,0,{"$error":"#DIV/0!"}]
[null,null,0,0,{"$error":"#DIV/0!"}]
[null,null,0,0,{"$error":"#DIV/0!"}]
[null,null,0,0,{"$error":"#DIV/0!"}]
[null,null,0,0,{"$error":"#DIV/0!"}]
[null,null,0,0,{"$error":"#DIV/0!"}]
[null,null,0,0,{"$error":"#DIV/0!"}]
[null,null,0,0,{"$error":"#DIV/0!"}]
[null,null,0,0,{"$error":"#DIV/0!"}]
[null,null,0,0,{"$error":"#DIV/0!"}]
[null,null,0,0,{"$error":"#DIV/0!"}]
[null,null,0,0,{"$error":"#DIV/0!"}]
[null,null,0,0,{"$error":"#DIV/0!"}]
[null,null,0,0,{"$error":"#DIV/0!"}]
[null,null,0,0,{"$error":"#DIV/0!"}]
[null,null,0,0,{"$error":"#DIV/0!"}]
[null,null,0,0,{"$error":"#DIV/0!"}]
[null,null,0,0,{"$error":"#DIV/0!"}]
[null,null,0,0,{"$error":"#DIV/0!"}]
[null,null,0,0,{"$error":"#DIV/0!"}]
[null,null,0,0,{"$error":"#DIV/0!"}]
[null,null,0,0,{"$error":"#DIV/0!"}]
[null,null,0,0,{"$error":"#DIV/0!"}]
[null,null,0,0,{"$error":"#DIV/0!"}]
[null,null,0,0,{"$error":"#DIV/0!"}]
[null,null,0,0,{"$error":"#DIV/0!"}]
[null,null,0,0,{"$error":"#DIV/0!"}]
[null,null,0,0,{"$error":"#DIV/0!"}]
[null,null,0,0,{"$error":"#DIV/0!"}]
[null,null,0,0,{"$error":"#DIV/0!"}]
[null,null,0,0,{"$error":"#DIV/0!"}]
[null,null,0,0,{"$error":"#DIV/0!"}]
[null,null,0,0,{"$error":"#DIV/0!"}]
[null,null,0,0,{"$error":"#DIV/0!"}]
[null,null,0,0,{"$error":"#DIV/0!"}]
[null,null,0,0,{"$error":"#DIV/0!"}]
[null,null,0,0,{"$error":"#DIV/0!"}]
[null,null,0,0,{"$error":"#DIV/0!"}]
[null,null,0,0,{"$error":"#DIV/0!"}]
[null,null,0,0,{"$error":"#DIV/0!"}]
[null,null,0,0,{"$error":"#DIV/0!"}]
[null,null,0,0,{"$error":"#DIV/0!"}]
[null,null,0,0,{"$error":"#DIV/0!"}]
[null,null,0,0,{"$error":"#DIV/0!"}]
[null,null,0,0,{"$error":"#DIV/0!"}]
[null,null,0,0,{"$error":"#DIV/0!"}]
[null,null,0,0,{"$error":"#DIV/0!"}]
[null,null,0,0,{"$error":"#DIV/0!"}]
[null,null,0,0,{"$error":"#DIV/0!"}]
[null,null,0,0,{"$error":"#DIV/0!"}]
[null,null,0,0,{"$error":"#DIV/0!"}]
[null,null,0,0,{"$error":"#DIV/0!"}]
[null,null,0,0,{"$error":"#DIV/0!"}]
[null,null,0,0,{"$error":"#DIV/0!"}]
[null,null,0,0,{"$error":"#DIV/0!"}]
[null,null,0,{"$f":"IF(C7623=0,0,IF(C7623<=D7622,D7622,IF(C7623>D7622,D7622+B$2)))","v":0},{"$f":"IF(AND((D7623-D7622>0),(D7623<=C$2)),\"Controlla operazione\",0)","v":{"$error":"#DIV/0!"}}]
[null,null,{"$f":"IF(B7624>0,C7623+B7624,)","v":0},0,{"$error":"#DIV/0!"}]
[null,null,0,0,{"$error":"#DIV/0!"}]
[null,null,0,0,{"$error":"#DIV/0!"}]
[null,null,0,0,{"$error":"#DIV/0!"}]
[null,null,0,0,{"$error":"#DIV/0!"}]
[null,null,0,0,{"$error":"#DIV/0!"}]
[null,null,0,0,{"$error":"#DIV/0!"}]
[null,null,0,0,{"$error":"#DIV/0!"}]
[null,null,0,0,{"$error":"#DIV/0!"}]
[null,null,0,0,{"$error":"#DIV/0!"}]
[null,null,0,0,{"$error":"#DIV/0!"}]
[null,null,0,0,{"$error":"#DIV/0!"}]
[null,null,0,0,{"$error":"#DIV/0!"}]
[null,null,0,0,{"$error":"#DIV/0!"}]
[null,null,0,0,{"$error":"#DIV/0!"}]
[null,null,0,0,{"$error":"#DIV/0!"}]
[null,null,0,0,{"$error":"#DIV/0!"}]
[null,null,0,0,{"$error":"#DIV/0!"}]
[null,null,0,0,{"$error":"#DIV/0!"}]
[null,null,0,0,{"$error":"#DIV/0!"}]
[null,null,0,0,{"$error":"#DIV/0!"}]
[null,null,0,0,{"$error":"#DIV/0!"}]
[null,null,0,0,{"$error":"#DIV/0!"}]
[null,null,0,0,{"$error":"#DIV/0!"}]
[null,null,0,0,{"$error":"#DIV/0!"}]
[null,null,0,0,{"$error":"#DIV/0!"}]
[null,null,0,0,{"$error":"#DIV/0!"}]
[null,null,0,0,{"$error":"#DIV/0!"}]
[null,null,0,0,{"$error":"#DIV/0!"}]
[null,null,0,0,{"$error":"#DIV/0!"}]
[null,null,0,0,{"$error":"#DIV/0!"}]
[null,null,0,0,{"$error":"#DIV/0!"}]
[null,null,0,0,{"$error":"#DIV/0!"}]
[null,null,0,0,{"$error":"#DIV/0!"}]
[null,null,0,0,{"$error":"#DIV/0!"}]
[null,null,0,0,{"$error":"#DIV/0!"}]
[null,null,0,0,{"$error":"#DIV/0!"}]
[null,null,0,0,{"$error":"#DIV/0!"}]
[null,null,0,0,{"$error":"#DIV/0!"}]
[null,null,0,0,{"$error":"#DIV/0!"}]
[null,null,0,0,{"$error":"#DIV/0!"}]
[null,null,0,0,{"$error":"#DIV/0!"}]
[null,null,0,0,{"$error":"#DIV/0!"}]
[null,null,0,0,{"$error":"#DIV/0!"}]
[null,null,0,0,{"$error":"#DIV/0!"}]
[null,null,0,0,{"$error":"#DIV/0!"}]
[null,null,0,0,{"$error":"#DIV/0!"}]
[null,null,0,0,{"$error":"#DIV/0!"}]
[null,null,0,0,{"$error":"#DIV/0!"}]
[null,null,0,0,{"$error":"#DIV/0!"}]
[null,null,0,0,{"$error":"#DIV/0!"}]
[null,null,0,0,{"$error":"#DIV/0!"}]
[null,null,0,0,{"$error":"#DIV/0!"}]
[null,null,0,0,{"$error":"#DIV/0!"}]
[null,null,0,0,{"$error":"#DIV/0!"}]
[null,null,0,0,{"$error":"#DIV/0!"}]
[null,null,0,0,{"$error":"#DIV/0!"}]
[null,null,0,0,{"$error":"#DIV/0!"}]
[null,null,0,0,{"$error":"#DIV/0!"}]
[null,null,0,0,{"$error":"#DIV/0!"}]
[null,null,0,0,{"$error":"#DIV/0!"}]
[null,null,0,0,{"$error":"#DIV/0!"}]
[null,null,0,0,{"$error":"#DIV/0!"}]
[null,null,0,{"$f":"IF(C7687=0,0,IF(C7687<=D7686,D7686,IF(C7687>D7686,D7686+B$2)))","v":0},{"$f":"IF(AND((D7687-D7686>0),(D7687<=C$2)),\"Controlla operazione\",0)","v":{"$error":"#DIV/0!"}}]
[null,null,{"$f":"IF(B7688>0,C7687+B7688,)","v":0},0,{"$error":"#DIV/0!"}]
[null,null,0,0,{"$error":"#DIV/0!"}]
[null,null,0,0,{"$error":"#DIV/0!"}]
[null,null,0,0,{"$error":"#DIV/0!"}]
[null,null,0,0,{"$error":"#DIV/0!"}]
[null,null,0,0,{"$error":"#DIV/0!"}]
[null,null,0,0,{"$error":"#DIV/0!"}]
[null,null,0,0,{"$error":"#DIV/0!"}]
[null,null,0,0,{"$error":"#DIV/0!"}]
[null,null,0,0,{"$error":"#DIV/0!"}]
[null,null,0,0,{"$error":"#DIV/0!"}]
[null,null,0,0,{"$error":"#DIV/0!"}]
[null,null,0,0,{"$error":"#DIV/0!"}]
[null,null,0,0,{"$error":"#DIV/0!"}]
[null,null,0,0,{"$error":"#DIV/0!"}]
[null,null,0,0,{"$error":"#DIV/0!"}]
[null,null,0,0,{"$error":"#DIV/0!"}]
[null,null,0,0,{"$error":"#DIV/0!"}]
[null,null,0,0,{"$error":"#DIV/0!"}]
[null,null,0,0,{"$error":"#DIV/0!"}]
[null,null,0,0,{"$error":"#DIV/0!"}]
[null,null,0,0,{"$error":"#DIV/0!"}]
[null,null,0,0,{"$error":"#DIV/0!"}]
[null,null,0,0,{"$error":"#DIV/0!"}]
[null,null,0,0,{"$error":"#DIV/0!"}]
[null,null,0,0,{"$error":"#DIV/0!"}]
[null,null,0,0,{"$error":"#DIV/0!"}]
[null,null,0,0,{"$error":"#DIV/0!"}]
[null,null,0,0,{"$error":"#DIV/0!"}]
[null,null,0,0,{"$error":"#DIV/0!"}]
[null,null,0,0,{"$error":"#DIV/0!"}]
[null,null,0,0,{"$error":"#DIV/0!"}]
[null,null,0,0,{"$error":"#DIV/0!"}]
[null,null,0,0,{"$error":"#DIV/0!"}]
[null,null,0,0,{"$error":"#DIV/0!"}]
[null,null,0,0,{"$error":"#DIV/0!"}]
[null,null,0,0,{"$error":"#DIV/0!"}]
[null,null,0,0,{"$error":"#DIV/0!"}]
[null,null,0,0,{"$error":"#DIV/0!"}]
[null,null,0,0,{"$error":"#DIV/0!"}]
[null,null,0,0,{"$error":"#DIV/0!"}]
[null,null,0,0,{"$error":"#DIV/0!"}]
[null,null,0,0,{"$error":"#DIV/0!"}]
[null,null,0,0,{"$error":"#DIV/0!"}]
[null,null,0,0,{"$error":"#DIV/0!"}]
[null,null,0,0,{"$error":"#DIV/0!"}]
[null,null,0,0,{"$error":"#DIV/0!"}]
[null,null,0,0,{"$error":"#DIV/0!"}]
[null,null,0,0,{"$error":"#DIV/0!"}]
[null,null,0,0,{"$error":"#DIV/0!"}]
[null,null,0,0,{"$error":"#DIV/0!"}]
[null,null,0,0,{"$error":"#DIV/0!"}]
[null,null,0,0,{"$error":"#DIV/0!"}]
[null,null,0,0,{"$error":"#DIV/0!"}]
[null,null,0,0,{"$error":"#DIV/0!"}]
[null,null,0,0,{"$error":"#DIV/0!"}]
[null,null,0,0,{"$error":"#DIV/0!"}]
[null,null,0,0,{"$error":"#DIV/0!"}]
[null,null,0,0,{"$error":"#DIV/0!"}]
[null,null,0,0,{"$error":"#DIV/0!"}]
[null,null,0,0,{"$error":"#DIV/0!"}]
[null,null,0,0,{"$error":"#DIV/0!"}]
[null,null,0,0,{"$error":"#DIV/0!"}]
[null,null,0,{"$f":"IF(C7751=0,0,IF(C7751<=D7750,D7750,IF(C7751>D7750,D7750+B$2)))","v":0},{"$f":"IF(AND((D7751-D7750>0),(D7751<=C$2)),\"Controlla operazione\",0)","v":{"$error":"#DIV/0!"}}]
[null,null,{"$f":"IF(B7752>0,C7751+B7752,)","v":0},0,{"$error":"#DIV/0!"}]
[null,null,0,0,{"$error":"#DIV/0!"}]
[null,null,0,0,{"$error":"#DIV/0!"}]
[null,null,0,0,{"$error":"#DIV/0!"}]
[null,null,0,0,{"$error":"#DIV/0!"}]
[null,null,0,0,{"$error":"#DIV/0!"}]
[null,null,0,0,{"$error":"#DIV/0!"}]
[null,null,0,0,{"$error":"#DIV/0!"}]
[null,null,0,0,{"$error":"#DIV/0!"}]
[null,null,0,0,{"$error":"#DIV/0!"}]
[null,null,0,0,{"$error":"#DIV/0!"}]
[null,null,0,0,{"$error":"#DIV/0!"}]
[null,null,0,0,{"$error":"#DIV/0!"}]
[null,null,0,0,{"$error":"#DIV/0!"}]
[null,null,0,0,{"$error":"#DIV/0!"}]
[null,null,0,0,{"$error":"#DIV/0!"}]
[null,null,0,0,{"$error":"#DIV/0!"}]
[null,null,0,0,{"$error":"#DIV/0!"}]
[null,null,0,0,{"$error":"#DIV/0!"}]
[null,null,0,0,{"$error":"#DIV/0!"}]
[null,null,0,0,{"$error":"#DIV/0!"}]
[null,null,0,0,{"$error":"#DIV/0!"}]
[null,null,0,0,{"$error":"#DIV/0!"}]
[null,null,0,0,{"$error":"#DIV/0!"}]
[null,null,0,0,{"$error":"#DIV/0!"}]
[null,null,0,0,{"$error":"#DIV/0!"}]
[null,null,0,0,{"$error":"#DIV/0!"}]
[null,null,0,0,{"$error":"#DIV/0!"}]
[null,null,0,0,{"$error":"#DIV/0!"}]
[null,null,0,0,{"$error":"#DIV/0!"}]
[null,null,0,0,{"$error":"#DIV/0!"}]
[null,null,0,0,{"$error":"#DIV/0!"}]
[null,null,0,0,{"$error":"#DIV/0!"}]
[null,null,0,0,{"$error":"#DIV/0!"}]
[null,null,0,0,{"$error":"#DIV/0!"}]
[null,null,0,0,{"$error":"#DIV/0!"}]
[null,null,0,0,{"$error":"#DIV/0!"}]
[null,null,0,0,{"$error":"#DIV/0!"}]
[null,null,0,0,{"$error":"#DIV/0!"}]
[null,null,0,0,{"$error":"#DIV/0!"}]
[null,null,0,0,{"$error":"#DIV/0!"}]
[null,null,0,0,{"$error":"#DIV/0!"}]
[null,null,0,0,{"$error":"#DIV/0!"}]
[null,null,0,0,{"$error":"#DIV/0!"}]
[null,null,0,0,{"$error":"#DIV/0!"}]
[null,null,0,0,{"$error":"#DIV/0!"}]
[null,null,0,0,{"$error":"#DIV/0!"}]
[null,null,0,0,{"$error":"#DIV/0!"}]
[null,null,0,0,{"$error":"#DIV/0!"}]
[null,null,0,0,{"$error":"#DIV/0!"}]
[null,null,0,0,{"$error":"#DIV/0!"}]
[null,null,0,0,{"$error":"#DIV/0!"}]
[null,null,0,0,{"$error":"#DIV/0!"}]
[null,null,0,0,{"$error":"#DIV/0!"}]
[null,null,0,0,{"$error":"#DIV/0!"}]
[null,null,0,0,{"$error":"#DIV/0!"}]
[null,null,0,0,{"$error":"#DIV/0!"}]
[null,null,0,0,{"$error":"#DIV/0!"}]
[null,null,0,0,{"$error":"#DIV/0!"}]
[null,null,0,0,{"$error":"#DIV/0!"}]
[null,null,0,0,{"$error":"#DIV/0!"}]
[null,null,0,0,{"$error":"#DIV/0!"}]
[null,null,0,0,{"$error":"#DIV/0!"}]
[null,null,0,{"$f":"IF(C7815=0,0,IF(C7815<=D7814,D7814,IF(C7815>D7814,D7814+B$2)))","v":0},{"$f":"IF(AND((D7815-D7814>0),(D7815<=C$2)),\"Controlla operazione\",0)","v":{"$error":"#DIV/0!"}}]
[null,null,{"$f":"IF(B7816>0,C7815+B7816,)","v":0},0,{"$error":"#DIV/0!"}]
[null,null,0,0,{"$error":"#DIV/0!"}]
[null,null,0,0,{"$error":"#DIV/0!"}]
[null,null,0,0,{"$error":"#DIV/0!"}]
[null,null,0,0,{"$error":"#DIV/0!"}]
[null,null,0,0,{"$error":"#DIV/0!"}]
[null,null,0,0,{"$error":"#DIV/0!"}]
[null,null,0,0,{"$error":"#DIV/0!"}]
[null,null,0,0,{"$error":"#DIV/0!"}]
[null,null,0,0,{"$error":"#DIV/0!"}]
[null,null,0,0,{"$error":"#DIV/0!"}]
[null,null,0,0,{"$error":"#DIV/0!"}]
[null,null,0,0,{"$error":"#DIV/0!"}]
[null,null,0,0,{"$error":"#DIV/0!"}]
[null,null,0,0,{"$error":"#DIV/0!"}]
[null,null,0,0,{"$error":"#DIV/0!"}]
[null,null,0,0,{"$error":"#DIV/0!"}]
[null,null,0,0,{"$error":"#DIV/0!"}]
[null,null,0,0,{"$error":"#DIV/0!"}]
[null,null,0,0,{"$error":"#DIV/0!"}]
[null,null,0,0,{"$error":"#DIV/0!"}]
[null,null,0,0,{"$error":"#DIV/0!"}]
[null,null,0,0,{"$error":"#DIV/0!"}]
[null,null,0,0,{"$error":"#DIV/0!"}]
[null,null,0,0,{"$error":"#DIV/0!"}]
[null,null,0,0,{"$error":"#DIV/0!"}]
[null,null,0,0,{"$error":"#DIV/0!"}]
[null,null,0,0,{"$error":"#DIV/0!"}]
[null,null,0,0,{"$error":"#DIV/0!"}]
[null,null,0,0,{"$error":"#DIV/0!"}]
[null,null,0,0,{"$error":"#DIV/0!"}]
[null,null,0,0,{"$error":"#DIV/0!"}]
[null,null,0,0,{"$error":"#DIV/0!"}]
[null,null,0,0,{"$error":"#DIV/0!"}]
[null,null,0,0,{"$error":"#DIV/0!"}]
[null,null,0,0,{"$error":"#DIV/0!"}]
[null,null,0,0,{"$error":"#DIV/0!"}]
[null,null,0,0,{"$error":"#DIV/0!"}]
[null,null,0,0,{"$error":"#DIV/0!"}]
[null,null,0,0,{"$error":"#DIV/0!"}]
[null,null,0,0,{"$error":"#DIV/0!"}]
[null,null,0,0,{"$error":"#DIV/0!"}]
[null,null,0,0,{"$error":"#DIV/0!"}]
[null,null,0,0,{"$error":"#DIV/0!"}]
[null,null,0,0,{"$error":"#DIV/0!"}]
[null,null,0,0,{"$error":"#DIV/0!"}]
[null,null,0,0,{"$error":"#DIV/0!"}]
[null,null,0,0,{"$error":"#DIV/0!"}]
[null,null,0,0,{"$error":"#DIV/0!"}]
[null,null,0,0,{"$error":"#DIV/0!"}]
[null,null,0,0,{"$error":"#DIV/0!"}]
[null,null,0,0,{"$error":"#DIV/0!"}]
[null,null,0,0,{"$error":"#DIV/0!"}]
[null,null,0,0,{"$error":"#DIV/0!"}]
[null,null,0,0,{"$error":"#DIV/0!"}]
[null,null,0,0,{"$error":"#DIV/0!"}]
[null,null,0,0,{"$error":"#DIV/0!"}]
[null,null,0,0,{"$error":"#DIV/0!"}]
[null,null,0,0,{"$error":"#DIV/0!"}]
[null,null,0,0,{"$error":"#DIV/0!"}]
[null,null,0,0,{"$error":"#DIV/0!"}]
[null,null,0,0,{"$error":"#DIV/0!"}]
[null,null,0,0,{"$error":"#DIV/0!"}]
[null,null,0,{"$f":"IF(C7879=0,0,IF(C7879<=D7878,D7878,IF(C7879>D7878,D7878+B$2)))","v":0},{"$f":"IF(AND((D7879-D7878>0),(D7879<=C$2)),\"Controlla operazione\",0)","v":{"$error":"#DIV/0!"}}]
[null,null,{"$f":"IF(B7880>0,C7879+B7880,)","v":0},0,{"$error":"#DIV/0!"}]
[null,null,0,0,{"$error":"#DIV/0!"}]
[null,null,0,0,{"$error":"#DIV/0!"}]
[null,null,0,0,{"$error":"#DIV/0!"}]
[null,null,0,0,{"$error":"#DIV/0!"}]
[null,null,0,0,{"$error":"#DIV/0!"}]
[null,null,0,0,{"$error":"#DIV/0!"}]
[null,null,0,0,{"$error":"#DIV/0!"}]
[null,null,0,0,{"$error":"#DIV/0!"}]
[null,null,0,0,{"$error":"#DIV/0!"}]
[null,null,0,0,{"$error":"#DIV/0!"}]
[null,null,0,0,{"$error":"#DIV/0!"}]
[null,null,0,0,{"$error":"#DIV/0!"}]
[null,null,0,0,{"$error":"#DIV/0!"}]
[null,null,0,0,{"$error":"#DIV/0!"}]
[null,null,0,0,{"$error":"#DIV/0!"}]
[null,null,0,0,{"$error":"#DIV/0!"}]
[null,null,0,0,{"$error":"#DIV/0!"}]
[null,null,0,0,{"$error":"#DIV/0!"}]
[null,null,0,0,{"$error":"#DIV/0!"}]
[null,null,0,0,{"$error":"#DIV/0!"}]
[null,null,0,0,{"$error":"#DIV/0!"}]
[null,null,0,0,{"$error":"#DIV/0!"}]
[null,null,0,0,{"$error":"#DIV/0!"}]
[null,null,0,0,{"$error":"#DIV/0!"}]
[null,null,0,0,{"$error":"#DIV/0!"}]
[null,null,0,0,{"$error":"#DIV/0!"}]
[null,null,0,0,{"$error":"#DIV/0!"}]
[null,null,0,0,{"$error":"#DIV/0!"}]
[null,null,0,0,{"$error":"#DIV/0!"}]
[null,null,0,0,{"$error":"#DIV/0!"}]
[null,null,0,0,{"$error":"#DIV/0!"}]
[null,null,0,0,{"$error":"#DIV/0!"}]
[null,null,0,0,{"$error":"#DIV/0!"}]
[null,null,0,0,{"$error":"#DIV/0!"}]
[null,null,0,0,{"$error":"#DIV/0!"}]
[null,null,0,0,{"$error":"#DIV/0!"}]
[null,null,0,0,{"$error":"#DIV/0!"}]
[null,null,0,0,{"$error":"#DIV/0!"}]
[null,null,0,0,{"$error":"#DIV/0!"}]
[null,null,0,0,{"$error":"#DIV/0!"}]
[null,null,0,0,{"$error":"#DIV/0!"}]
[null,null,0,0,{"$error":"#DIV/0!"}]
[null,null,0,0,{"$error":"#DIV/0!"}]
[null,null,0,0,{"$error":"#DIV/0!"}]
[null,null,0,0,{"$error":"#DIV/0!"}]
[null,null,0,0,{"$error":"#DIV/0!"}]
[null,null,0,0,{"$error":"#DIV/0!"}]
[null,null,0,0,{"$error":"#DIV/0!"}]
[null,null,0,0,{"$error":"#DIV/0!"}]
[null,null,0,0,{"$error":"#DIV/0!"}]
[null,null,0,0,{"$error":"#DIV/0!"}]
[null,null,0,0,{"$error":"#DIV/0!"}]
[null,null,0,0,{"$error":"#DIV/0!"}]
[null,null,0,0,{"$error":"#DIV/0!"}]
[null,null,0,0,{"$error":"#DIV/0!"}]
[null,null,0,0,{"$error":"#DIV/0!"}]
[null,null,0,0,{"$error":"#DIV/0!"}]
[null,null,0,0,{"$error":"#DIV/0!"}]
[null,null,0,0,{"$error":"#DIV/0!"}]
[null,null,0,0,{"$error":"#DIV/0!"}]
[null,null,0,0,{"$error":"#DIV/0!"}]
[null,null,0,0,{"$error":"#DIV/0!"}]
[null,null,0,{"$f":"IF(C7943=0,0,IF(C7943<=D7942,D7942,IF(C7943>D7942,D7942+B$2)))","v":0},{"$f":"IF(AND((D7943-D7942>0),(D7943<=C$2)),\"Controlla operazione\",0)","v":{"$error":"#DIV/0!"}}]
[null,null,{"$f":"IF(B7944>0,C7943+B7944,)","v":0},0,{"$error":"#DIV/0!"}]
[null,null,0,0,{"$error":"#DIV/0!"}]
[null,null,0,0,{"$error":"#DIV/0!"}]
[null,null,0,0,{"$error":"#DIV/0!"}]
[null,null,0,0,{"$error":"#DIV/0!"}]
[null,null,0,0,{"$error":"#DIV/0!"}]
[null,null,0,0,{"$error":"#DIV/0!"}]
[null,null,0,0,{"$error":"#DIV/0!"}]
[null,null,0,0,{"$error":"#DIV/0!"}]
[null,null,0,0,{"$error":"#DIV/0!"}]
[null,null,0,0,{"$error":"#DIV/0!"}]
[null,null,0,0,{"$error":"#DIV/0!"}]
[null,null,0,0,{"$error":"#DIV/0!"}]
[null,null,0,0,{"$error":"#DIV/0!"}]
[null,null,0,0,{"$error":"#DIV/0!"}]
[null,null,0,0,{"$error":"#DIV/0!"}]
[null,null,0,0,{"$error":"#DIV/0!"}]
[null,null,0,0,{"$error":"#DIV/0!"}]
[null,null,0,0,{"$error":"#DIV/0!"}]
[null,null,0,0,{"$error":"#DIV/0!"}]
[null,null,0,0,{"$error":"#DIV/0!"}]
[null,null,0,0,{"$error":"#DIV/0!"}]
[null,null,0,0,{"$error":"#DIV/0!"}]
[null,null,0,0,{"$error":"#DIV/0!"}]
[null,null,0,0,{"$error":"#DIV/0!"}]
[null,null,0,0,{"$error":"#DIV/0!"}]
[null,null,0,0,{"$error":"#DIV/0!"}]
[null,null,0,0,{"$error":"#DIV/0!"}]
[null,null,0,0,{"$error":"#DIV/0!"}]
[null,null,0,0,{"$error":"#DIV/0!"}]
[null,null,0,0,{"$error":"#DIV/0!"}]
[null,null,0,0,{"$error":"#DIV/0!"}]
[null,null,0,0,{"$error":"#DIV/0!"}]
[null,null,0,0,{"$error":"#DIV/0!"}]
[null,null,0,0,{"$error":"#DIV/0!"}]
[null,null,0,0,{"$error":"#DIV/0!"}]
[null,null,0,0,{"$error":"#DIV/0!"}]
[null,null,0,0,{"$error":"#DIV/0!"}]
[null,null,0,0,{"$error":"#DIV/0!"}]
[null,null,0,0,{"$error":"#DIV/0!"}]
[null,null,0,0,{"$error":"#DIV/0!"}]
[null,null,0,0,{"$error":"#DIV/0!"}]
[null,null,0,0,{"$error":"#DIV/0!"}]
[null,null,0,0,{"$error":"#DIV/0!"}]
[null,null,0,0,{"$error":"#DIV/0!"}]
[null,null,0,0,{"$error":"#DIV/0!"}]
[null,null,0,0,{"$error":"#DIV/0!"}]
[null,null,0,0,{"$error":"#DIV/0!"}]
[null,null,0,0,{"$error":"#DIV/0!"}]
[null,null,0,0,{"$error":"#DIV/0!"}]
[null,null,0,0,{"$error":"#DIV/0!"}]
[null,null,0,0,{"$error":"#DIV/0!"}]
[null,null,0,0,{"$error":"#DIV/0!"}]
[null,null,0,0,{"$error":"#DIV/0!"}]
[null,null,0,0,{"$error":"#DIV/0!"}]
[null,null,0,0,{"$error":"#DIV/0!"}]
[null,null,0,0,{"$error":"#DIV/0!"}]
[null,null,0,0,{"$error":"#DIV/0!"}]
[null,null,0,0,{"$error":"#DIV/0!"}]
[null,null,0,0,{"$error":"#DIV/0!"}]
[null,null,0,0,{"$error":"#DIV/0!"}]
[null,null,0,0,{"$error":"#DIV/0!"}]
[null,null,0,0,{"$error":"#DIV/0!"}]
[null,null,0,{"$f":"IF(C8007=0,0,IF(C8007<=D8006,D8006,IF(C8007>D8006,D8006+B$2)))","v":0},{"$f":"IF(AND((D8007-D8006>0),(D8007<=C$2)),\"Controlla operazione\",0)","v":{"$error":"#DIV/0!"}}]
[null,null,{"$f":"IF(B8008>0,C8007+B8008,)","v":0},0,{"$error":"#DIV/0!"}]
[null,null,0,0,{"$error":"#DIV/0!"}]
[null,null,0,0,{"$error":"#DIV/0!"}]
[null,null,0,0,{"$error":"#DIV/0!"}]
[null,null,0,0,{"$error":"#DIV/0!"}]
[null,null,0,0,{"$error":"#DIV/0!"}]
[null,null,0,0,{"$error":"#DIV/0!"}]
[null,null,0,0,{"$error":"#DIV/0!"}]
[null,null,0,0,{"$error":"#DIV/0!"}]
[null,null,0,0,{"$error":"#DIV/0!"}]
[null,null,0,0,{"$error":"#DIV/0!"}]
[null,null,0,0,{"$error":"#DIV/0!"}]
[null,null,0,0,{"$error":"#DIV/0!"}]
[null,null,0,0,{"$error":"#DIV/0!"}]
[null,null,0,0,{"$error":"#DIV/0!"}]
[null,null,0,0,{"$error":"#DIV/0!"}]
[null,null,0,0,{"$error":"#DIV/0!"}]
[null,null,0,0,{"$error":"#DIV/0!"}]
[null,null,0,0,{"$error":"#DIV/0!"}]
[null,null,0,0,{"$error":"#DIV/0!"}]
[null,null,0,0,{"$error":"#DIV/0!"}]
[null,null,0,0,{"$error":"#DIV/0!"}]
[null,null,0,0,{"$error":"#DIV/0!"}]
[null,null,0,0,{"$error":"#DIV/0!"}]
[null,null,0,0,{"$error":"#DIV/0!"}]
[null,null,0,0,{"$error":"#DIV/0!"}]
[null,null,0,0,{"$error":"#DIV/0!"}]
[null,null,0,0,{"$error":"#DIV/0!"}]
[null,null,0,0,{"$error":"#DIV/0!"}]
[null,null,0,0,{"$error":"#DIV/0!"}]
[null,null,0,0,{"$error":"#DIV/0!"}]
[null,null,0,0,{"$error":"#DIV/0!"}]
[null,null,0,0,{"$error":"#DIV/0!"}]
[null,null,0,0,{"$error":"#DIV/0!"}]
[null,null,0,0,{"$error":"#DIV/0!"}]
[null,null,0,0,{"$error":"#DIV/0!"}]
[null,null,0,0,{"$error":"#DIV/0!"}]
[null,null,0,0,{"$error":"#DIV/0!"}]
[null,null,0,0,{"$error":"#DIV/0!"}]
[null,null,0,0,{"$error":"#DIV/0!"}]
[null,null,0,0,{"$error":"#DIV/0!"}]
[null,null,0,0,{"$error":"#DIV/0!"}]
[null,null,0,0,{"$error":"#DIV/0!"}]
[null,null,0,0,{"$error":"#DIV/0!"}]
[null,null,0,0,{"$error":"#DIV/0!"}]
[null,null,0,0,{"$error":"#DIV/0!"}]
[null,null,0,0,{"$error":"#DIV/0!"}]
[null,null,0,0,{"$error":"#DIV/0!"}]
[null,null,0,0,{"$error":"#DIV/0!"}]
[null,null,0,0,{"$error":"#DIV/0!"}]
[null,null,0,0,{"$error":"#DIV/0!"}]
[null,null,0,0,{"$error":"#DIV/0!"}]
[null,null,0,0,{"$error":"#DIV/0!"}]
[null,null,0,0,{"$error":"#DIV/0!"}]
[null,null,0,0,{"$error":"#DIV/0!"}]
[null,null,0,0,{"$error":"#DIV/0!"}]
[null,null,0,0,{"$error":"#DIV/0!"}]
[null,null,0,0,{"$error":"#DIV/0!"}]
[null,null,0,0,{"$error":"#DIV/0!"}]
[null,null,0,0,{"$error":"#DIV/0!"}]
[null,null,0,0,{"$error":"#DIV/0!"}]
[null,null,0,0,{"$error":"#DIV/0!"}]
[null,null,0,0,{"$error":"#DIV/0!"}]
[null,null,0,{"$f":"IF(C8071=0,0,IF(C8071<=D8070,D8070,IF(C8071>D8070,D8070+B$2)))","v":0},{"$f":"IF(AND((D8071-D8070>0),(D8071<=C$2)),\"Controlla operazione\",0)","v":{"$error":"#DIV/0!"}}]
[null,null,{"$f":"IF(B8072>0,C8071+B8072,)","v":0},0,{"$error":"#DIV/0!"}]
[null,null,0,0,{"$error":"#DIV/0!"}]
[null,null,0,0,{"$error":"#DIV/0!"}]
[null,null,0,0,{"$error":"#DIV/0!"}]
[null,null,0,0,{"$error":"#DIV/0!"}]
[null,null,0,0,{"$error":"#DIV/0!"}]
[null,null,0,0,{"$error":"#DIV/0!"}]
[null,null,0,0,{"$error":"#DIV/0!"}]
[null,null,0,0,{"$error":"#DIV/0!"}]
[null,null,0,0,{"$error":"#DIV/0!"}]
[null,null,0,0,{"$error":"#DIV/0!"}]
[null,null,0,0,{"$error":"#DIV/0!"}]
[null,null,0,0,{"$error":"#DIV/0!"}]
[null,null,0,0,{"$error":"#DIV/0!"}]
[null,null,0,0,{"$error":"#DIV/0!"}]
[null,null,0,0,{"$error":"#DIV/0!"}]
[null,null,0,0,{"$error":"#DIV/0!"}]
[null,null,0,0,{"$error":"#DIV/0!"}]
[null,null,0,0,{"$error":"#DIV/0!"}]
[null,null,0,0,{"$error":"#DIV/0!"}]
[null,null,0,0,{"$error":"#DIV/0!"}]
[null,null,0,0,{"$error":"#DIV/0!"}]
[null,null,0,0,{"$error":"#DIV/0!"}]
[null,null,0,0,{"$error":"#DIV/0!"}]
[null,null,0,0,{"$error":"#DIV/0!"}]
[null,null,0,0,{"$error":"#DIV/0!"}]
[null,null,0,0,{"$error":"#DIV/0!"}]
[null,null,0,0,{"$error":"#DIV/0!"}]
[null,null,0,0,{"$error":"#DIV/0!"}]
[null,null,0,0,{"$error":"#DIV/0!"}]
[null,null,0,0,{"$error":"#DIV/0!"}]
[null,null,0,0,{"$error":"#DIV/0!"}]
[null,null,0,0,{"$error":"#DIV/0!"}]
[null,null,0,0,{"$error":"#DIV/0!"}]
[null,null,0,0,{"$error":"#DIV/0!"}]
[null,null,0,0,{"$error":"#DIV/0!"}]
[null,null,0,0,{"$error":"#DIV/0!"}]
[null,null,0,0,{"$error":"#DIV/0!"}]
[null,null,0,0,{"$error":"#DIV/0!"}]
[null,null,0,0,{"$error":"#DIV/0!"}]
[null,null,0,0,{"$error":"#DIV/0!"}]
[null,null,0,0,{"$error":"#DIV/0!"}]
[null,null,0,0,{"$error":"#DIV/0!"}]
[null,null,0,0,{"$error":"#DIV/0!"}]
[null,null,0,0,{"$error":"#DIV/0!"}]
[null,null,0,0,{"$error":"#DIV/0!"}]
[null,null,0,0,{"$error":"#DIV/0!"}]
[null,null,0,0,{"$error":"#DIV/0!"}]
[null,null,0,0,{"$error":"#DIV/0!"}]
[null,null,0,0,{"$error":"#DIV/0!"}]
[null,null,0,0,{"$error":"#DIV/0!"}]
[null,null,0,0,{"$error":"#DIV/0!"}]
[null,null,0,0,{"$error":"#DIV/0!"}]
[null,null,0,0,{"$error":"#DIV/0!"}]
[null,null,0,0,{"$error":"#DIV/0!"}]
[null,null,0,0,{"$error":"#DIV/0!"}]
[null,null,0,0,{"$error":"#DIV/0!"}]
[null,null,0,0,{"$error":"#DIV/0!"}]
[null,null,0,0,{"$error":"#DIV/0!"}]
[null,null,0,0,{"$error":"#DIV/0!"}]
[null,null,0,0,{"$error":"#DIV/0!"}]
[null,null,0,0,{"$error":"#DIV/0!"}]
[null,null,0,0,{"$error":"#DIV/0!"}]
[null,null,0,{"$f":"IF(C8135=0,0,IF(C8135<=D8134,D8134,IF(C8135>D8134,D8134+B$2)))","v":0},{"$f":"IF(AND((D8135-D8134>0),(D8135<=C$2)),\"Controlla operazione\",0)","v":{"$error":"#DIV/0!"}}]
[null,null,{"$f":"IF(B8136>0,C8135+B8136,)","v":0},0,{"$error":"#DIV/0!"}]
[null,null,0,0,{"$error":"#DIV/0!"}]
[null,null,0,0,{"$error":"#DIV/0!"}]
[null,null,0,0,{"$error":"#DIV/0!"}]
[null,null,0,0,{"$error":"#DIV/0!"}]
[null,null,0,0,{"$error":"#DIV/0!"}]
[null,null,0,0,{"$error":"#DIV/0!"}]
[null,null,0,0,{"$error":"#DIV/0!"}]
[null,null,0,0,{"$error":"#DIV/0!"}]
[null,null,0,0,{"$error":"#DIV/0!"}]
[null,null,0,0,{"$error":"#DIV/0!"}]
[null,null,0,0,{"$error":"#DIV/0!"}]
[null,null,0,0,{"$error":"#DIV/0!"}]
[null,null,0,0,{"$error":"#DIV/0!"}]
[null,null,0,0,{"$error":"#DIV/0!"}]
[null,null,0,0,{"$error":"#DIV/0!"}]
[null,null,0,0,{"$error":"#DIV/0!"}]
[null,null,0,0,{"$error":"#DIV/0!"}]
[null,null,0,0,{"$error":"#DIV/0!"}]
[null,null,0,0,{"$error":"#DIV/0!"}]
[null,null,0,0,{"$error":"#DIV/0!"}]
[null,null,0,0,{"$error":"#DIV/0!"}]
[null,null,0,0,{"$error":"#DIV/0!"}]
[null,null,0,0,{"$error":"#DIV/0!"}]
[null,null,0,0,{"$error":"#DIV/0!"}]
[null,null,0,0,{"$error":"#DIV/0!"}]
[null,null,0,0,{"$error":"#DIV/0!"}]
[null,null,0,0,{"$error":"#DIV/0!"}]
[null,null,0,0,{"$error":"#DIV/0!"}]
[null,null,0,0,{"$error":"#DIV/0!"}]
[null,null,0,0,{"$error":"#DIV/0!"}]
[null,null,0,0,{"$error":"#DIV/0!"}]
[null,null,0,0,{"$error":"#DIV/0!"}]
[null,null,0,0,{"$error":"#DIV/0!"}]
[null,null,0,0,{"$error":"#DIV/0!"}]
[null,null,0,0,{"$error":"#DIV/0!"}]
[null,null,0,0,{"$error":"#DIV/0!"}]
[null,null,0,0,{"$error":"#DIV/0!"}]
[null,null,0,0,{"$error":"#DIV/0!"}]
[null,null,0,0,{"$error":"#DIV/0!"}]
[null,null,0,0,{"$error":"#DIV/0!"}]
[null,null,0,0,{"$error":"#DIV/0!"}]
[null,null,0,0,{"$error":"#DIV/0!"}]
[null,null,0,0,{"$error":"#DIV/0!"}]
[null,null,0,0,{"$error":"#DIV/0!"}]
[null,null,0,0,{"$error":"#DIV/0!"}]
[null,null,0,0,{"$error":"#DIV/0!"}]
[null,null,0,0,{"$error":"#DIV/0!"}]
[null,null,0,0,{"$error":"#DIV/0!"}]
[null,null,0,0,{"$error":"#DIV/0!"}]
[null,null,0,0,{"$error":"#DIV/0!"}]
[null,null,0,0,{"$error":"#DIV/0!"}]
[null,null,0,0,{"$error":"#DIV/0!"}]
[null,null,0,0,{"$error":"#DIV/0!"}]
[null,null,0,0,{"$error":"#DIV/0!"}]
[null,null,0,0,{"$error":"#DIV/0!"}]
[null,null,0,0,{"$error":"#DIV/0!"}]
[null,null,0,0,{"$error":"#DIV/0!"}]
[null,null,0,0,{"$error":"#DIV/0!"}]
[null,null,0,0,{"$error":"#DIV/0!"}]
[null,null,0,0,{"$error":"#DIV/0!"}]
[null,null,0,0,{"$error":"#DIV/0!"}]
[null,null,0,0,{"$error":"#DIV/0!"}]
[null,null,0,{"$f":"IF(C8199=0,0,IF(C8199<=D8198,D8198,IF(C8199>D8198,D8198+B$2)))","v":0},{"$f":"IF(AND((D8199-D8198>0),(D8199<=C$2)),\"Controlla operazione\",0)","v":{"$error":"#DIV/0!"}}]
[null,null,{"$f":"IF(B8200>0,C8199+B8200,)","v":0},0,{"$error":"#DIV/0!"}]
[null,null,0,0,{"$error":"#DIV/0!"}]
[null,null,0,0,{"$error":"#DIV/0!"}]
[null,null,0,0,{"$error":"#DIV/0!"}]
[null,null,0,0,{"$error":"#DIV/0!"}]
[null,null,0,0,{"$error":"#DIV/0!"}]
[null,null,0,0,{"$error":"#DIV/0!"}]
[null,null,0,0,{"$error":"#DIV/0!"}]
[null,null,0,0,{"$error":"#DIV/0!"}]
[null,null,0,0,{"$error":"#DIV/0!"}]
[null,null,0,0,{"$error":"#DIV/0!"}]
[null,null,0,0,{"$error":"#DIV/0!"}]
[null,null,0,0,{"$error":"#DIV/0!"}]
[null,null,0,0,{"$error":"#DIV/0!"}]
[null,null,0,0,{"$error":"#DIV/0!"}]
[null,null,0,0,{"$error":"#DIV/0!"}]
[null,null,0,0,{"$error":"#DIV/0!"}]
[null,null,0,0,{"$error":"#DIV/0!"}]
[null,null,0,0,{"$error":"#DIV/0!"}]
[null,null,0,0,{"$error":"#DIV/0!"}]
[null,null,0,0,{"$error":"#DIV/0!"}]
[null,null,0,0,{"$error":"#DIV/0!"}]
[null,null,0,0,{"$error":"#DIV/0!"}]
[null,null,0,0,{"$error":"#DIV/0!"}]
[null,null,0,0,{"$error":"#DIV/0!"}]
[null,null,0,0,{"$error":"#DIV/0!"}]
[null,null,0,0,{"$error":"#DIV/0!"}]
[null,null,0,0,{"$error":"#DIV/0!"}]
[null,null,0,0,{"$error":"#DIV/0!"}]
[null,null,0,0,{"$error":"#DIV/0!"}]
[null,null,0,0,{"$error":"#DIV/0!"}]
[null,null,0,0,{"$error":"#DIV/0!"}]
[null,null,0,0,{"$error":"#DIV/0!"}]
[null,null,0,0,{"$error":"#DIV/0!"}]
[null,null,0,0,{"$error":"#DIV/0!"}]
[null,null,0,0,{"$error":"#DIV/0!"}]
[null,null,0,0,{"$error":"#DIV/0!"}]
[null,null,0,0,{"$error":"#DIV/0!"}]
[null,null,0,0,{"$error":"#DIV/0!"}]
[null,null,0,0,{"$error":"#DIV/0!"}]
[null,null,0,0,{"$error":"#DIV/0!"}]
[null,null,0,0,{"$error":"#DIV/0!"}]
[null,null,0,0,{"$error":"#DIV/0!"}]
[null,null,0,0,{"$error":"#DIV/0!"}]
[null,null,0,0,{"$error":"#DIV/0!"}]
[null,null,0,0,{"$error":"#DIV/0!"}]
[null,null,0,0,{"$error":"#DIV/0!"}]
[null,null,0,0,{"$error":"#DIV/0!"}]
[null,null,0,0,{"$error":"#DIV/0!"}]
[null,null,0,0,{"$error":"#DIV/0!"}]
[null,null,0,0,{"$error":"#DIV/0!"}]
[null,null,0,0,{"$error":"#DIV/0!"}]
[null,null,0,0,{"$error":"#DIV/0!"}]
[null,null,0,0,{"$error":"#DIV/0!"}]
[null,null,0,0,{"$error":"#DIV/0!"}]
[null,null,0,0,{"$error":"#DIV/0!"}]
[null,null,0,0,{"$error":"#DIV/0!"}]
[null,null,0,0,{"$error":"#DIV/0!"}]
[null,null,0,0,{"$error":"#DIV/0!"}]
[null,null,0,0,{"$error":"#DIV/0!"}]
[null,null,0,0,{"$error":"#DIV/0!"}]
[null,null,0,0,{"$error":"#DIV/0!"}]
[null,null,0,0,{"$error":"#DIV/0!"}]
[null,null,0,{"$f":"IF(C8263=0,0,IF(C8263<=D8262,D8262,IF(C8263>D8262,D8262+B$2)))","v":0},{"$f":"IF(AND((D8263-D8262>0),(D8263<=C$2)),\"Controlla operazione\",0)","v":{"$error":"#DIV/0!"}}]
[null,null,{"$f":"IF(B8264>0,C8263+B8264,)","v":0},0,{"$error":"#DIV/0!"}]
[null,null,0,0,{"$error":"#DIV/0!"}]
[null,null,0,0,{"$error":"#DIV/0!"}]
[null,null,0,0,{"$error":"#DIV/0!"}]
[null,null,0,0,{"$error":"#DIV/0!"}]
[null,null,0,0,{"$error":"#DIV/0!"}]
[null,null,0,0,{"$error":"#DIV/0!"}]
[null,null,0,0,{"$error":"#DIV/0!"}]
[null,null,0,0,{"$error":"#DIV/0!"}]
[null,null,0,0,{"$error":"#DIV/0!"}]
[null,null,0,0,{"$error":"#DIV/0!"}]
[null,null,0,0,{"$error":"#DIV/0!"}]
[null,null,0,0,{"$error":"#DIV/0!"}]
[null,null,0,0,{"$error":"#DIV/0!"}]
[null,null,0,0,{"$error":"#DIV/0!"}]
[null,null,0,0,{"$error":"#DIV/0!"}]
[null,null,0,0,{"$error":"#DIV/0!"}]
[null,null,0,0,{"$error":"#DIV/0!"}]
[null,null,0,0,{"$error":"#DIV/0!"}]
[null,null,0,0,{"$error":"#DIV/0!"}]
[null,null,0,0,{"$error":"#DIV/0!"}]
[null,null,0,0,{"$error":"#DIV/0!"}]
[null,null,0,0,{"$error":"#DIV/0!"}]
[null,null,0,0,{"$error":"#DIV/0!"}]
[null,null,0,0,{"$error":"#DIV/0!"}]
[null,null,0,0,{"$error":"#DIV/0!"}]
[null,null,0,0,{"$error":"#DIV/0!"}]
[null,null,0,0,{"$error":"#DIV/0!"}]
[null,null,0,0,{"$error":"#DIV/0!"}]
[null,null,0,0,{"$error":"#DIV/0!"}]
[null,null,0,0,{"$error":"#DIV/0!"}]
[null,null,0,0,{"$error":"#DIV/0!"}]
[null,null,0,0,{"$error":"#DIV/0!"}]
[null,null,0,0,{"$error":"#DIV/0!"}]
[null,null,0,0,{"$error":"#DIV/0!"}]
[null,null,0,0,{"$error":"#DIV/0!"}]
[null,null,0,0,{"$error":"#DIV/0!"}]
[null,null,0,0,{"$error":"#DIV/0!"}]
[null,null,0,0,{"$error":"#DIV/0!"}]
[null,null,0,0,{"$error":"#DIV/0!"}]
[null,null,0,0,{"$error":"#DIV/0!"}]
[null,null,0,0,{"$error":"#DIV/0!"}]
[null,null,0,0,{"$error":"#DIV/0!"}]
[null,null,0,0,{"$error":"#DIV/0!"}]
[null,null,0,0,{"$error":"#DIV/0!"}]
[null,null,0,0,{"$error":"#DIV/0!"}]
[null,null,0,0,{"$error":"#DIV/0!"}]
[null,null,0,0,{"$error":"#DIV/0!"}]
[null,null,0,0,{"$error":"#DIV/0!"}]
[null,null,0,0,{"$error":"#DIV/0!"}]
[null,null,0,0,{"$error":"#DIV/0!"}]
[null,null,0,0,{"$error":"#DIV/0!"}]
[null,null,0,0,{"$error":"#DIV/0!"}]
[null,null,0,0,{"$error":"#DIV/0!"}]
[null,null,0,0,{"$error":"#DIV/0!"}]
[null,null,0,0,{"$error":"#DIV/0!"}]
[null,null,0,0,{"$error":"#DIV/0!"}]
[null,null,0,0,{"$error":"#DIV/0!"}]
[null,null,0,0,{"$error":"#DIV/0!"}]
[null,null,0,0,{"$error":"#DIV/0!"}]
[null,null,0,0,{"$error":"#DIV/0!"}]
[null,null,0,0,{"$error":"#DIV/0!"}]
[null,null,0,0,{"$error":"#DIV/0!"}]
[null,null,0,{"$f":"IF(C8327=0,0,IF(C8327<=D8326,D8326,IF(C8327>D8326,D8326+B$2)))","v":0},{"$f":"IF(AND((D8327-D8326>0),(D8327<=C$2)),\"Controlla operazione\",0)","v":{"$error":"#DIV/0!"}}]
[null,null,{"$f":"IF(B8328>0,C8327+B8328,)","v":0},0,{"$error":"#DIV/0!"}]
[null,null,0,0,{"$error":"#DIV/0!"}]
[null,null,0,0,{"$error":"#DIV/0!"}]
[null,null,0,0,{"$error":"#DIV/0!"}]
[null,null,0,0,{"$error":"#DIV/0!"}]
[null,null,0,0,{"$error":"#DIV/0!"}]
[null,null,0,0,{"$error":"#DIV/0!"}]
[null,null,0,0,{"$error":"#DIV/0!"}]
[null,null,0,0,{"$error":"#DIV/0!"}]
[null,null,0,0,{"$error":"#DIV/0!"}]
[null,null,0,0,{"$error":"#DIV/0!"}]
[null,null,0,0,{"$error":"#DIV/0!"}]
[null,null,0,0,{"$error":"#DIV/0!"}]
[null,null,0,0,{"$error":"#DIV/0!"}]
[null,null,0,0,{"$error":"#DIV/0!"}]
[null,null,0,0,{"$error":"#DIV/0!"}]
[null,null,0,0,{"$error":"#DIV/0!"}]
[null,null,0,0,{"$error":"#DIV/0!"}]
[null,null,0,0,{"$error":"#DIV/0!"}]
[null,null,0,0,{"$error":"#DIV/0!"}]
[null,null,0,0,{"$error":"#DIV/0!"}]
[null,null,0,0,{"$error":"#DIV/0!"}]
[null,null,0,0,{"$error":"#DIV/0!"}]
[null,null,0,0,{"$error":"#DIV/0!"}]
[null,null,0,0,{"$error":"#DIV/0!"}]
[null,null,0,0,{"$error":"#DIV/0!"}]
[null,null,0,0,{"$error":"#DIV/0!"}]
[null,null,0,0,{"$error":"#DIV/0!"}]
[null,null,0,0,{"$error":"#DIV/0!"}]
[null,null,0,0,{"$error":"#DIV/0!"}]
[null,null,0,0,{"$error":"#DIV/0!"}]
[null,null,0,0,{"$error":"#DIV/0!"}]
[null,null,0,0,{"$error":"#DIV/0!"}]
[null,null,0,0,{"$error":"#DIV/0!"}]
[null,null,0,0,{"$error":"#DIV/0!"}]
[null,null,0,0,{"$error":"#DIV/0!"}]
[null,null,0,0,{"$error":"#DIV/0!"}]
[null,null,0,0,{"$error":"#DIV/0!"}]
[null,null,0,0,{"$error":"#DIV/0!"}]
[null,null,0,0,{"$error":"#DIV/0!"}]
[null,null,0,0,{"$error":"#DIV/0!"}]
[null,null,0,0,{"$error":"#DIV/0!"}]
[null,null,0,0,{"$error":"#DIV/0!"}]
[null,null,0,0,{"$error":"#DIV/0!"}]
[null,null,0,0,{"$error":"#DIV/0!"}]
[null,null,0,0,{"$error":"#DIV/0!"}]
[null,null,0,0,{"$error":"#DIV/0!"}]
[null,null,0,0,{"$error":"#DIV/0!"}]
[null,null,0,0,{"$error":"#DIV/0!"}]
[null,null,0,0,{"$error":"#DIV/0!"}]
[null,null,0,0,{"$error":"#DIV/0!"}]
[null,null,0,0,{"$error":"#DIV/0!"}]
[null,null,0,0,{"$error":"#DIV/0!"}]
[null,null,0,0,{"$error":"#DIV/0!"}]
[null,null,0,0,{"$error":"#DIV/0!"}]
[null,null,0,0,{"$error":"#DIV/0!"}]
[null,null,0,0,{"$error":"#DIV/0!"}]
[null,null,0,0,{"$error":"#DIV/0!"}]
[null,null,0,0,{"$error":"#DIV/0!"}]
[null,null,0,0,{"$error":"#DIV/0!"}]
[null,null,0,0,{"$error":"#DIV/0!"}]
[null,null,0,0,{"$error":"#DIV/0!"}]
[null,null,0,0,{"$error":"#DIV/0!"}]
[null,null,0,{"$f":"IF(C8391=0,0,IF(C8391<=D8390,D8390,IF(C8391>D8390,D8390+B$2)))","v":0},{"$f":"IF(AND((D8391-D8390>0),(D8391<=C$2)),\"Controlla operazione\",0)","v":{"$error":"#DIV/0!"}}]
[null,null,{"$f":"IF(B8392>0,C8391+B8392,)","v":0},0,{"$error":"#DIV/0!"}]
[null,null,0,0,{"$error":"#DIV/0!"}]
[null,null,0,0,{"$error":"#DIV/0!"}]
[null,null,0,0,{"$error":"#DIV/0!"}]
[null,null,0,0,{"$error":"#DIV/0!"}]
[null,null,0,0,{"$error":"#DIV/0!"}]
[null,null,0,0,{"$error":"#DIV/0!"}]
[null,null,0,0,{"$error":"#DIV/0!"}]
[null,null,0,0,{"$error":"#DIV/0!"}]
[null,null,0,0,{"$error":"#DIV/0!"}]
[null,null,0,0,{"$error":"#DIV/0!"}]
[null,null,0,0,{"$error":"#DIV/0!"}]
[null,null,0,0,{"$error":"#DIV/0!"}]
[null,null,0,0,{"$error":"#DIV/0!"}]
[null,null,0,0,{"$error":"#DIV/0!"}]
[null,null,0,0,{"$error":"#DIV/0!"}]
[null,null,0,0,{"$error":"#DIV/0!"}]
[null,null,0,0,{"$error":"#DIV/0!"}]
[null,null,0,0,{"$error":"#DIV/0!"}]
[null,null,0,0,{"$error":"#DIV/0!"}]
[null,null,0,0,{"$error":"#DIV/0!"}]
[null,null,0,0,{"$error":"#DIV/0!"}]
[null,null,0,0,{"$error":"#DIV/0!"}]
[null,null,0,0,{"$error":"#DIV/0!"}]
[null,null,0,0,{"$error":"#DIV/0!"}]
[null,null,0,0,{"$error":"#DIV/0!"}]
[null,null,0,0,{"$error":"#DIV/0!"}]
[null,null,0,0,{"$error":"#DIV/0!"}]
[null,null,0,0,{"$error":"#DIV/0!"}]
[null,null,0,0,{"$error":"#DIV/0!"}]
[null,null,0,0,{"$error":"#DIV/0!"}]
[null,null,0,0,{"$error":"#DIV/0!"}]
[null,null,0,0,{"$error":"#DIV/0!"}]
[null,null,0,0,{"$error":"#DIV/0!"}]
[null,null,0,0,{"$error":"#DIV/0!"}]
[null,null,0,0,{"$error":"#DIV/0!"}]
[null,null,0,0,{"$error":"#DIV/0!"}]
[null,null,0,0,{"$error":"#DIV/0!"}]
[null,null,0,0,{"$error":"#DIV/0!"}]
[null,null,0,0,{"$error":"#DIV/0!"}]
[null,null,0,0,{"$error":"#DIV/0!"}]
[null,null,0,0,{"$error":"#DIV/0!"}]
[null,null,0,0,{"$error":"#DIV/0!"}]
[null,null,0,0,{"$error":"#DIV/0!"}]
[null,null,0,0,{"$error":"#DIV/0!"}]
[null,null,0,0,{"$error":"#DIV/0!"}]
[null,null,0,0,{"$error":"#DIV/0!"}]
[null,null,0,0,{"$error":"#DIV/0!"}]
[null,null,0,0,{"$error":"#DIV/0!"}]
[null,null,0,0,{"$error":"#DIV/0!"}]
[null,null,0,0,{"$error":"#DIV/0!"}]
[null,null,0,0,{"$error":"#DIV/0!"}]
[null,null,0,0,{"$error":"#DIV/0!"}]
[null,null,0,0,{"$error":"#DIV/0!"}]
[null,null,0,0,{"$error":"#DIV/0!"}]
[null,null,0,0,{"$error":"#DIV/0!"}]
[null,null,0,0,{"$error":"#DIV/0!"}]
[null,null,0,0,{"$error":"#DIV/0!"}]
[null,null,0,0,{"$error":"#DIV/0!"}]
[null,null,0,0,{"$error":"#DIV/0!"}]
[null,null,0,0,{"$error":"#DIV/0!"}]
[null,null,0,0,{"$error":"#DIV/0!"}]
[null,null,0,0,{"$error":"#DIV/0!"}]
[null,null,0,{"$f":"IF(C8455=0,0,IF(C8455<=D8454,D8454,IF(C8455>D8454,D8454+B$2)))","v":0},{"$f":"IF(AND((D8455-D8454>0),(D8455<=C$2)),\"Controlla operazione\",0)","v":{"$error":"#DIV/0!"}}]
[null,null,{"$f":"IF(B8456>0,C8455+B8456,)","v":0},0,{"$error":"#DIV/0!"}]
[null,null,0,0,{"$error":"#DIV/0!"}]
[null,null,0,0,{"$error":"#DIV/0!"}]
[null,null,0,0,{"$error":"#DIV/0!"}]
[null,null,0,0,{"$error":"#DIV/0!"}]
[null,null,0,0,{"$error":"#DIV/0!"}]
[null,null,0,0,{"$error":"#DIV/0!"}]
[null,null,0,0,{"$error":"#DIV/0!"}]
[null,null,0,0,{"$error":"#DIV/0!"}]
[null,null,0,0,{"$error":"#DIV/0!"}]
[null,null,0,0,{"$error":"#DIV/0!"}]
[null,null,0,0,{"$error":"#DIV/0!"}]
[null,null,0,0,{"$error":"#DIV/0!"}]
[null,null,0,0,{"$error":"#DIV/0!"}]
[null,null,0,0,{"$error":"#DIV/0!"}]
[null,null,0,0,{"$error":"#DIV/0!"}]
[null,null,0,0,{"$error":"#DIV/0!"}]
[null,null,0,0,{"$error":"#DIV/0!"}]
[null,null,0,0,{"$error":"#DIV/0!"}]
[null,null,0,0,{"$error":"#DIV/0!"}]
[null,null,0,0,{"$error":"#DIV/0!"}]
[null,null,0,0,{"$error":"#DIV/0!"}]
[null,null,0,0,{"$error":"#DIV/0!"}]
[null,null,0,0,{"$error":"#DIV/0!"}]
[null,null,0,0,{"$error":"#DIV/0!"}]
[null,null,0,0,{"$error":"#DIV/0!"}]
[null,null,0,0,{"$error":"#DIV/0!"}]
[null,null,0,0,{"$error":"#DIV/0!"}]
[null,null,0,0,{"$error":"#DIV/0!"}]
[null,null,0,0,{"$error":"#DIV/0!"}]
[null,null,0,0,{"$error":"#DIV/0!"}]
[null,null,0,0,{"$error":"#DIV/0!"}]
[null,null,0,0,{"$error":"#DIV/0!"}]
[null,null,0,0,{"$error":"#DIV/0!"}]
[null,null,0,0,{"$error":"#DIV/0!"}]
[null,null,0,0,{"$error":"#DIV/0!"}]
[null,null,0,0,{"$error":"#DIV/0!"}]
[null,null,0,0,{"$error":"#DIV/0!"}]
[null,null,0,0,{"$error":"#DIV/0!"}]
[null,null,0,0,{"$error":"#DIV/0!"}]
[null,null,0,0,{"$error":"#DIV/0!"}]
[null,null,0,0,{"$error":"#DIV/0!"}]
[null,null,0,0,{"$error":"#DIV/0!"}]
[null,null,0,0,{"$error":"#DIV/0!"}]
[null,null,0,0,{"$error":"#DIV/0!"}]
[null,null,0,0,{"$error":"#DIV/0!"}]
[null,null,0,0,{"$error":"#DIV/0!"}]
[null,null,0,0,{"$error":"#DIV/0!"}]
[null,null,0,0,{"$error":"#DIV/0!"}]
[null,null,0,0,{"$error":"#DIV/0!"}]
[null,null,0,0,{"$error":"#DIV/0!"}]
[null,null,0,0,{"$error":"#DIV/0!"}]
[null,null,0,0,{"$error":"#DIV/0!"}]
[null,null,0,0,{"$error":"#DIV/0!"}]
[null,null,0,0,{"$error":"#DIV/0!"}]
[null,null,0,0,{"$error":"#DIV/0!"}]
[null,null,0,0,{"$error":"#DIV/0!"}]
[null,null,0,0,{"$error":"#DIV/0!"}]
[null,null,0,0,{"$error":"#DIV/0!"}]
[null,null,0,0,{"$error":"#DIV/0!"}]
[null,null,0,0,{"$error":"#DIV/0!"}]
[null,null,0,0,{"$error":"#DIV/0!"}]
[null,null,0,0,{"$error":"#DIV/0!"}]
[null,null,0,{"$f":"IF(C8519=0,0,IF(C8519<=D8518,D8518,IF(C8519>D8518,D8518+B$2)))","v":0},{"$f":"IF(AND((D8519-D8518>0),(D8519<=C$2)),\"Controlla operazione\",0)","v":{"$error":"#DIV/0!"}}]
[null,null,{"$f":"IF(B8520>0,C8519+B8520,)","v":0},0,{"$error":"#DIV/0!"}]
[null,null,0,0,{"$error":"#DIV/0!"}]
[null,null,0,0,{"$error":"#DIV/0!"}]
[null,null,0,0,{"$error":"#DIV/0!"}]
[null,null,0,0,{"$error":"#DIV/0!"}]
[null,null,0,0,{"$error":"#DIV/0!"}]
[null,null,0,0,{"$error":"#DIV/0!"}]
[null,null,0,0,{"$error":"#DIV/0!"}]
[null,null,0,0,{"$error":"#DIV/0!"}]
[null,null,0,0,{"$error":"#DIV/0!"}]
[null,null,0,0,{"$error":"#DIV/0!"}]
[null,null,0,0,{"$error":"#DIV/0!"}]
[null,null,0,0,{"$error":"#DIV/0!"}]
[null,null,0,0,{"$error":"#DIV/0!"}]
[null,null,0,0,{"$error":"#DIV/0!"}]
[null,null,0,0,{"$error":"#DIV/0!"}]
[null,null,0,0,{"$error":"#DIV/0!"}]
[null,null,0,0,{"$error":"#DIV/0!"}]
[null,null,0,0,{"$error":"#DIV/0!"}]
[null,null,0,0,{"$error":"#DIV/0!"}]
[null,null,0,0,{"$error":"#DIV/0!"}]
[null,null,0,0,{"$error":"#DIV/0!"}]
[null,null,0,0,{"$error":"#DIV/0!"}]
[null,null,0,0,{"$error":"#DIV/0!"}]
[null,null,0,0,{"$error":"#DIV/0!"}]
[null,null,0,0,{"$error":"#DIV/0!"}]
[null,null,0,0,{"$error":"#DIV/0!"}]
[null,null,0,0,{"$error":"#DIV/0!"}]
[null,null,0,0,{"$error":"#DIV/0!"}]
[null,null,0,0,{"$error":"#DIV/0!"}]
[null,null,0,0,{"$error":"#DIV/0!"}]
[null,null,0,0,{"$error":"#DIV/0!"}]
[null,null,0,0,{"$error":"#DIV/0!"}]
[null,null,0,0,{"$error":"#DIV/0!"}]
[null,null,0,0,{"$error":"#DIV/0!"}]
[null,null,0,0,{"$error":"#DIV/0!"}]
[null,null,0,0,{"$error":"#DIV/0!"}]
[null,null,0,0,{"$error":"#DIV/0!"}]
[null,null,0,0,{"$error":"#DIV/0!"}]
[null,null,0,0,{"$error":"#DIV/0!"}]
[null,null,0,0,{"$error":"#DIV/0!"}]
[null,null,0,0,{"$error":"#DIV/0!"}]
[null,null,0,0,{"$error":"#DIV/0!"}]
[null,null,0,0,{"$error":"#DIV/0!"}]
[null,null,0,0,{"$error":"#DIV/0!"}]
[null,null,0,0,{"$error":"#DIV/0!"}]
[null,null,0,0,{"$error":"#DIV/0!"}]
[null,null,0,0,{"$error":"#DIV/0!"}]
[null,null,0,0,{"$error":"#DIV/0!"}]
[null,null,0,0,{"$error":"#DIV/0!"}]
[null,null,0,0,{"$error":"#DIV/0!"}]
[null,null,0,0,{"$error":"#DIV/0!"}]
[null,null,0,0,{"$error":"#DIV/0!"}]
[null,null,0,0,{"$error":"#DIV/0!"}]
[null,null,0,0,{"$error":"#DIV/0!"}]
[null,null,0,0,{"$error":"#DIV/0!"}]
[null,null,0,0,{"$error":"#DIV/0!"}]
[null,null,0,0,{"$error":"#DIV/0!"}]
[null,null,0,0,{"$error":"#DIV/0!"}]
[null,null,0,0,{"$error":"#DIV/0!"}]
[null,null,0,0,{"$error":"#DIV/0!"}]
[null,null,0,0,{"$error":"#DIV/0!"}]
[null,null,0,0,{"$error":"#DIV/0!"}]
[null,null,0,{"$f":"IF(C8583=0,0,IF(C8583<=D8582,D8582,IF(C8583>D8582,D8582+B$2)))","v":0},{"$f":"IF(AND((D8583-D8582>0),(D8583<=C$2)),\"Controlla operazione\",0)","v":{"$error":"#DIV/0!"}}]
[null,null,{"$f":"IF(B8584>0,C8583+B8584,)","v":0},0,{"$error":"#DIV/0!"}]
[null,null,0,0,{"$error":"#DIV/0!"}]
[null,null,0,0,{"$error":"#DIV/0!"}]
[null,null,0,0,{"$error":"#DIV/0!"}]
[null,null,0,0,{"$error":"#DIV/0!"}]
[null,null,0,0,{"$error":"#DIV/0!"}]
[null,null,0,0,{"$error":"#DIV/0!"}]
[null,null,0,0,{"$error":"#DIV/0!"}]
[null,null,0,0,{"$error":"#DIV/0!"}]
[null,null,0,0,{"$error":"#DIV/0!"}]
[null,null,0,0,{"$error":"#DIV/0!"}]
[null,null,0,0,{"$error":"#DIV/0!"}]
[null,null,0,0,{"$error":"#DIV/0!"}]
[null,null,0,0,{"$error":"#DIV/0!"}]
[null,null,0,0,{"$error":"#DIV/0!"}]
[null,null,0,0,{"$error":"#DIV/0!"}]
[null,null,0,0,{"$error":"#DIV/0!"}]
[null,null,0,0,{"$error":"#DIV/0!"}]
[null,null,0,0,{"$error":"#DIV/0!"}]
[null,null,0,0,{"$error":"#DIV/0!"}]
[null,null,0,0,{"$error":"#DIV/0!"}]
[null,null,0,0,{"$error":"#DIV/0!"}]
[null,null,0,0,{"$error":"#DIV/0!"}]
[null,null,0,0,{"$error":"#DIV/0!"}]
[null,null,0,0,{"$error":"#DIV/0!"}]
[null,null,0,0,{"$error":"#DIV/0!"}]
[null,null,0,0,{"$error":"#DIV/0!"}]
[null,null,0,0,{"$error":"#DIV/0!"}]
[null,null,0,0,{"$error":"#DIV/0!"}]
[null,null,0,0,{"$error":"#DIV/0!"}]
[null,null,0,0,{"$error":"#DIV/0!"}]
[null,null,0,0,{"$error":"#DIV/0!"}]
[null,null,0,0,{"$error":"#DIV/0!"}]
[null,null,0,0,{"$error":"#DIV/0!"}]
[null,null,0,0,{"$error":"#DIV/0!"}]
[null,null,0,0,{"$error":"#DIV/0!"}]
[null,null,0,0,{"$error":"#DIV/0!"}]
[null,null,0,0,{"$error":"#DIV/0!"}]
[null,null,0,0,{"$error":"#DIV/0!"}]
[null,null,0,0,{"$error":"#DIV/0!"}]
[null,null,0,0,{"$error":"#DIV/0!"}]
[null,null,0,0,{"$error":"#DIV/0!"}]
[null,null,0,0,{"$error":"#DIV/0!"}]
[null,null,0,0,{"$error":"#DIV/0!"}]
[null,null,0,0,{"$error":"#DIV/0!"}]
[null,null,0,0,{"$error":"#DIV/0!"}]
[null,null,0,0,{"$error":"#DIV/0!"}]
[null,null,0,0,{"$error":"#DIV/0!"}]
[null,null,0,0,{"$error":"#DIV/0!"}]
[null,null,0,0,{"$error":"#DIV/0!"}]
[null,null,0,0,{"$error":"#DIV/0!"}]
[null,null,0,0,{"$error":"#DIV/0!"}]
[null,null,0,0,{"$error":"#DIV/0!"}]
[null,null,0,0,{"$error":"#DIV/0!"}]
[null,null,0,0,{"$error":"#DIV/0!"}]
[null,null,0,0,{"$error":"#DIV/0!"}]
[null,null,0,0,{"$error":"#DIV/0!"}]
[null,null,0,0,{"$error":"#DIV/0!"}]
[null,null,0,0,{"$error":"#DIV/0!"}]
[null,null,0,0,{"$error":"#DIV/0!"}]
[null,null,0,0,{"$error":"#DIV/0!"}]
[null,null,0,0,{"$error":"#DIV/0!"}]
[null,null,0,0,{"$error":"#DIV/0!"}]
[null,null,0,{"$f":"IF(C8647=0,0,IF(C8647<=D8646,D8646,IF(C8647>D8646,D8646+B$2)))","v":0},{"$f":"IF(AND((D8647-D8646>0),(D8647<=C$2)),\"Controlla operazione\",0)","v":{"$error":"#DIV/0!"}}]
[null,null,{"$f":"IF(B8648>0,C8647+B8648,)","v":0},0,{"$error":"#DIV/0!"}]
[null,null,0,0,{"$error":"#DIV/0!"}]
[null,null,0,0,{"$error":"#DIV/0!"}]
[null,null,0,0,{"$error":"#DIV/0!"}]
[null,null,0,0,{"$error":"#DIV/0!"}]
[null,null,0,0,{"$error":"#DIV/0!"}]
[null,null,0,0,{"$error":"#DIV/0!"}]
[null,null,0,0,{"$error":"#DIV/0!"}]
[null,null,0,0,{"$error":"#DIV/0!"}]
[null,null,0,0,{"$error":"#DIV/0!"}]
[null,null,0,0,{"$error":"#DIV/0!"}]
[null,null,0,0,{"$error":"#DIV/0!"}]
[null,null,0,0,{"$error":"#DIV/0!"}]
[null,null,0,0,{"$error":"#DIV/0!"}]
[null,null,0,0,{"$error":"#DIV/0!"}]
[null,null,0,0,{"$error":"#DIV/0!"}]
[null,null,0,0,{"$error":"#DIV/0!"}]
[null,null,0,0,{"$error":"#DIV/0!"}]
[null,null,0,0,{"$error":"#DIV/0!"}]
[null,null,0,0,{"$error":"#DIV/0!"}]
[null,null,0,0,{"$error":"#DIV/0!"}]
[null,null,0,0,{"$error":"#DIV/0!"}]
[null,null,0,0,{"$error":"#DIV/0!"}]
[null,null,0,0,{"$error":"#DIV/0!"}]
[null,null,0,0,{"$error":"#DIV/0!"}]
[null,null,0,0,{"$error":"#DIV/0!"}]
[null,null,0,0,{"$error":"#DIV/0!"}]
[null,null,0,0,{"$error":"#DIV/0!"}]
[null,null,0,0,{"$error":"#DIV/0!"}]
[null,null,0,0,{"$error":"#DIV/0!"}]
[null,null,0,0,{"$error":"#DIV/0!"}]
[null,null,0,0,{"$error":"#DIV/0!"}]
[null,null,0,0,{"$error":"#DIV/0!"}]
[null,null,0,0,{"$error":"#DIV/0!"}]
[null,null,0,0,{"$error":"#DIV/0!"}]
[null,null,0,0,{"$error":"#DIV/0!"}]
[null,null,0,0,{"$error":"#DIV/0!"}]
[null,null,0,0,{"$error":"#DIV/0!"}]
[null,null,0,0,{"$error":"#DIV/0!"}]
[null,null,0,0,{"$error":"#DIV/0!"}]
[null,null,0,0,{"$error":"#DIV/0!"}]
[null,null,0,0,{"$error":"#DIV/0!"}]
[null,null,0,0,{"$error":"#DIV/0!"}]
[null,null,0,0,{"$error":"#DIV/0!"}]
[null,null,0,0,{"$error":"#DIV/0!"}]
[null,null,0,0,{"$error":"#DIV/0!"}]
[null,null,0,0,{"$error":"#DIV/0!"}]
[null,null,0,0,{"$error":"#DIV/0!"}]
[null,null,0,0,{"$error":"#DIV/0!"}]
[null,null,0,0,{"$error":"#DIV/0!"}]
[null,null,0,0,{"$error":"#DIV/0!"}]
[null,null,0,0,{"$error":"#DIV/0!"}]
[null,null,0,0,{"$error":"#DIV/0!"}]
[null,null,0,0,{"$error":"#DIV/0!"}]
[null,null,0,0,{"$error":"#DIV/0!"}]
[null,null,0,0,{"$error":"#DIV/0!"}]
[null,null,0,0,{"$error":"#DIV/0!"}]
[null,null,0,0,{"$error":"#DIV/0!"}]
[null,null,0,0,{"$error":"#DIV/0!"}]
[null,null,0,0,{"$error":"#DIV/0!"}]
[null,null,0,0,{"$error":"#DIV/0!"}]
[null,null,0,0,{"$error":"#DIV/0!"}]
[null,null,0,0,{"$error":"#DIV/0!"}]
[null,null,0,{"$f":"IF(C8711=0,0,IF(C8711<=D8710,D8710,IF(C8711>D8710,D8710+B$2)))","v":0},{"$f":"IF(AND((D8711-D8710>0),(D8711<=C$2)),\"Controlla operazione\",0)","v":{"$error":"#DIV/0!"}}]
[null,null,{"$f":"IF(B8712>0,C8711+B8712,)","v":0},0,{"$error":"#DIV/0!"}]
[null,null,0,0,{"$error":"#DIV/0!"}]
[null,null,0,0,{"$error":"#DIV/0!"}]
[null,null,0,0,{"$error":"#DIV/0!"}]
[null,null,0,0,{"$error":"#DIV/0!"}]
[null,null,0,0,{"$error":"#DIV/0!"}]
[null,null,0,0,{"$error":"#DIV/0!"}]
[null,null,0,0,{"$error":"#DIV/0!"}]
[null,null,0,0,{"$error":"#DIV/0!"}]
[null,null,0,0,{"$error":"#DIV/0!"}]
[null,null,0,0,{"$error":"#DIV/0!"}]
[null,null,0,0,{"$error":"#DIV/0!"}]
[null,null,0,0,{"$error":"#DIV/0!"}]
[null,null,0,0,{"$error":"#DIV/0!"}]
[null,null,0,0,{"$error":"#DIV/0!"}]
[null,null,0,0,{"$error":"#DIV/0!"}]
[null,null,0,0,{"$error":"#DIV/0!"}]
[null,null,0,0,{"$error":"#DIV/0!"}]
[null,null,0,0,{"$error":"#DIV/0!"}]
[null,null,0,0,{"$error":"#DIV/0!"}]
[null,null,0,0,{"$error":"#DIV/0!"}]
[null,null,0,0,{"$error":"#DIV/0!"}]
[null,null,0,0,{"$error":"#DIV/0!"}]
[null,null,0,0,{"$error":"#DIV/0!"}]
[null,null,0,0,{"$error":"#DIV/0!"}]
[null,null,0,0,{"$error":"#DIV/0!"}]
[null,null,0,0,{"$error":"#DIV/0!"}]
[null,null,0,0,{"$error":"#DIV/0!"}]
[null,null,0,0,{"$error":"#DIV/0!"}]
[null,null,0,0,{"$error":"#DIV/0!"}]
[null,null,0,0,{"$error":"#DIV/0!"}]
[null,null,0,0,{"$error":"#DIV/0!"}]
[null,null,0,0,{"$error":"#DIV/0!"}]
[null,null,0,0,{"$error":"#DIV/0!"}]
[null,null,0,0,{"$error":"#DIV/0!"}]
[null,null,0,0,{"$error":"#DIV/0!"}]
[null,null,0,0,{"$error":"#DIV/0!"}]
[null,null,0,0,{"$error":"#DIV/0!"}]
[null,null,0,0,{"$error":"#DIV/0!"}]
[null,null,0,0,{"$error":"#DIV/0!"}]
[null,null,0,0,{"$error":"#DIV/0!"}]
[null,null,0,0,{"$error":"#DIV/0!"}]
[null,null,0,0,{"$error":"#DIV/0!"}]
[null,null,0,0,{"$error":"#DIV/0!"}]
[null,null,0,0,{"$error":"#DIV/0!"}]
[null,null,0,0,{"$error":"#DIV/0!"}]
[null,null,0,0,{"$error":"#DIV/0!"}]
[null,null,0,0,{"$error":"#DIV/0!"}]
[null,null,0,0,{"$error":"#DIV/0!"}]
[null,null,0,0,{"$error":"#DIV/0!"}]
[null,null,0,0,{"$error":"#DIV/0!"}]
[null,null,0,0,{"$error":"#DIV/0!"}]
[null,null,0,0,{"$error":"#DIV/0!"}]
[null,null,0,0,{"$error":"#DIV/0!"}]
[null,null,0,0,{"$error":"#DIV/0!"}]
[null,null,0,0,{"$error":"#DIV/0!"}]
[null,null,0,0,{"$error":"#DIV/0!"}]
[null,null,0,0,{"$error":"#DIV/0!"}]
[null,null,0,0,{"$error":"#DIV/0!"}]
[null,null,0,0,{"$error":"#DIV/0!"}]
[null,null,0,0,{"$error":"#DIV/0!"}]
[null,null,0,0,{"$error":"#DIV/0!"}]
[null,null,0,0,{"$error":"#DIV/0!"}]
[null,null,0,{"$f":"IF(C8775=0,0,IF(C8775<=D8774,D8774,IF(C8775>D8774,D8774+B$2)))","v":0},{"$f":"IF(AND((D8775-D8774>0),(D8775<=C$2)),\"Controlla operazione\",0)","v":{"$error":"#DIV/0!"}}]
[null,null,{"$f":"IF(B8776>0,C8775+B8776,)","v":0},0,{"$error":"#DIV/0!"}]
[null,null,0,0,{"$error":"#DIV/0!"}]
[null,null,0,0,{"$error":"#DIV/0!"}]
[null,null,0,0,{"$error":"#DIV/0!"}]
[null,null,0,0,{"$error":"#DIV/0!"}]
[null,null,0,0,{"$error":"#DIV/0!"}]
[null,null,0,0,{"$error":"#DIV/0!"}]
[null,null,0,0,{"$error":"#DIV/0!"}]
[null,null,0,0,{"$error":"#DIV/0!"}]
[null,null,0,0,{"$error":"#DIV/0!"}]
[null,null,0,0,{"$error":"#DIV/0!"}]
[null,null,0,0,{"$error":"#DIV/0!"}]
[null,null,0,0,{"$error":"#DIV/0!"}]
[null,null,0,0,{"$error":"#DIV/0!"}]
[null,null,0,0,{"$error":"#DIV/0!"}]
[null,null,0,0,{"$error":"#DIV/0!"}]
[null,null,0,0,{"$error":"#DIV/0!"}]
[null,null,0,0,{"$error":"#DIV/0!"}]
[null,null,0,0,{"$error":"#DIV/0!"}]
[null,null,0,0,{"$error":"#DIV/0!"}]
[null,null,0,0,{"$error":"#DIV/0!"}]
[null,null,0,0,{"$error":"#DIV/0!"}]
[null,null,0,0,{"$error":"#DIV/0!"}]
[null,null,0,0,{"$error":"#DIV/0!"}]
[null,null,0,0,{"$error":"#DIV/0!"}]
[null,null,0,0,{"$error":"#DIV/0!"}]
[null,null,0,0,{"$error":"#DIV/0!"}]
[null,null,0,0,{"$error":"#DIV/0!"}]
[null,null,0,0,{"$error":"#DIV/0!"}]
[null,null,0,0,{"$error":"#DIV/0!"}]
[null,null,0,0,{"$error":"#DIV/0!"}]
[null,null,0,0,{"$error":"#DIV/0!"}]
[null,null,0,0,{"$error":"#DIV/0!"}]
[null,null,0,0,{"$error":"#DIV/0!"}]
[null,null,0,0,{"$error":"#DIV/0!"}]
[null,null,0,0,{"$error":"#DIV/0!"}]
[null,null,0,0,{"$error":"#DIV/0!"}]
[null,null,0,0,{"$error":"#DIV/0!"}]
[null,null,0,0,{"$error":"#DIV/0!"}]
[null,null,0,0,{"$error":"#DIV/0!"}]
[null,null,0,0,{"$error":"#DIV/0!"}]
[null,null,0,0,{"$error":"#DIV/0!"}]
[null,null,0,0,{"$error":"#DIV/0!"}]
[null,null,0,0,{"$error":"#DIV/0!"}]
[null,null,0,0,{"$error":"#DIV/0!"}]
[null,null,0,0,{"$error":"#DIV/0!"}]
[null,null,0,0,{"$error":"#DIV/0!"}]
[null,null,0,0,{"$error":"#DIV/0!"}]
[null,null,0,0,{"$error":"#DIV/0!"}]
[null,null,0,0,{"$error":"#DIV/0!"}]
[null,null,0,0,{"$error":"#DIV/0!"}]
[null,null,0,0,{"$error":"#DIV/0!"}]
[null,null,0,0,{"$error":"#DIV/0!"}]
[null,null,0,0,{"$error":"#DIV/0!"}]
[null,null,0,0,{"$error":"#DIV/0!"}]
[null,null,0,0,{"$error":"#DIV/0!"}]
[null,null,0,0,{"$error":"#DIV/0!"}]
[null,null,0,0,{"$error":"#DIV/0!"}]
[null,null,0,0,{"$error":"#DIV/0!"}]
[null,null,0,0,{"$error":"#DIV/0!"}]
[null,null,0,0,{"$error":"#DIV/0!"}]
[null,null,0,0,{"$error":"#DIV/0!"}]
[null,null,0,0,{"$error":"#DIV/0!"}]
[null,null,0,{"$f":"IF(C8839=0,0,IF(C8839<=D8838,D8838,IF(C8839>D8838,D8838+B$2)))","v":0},{"$f":"IF(AND((D8839-D8838>0),(D8839<=C$2)),\"Controlla operazione\",0)","v":{"$error":"#DIV/0!"}}]
[null,null,{"$f":"IF(B8840>0,C8839+B8840,)","v":0},0,{"$error":"#DIV/0!"}]
[null,null,0,0,{"$error":"#DIV/0!"}]
[null,null,0,0,{"$error":"#DIV/0!"}]
[null,null,0,0,{"$error":"#DIV/0!"}]
[null,null,0,0,{"$error":"#DIV/0!"}]
[null,null,0,0,{"$error":"#DIV/0!"}]
[null,null,0,0,{"$error":"#DIV/0!"}]
[null,null,0,0,{"$error":"#DIV/0!"}]
[null,null,0,0,{"$error":"#DIV/0!"}]
[null,null,0,0,{"$error":"#DIV/0!"}]
[null,null,0,0,{"$error":"#DIV/0!"}]
[null,null,0,0,{"$error":"#DIV/0!"}]
[null,null,0,0,{"$error":"#DIV/0!"}]
[null,null,0,0,{"$error":"#DIV/0!"}]
[null,null,0,0,{"$error":"#DIV/0!"}]
[null,null,0,0,{"$error":"#DIV/0!"}]
[null,null,0,0,{"$error":"#DIV/0!"}]
[null,null,0,0,{"$error":"#DIV/0!"}]
[null,null,0,0,{"$error":"#DIV/0!"}]
[null,null,0,0,{"$error":"#DIV/0!"}]
[null,null,0,0,{"$error":"#DIV/0!"}]
[null,null,0,0,{"$error":"#DIV/0!"}]
[null,null,0,0,{"$error":"#DIV/0!"}]
[null,null,0,0,{"$error":"#DIV/0!"}]
[null,null,0,0,{"$error":"#DIV/0!"}]
[null,null,0,0,{"$error":"#DIV/0!"}]
[null,null,0,0,{"$error":"#DIV/0!"}]
[null,null,0,0,{"$error":"#DIV/0!"}]
[null,null,0,0,{"$error":"#DIV/0!"}]
[null,null,0,0,{"$error":"#DIV/0!"}]
[null,null,0,0,{"$error":"#DIV/0!"}]
[null,null,0,0,{"$error":"#DIV/0!"}]
[null,null,0,0,{"$error":"#DIV/0!"}]
[null,null,0,0,{"$error":"#DIV/0!"}]
[null,null,0,0,{"$error":"#DIV/0!"}]
[null,null,0,0,{"$error":"#DIV/0!"}]
[null,null,0,0,{"$error":"#DIV/0!"}]
[null,null,0,0,{"$error":"#DIV/0!"}]
[null,null,0,0,{"$error":"#DIV/0!"}]
[null,null,0,0,{"$error":"#DIV/0!"}]
[null,null,0,0,{"$error":"#DIV/0!"}]
[null,null,0,0,{"$error":"#DIV/0!"}]
[null,null,0,0,{"$error":"#DIV/0!"}]
[null,null,0,0,{"$error":"#DIV/0!"}]
[null,null,0,0,{"$error":"#DIV/0!"}]
[null,null,0,0,{"$error":"#DIV/0!"}]
[null,null,0,0,{"$error":"#DIV/0!"}]
[null,null,0,0,{"$error":"#DIV/0!"}]
[null,null,0,0,{"$error":"#DIV/0!"}]
[null,null,0,0,{"$error":"#DIV/0!"}]
[null,null,0,0,{"$error":"#DIV/0!"}]
[null,null,0,0,{"$error":"#DIV/0!"}]
[null,null,0,0,{"$error":"#DIV/0!"}]
[null,null,0,0,{"$error":"#DIV/0!"}]
[null,null,0,0,{"$error":"#DIV/0!"}]
[null,null,0,0,{"$error":"#DIV/0!"}]
[null,null,0,0,{"$error":"#DIV/0!"}]
[null,null,0,0,{"$error":"#DIV/0!"}]
[null,null,0,0,{"$error":"#DIV/0!"}]
[null,null,0,0,{"$error":"#DIV/0!"}]
[null,null,0,0,{"$error":"#DIV/0!"}]
[null,null,0,0,{"$error":"#DIV/0!"}]
[null,null,0,0,{"$error":"#DIV/0!"}]
[null,null,0,{"$f":"IF(C8903=0,0,IF(C8903<=D8902,D8902,IF(C8903>D8902,D8902+B$2)))","v":0},{"$f":"IF(AND((D8903-D8902>0),(D8903<=C$2)),\"Controlla operazione\",0)","v":{"$error":"#DIV/0!"}}]
[null,null,{"$f":"IF(B8904>0,C8903+B8904,)","v":0},0,{"$error":"#DIV/0!"}]
[null,null,0,0,{"$error":"#DIV/0!"}]
[null,null,0,0,{"$error":"#DIV/0!"}]
[null,null,0,0,{"$error":"#DIV/0!"}]
[null,null,0,0,{"$error":"#DIV/0!"}]
[null,null,0,0,{"$error":"#DIV/0!"}]
[null,null,0,0,{"$error":"#DIV/0!"}]
[null,null,0,0,{"$error":"#DIV/0!"}]
[null,null,0,0,{"$error":"#DIV/0!"}]
[null,null,0,0,{"$error":"#DIV/0!"}]
[null,null,0,0,{"$error":"#DIV/0!"}]
[null,null,0,0,{"$error":"#DIV/0!"}]
[null,null,0,0,{"$error":"#DIV/0!"}]
[null,null,0,0,{"$error":"#DIV/0!"}]
[null,null,0,0,{"$error":"#DIV/0!"}]
[null,null,0,0,{"$error":"#DIV/0!"}]
[null,null,0,0,{"$error":"#DIV/0!"}]
[null,null,0,0,{"$error":"#DIV/0!"}]
[null,null,0,0,{"$error":"#DIV/0!"}]
[null,null,0,0,{"$error":"#DIV/0!"}]
[null,null,0,0,{"$error":"#DIV/0!"}]
[null,null,0,0,{"$error":"#DIV/0!"}]
[null,null,0,0,{"$error":"#DIV/0!"}]
[null,null,0,0,{"$error":"#DIV/0!"}]
[null,null,0,0,{"$error":"#DIV/0!"}]
[null,null,0,0,{"$error":"#DIV/0!"}]
[null,null,0,0,{"$error":"#DIV/0!"}]
[null,null,0,0,{"$error":"#DIV/0!"}]
[null,null,0,0,{"$error":"#DIV/0!"}]
[null,null,0,0,{"$error":"#DIV/0!"}]
[null,null,0,0,{"$error":"#DIV/0!"}]
[null,null,0,0,{"$error":"#DIV/0!"}]
[null,null,0,0,{"$error":"#DIV/0!"}]
[null,null,0,0,{"$error":"#DIV/0!"}]
[null,null,0,0,{"$error":"#DIV/0!"}]
[null,null,0,0,{"$error":"#DIV/0!"}]
[null,null,0,0,{"$error":"#DIV/0!"}]
[null,null,0,0,{"$error":"#DIV/0!"}]
[null,null,0,0,{"$error":"#DIV/0!"}]
[null,null,0,0,{"$error":"#DIV/0!"}]
[null,null,0,0,{"$error":"#DIV/0!"}]
[null,null,0,0,{"$error":"#DIV/0!"}]
[null,null,0,0,{"$error":"#DIV/0!"}]
[null,null,0,0,{"$error":"#DIV/0!"}]
[null,null,0,0,{"$error":"#DIV/0!"}]
[null,null,0,0,{"$error":"#DIV/0!"}]
[null,null,0,0,{"$error":"#DIV/0!"}]
[null,null,0,0,{"$error":"#DIV/0!"}]
[null,null,0,0,{"$error":"#DIV/0!"}]
[null,null,0,0,{"$error":"#DIV/0!"}]
[null,null,0,0,{"$error":"#DIV/0!"}]
[null,null,0,0,{"$error":"#DIV/0!"}]
[null,null,0,0,{"$error":"#DIV/0!"}]
[null,null,0,0,{"$error":"#DIV/0!"}]
[null,null,0,0,{"$error":"#DIV/0!"}]
[null,null,0,0,{"$error":"#DIV/0!"}]
[null,null,0,0,{"$error":"#DIV/0!"}]
[null,null,0,0,{"$error":"#DIV/0!"}]
[null,null,0,0,{"$error":"#DIV/0!"}]
[null,null,0,0,{"$error":"#DIV/0!"}]
[null,null,0,0,{"$error":"#DIV/0!"}]
[null,null,0,0,{"$error":"#DIV/0!"}]
[null,null,0,0,{"$error":"#DIV/0!"}]
[null,null,0,{"$f":"IF(C8967=0,0,IF(C8967<=D8966,D8966,IF(C8967>D8966,D8966+B$2)))","v":0},{"$f":"IF(AND((D8967-D8966>0),(D8967<=C$2)),\"Controlla operazione\",0)","v":{"$error":"#DIV/0!"}}]
[null,null,{"$f":"IF(B8968>0,C8967+B8968,)","v":0},0,{"$error":"#DIV/0!"}]
[null,null,0,0,{"$error":"#DIV/0!"}]
[null,null,0,0,{"$error":"#DIV/0!"}]
[null,null,0,0,{"$error":"#DIV/0!"}]
[null,null,0,0,{"$error":"#DIV/0!"}]
[null,null,0,0,{"$error":"#DIV/0!"}]
[null,null,0,0,{"$error":"#DIV/0!"}]
[null,null,0,0,{"$error":"#DIV/0!"}]
[null,null,0,0,{"$error":"#DIV/0!"}]
[null,null,0,0,{"$error":"#DIV/0!"}]
[null,null,0,0,{"$error":"#DIV/0!"}]
[null,null,0,0,{"$error":"#DIV/0!"}]
[null,null,0,0,{"$error":"#DIV/0!"}]
[null,null,0,0,{"$error":"#DIV/0!"}]
[null,null,0,0,{"$error":"#DIV/0!"}]
[null,null,0,0,{"$error":"#DIV/0!"}]
[null,null,0,0,{"$error":"#DIV/0!"}]
[null,null,0,0,{"$error":"#DIV/0!"}]
[null,null,0,0,{"$error":"#DIV/0!"}]
[null,null,0,0,{"$error":"#DIV/0!"}]
[null,null,0,0,{"$error":"#DIV/0!"}]
[null,null,0,0,{"$error":"#DIV/0!"}]
[null,null,0,0,{"$error":"#DIV/0!"}]
[null,null,0,0,{"$error":"#DIV/0!"}]
[null,null,0,0,{"$error":"#DIV/0!"}]
[null,null,0,0,{"$error":"#DIV/0!"}]
[null,null,0,0,{"$error":"#DIV/0!"}]
[null,null,0,0,{"$error":"#DIV/0!"}]
[null,null,0,0,{"$error":"#DIV/0!"}]
[null,null,0,0,{"$error":"#DIV/0!"}]
[null,null,0,0,{"$error":"#DIV/0!"}]
[null,null,0,0,{"$error":"#DIV/0!"}]
[null,null,0,0,{"$error":"#DIV/0!"}]
[null,null,0,0,{"$error":"#DIV/0!"}]
[null,null,0,0,{"$error":"#DIV/0!"}]
[null,null,0,0,{"$error":"#DIV/0!"}]
[null,null,0,0,{"$error":"#DIV/0!"}]
[null,null,0,0,{"$error":"#DIV/0!"}]
[null,null,0,0,{"$error":"#DIV/0!"}]
[null,null,0,0,{"$error":"#DIV/0!"}]
[null,null,0,0,{"$error":"#DIV/0!"}]
[null,null,0,0,{"$error":"#DIV/0!"}]
[null,null,0,0,{"$error":"#DIV/0!"}]
[null,null,0,0,{"$error":"#DIV/0!"}]
[null,null,0,0,{"$error":"#DIV/0!"}]
[null,null,0,0,{"$error":"#DIV/0!"}]
[null,null,0,0,{"$error":"#DIV/0!"}]
[null,null,0,0,{"$error":"#DIV/0!"}]
[null,null,0,0,{"$error":"#DIV/0!"}]
[null,null,0,0,{"$error":"#DIV/0!"}]
[null,null,0,0,{"$error":"#DIV/0!"}]
[null,null,0,0,{"$error":"#DIV/0!"}]
[null,null,0,0,{"$error":"#DIV/0!"}]
[null,null,0,0,{"$error":"#DIV/0!"}]
[null,null,0,0,{"$error":"#DIV/0!"}]
[null,null,0,0,{"$error":"#DIV/0!"}]
[null,null,0,0,{"$error":"#DIV/0!"}]
[null,null,0,0,{"$error":"#DIV/0!"}]
[null,null,0,0,{"$error":"#DIV/0!"}]
[null,null,0,0,{"$error":"#DIV/0!"}]
[null,null,0,0,{"$error":"#DIV/0!"}]
[null,null,0,0,{"$error":"#DIV/0!"}]
[null,null,0,0,{"$error":"#DIV/0!"}]
[null,null,0,{"$f":"IF(C9031=0,0,IF(C9031<=D9030,D9030,IF(C9031>D9030,D9030+B$2)))","v":0},{"$f":"IF(AND((D9031-D9030>0),(D9031<=C$2)),\"Controlla operazione\",0)","v":{"$error":"#DIV/0!"}}]
[null,null,{"$f":"IF(B9032>0,C9031+B9032,)","v":0},0,{"$error":"#DIV/0!"}]
[null,null,0,0,{"$error":"#DIV/0!"}]
[null,null,0,0,{"$error":"#DIV/0!"}]
[null,null,0,0,{"$error":"#DIV/0!"}]
[null,null,0,0,{"$error":"#DIV/0!"}]
[null,null,0,0,{"$error":"#DIV/0!"}]
[null,null,0,0,{"$error":"#DIV/0!"}]
[null,null,0,0,{"$error":"#DIV/0!"}]
[null,null,0,0,{"$error":"#DIV/0!"}]
[null,null,0,0,{"$error":"#DIV/0!"}]
[null,null,0,0,{"$error":"#DIV/0!"}]
[null,null,0,0,{"$error":"#DIV/0!"}]
[null,null,0,0,{"$error":"#DIV/0!"}]
[null,null,0,0,{"$error":"#DIV/0!"}]
[null,null,0,0,{"$error":"#DIV/0!"}]
[null,null,0,0,{"$error":"#DIV/0!"}]
[null,null,0,0,{"$error":"#DIV/0!"}]
[null,null,0,0,{"$error":"#DIV/0!"}]
[null,null,0,0,{"$error":"#DIV/0!"}]
[null,null,0,0,{"$error":"#DIV/0!"}]
[null,null,0,0,{"$error":"#DIV/0!"}]
[null,null,0,0,{"$error":"#DIV/0!"}]
[null,null,0,0,{"$error":"#DIV/0!"}]
[null,null,0,0,{"$error":"#DIV/0!"}]
[null,null,0,0,{"$error":"#DIV/0!"}]
[null,null,0,0,{"$error":"#DIV/0!"}]
[null,null,0,0,{"$error":"#DIV/0!"}]
[null,null,0,0,{"$error":"#DIV/0!"}]
[null,null,0,0,{"$error":"#DIV/0!"}]
[null,null,0,0,{"$error":"#DIV/0!"}]
[null,null,0,0,{"$error":"#DIV/0!"}]
[null,null,0,0,{"$error":"#DIV/0!"}]
[null,null,0,0,{"$error":"#DIV/0!"}]
[null,null,0,0,{"$error":"#DIV/0!"}]
[null,null,0,0,{"$error":"#DIV/0!"}]
[null,null,0,0,{"$error":"#DIV/0!"}]
[null,null,0,0,{"$error":"#DIV/0!"}]
[null,null,0,0,{"$error":"#DIV/0!"}]
[null,null,0,0,{"$error":"#DIV/0!"}]
[null,null,0,0,{"$error":"#DIV/0!"}]
[null,null,0,0,{"$error":"#DIV/0!"}]
[null,null,0,0,{"$error":"#DIV/0!"}]
[null,null,0,0,{"$error":"#DIV/0!"}]
[null,null,0,0,{"$error":"#DIV/0!"}]
[null,null,0,0,{"$error":"#DIV/0!"}]
[null,null,0,0,{"$error":"#DIV/0!"}]
[null,null,0,0,{"$error":"#DIV/0!"}]
[null,null,0,0,{"$error":"#DIV/0!"}]
[null,null,0,0,{"$error":"#DIV/0!"}]
[null,null,0,0,{"$error":"#DIV/0!"}]
[null,null,0,0,{"$error":"#DIV/0!"}]
[null,null,0,0,{"$error":"#DIV/0!"}]
[null,null,0,0,{"$error":"#DIV/0!"}]
[null,null,0,0,{"$error":"#DIV/0!"}]
[null,null,0,0,{"$error":"#DIV/0!"}]
[null,null,0,0,{"$error":"#DIV/0!"}]
[null,null,0,0,{"$error":"#DIV/0!"}]
[null,null,0,0,{"$error":"#DIV/0!"}]
[null,null,0,0,{"$error":"#DIV/0!"}]
[null,null,0,0,{"$error":"#DIV/0!"}]
[null,null,0,0,{"$error":"#DIV/0!"}]
[null,null,0,0,{"$error":"#DIV/0!"}]
[null,null,0,0,{"$error":"#DIV/0!"}]
[null,null,0,{"$f":"IF(C9095=0,0,IF(C9095<=D9094,D9094,IF(C9095>D9094,D9094+B$2)))","v":0},{"$f":"IF(AND((D9095-D9094>0),(D9095<=C$2)),\"Controlla operazione\",0)","v":{"$error":"#DIV/0!"}}]
[null,null,{"$f":"IF(B9096>0,C9095+B9096,)","v":0},0,{"$error":"#DIV/0!"}]
[null,null,0,0,{"$error":"#DIV/0!"}]
[null,null,0,0,{"$error":"#DIV/0!"}]
[null,null,0,0,{"$error":"#DIV/0!"}]
[null,null,0,0,{"$error":"#DIV/0!"}]
[null,null,0,0,{"$error":"#DIV/0!"}]
[null,null,0,0,{"$error":"#DIV/0!"}]
[null,null,0,0,{"$error":"#DIV/0!"}]
[null,null,0,0,{"$error":"#DIV/0!"}]
[null,null,0,0,{"$error":"#DIV/0!"}]
[null,null,0,0,{"$error":"#DIV/0!"}]
[null,null,0,0,{"$error":"#DIV/0!"}]
[null,null,0,0,{"$error":"#DIV/0!"}]
[null,null,0,0,{"$error":"#DIV/0!"}]
[null,null,0,0,{"$error":"#DIV/0!"}]
[null,null,0,0,{"$error":"#DIV/0!"}]
[null,null,0,0,{"$error":"#DIV/0!"}]
[null,null,0,0,{"$error":"#DIV/0!"}]
[null,null,0,0,{"$error":"#DIV/0!"}]
[null,null,0,0,{"$error":"#DIV/0!"}]
[null,null,0,0,{"$error":"#DIV/0!"}]
[null,null,0,0,{"$error":"#DIV/0!"}]
[null,null,0,0,{"$error":"#DIV/0!"}]
[null,null,0,0,{"$error":"#DIV/0!"}]
[null,null,0,0,{"$error":"#DIV/0!"}]
[null,null,0,0,{"$error":"#DIV/0!"}]
[null,null,0,0,{"$error":"#DIV/0!"}]
[null,null,0,0,{"$error":"#DIV/0!"}]
[null,null,0,0,{"$error":"#DIV/0!"}]
[null,null,0,0,{"$error":"#DIV/0!"}]
[null,null,0,0,{"$error":"#DIV/0!"}]
[null,null,0,0,{"$error":"#DIV/0!"}]
[null,null,0,0,{"$error":"#DIV/0!"}]
[null,null,0,0,{"$error":"#DIV/0!"}]
[null,null,0,0,{"$error":"#DIV/0!"}]
[null,null,0,0,{"$error":"#DIV/0!"}]
[null,null,0,0,{"$error":"#DIV/0!"}]
[null,null,0,0,{"$error":"#DIV/0!"}]
[null,null,0,0,{"$error":"#DIV/0!"}]
[null,null,0,0,{"$error":"#DIV/0!"}]
[null,null,0,0,{"$error":"#DIV/0!"}]
[null,null,0,0,{"$error":"#DIV/0!"}]
[null,null,0,0,{"$error":"#DIV/0!"}]
[null,null,0,0,{"$error":"#DIV/0!"}]
[null,null,0,0,{"$error":"#DIV/0!"}]
[null,null,0,0,{"$error":"#DIV/0!"}]
[null,null,0,0,{"$error":"#DIV/0!"}]
[null,null,0,0,{"$error":"#DIV/0!"}]
[null,null,0,0,{"$error":"#DIV/0!"}]
[null,null,0,0,{"$error":"#DIV/0!"}]
[null,null,0,0,{"$error":"#DIV/0!"}]
[null,null,0,0,{"$error":"#DIV/0!"}]
[null,null,0,0,{"$error":"#DIV/0!"}]
[null,null,0,0,{"$error":"#DIV/0!"}]
[null,null,0,0,{"$error":"#DIV/0!"}]
[null,null,0,0,{"$error":"#DIV/0!"}]
[null,null,0,0,{"$error":"#DIV/0!"}]
[null,null,0,0,{"$error":"#DIV/0!"}]
[null,null,0,0,{"$error":"#DIV/0!"}]
[null,null,0,0,{"$error":"#DIV/0!"}]
[null,null,0,0,{"$error":"#DIV/0!"}]
[null,null,0,0,{"$error":"#DIV/0!"}]
[null,null,0,0,{"$error":"#DIV/0!"}]
[null,null,0,{"$f":"IF(C9159=0,0,IF(C9159<=D9158,D9158,IF(C9159>D9158,D9158+B$2)))","v":0},{"$f":"IF(AND((D9159-D9158>0),(D9159<=C$2)),\"Controlla operazione\",0)","v":{"$error":"#DIV/0!"}}]
[null,null,{"$f":"IF(B9160>0,C9159+B9160,)","v":0},0,{"$error":"#DIV/0!"}]
[null,null,0,0,{"$error":"#DIV/0!"}]
[null,null,0,0,{"$error":"#DIV/0!"}]
[null,null,0,0,{"$error":"#DIV/0!"}]
[null,null,0,0,{"$error":"#DIV/0!"}]
[null,null,0,0,{"$error":"#DIV/0!"}]
[null,null,0,0,{"$error":"#DIV/0!"}]
[null,null,0,0,{"$error":"#DIV/0!"}]
[null,null,0,0,{"$error":"#DIV/0!"}]
[null,null,0,0,{"$error":"#DIV/0!"}]
[null,null,0,0,{"$error":"#DIV/0!"}]
[null,null,0,0,{"$error":"#DIV/0!"}]
[null,null,0,0,{"$error":"#DIV/0!"}]
[null,null,0,0,{"$error":"#DIV/0!"}]
[null,null,0,0,{"$error":"#DIV/0!"}]
[null,null,0,0,{"$error":"#DIV/0!"}]
[null,null,0,0,{"$error":"#DIV/0!"}]
[null,null,0,0,{"$error":"#DIV/0!"}]
[null,null,0,0,{"$error":"#DIV/0!"}]
[null,null,0,0,{"$error":"#DIV/0!"}]
[null,null,0,0,{"$error":"#DIV/0!"}]
[null,null,0,0,{"$error":"#DIV/0!"}]
[null,null,0,0,{"$error":"#DIV/0!"}]
[null,null,0,0,{"$error":"#DIV/0!"}]
[null,null,0,0,{"$error":"#DIV/0!"}]
[null,null,0,0,{"$error":"#DIV/0!"}]
[null,null,0,0,{"$error":"#DIV/0!"}]
[null,null,0,0,{"$error":"#DIV/0!"}]
[null,null,0,0,{"$error":"#DIV/0!"}]
[null,null,0,0,{"$error":"#DIV/0!"}]
[null,null,0,0,{"$error":"#DIV/0!"}]
[null,null,0,0,{"$error":"#DIV/0!"}]
[null,null,0,0,{"$error":"#DIV/0!"}]
[null,null,0,0,{"$error":"#DIV/0!"}]
[null,null,0,0,{"$error":"#DIV/0!"}]
[null,null,0,0,{"$error":"#DIV/0!"}]
[null,null,0,0,{"$error":"#DIV/0!"}]
[null,null,0,0,{"$error":"#DIV/0!"}]
[null,null,0,0,{"$error":"#DIV/0!"}]
[null,null,0,0,{"$error":"#DIV/0!"}]
[null,null,0,0,{"$error":"#DIV/0!"}]
[null,null,0,0,{"$error":"#DIV/0!"}]
[null,null,0,0,{"$error":"#DIV/0!"}]
[null,null,0,0,{"$error":"#DIV/0!"}]
[null,null,0,0,{"$error":"#DIV/0!"}]
[null,null,0,0,{"$error":"#DIV/0!"}]
[null,null,0,0,{"$error":"#DIV/0!"}]
[null,null,0,0,{"$error":"#DIV/0!"}]
[null,null,0,0,{"$error":"#DIV/0!"}]
[null,null,0,0,{"$error":"#DIV/0!"}]
[null,null,0,0,{"$error":"#DIV/0!"}]
[null,null,0,0,{"$error":"#DIV/0!"}]
[null,null,0,0,{"$error":"#DIV/0!"}]
[null,null,0,0,{"$error":"#DIV/0!"}]
[null,null,0,0,{"$error":"#DIV/0!"}]
[null,null,0,0,{"$error":"#DIV/0!"}]
[null,null,0,0,{"$error":"#DIV/0!"}]
[null,null,0,0,{"$error":"#DIV/0!"}]
[null,null,0,0,{"$error":"#DIV/0!"}]
[null,null,0,0,{"$error":"#DIV/0!"}]
[null,null,0,0,{"$error":"#DIV/0!"}]
[null,null,0,0,{"$error":"#DIV/0!"}]
[null,null,0,0,{"$error":"#DIV/0!"}]
[null,null,0,{"$f":"IF(C9223=0,0,IF(C9223<=D9222,D9222,IF(C9223>D9222,D9222+B$2)))","v":0},{"$f":"IF(AND((D9223-D9222>0),(D9223<=C$2)),\"Controlla operazione\",0)","v":{"$error":"#DIV/0!"}}]
[null,null,{"$f":"IF(B9224>0,C9223+B9224,)","v":0},0,{"$error":"#DIV/0!"}]
[null,null,0,0,{"$error":"#DIV/0!"}]
[null,null,0,0,{"$error":"#DIV/0!"}]
[null,null,0,0,{"$error":"#DIV/0!"}]
[null,null,0,0,{"$error":"#DIV/0!"}]
[null,null,0,0,{"$error":"#DIV/0!"}]
[null,null,0,0,{"$error":"#DIV/0!"}]
[null,null,0,0,{"$error":"#DIV/0!"}]
[null,null,0,0,{"$error":"#DIV/0!"}]
[null,null,0,0,{"$error":"#DIV/0!"}]
[null,null,0,0,{"$error":"#DIV/0!"}]
[null,null,0,0,{"$error":"#DIV/0!"}]
[null,null,0,0,{"$error":"#DIV/0!"}]
[null,null,0,0,{"$error":"#DIV/0!"}]
[null,null,0,0,{"$error":"#DIV/0!"}]
[null,null,0,0,{"$error":"#DIV/0!"}]
[null,null,0,0,{"$error":"#DIV/0!"}]
[null,null,0,0,{"$error":"#DIV/0!"}]
[null,null,0,0,{"$error":"#DIV/0!"}]
[null,null,0,0,{"$error":"#DIV/0!"}]
[null,null,0,0,{"$error":"#DIV/0!"}]
[null,null,0,0,{"$error":"#DIV/0!"}]
[null,null,0,0,{"$error":"#DIV/0!"}]
[null,null,0,0,{"$error":"#DIV/0!"}]
[null,null,0,0,{"$error":"#DIV/0!"}]
[null,null,0,0,{"$error":"#DIV/0!"}]
[null,null,0,0,{"$error":"#DIV/0!"}]
[null,null,0,0,{"$error":"#DIV/0!"}]
[null,null,0,0,{"$error":"#DIV/0!"}]
[null,null,0,0,{"$error":"#DIV/0!"}]
[null,null,0,0,{"$error":"#DIV/0!"}]
[null,null,0,0,{"$error":"#DIV/0!"}]
[null,null,0,0,{"$error":"#DIV/0!"}]
[null,null,0,0,{"$error":"#DIV/0!"}]
[null,null,0,0,{"$error":"#DIV/0!"}]
[null,null,0,0,{"$error":"#DIV/0!"}]
[null,null,0,0,{"$error":"#DIV/0!"}]
[null,null,0,0,{"$error":"#DIV/0!"}]
[null,null,0,0,{"$error":"#DIV/0!"}]
[null,null,0,0,{"$error":"#DIV/0!"}]
[null,null,0,0,{"$error":"#DIV/0!"}]
[null,null,0,0,{"$error":"#DIV/0!"}]
[null,null,0,0,{"$error":"#DIV/0!"}]
[null,null,0,0,{"$error":"#DIV/0!"}]
[null,null,0,0,{"$error":"#DIV/0!"}]
[null,null,0,0,{"$error":"#DIV/0!"}]
[null,null,0,0,{"$error":"#DIV/0!"}]
[null,null,0,0,{"$error":"#DIV/0!"}]
[null,null,0,0,{"$error":"#DIV/0!"}]
[null,null,0,0,{"$error":"#DIV/0!"}]
[null,null,0,0,{"$error":"#DIV/0!"}]
[null,null,0,0,{"$error":"#DIV/0!"}]
[null,null,0,0,{"$error":"#DIV/0!"}]
[null,null,0,0,{"$error":"#DIV/0!"}]
[null,null,0,0,{"$error":"#DIV/0!"}]
[null,null,0,0,{"$error":"#DIV/0!"}]
[null,null,0,0,{"$error":"#DIV/0!"}]
[null,null,0,0,{"$error":"#DIV/0!"}]
[null,null,0,0,{"$error":"#DIV/0!"}]
[null,null,0,0,{"$error":"#DIV/0!"}]
[null,null,0,0,{"$error":"#DIV/0!"}]
[null,null,0,0,{"$error":"#DIV/0!"}]
[null,null,0,0,{"$error":"#DIV/0!"}]
[null,null,0,{"$f":"IF(C9287=0,0,IF(C9287<=D9286,D9286,IF(C9287>D9286,D9286+B$2)))","v":0},{"$f":"IF(AND((D9287-D9286>0),(D9287<=C$2)),\"Controlla operazione\",0)","v":{"$error":"#DIV/0!"}}]
[null,null,{"$f":"IF(B9288>0,C9287+B9288,)","v":0},0,{"$error":"#DIV/0!"}]
[null,null,0,0,{"$error":"#DIV/0!"}]
[null,null,0,0,{"$error":"#DIV/0!"}]
[null,null,0,0,{"$error":"#DIV/0!"}]
[null,null,0,0,{"$error":"#DIV/0!"}]
[null,null,0,0,{"$error":"#DIV/0!"}]
[null,null,0,0,{"$error":"#DIV/0!"}]
[null,null,0,0,{"$error":"#DIV/0!"}]
[null,null,0,0,{"$error":"#DIV/0!"}]
[null,null,0,0,{"$error":"#DIV/0!"}]
[null,null,0,0,{"$error":"#DIV/0!"}]
[null,null,0,0,{"$error":"#DIV/0!"}]
[null,null,0,0,{"$error":"#DIV/0!"}]
[null,null,0,0,{"$error":"#DIV/0!"}]
[null,null,0,0,{"$error":"#DIV/0!"}]
[null,null,0,0,{"$error":"#DIV/0!"}]
[null,null,0,0,{"$error":"#DIV/0!"}]
[null,null,0,0,{"$error":"#DIV/0!"}]
[null,null,0,0,{"$error":"#DIV/0!"}]
[null,null,0,0,{"$error":"#DIV/0!"}]
[null,null,0,0,{"$error":"#DIV/0!"}]
[null,null,0,0,{"$error":"#DIV/0!"}]
[null,null,0,0,{"$error":"#DIV/0!"}]
[null,null,0,0,{"$error":"#DIV/0!"}]
[null,null,0,0,{"$error":"#DIV/0!"}]
[null,null,0,0,{"$error":"#DIV/0!"}]
[null,null,0,0,{"$error":"#DIV/0!"}]
[null,null,0,0,{"$error":"#DIV/0!"}]
[null,null,0,0,{"$error":"#DIV/0!"}]
[null,null,0,0,{"$error":"#DIV/0!"}]
[null,null,0,0,{"$error":"#DIV/0!"}]
[null,null,0,0,{"$error":"#DIV/0!"}]
[null,null,0,0,{"$error":"#DIV/0!"}]
[null,null,0,0,{"$error":"#DIV/0!"}]
[null,null,0,0,{"$error":"#DIV/0!"}]
[null,null,0,0,{"$error":"#DIV/0!"}]
[null,null,0,0,{"$error":"#DIV/0!"}]
[null,null,0,0,{"$error":"#DIV/0!"}]
[null,null,0,0,{"$error":"#DIV/0!"}]
[null,null,0,0,{"$error":"#DIV/0!"}]
[null,null,0,0,{"$error":"#DIV/0!"}]
[null,null,0,0,{"$error":"#DIV/0!"}]
[null,null,0,0,{"$error":"#DIV/0!"}]
[null,null,0,0,{"$error":"#DIV/0!"}]
[null,null,0,0,{"$error":"#DIV/0!"}]
[null,null,0,0,{"$error":"#DIV/0!"}]
[null,null,0,0,{"$error":"#DIV/0!"}]
[null,null,0,0,{"$error":"#DIV/0!"}]
[null,null,0,0,{"$error":"#DIV/0!"}]
[null,null,0,0,{"$error":"#DIV/0!"}]
[null,null,0,0,{"$error":"#DIV/0!"}]
[null,null,0,0,{"$error":"#DIV/0!"}]
[null,null,0,0,{"$error":"#DIV/0!"}]
[null,null,0,0,{"$error":"#DIV/0!"}]
[null,null,0,0,{"$error":"#DIV/0!"}]
[null,null,0,0,{"$error":"#DIV/0!"}]
[null,null,0,0,{"$error":"#DIV/0!"}]
[null,null,0,0,{"$error":"#DIV/0!"}]
[null,null,0,0,{"$error":"#DIV/0!"}]
[null,null,0,0,{"$error":"#DIV/0!"}]
[null,null,0,0,{"$error":"#DIV/0!"}]
[null,null,0,0,{"$error":"#DIV/0!"}]
[null,null,0,0,{"$error":"#DIV/0!"}]
[null,null,0,{"$f":"IF(C9351=0,0,IF(C9351<=D9350,D9350,IF(C9351>D9350,D9350+B$2)))","v":0},{"$f":"IF(AND((D9351-D9350>0),(D9351<=C$2)),\"Controlla operazione\",0)","v":{"$error":"#DIV/0!"}}]
[null,null,{"$f":"IF(B9352>0,C9351+B9352,)","v":0},0,{"$error":"#DIV/0!"}]
[null,null,0,0,{"$error":"#DIV/0!"}]
[null,null,0,0,{"$error":"#DIV/0!"}]
[null,null,0,0,{"$error":"#DIV/0!"}]
[null,null,0,0,{"$error":"#DIV/0!"}]
[null,null,0,0,{"$error":"#DIV/0!"}]
[null,null,0,0,{"$error":"#DIV/0!"}]
[null,null,0,0,{"$error":"#DIV/0!"}]
[null,null,0,0,{"$error":"#DIV/0!"}]
[null,null,0,0,{"$error":"#DIV/0!"}]
[null,null,0,0,{"$error":"#DIV/0!"}]
[null,null,0,0,{"$error":"#DIV/0!"}]
[null,null,0,0,{"$error":"#DIV/0!"}]
[null,null,0,0,{"$error":"#DIV/0!"}]
[null,null,0,0,{"$error":"#DIV/0!"}]
[null,null,0,0,{"$error":"#DIV/0!"}]
[null,null,0,0,{"$error":"#DIV/0!"}]
[null,null,0,0,{"$error":"#DIV/0!"}]
[null,null,0,0,{"$error":"#DIV/0!"}]
[null,null,0,0,{"$error":"#DIV/0!"}]
[null,null,0,0,{"$error":"#DIV/0!"}]
[null,null,0,0,{"$error":"#DIV/0!"}]
[null,null,0,0,{"$error":"#DIV/0!"}]
[null,null,0,0,{"$error":"#DIV/0!"}]
[null,null,0,0,{"$error":"#DIV/0!"}]
[null,null,0,0,{"$error":"#DIV/0!"}]
[null,null,0,0,{"$error":"#DIV/0!"}]
[null,null,0,0,{"$error":"#DIV/0!"}]
[null,null,0,0,{"$error":"#DIV/0!"}]
[null,null,0,0,{"$error":"#DIV/0!"}]
[null,null,0,0,{"$error":"#DIV/0!"}]
[null,null,0,0,{"$error":"#DIV/0!"}]
[null,null,0,0,{"$error":"#DIV/0!"}]
[null,null,0,0,{"$error":"#DIV/0!"}]
[null,null,0,0,{"$error":"#DIV/0!"}]
[null,null,0,0,{"$error":"#DIV/0!"}]
[null,null,0,0,{"$error":"#DIV/0!"}]
[null,null,0,0,{"$error":"#DIV/0!"}]
[null,null,0,0,{"$error":"#DIV/0!"}]
[null,null,0,0,{"$error":"#DIV/0!"}]
[null,null,0,0,{"$error":"#DIV/0!"}]
[null,null,0,0,{"$error":"#DIV/0!"}]
[null,null,0,0,{"$error":"#DIV/0!"}]
[null,null,0,0,{"$error":"#DIV/0!"}]
[null,null,0,0,{"$error":"#DIV/0!"}]
[null,null,0,0,{"$error":"#DIV/0!"}]
[null,null,0,0,{"$error":"#DIV/0!"}]
[null,null,0,0,{"$error":"#DIV/0!"}]
[null,null,0,0,{"$error":"#DIV/0!"}]
[null,null,0,0,{"$error":"#DIV/0!"}]
[null,null,0,0,{"$error":"#DIV/0!"}]
[null,null,0,0,{"$error":"#DIV/0!"}]
[null,null,0,0,{"$error":"#DIV/0!"}]
[null,null,0,0,{"$error":"#DIV/0!"}]
[null,null,0,0,{"$error":"#DIV/0!"}]
[null,null,0,0,{"$error":"#DIV/0!"}]
[null,null,0,0,{"$error":"#DIV/0!"}]
[null,null,0,0,{"$error":"#DIV/0!"}]
[null,null,0,0,{"$error":"#DIV/0!"}]
[null,null,0,0,{"$error":"#DIV/0!"}]
[null,null,0,0,{"$error":"#DIV/0!"}]
[null,null,0,0,{"$error":"#DIV/0!"}]
[null,null,0,0,{"$error":"#DIV/0!"}]
[null,null,0,{"$f":"IF(C9415=0,0,IF(C9415<=D9414,D9414,IF(C9415>D9414,D9414+B$2)))","v":0},{"$f":"IF(AND((D9415-D9414>0),(D9415<=C$2)),\"Controlla operazione\",0)","v":{"$error":"#DIV/0!"}}]
[null,null,{"$f":"IF(B9416>0,C9415+B9416,)","v":0},0,{"$error":"#DIV/0!"}]
[null,null,0,0,{"$error":"#DIV/0!"}]
[null,null,0,0,{"$error":"#DIV/0!"}]
[null,null,0,0,{"$error":"#DIV/0!"}]
[null,null,0,0,{"$error":"#DIV/0!"}]
[null,null,0,0,{"$error":"#DIV/0!"}]
[null,null,0,0,{"$error":"#DIV/0!"}]
[null,null,0,0,{"$error":"#DIV/0!"}]
[null,null,0,0,{"$error":"#DIV/0!"}]
[null,null,0,0,{"$error":"#DIV/0!"}]
[null,null,0,0,{"$error":"#DIV/0!"}]
[null,null,0,0,{"$error":"#DIV/0!"}]
[null,null,0,0,{"$error":"#DIV/0!"}]
[null,null,0,0,{"$error":"#DIV/0!"}]
[null,null,0,0,{"$error":"#DIV/0!"}]
[null,null,0,0,{"$error":"#DIV/0!"}]
[null,null,0,0,{"$error":"#DIV/0!"}]
[null,null,0,0,{"$error":"#DIV/0!"}]
[null,null,0,0,{"$error":"#DIV/0!"}]
[null,null,0,0,{"$error":"#DIV/0!"}]
[null,null,0,0,{"$error":"#DIV/0!"}]
[null,null,0,0,{"$error":"#DIV/0!"}]
[null,null,0,0,{"$error":"#DIV/0!"}]
[null,null,0,0,{"$error":"#DIV/0!"}]
[null,null,0,0,{"$error":"#DIV/0!"}]
[null,null,0,0,{"$error":"#DIV/0!"}]
[null,null,0,0,{"$error":"#DIV/0!"}]
[null,null,0,0,{"$error":"#DIV/0!"}]
[null,null,0,0,{"$error":"#DIV/0!"}]
[null,null,0,0,{"$error":"#DIV/0!"}]
[null,null,0,0,{"$error":"#DIV/0!"}]
[null,null,0,0,{"$error":"#DIV/0!"}]
[null,null,0,0,{"$error":"#DIV/0!"}]
[null,null,0,0,{"$error":"#DIV/0!"}]
[null,null,0,0,{"$error":"#DIV/0!"}]
[null,null,0,0,{"$error":"#DIV/0!"}]
[null,null,0,0,{"$error":"#DIV/0!"}]
[null,null,0,0,{"$error":"#DIV/0!"}]
[null,null,0,0,{"$error":"#DIV/0!"}]
[null,null,0,0,{"$error":"#DIV/0!"}]
[null,null,0,0,{"$error":"#DIV/0!"}]
[null,null,0,0,{"$error":"#DIV/0!"}]
[null,null,0,0,{"$error":"#DIV/0!"}]
[null,null,0,0,{"$error":"#DIV/0!"}]
[null,null,0,0,{"$error":"#DIV/0!"}]
[null,null,0,0,{"$error":"#DIV/0!"}]
[null,null,0,0,{"$error":"#DIV/0!"}]
[null,null,0,0,{"$error":"#DIV/0!"}]
[null,null,0,0,{"$error":"#DIV/0!"}]
[null,null,0,0,{"$error":"#DIV/0!"}]
[null,null,0,0,{"$error":"#DIV/0!"}]
[null,null,0,0,{"$error":"#DIV/0!"}]
[null,null,0,0,{"$error":"#DIV/0!"}]
[null,null,0,0,{"$error":"#DIV/0!"}]
[null,null,0,0,{"$error":"#DIV/0!"}]
[null,null,0,0,{"$error":"#DIV/0!"}]
[null,null,0,0,{"$error":"#DIV/0!"}]
[null,null,0,0,{"$error":"#DIV/0!"}]
[null,null,0,0,{"$error":"#DIV/0!"}]
[null,null,0,0,{"$error":"#DIV/0!"}]
[null,null,0,0,{"$error":"#DIV/0!"}]
[null,null,0,0,{"$error":"#DIV/0!"}]
[null,null,0,0,{"$error":"#DIV/0!"}]
[null,null,0,{"$f":"IF(C9479=0,0,IF(C9479<=D9478,D9478,IF(C9479>D9478,D9478+B$2)))","v":0},{"$f":"IF(AND((D9479-D9478>0),(D9479<=C$2)),\"Controlla operazione\",0)","v":{"$error":"#DIV/0!"}}]
[null,null,{"$f":"IF(B9480>0,C9479+B9480,)","v":0},0,{"$error":"#DIV/0!"}]
[null,null,0,0,{"$error":"#DIV/0!"}]
[null,null,0,0,{"$error":"#DIV/0!"}]
[null,null,0,0,{"$error":"#DIV/0!"}]
[null,null,0,0,{"$error":"#DIV/0!"}]
[null,null,0,0,{"$error":"#DIV/0!"}]
[null,null,0,0,{"$error":"#DIV/0!"}]
[null,null,0,0,{"$error":"#DIV/0!"}]
[null,null,0,0,{"$error":"#DIV/0!"}]
[null,null,0,0,{"$error":"#DIV/0!"}]
[null,null,0,0,{"$error":"#DIV/0!"}]
[null,null,0,0,{"$error":"#DIV/0!"}]
[null,null,0,0,{"$error":"#DIV/0!"}]
[null,null,0,0,{"$error":"#DIV/0!"}]
[null,null,0,0,{"$error":"#DIV/0!"}]
[null,null,0,0,{"$error":"#DIV/0!"}]
[null,null,0,0,{"$error":"#DIV/0!"}]
[null,null,0,0,{"$error":"#DIV/0!"}]
[null,null,0,0,{"$error":"#DIV/0!"}]
[null,null,0,0,{"$error":"#DIV/0!"}]
[null,null,0,0,{"$error":"#DIV/0!"}]
[null,null,0,0,{"$error":"#DIV/0!"}]
[null,null,0,0,{"$error":"#DIV/0!"}]
[null,null,0,0,{"$error":"#DIV/0!"}]
[null,null,0,0,{"$error":"#DIV/0!"}]
[null,null,0,0,{"$error":"#DIV/0!"}]
[null,null,0,0,{"$error":"#DIV/0!"}]
[null,null,0,0,{"$error":"#DIV/0!"}]
[null,null,0,0,{"$error":"#DIV/0!"}]
[null,null,0,0,{"$error":"#DIV/0!"}]
[null,null,0,0,{"$error":"#DIV/0!"}]
[null,null,0,0,{"$error":"#DIV/0!"}]
[null,null,0,0,{"$error":"#DIV/0!"}]
[null,null,0,0,{"$error":"#DIV/0!"}]
[null,null,0,0,{"$error":"#DIV/0!"}]
[null,null,0,0,{"$error":"#DIV/0!"}]
[null,null,0,0,{"$error":"#DIV/0!"}]
[null,null,0,0,{"$error":"#DIV/0!"}]
[null,null,0,0,{"$error":"#DIV/0!"}]
[null,null,0,0,{"$error":"#DIV/0!"}]
[null,null,0,0,{"$error":"#DIV/0!"}]
[null,null,0,0,{"$error":"#DIV/0!"}]
[null,null,0,0,{"$error":"#DIV/0!"}]
[null,null,0,0,{"$error":"#DIV/0!"}]
[null,null,0,0,{"$error":"#DIV/0!"}]
[null,null,0,0,{"$error":"#DIV/0!"}]
[null,null,0,0,{"$error":"#DIV/0!"}]
[null,null,0,0,{"$error":"#DIV/0!"}]
[null,null,0,0,{"$error":"#DIV/0!"}]
[null,null,0,0,{"$error":"#DIV/0!"}]
[null,null,0,0,{"$error":"#DIV/0!"}]
[null,null,0,0,{"$error":"#DIV/0!"}]
[null,null,0,0,{"$error":"#DIV/0!"}]
[null,null,0,0,{"$error":"#DIV/0!"}]
[null,null,0,0,{"$error":"#DIV/0!"}]
[null,null,0,0,{"$error":"#DIV/0!"}]
[null,null,0,0,{"$error":"#DIV/0!"}]
[null,null,0,0,{"$error":"#DIV/0!"}]
[null,null,0,0,{"$error":"#DIV/0!"}]
[null,null,0,0,{"$error":"#DIV/0!"}]
[null,null,0,0,{"$error":"#DIV/0!"}]
[null,null,0,0,{"$error":"#DIV/0!"}]
[null,null,0,0,{"$error":"#DIV/0!"}]
[null,null,0,{"$f":"IF(C9543=0,0,IF(C9543<=D9542,D9542,IF(C9543>D9542,D9542+B$2)))","v":0},{"$f":"IF(AND((D9543-D9542>0),(D9543<=C$2)),\"Controlla operazione\",0)","v":{"$error":"#DIV/0!"}}]
[null,null,{"$f":"IF(B9544>0,C9543+B9544,)","v":0},0,{"$error":"#DIV/0!"}]
[null,null,0,0,{"$error":"#DIV/0!"}]
[null,null,0,0,{"$error":"#DIV/0!"}]
[null,null,0,0,{"$error":"#DIV/0!"}]
[null,null,0,0,{"$error":"#DIV/0!"}]
[null,null,0,0,{"$error":"#DIV/0!"}]
[null,null,0,0,{"$error":"#DIV/0!"}]
[null,null,0,0,{"$error":"#DIV/0!"}]
[null,null,0,0,{"$error":"#DIV/0!"}]
[null,null,0,0,{"$error":"#DIV/0!"}]
[null,null,0,0,{"$error":"#DIV/0!"}]
[null,null,0,0,{"$error":"#DIV/0!"}]
[null,null,0,0,{"$error":"#DIV/0!"}]
[null,null,0,0,{"$error":"#DIV/0!"}]
[null,null,0,0,{"$error":"#DIV/0!"}]
[null,null,0,0,{"$error":"#DIV/0!"}]
[null,null,0,0,{"$error":"#DIV/0!"}]
[null,null,0,0,{"$error":"#DIV/0!"}]
[null,null,0,0,{"$error":"#DIV/0!"}]
[null,null,0,0,{"$error":"#DIV/0!"}]
[null,null,0,0,{"$error":"#DIV/0!"}]
[null,null,0,0,{"$error":"#DIV/0!"}]
[null,null,0,0,{"$error":"#DIV/0!"}]
[null,null,0,0,{"$error":"#DIV/0!"}]
[null,null,0,0,{"$error":"#DIV/0!"}]
[null,null,0,0,{"$error":"#DIV/0!"}]
[null,null,0,0,{"$error":"#DIV/0!"}]
[null,null,0,0,{"$error":"#DIV/0!"}]
[null,null,0,0,{"$error":"#DIV/0!"}]
[null,null,0,0,{"$error":"#DIV/0!"}]
[null,null,0,0,{"$error":"#DIV/0!"}]
[null,null,0,0,{"$error":"#DIV/0!"}]
[null,null,0,0,{"$error":"#DIV/0!"}]
[null,null,0,0,{"$error":"#DIV/0!"}]
[null,null,0,0,{"$error":"#DIV/0!"}]
[null,null,0,0,{"$error":"#DIV/0!"}]
[null,null,0,0,{"$error":"#DIV/0!"}]
[null,null,0,0,{"$error":"#DIV/0!"}]
[null,null,0,0,{"$error":"#DIV/0!"}]
[null,null,0,0,{"$error":"#DIV/0!"}]
[null,null,0,0,{"$error":"#DIV/0!"}]
[null,null,0,0,{"$error":"#DIV/0!"}]
[null,null,0,0,{"$error":"#DIV/0!"}]
[null,null,0,0,{"$error":"#DIV/0!"}]
[null,null,0,0,{"$error":"#DIV/0!"}]
[null,null,0,0,{"$error":"#DIV/0!"}]
[null,null,0,0,{"$error":"#DIV/0!"}]
[null,null,0,0,{"$error":"#DIV/0!"}]
[null,null,0,0,{"$error":"#DIV/0!"}]
[null,null,0,0,{"$error":"#DIV/0!"}]
[null,null,0,0,{"$error":"#DIV/0!"}]
[null,null,0,0,{"$error":"#DIV/0!"}]
[null,null,0,0,{"$error":"#DIV/0!"}]
[null,null,0,0,{"$error":"#DIV/0!"}]
[null,null,0,0,{"$error":"#DIV/0!"}]
[null,null,0,0,{"$error":"#DIV/0!"}]
[null,null,0,0,{"$error":"#DIV/0!"}]
[null,null,0,0,{"$error":"#DIV/0!"}]
[null,null,0,0,{"$error":"#DIV/0!"}]
[null,null,0,0,{"$error":"#DIV/0!"}]
[null,null,0,0,{"$error":"#DIV/0!"}]
[null,null,0,0,{"$error":"#DIV/0!"}]
[null,null,0,0,{"$error":"#DIV/0!"}]
[null,null,0,{"$f":"IF(C9607=0,0,IF(C9607<=D9606,D9606,IF(C9607>D9606,D9606+B$2)))","v":0},{"$f":"IF(AND((D9607-D9606>0),(D9607<=C$2)),\"Controlla operazione\",0)","v":{"$error":"#DIV/0!"}}]
[null,null,{"$f":"IF(B9608>0,C9607+B9608,)","v":0},0,{"$error":"#DIV/0!"}]
[null,null,0,0,{"$error":"#DIV/0!"}]
[null,null,0,0,{"$error":"#DIV/0!"}]
[null,null,0,0,{"$error":"#DIV/0!"}]
[null,null,0,0,{"$error":"#DIV/0!"}]
[null,null,0,0,{"$error":"#DIV/0!"}]
[null,null,0,0,{"$error":"#DIV/0!"}]
[null,null,0,0,{"$error":"#DIV/0!"}]
[null,null,0,0,{"$error":"#DIV/0!"}]
[null,null,0,0,{"$error":"#DIV/0!"}]
[null,null,0,0,{"$error":"#DIV/0!"}]
[null,null,0,0,{"$error":"#DIV/0!"}]
[null,null,0,0,{"$error":"#DIV/0!"}]
[null,null,0,0,{"$error":"#DIV/0!"}]
[null,null,0,0,{"$error":"#DIV/0!"}]
[null,null,0,0,{"$error":"#DIV/0!"}]
[null,null,0,0,{"$error":"#DIV/0!"}]
[null,null,0,0,{"$error":"#DIV/0!"}]
[null,null,0,0,{"$error":"#DIV/0!"}]
[null,null,0,0,{"$error":"#DIV/0!"}]
[null,null,0,0,{"$error":"#DIV/0!"}]
[null,null,0,0,{"$error":"#DIV/0!"}]
[null,null,0,0,{"$error":"#DIV/0!"}]
[null,null,0,0,{"$error":"#DIV/0!"}]
[null,null,0,0,{"$error":"#DIV/0!"}]
[null,null,0,0,{"$error":"#DIV/0!"}]
[null,null,0,0,{"$error":"#DIV/0!"}]
[null,null,0,0,{"$error":"#DIV/0!"}]
[null,null,0,0,{"$error":"#DIV/0!"}]
[null,null,0,0,{"$error":"#DIV/0!"}]
[null,null,0,0,{"$error":"#DIV/0!"}]
[null,null,0,0,{"$error":"#DIV/0!"}]
[null,null,0,0,{"$error":"#DIV/0!"}]
[null,null,0,0,{"$error":"#DIV/0!"}]
[null,null,0,0,{"$error":"#DIV/0!"}]
[null,null,0,0,{"$error":"#DIV/0!"}]
[null,null,0,0,{"$error":"#DIV/0!"}]
[null,null,0,0,{"$error":"#DIV/0!"}]
[null,null,0,0,{"$error":"#DIV/0!"}]
[null,null,0,0,{"$error":"#DIV/0!"}]
[null,null,0,0,{"$error":"#DIV/0!"}]
[null,null,0,0,{"$error":"#DIV/0!"}]
[null,null,0,0,{"$error":"#DIV/0!"}]
[null,null,0,0,{"$error":"#DIV/0!"}]
[null,null,0,0,{"$error":"#DIV/0!"}]
[null,null,0,0,{"$error":"#DIV/0!"}]
[null,null,0,0,{"$error":"#DIV/0!"}]
[null,null,0,0,{"$error":"#DIV/0!"}]
[null,null,0,0,{"$error":"#DIV/0!"}]
[null,null,0,0,{"$error":"#DIV/0!"}]
[null,null,0,0,{"$error":"#DIV/0!"}]
[null,null,0,0,{"$error":"#DIV/0!"}]
[null,null,0,0,{"$error":"#DIV/0!"}]
[null,null,0,0,{"$error":"#DIV/0!"}]
[null,null,0,0,{"$error":"#DIV/0!"}]
[null,null,0,0,{"$error":"#DIV/0!"}]
[null,null,0,0,{"$error":"#DIV/0!"}]
[null,null,0,0,{"$error":"#DIV/0!"}]
[null,null,0,0,{"$error":"#DIV/0!"}]
[null,null,0,0,{"$error":"#DIV/0!"}]
[null,null,0,0,{"$error":"#DIV/0!"}]
[null,null,0,0,{"$error":"#DIV/0!"}]
[null,null,0,0,{"$error":"#DIV/0!"}]
[null,null,0,{"$f":"IF(C9671=0,0,IF(C9671<=D9670,D9670,IF(C9671>D9670,D9670+B$2)))","v":0},{"$f":"IF(AND((D9671-D9670>0),(D9671<=C$2)),\"Controlla operazione\",0)","v":{"$error":"#DIV/0!"}}]
[null,null,{"$f":"IF(B9672>0,C9671+B9672,)","v":0},0,{"$error":"#DIV/0!"}]
[null,null,0,0,{"$error":"#DIV/0!"}]
[null,null,0,0,{"$error":"#DIV/0!"}]
[null,null,0,0,{"$error":"#DIV/0!"}]
[null,null,0,0,{"$error":"#DIV/0!"}]
[null,null,0,0,{"$error":"#DIV/0!"}]
[null,null,0,0,{"$error":"#DIV/0!"}]
[null,null,0,0,{"$error":"#DIV/0!"}]
[null,null,0,0,{"$error":"#DIV/0!"}]
[null,null,0,0,{"$error":"#DIV/0!"}]
[null,null,0,0,{"$error":"#DIV/0!"}]
[null,null,0,0,{"$error":"#DIV/0!"}]
[null,null,0,0,{"$error":"#DIV/0!"}]
[null,null,0,0,{"$error":"#DIV/0!"}]
[null,null,0,0,{"$error":"#DIV/0!"}]
[null,null,0,0,{"$error":"#DIV/0!"}]
[null,null,0,0,{"$error":"#DIV/0!"}]
[null,null,0,0,{"$error":"#DIV/0!"}]
[null,null,0,0,{"$error":"#DIV/0!"}]
[null,null,0,0,{"$error":"#DIV/0!"}]
[null,null,0,0,{"$error":"#DIV/0!"}]
[null,null,0,0,{"$error":"#DIV/0!"}]
[null,null,0,0,{"$error":"#DIV/0!"}]
[null,null,0,0,{"$error":"#DIV/0!"}]
[null,null,0,0,{"$error":"#DIV/0!"}]
[null,null,0,0,{"$error":"#DIV/0!"}]
[null,null,0,0,{"$error":"#DIV/0!"}]
[null,null,0,0,{"$error":"#DIV/0!"}]
[null,null,0,0,{"$error":"#DIV/0!"}]
[null,null,0,0,{"$error":"#DIV/0!"}]
[null,null,0,0,{"$error":"#DIV/0!"}]
[null,null,0,0,{"$error":"#DIV/0!"}]
[null,null,0,0,{"$error":"#DIV/0!"}]
[null,null,0,0,{"$error":"#DIV/0!"}]
[null,null,0,0,{"$error":"#DIV/0!"}]
[null,null,0,0,{"$error":"#DIV/0!"}]
[null,null,0,0,{"$error":"#DIV/0!"}]
[null,null,0,0,{"$error":"#DIV/0!"}]
[null,null,0,0,{"$error":"#DIV/0!"}]
[null,null,0,0,{"$error":"#DIV/0!"}]
[null,null,0,0,{"$error":"#DIV/0!"}]
[null,null,0,0,{"$error":"#DIV/0!"}]
[null,null,0,0,{"$error":"#DIV/0!"}]
[null,null,0,0,{"$error":"#DIV/0!"}]
[null,null,0,0,{"$error":"#DIV/0!"}]
[null,null,0,0,{"$error":"#DIV/0!"}]
[null,null,0,0,{"$error":"#DIV/0!"}]
[null,null,0,0,{"$error":"#DIV/0!"}]
[null,null,0,0,{"$error":"#DIV/0!"}]
[null,null,0,0,{"$error":"#DIV/0!"}]
[null,null,0,0,{"$error":"#DIV/0!"}]
[null,null,0,0,{"$error":"#DIV/0!"}]
[null,null,0,0,{"$error":"#DIV/0!"}]
[null,null,0,0,{"$error":"#DIV/0!"}]
[null,null,0,0,{"$error":"#DIV/0!"}]
[null,null,0,0,{"$error":"#DIV/0!"}]
[null,null,0,0,{"$error":"#DIV/0!"}]
[null,null,0,0,{"$error":"#DIV/0!"}]
[null,null,0,0,{"$error":"#DIV/0!"}]
[null,null,0,0,{"$error":"#DIV/0!"}]
[null,null,0,0,{"$error":"#DIV/0!"}]
[null,null,0,0,{"$error":"#DIV/0!"}]
[null,null,0,0,{"$error":"#DIV/0!"}]
[null,null,0,{"$f":"IF(C9735=0,0,IF(C9735<=D9734,D9734,IF(C9735>D9734,D9734+B$2)))","v":0},{"$f":"IF(AND((D9735-D9734>0),(D9735<=C$2)),\"Controlla operazione\",0)","v":{"$error":"#DIV/0!"}}]
[null,null,{"$f":"IF(B9736>0,C9735+B9736,)","v":0},0,{"$error":"#DIV/0!"}]
[null,null,0,0,{"$error":"#DIV/0!"}]
[null,null,0,0,{"$error":"#DIV/0!"}]
[null,null,0,0,{"$error":"#DIV/0!"}]
[null,null,0,0,{"$error":"#DIV/0!"}]
[null,null,0,0,{"$error":"#DIV/0!"}]
[null,null,0,0,{"$error":"#DIV/0!"}]
[null,null,0,0,{"$error":"#DIV/0!"}]
[null,null,0,0,{"$error":"#DIV/0!"}]
[null,null,0,0,{"$error":"#DIV/0!"}]
[null,null,0,0,{"$error":"#DIV/0!"}]
[null,null,0,0,{"$error":"#DIV/0!"}]
[null,null,0,0,{"$error":"#DIV/0!"}]
[null,null,0,0,{"$error":"#DIV/0!"}]
[null,null,0,0,{"$error":"#DIV/0!"}]
[null,null,0,0,{"$error":"#DIV/0!"}]
[null,null,0,0,{"$error":"#DIV/0!"}]
[null,null,0,0,{"$error":"#DIV/0!"}]
[null,null,0,0,{"$error":"#DIV/0!"}]
[null,null,0,0,{"$error":"#DIV/0!"}]
[null,null,0,0,{"$error":"#DIV/0!"}]
[null,null,0,0,{"$error":"#DIV/0!"}]
[null,null,0,0,{"$error":"#DIV/0!"}]
[null,null,0,0,{"$error":"#DIV/0!"}]
[null,null,0,0,{"$error":"#DIV/0!"}]
[null,null,0,0,{"$error":"#DIV/0!"}]
[null,null,0,0,{"$error":"#DIV/0!"}]
[null,null,0,0,{"$error":"#DIV/0!"}]
[null,null,0,0,{"$error":"#DIV/0!"}]
[null,null,0,0,{"$error":"#DIV/0!"}]
[null,null,0,0,{"$error":"#DIV/0!"}]
[null,null,0,0,{"$error":"#DIV/0!"}]
[null,null,0,0,{"$error":"#DIV/0!"}]
[null,null,0,0,{"$error":"#DIV/0!"}]
[null,null,0,0,{"$error":"#DIV/0!"}]
[null,null,0,0,{"$error":"#DIV/0!"}]
[null,null,0,0,{"$error":"#DIV/0!"}]
[null,null,0,0,{"$error":"#DIV/0!"}]
[null,null,0,0,{"$error":"#DIV/0!"}]
[null,null,0,0,{"$error":"#DIV/0!"}]
[null,null,0,0,{"$error":"#DIV/0!"}]
[null,null,0,0,{"$error":"#DIV/0!"}]
[null,null,0,0,{"$error":"#DIV/0!"}]
[null,null,0,0,{"$error":"#DIV/0!"}]
[null,null,0,0,{"$error":"#DIV/0!"}]
[null,null,0,0,{"$error":"#DIV/0!"}]
[null,null,0,0,{"$error":"#DIV/0!"}]
[null,null,0,0,{"$error":"#DIV/0!"}]
[null,null,0,0,{"$error":"#DIV/0!"}]
[null,null,0,0,{"$error":"#DIV/0!"}]
[null,null,0,0,{"$error":"#DIV/0!"}]
[null,null,0,0,{"$error":"#DIV/0!"}]
[null,null,0,0,{"$error":"#DIV/0!"}]
[null,null,0,0,{"$error":"#DIV/0!"}]
[null,null,0,0,{"$error":"#DIV/0!"}]
[null,null,0,0,{"$error":"#DIV/0!"}]
[null,null,0,0,{"$error":"#DIV/0!"}]
[null,null,0,0,{"$error":"#DIV/0!"}]
[null,null,0,0,{"$error":"#DIV/0!"}]
[null,null,0,0,{"$error":"#DIV/0!"}]
[null,null,0,0,{"$error":"#DIV/0!"}]
[null,null,0,0,{"$error":"#DIV/0!"}]
[null,null,0,0,{"$error":"#DIV/0!"}]
[null,null,0,{"$f":"IF(C9799=0,0,IF(C9799<=D9798,D9798,IF(C9799>D9798,D9798+B$2)))","v":0},{"$f":"IF(AND((D9799-D9798>0),(D9799<=C$2)),\"Controlla operazione\",0)","v":{"$error":"#DIV/0!"}}]
[null,null,{"$f":"IF(B9800>0,C9799+B9800,)","v":0},0,{"$error":"#DIV/0!"}]
[null,null,0,0,{"$error":"#DIV/0!"}]
[null,null,0,0,{"$error":"#DIV/0!"}]
[null,null,0,0,{"$error":"#DIV/0!"}]
[null,null,0,0,{"$error":"#DIV/0!"}]
[null,null,0,0,{"$error":"#DIV/0!"}]
[null,null,0,0,{"$error":"#DIV/0!"}]
[null,null,0,0,{"$error":"#DIV/0!"}]
[null,null,0,0,{"$error":"#DIV/0!"}]
[null,null,0,0,{"$error":"#DIV/0!"}]
[null,null,0,0,{"$error":"#DIV/0!"}]
[null,null,0,0,{"$error":"#DIV/0!"}]
[null,null,0,0,{"$error":"#DIV/0!"}]
[null,null,0,0,{"$error":"#DIV/0!"}]
[null,null,0,0,{"$error":"#DIV/0!"}]
[null,null,0,0,{"$error":"#DIV/0!"}]
[null,null,0,0,{"$error":"#DIV/0!"}]
[null,null,0,0,{"$error":"#DIV/0!"}]
[null,null,0,0,{"$error":"#DIV/0!"}]
[null,null,0,0,{"$error":"#DIV/0!"}]
[null,null,0,0,{"$error":"#DIV/0!"}]
[null,null,0,0,{"$error":"#DIV/0!"}]
[null,null,0,0,{"$error":"#DIV/0!"}]
[null,null,0,0,{"$error":"#DIV/0!"}]
[null,null,0,0,{"$error":"#DIV/0!"}]
[null,null,0,0,{"$error":"#DIV/0!"}]
[null,null,0,0,{"$error":"#DIV/0!"}]
[null,null,0,0,{"$error":"#DIV/0!"}]
[null,null,0,0,{"$error":"#DIV/0!"}]
[null,null,0,0,{"$error":"#DIV/0!"}]
[null,null,0,0,{"$error":"#DIV/0!"}]
[null,null,0,0,{"$error":"#DIV/0!"}]
[null,null,0,0,{"$error":"#DIV/0!"}]
[null,null,0,0,{"$error":"#DIV/0!"}]
[null,null,0,0,{"$error":"#DIV/0!"}]
[null,null,0,0,{"$error":"#DIV/0!"}]
[null,null,0,0,{"$error":"#DIV/0!"}]
[null,null,0,0,{"$error":"#DIV/0!"}]
[null,null,0,0,{"$error":"#DIV/0!"}]
[null,null,0,0,{"$error":"#DIV/0!"}]
[null,null,0,0,{"$error":"#DIV/0!"}]
[null,null,0,0,{"$error":"#DIV/0!"}]
[null,null,0,0,{"$error":"#DIV/0!"}]
[null,null,0,0,{"$error":"#DIV/0!"}]
[null,null,0,0,{"$error":"#DIV/0!"}]
[null,null,0,0,{"$error":"#DIV/0!"}]
[null,null,0,0,{"$error":"#DIV/0!"}]
[null,null,0,0,{"$error":"#DIV/0!"}]
[null,null,0,0,{"$error":"#DIV/0!"}]
[null,null,0,0,{"$error":"#DIV/0!"}]
[null,null,0,0,{"$error":"#DIV/0!"}]
[null,null,0,0,{"$error":"#DIV/0!"}]
[null,null,0,0,{"$error":"#DIV/0!"}]
[null,null,0,0,{"$error":"#DIV/0!"}]
[null,null,0,0,{"$error":"#DIV/0!"}]
[null,null,0,0,{"$error":"#DIV/0!"}]
[null,null,0,0,{"$error":"#DIV/0!"}]
[null,null,0,0,{"$error":"#DIV/0!"}]
[null,null,0,0,{"$error":"#DIV/0!"}]
[null,null,0,0,{"$error":"#DIV/0!"}]
[null,null,0,0,{"$error":"#DIV/0!"}]
[null,null,0,0,{"$error":"#DIV/0!"}]
[null,null,0,0,{"$error":"#DIV/0!"}]
[null,null,0,{"$f":"IF(C9863=0,0,IF(C9863<=D9862,D9862,IF(C9863>D9862,D9862+B$2)))","v":0},{"$f":"IF(AND((D9863-D9862>0),(D9863<=C$2)),\"Controlla operazione\",0)","v":{"$error":"#DIV/0!"}}]
[null,null,{"$f":"IF(B9864>0,C9863+B9864,)","v":0},0,{"$error":"#DIV/0!"}]
[null,null,0,0,{"$error":"#DIV/0!"}]
[null,null,0,0,{"$error":"#DIV/0!"}]
[null,null,0,0,{"$error":"#DIV/0!"}]
[null,null,0,0,{"$error":"#DIV/0!"}]
[null,null,0,0,{"$error":"#DIV/0!"}]
[null,null,0,0,{"$error":"#DIV/0!"}]
[null,null,0,0,{"$error":"#DIV/0!"}]
[null,null,0,0,{"$error":"#DIV/0!"}]
[null,null,0,0,{"$error":"#DIV/0!"}]
[null,null,0,0,{"$error":"#DIV/0!"}]
[null,null,0,0,{"$error":"#DIV/0!"}]
[null,null,0,0,{"$error":"#DIV/0!"}]
[null,null,0,0,{"$error":"#DIV/0!"}]
[null,null,0,0,{"$error":"#DIV/0!"}]
[null,null,0,0,{"$error":"#DIV/0!"}]
[null,null,0,0,{"$error":"#DIV/0!"}]
[null,null,0,0,{"$error":"#DIV/0!"}]
[null,null,0,0,{"$error":"#DIV/0!"}]
[null,null,0,0,{"$error":"#DIV/0!"}]
[null,null,0,0,{"$error":"#DIV/0!"}]
[null,null,0,0,{"$error":"#DIV/0!"}]
[null,null,0,0,{"$error":"#DIV/0!"}]
[null,null,0,0,{"$error":"#DIV/0!"}]
[null,null,0,0,{"$error":"#DIV/0!"}]
[null,null,0,0,{"$error":"#DIV/0!"}]
[null,null,0,0,{"$error":"#DIV/0!"}]
[null,null,0,0,{"$error":"#DIV/0!"}]
[null,null,0,0,{"$error":"#DIV/0!"}]
[null,null,0,0,{"$error":"#DIV/0!"}]
[null,null,0,0,{"$error":"#DIV/0!"}]
[null,null,0,0,{"$error":"#DIV/0!"}]
[null,null,0,0,{"$error":"#DIV/0!"}]
[null,null,0,0,{"$error":"#DIV/0!"}]
[null,null,0,0,{"$error":"#DIV/0!"}]
[null,null,0,0,{"$error":"#DIV/0!"}]
[null,null,0,0,{"$error":"#DIV/0!"}]
[null,null,0,0,{"$error":"#DIV/0!"}]
[null,null,0,0,{"$error":"#DIV/0!"}]
[null,null,0,0,{"$error":"#DIV/0!"}]
[null,null,0,0,{"$error":"#DIV/0!"}]
[null,null,0,0,{"$error":"#DIV/0!"}]
[null,null,0,0,{"$error":"#DIV/0!"}]
[null,null,0,0,{"$error":"#DIV/0!"}]
[null,null,0,0,{"$error":"#DIV/0!"}]
[null,null,0,0,{"$error":"#DIV/0!"}]
[null,null,0,0,{"$error":"#DIV/0!"}]
[null,null,0,0,{"$error":"#DIV/0!"}]
[null,null,0,0,{"$error":"#DIV/0!"}]
[null,null,0,0,{"$error":"#DIV/0!"}]
[null,null,0,0,{"$error":"#DIV/0!"}]
[null,null,0,0,{"$error":"#DIV/0!"}]
[null,null,0,0,{"$error":"#DIV/0!"}]
[null,null,0,0,{"$error":"#DIV/0!"}]
[null,null,0,0,{"$error":"#DIV/0!"}]
[null,null,0,0,{"$error":"#DIV/0!"}]
[null,null,0,0,{"$error":"#DIV/0!"}]
[null,null,0,0,{"$error":"#DIV/0!"}]
[null,null,0,0,{"$error":"#DIV/0!"}]
[null,null,0,0,{"$error":"#DIV/0!"}]
[null,null,0,0,{"$error":"#DIV/0!"}]
[null,null,0,0,{"$error":"#DIV/0!"}]
[null,null,0,0,{"$error":"#DIV/0!"}]
[null,null,0,{"$f":"IF(C9927=0,0,IF(C9927<=D9926,D9926,IF(C9927>D9926,D9926+B$2)))","v":0},{"$f":"IF(AND((D9927-D9926>0),(D9927<=C$2)),\"Controlla operazione\",0)","v":{"$error":"#DIV/0!"}}]
[null,null,{"$f":"IF(B9928>0,C9927+B9928,)","v":0},0,{"$error":"#DIV/0!"}]
[null,null,0,0,{"$error":"#DIV/0!"}]
[null,null,0,0,{"$error":"#DIV/0!"}]
[null,null,0,0,{"$error":"#DIV/0!"}]
[null,null,0,0,{"$error":"#DIV/0!"}]
[null,null,0,0,{"$error":"#DIV/0!"}]
[null,null,0,0,{"$error":"#DIV/0!"}]
[null,null,0,0,{"$error":"#DIV/0!"}]
[null,null,0,0,{"$error":"#DIV/0!"}]
[null,null,0,0,{"$error":"#DIV/0!"}]
[null,null,0,0,{"$error":"#DIV/0!"}]
[null,null,0,0,{"$error":"#DIV/0!"}]
[null,null,0,0,{"$error":"#DIV/0!"}]
[null,null,0,0,{"$error":"#DIV/0!"}]
[null,null,0,0,{"$error":"#DIV/0!"}]
[null,null,0,0,{"$error":"#DIV/0!"}]
[null,null,0,0,{"$error":"#DIV/0!"}]
[null,null,0,0,{"$error":"#DIV/0!"}]
[null,null,0,0,{"$error":"#DIV/0!"}]
[null,null,0,0,{"$error":"#DIV/0!"}]
[null,null,0,0,{"$error":"#DIV/0!"}]
[null,null,0,0,{"$error":"#DIV/0!"}]
[null,null,0,0,{"$error":"#DIV/0!"}]
[null,null,0,0,{"$error":"#DIV/0!"}]
[null,null,0,0,{"$error":"#DIV/0!"}]
[null,null,0,0,{"$error":"#DIV/0!"}]
[null,null,0,0,{"$error":"#DIV/0!"}]
[null,null,0,0,{"$error":"#DIV/0!"}]
[null,null,0,0,{"$error":"#DIV/0!"}]
[null,null,0,0,{"$error":"#DIV/0!"}]
[null,null,0,0,{"$error":"#DIV/0!"}]
[null,null,0,0,{"$error":"#DIV/0!"}]
[null,null,0,0,{"$error":"#DIV/0!"}]
[null,null,0,0,{"$error":"#DIV/0!"}]
[null,null,0,0,{"$error":"#DIV/0!"}]
[null,null,0,0,{"$error":"#DIV/0!"}]
[null,null,0,0,{"$error":"#DIV/0!"}]
[null,null,0,0,{"$error":"#DIV/0!"}]
[null,null,0,0,{"$error":"#DIV/0!"}]
[null,null,0,0,{"$error":"#DIV/0!"}]
[null,null,0,0,{"$error":"#DIV/0!"}]
[null,null,0,0,{"$error":"#DIV/0!"}]
[null,null,0,0,{"$error":"#DIV/0!"}]
[null,null,0,0,{"$error":"#DIV/0!"}]
[null,null,0,0,{"$error":"#DIV/0!"}]
[null,null,0,0,{"$error":"#DIV/0!"}]
[null,null,0,0,{"$error":"#DIV/0!"}]
[null,null,0,0,{"$error":"#DIV/0!"}]
[null,null,0,0,{"$error":"#DIV/0!"}]
[null,null,0,0,{"$error":"#DIV/0!"}]
[null,null,0,0,{"$error":"#DIV/0!"}]
[null,null,0,0,{"$error":"#DIV/0!"}]
[null,null,0,0,{"$error":"#DIV/0!"}]
[null,null,0,0,{"$error":"#DIV/0!"}]
[null,null,0,0,{"$error":"#DIV/0!"}]
[null,null,0,0,{"$error":"#DIV/0!"}]
[null,null,0,0,{"$error":"#DIV/0!"}]
[null,null,0,0,{"$error":"#DIV/0!"}]
[null,null,0,0,{"$error":"#DIV/0!"}]
[null,null,0,0,{"$error":"#DIV/0!"}]
[null,null,0,0,{"$error":"#DIV/0!"}]
[null,null,0,0,{"$error":"#DIV/0!"}]
[null,null,0,0,{"$error":"#DIV/0!"}]
[null,null,0,{"$f":"IF(C9991=0,0,IF(C9991<=D9990,D9990,IF(C9991>D9990,D9990+B$2)))","v":0},{"$f":"IF(AND((D9991-D9990>0),(D9991<=C$2)),\"Controlla operazione\",0)","v":{"$error":"#DIV/0!"}}]
[null,null,{"$f":"IF(B9992>0,C9991+B9992,)","v":0},0,{"$error":"#DIV/0!"}]
[null,null,0,0,{"$error":"#DIV/0!"}]
[null,null,0,0,{"$error":"#DIV/0!"}]
[null,null,0,0,{"$error":"#DIV/0!"}]
[null,null,0,0,{"$error":"#DIV/0!"}]
[null,null,0,0,{"$error":"#DIV/0!"}]
[null,null,0,0,{"$error":"#DIV/0!"}]
[null,null,0,0,{"$error":"#DIV/0!"}]
[null,null,0,0,{"$error":"#DIV/0!"}]
[null,null,0,0,{"$error":"#DIV/0!"}]
[null,null,0,0,{"$error":"#DIV/0!"}]
[null,null,0,0,{"$error":"#DIV/0!"}]
[null,null,0,0,{"$error":"#DIV/0!"}]
[null,null,0,0,{"$error":"#DIV/0!"}]

{"sheet":"Campione","index":4,"n_rows":10014,"n_cols":4,"rows_kept":10014,"cut":false,"hidden":false,"merged":[[10,1,10,2],[0,1,0,2],[2,1,2,2],[3,1,3,2],[1,1,1,2],[9,1,9,2],[4,1,4,2],[5,1,5,2],[7,1,7,2],[8,1,8,2],[6,1,6,2]]}
[null,"Programma Operativo"]
[null,"Codice CCI"]
[null,"Asse"]
[null,"Obiettivo prioritario"]
[null,"Totale Spesa certificata (N)",null,{"$f":"'Dimensione del campione'!C2","v":0}]
[null,"Spesa  da campionare (Nj)",null,{"$f":"'Dimensione del campione'!C3","v":0}]
[null,"Livello di fiducia",null,{"$f":"scelta1","v":0.95}]
[null,"Dimensione del campione in unità monetarie (nj)",null,{"$f":"'Dimensione del campione'!C9","v":{"$error":"#DIV/0!"}}]
[null,"Passo di campionamento (kj)",null,{"$f":"'Dimensione del campione'!C10","v":{"$error":"#DIV/0!"}}]
[null,"Numero casuale (  R  )",null,{"$f":"Macro!B3","v":{"$error":"#DIV/0!"}}]
[null,"Dimensione del campione in termini di operazioni da controllare",null,{"$f":"COUNTIF(D15:D10014,\"Controlla operazione\")","v":0}]
[]
[]
[null,{"$f":"Macro!A5","v":"Cod. Operazione"},{"$f":"Macro!B5","v":"Spesa certificata"},"operazione da controllare"]
[null,{"$f":"Macro!A6","v":0},{"$f":"Macro!B6","v":0},{"$f":"Macro!E6","v":{"$error":"#DIV/0!"}}]
[null,{"$f":"Macro!A7","v":0},{"$f":"Macro!B7","v":0},{"$f":"Macro!E7","v":{"$error":"#DIV/0!"}}]
[null,{"$f":"Macro!A8","v":0},{"$f":"Macro!B8","v":0},{"$f":"Macro!E8","v":{"$error":"#DIV/0!"}}]
[null,{"$f":"Macro!A9","v":0},{"$f":"Macro!B9","v":0},{"$f":"Macro!E9","v":{"$error":"#DIV/0!"}}]
[null,{"$f":"Macro!A10","v":0},{"$f":"Macro!B10","v":0},{"$f":"Macro!E10","v":{"$error":"#DIV/0!"}}]
[null,{"$f":"Macro!A11","v":0},{"$f":"Macro!B11","v":0},{"$f":"Macro!E11","v":{"$error":"#DIV/0!"}}]
[null,{"$f":"Macro!A12","v":0},{"$f":"Macro!B12","v":0},{"$f":"Macro!E12","v":{"$error":"#DIV/0!"}}]
[null,{"$f":"Macro!A13","v":0},{"$f":"Macro!B13","v":0},{"$f":"Macro!E13","v":{"$error":"#DIV/0!"}}]
[null,{"$f":"Macro!A14","v":0},{"$f":"Macro!B14","v":0},{"$f":"Macro!E14","v":{"$error":"#DIV/0!"}}]
[null,{"$f":"Macro!A15","v":0},{"$f":"Macro!B15","v":0},{"$f":"Macro!E15","v":{"$error":"#DIV/0!"}}]
[null,{"$f":"Macro!A16","v":0},{"$f":"Macro!B16","v":0},{"$f":"Macro!E16","v":{"$error":"#DIV/0!"}}]
[null,{"$f":"Macro!A17","v":0},{"$f":"Macro!B17","v":0},{"$f":"Macro!E17","v":{"$error":"#DIV/0!"}}]
[null,{"$f":"Macro!A18","v":0},{"$f":"Macro!B18","v":0},{"$f":"Macro!E18","v":{"$error":"#DIV/0!"}}]
[null,{"$f":"Macro!A19","v":0},{"$f":"Macro!B19","v":0},{"$f":"Macro!E19","v":{"$error":"#DIV/0!"}}]
[null,{"$f":"Macro!A20","v":0},{"$f":"Macro!B20","v":0},{"$f":"Macro!E20","v":{"$error":"#DIV/0!"}}]
[null,{"$f":"Macro!A21","v":0},{"$f":"Macro!B21","v":0},{"$f":"Macro!E21","v":{"$error":"#DIV/0!"}}]
[null,{"$f":"Macro!A22","v":0},{"$f":"Macro!B22","v":0},{"$f":"Macro!E22","v":{"$error":"#DIV/0!"}}]
[null,{"$f":"Macro!A23","v":0},{"$f":"Macro!B23","v":0},{"$f":"Macro!E23","v":{"$error":"#DIV/0!"}}]
[null,{"$f":"Macro!A24","v":0},{"$f":"Macro!B24","v":0},{"$f":"Macro!E24","v":{"$error":"#DIV/0!"}}]
[null,{"$f":"Macro!A25","v":0},{"$f":"Macro!B25","v":0},{"$f":"Macro!E25","v":{"$error":"#DIV/0!"}}]
[null,{"$f":"Macro!A26","v":0},{"$f":"Macro!B26","v":0},{"$f":"Macro!E26","v":{"$error":"#DIV/0!"}}]
[null,{"$f":"Macro!A27","v":0},{"$f":"Macro!B27","v":0},{"$f":"Macro!E27","v":{"$error":"#DIV/0!"}}]
[null,{"$f":"Macro!A28","v":0},{"$f":"Macro!B28","v":0},{"$f":"Macro!E28","v":{"$error":"#DIV/0!"}}]
[null,{"$f":"Macro!A29","v":0},{"$f":"Macro!B29","v":0},{"$f":"Macro!E29","v":{"$error":"#DIV/0!"}}]
[null,{"$f":"Macro!A30","v":0},{"$f":"Macro!B30","v":0},{"$f":"Macro!E30","v":{"$error":"#DIV/0!"}}]
[null,{"$f":"Macro!A31","v":0},{"$f":"Macro!B31","v":0},{"$f":"Macro!E31","v":{"$error":"#DIV/0!"}}]
[null,{"$f":"Macro!A32","v":0},{"$f":"Macro!B32","v":0},{"$f":"Macro!E32","v":{"$error":"#DIV/0!"}}]
[null,{"$f":"Macro!A33","v":0},{"$f":"Macro!B33","v":0},{"$f":"Macro!E33","v":{"$error":"#DIV/0!"}}]
[null,{"$f":"Macro!A34","v":0},{"$f":"Macro!B34","v":0},{"$f":"Macro!E34","v":{"$error":"#DIV/0!"}}]
[null,{"$f":"Macro!A35","v":0},{"$f":"Macro!B35","v":0},{"$f":"Macro!E35","v":{"$error":"#DIV/0!"}}]
[null,{"$f":"Macro!A36","v":0},{"$f":"Macro!B36","v":0},{"$f":"Macro!E36","v":{"$error":"#DIV/0!"}}]
[null,{"$f":"Macro!A37","v":0},{"$f":"Macro!B37","v":0},{"$f":"Macro!E37","v":{"$error":"#DIV/0!"}}]
[null,{"$f":"Macro!A38","v":0},{"$f":"Macro!B38","v":0},{"$f":"Macro!E38","v":{"$error":"#DIV/0!"}}]
[null,{"$f":"Macro!A39","v":0},{"$f":"Macro!B39","v":0},{"$f":"Macro!E39","v":{"$error":"#DIV/0!"}}]
[null,{"$f":"Macro!A40","v":0},{"$f":"Macro!B40","v":0},{"$f":"Macro!E40","v":{"$error":"#DIV/0!"}}]
[null,{"$f":"Macro!A41","v":0},{"$f":"Macro!B41","v":0},{"$f":"Macro!E41","v":{"$error":"#DIV/0!"}}]
[null,{"$f":"Macro!A42","v":0},{"$f":"Macro!B42","v":0},{"$f":"Macro!E42","v":{"$error":"#DIV/0!"}}]
[null,{"$f":"Macro!A43","v":0},{"$f":"Macro!B43","v":0},{"$f":"Macro!E43","v":{"$error":"#DIV/0!"}}]
[null,{"$f":"Macro!A44","v":0},{"$f":"Macro!B44","v":0},{"$f":"Macro!E44","v":{"$error":"#DIV/0!"}}]
[null,{"$f":"Macro!A45","v":0},{"$f":"Macro!B45","v":0},{"$f":"Macro!E45","v":{"$error":"#DIV/0!"}}]
[null,{"$f":"Macro!A46","v":0},{"$f":"Macro!B46","v":0},{"$f":"Macro!E46","v":{"$error":"#DIV/0!"}}]
[null,{"$f":"Macro!A47","v":0},{"$f":"Macro!B47","v":0},{"$f":"Macro!E47","v":{"$error":"#DIV/0!"}}]
[null,{"$f":"Macro!A48","v":0},{"$f":"Macro!B48","v":0},{"$f":"Macro!E48","v":{"$error":"#DIV/0!"}}]
[null,{"$f":"Macro!A49","v":0},{"$f":"Macro!B49","v":0},{"$f":"Macro!E49","v":{"$error":"#DIV/0!"}}]
[null,{"$f":"Macro!A50","v":0},{"$f":"Macro!B50","v":0},{"$f":"Macro!E50","v":{"$error":"#DIV/0!"}}]
[null,{"$f":"Macro!A51","v":0},{"$f":"Macro!B51","v":0},{"$f":"Macro!E51","v":{"$error":"#DIV/0!"}}]
[null,{"$f":"Macro!A52","v":0},{"$f":"Macro!B52","v":0},{"$f":"Macro!E52","v":{"$error":"#DIV/0!"}}]
[null,{"$f":"Macro!A53","v":0},{"$f":"Macro!B53","v":0},{"$f":"Macro!E53","v":{"$error":"#DIV/0!"}}]
[null,{"$f":"Macro!A54","v":0},{"$f":"Macro!B54","v":0},{"$f":"Macro!E54","v":{"$error":"#DIV/0!"}}]
[null,{"$f":"Macro!A55","v":0},{"$f":"Macro!B55","v":0},{"$f":"Macro!E55","v":{"$error":"#DIV/0!"}}]
[null,{"$f":"Macro!A56","v":0},{"$f":"Macro!B56","v":0},{"$f":"Macro!E56","v":{"$error":"#DIV/0!"}}]
[null,{"$f":"Macro!A57","v":0},{"$f":"Macro!B57","v":0},{"$f":"Macro!E57","v":{"$error":"#DIV/0!"}}]
[null,{"$f":"Macro!A58","v":0},{"$f":"Macro!B58","v":0},{"$f":"Macro!E58","v":{"$error":"#DIV/0!"}}]
[null,{"$f":"Macro!A59","v":0},{"$f":"Macro!B59","v":0},{"$f":"Macro!E59","v":{"$error":"#DIV/0!"}}]
[null,{"$f":"Macro!A60","v":0},{"$f":"Macro!B60","v":0},{"$f":"Macro!E60","v":{"$error":"#DIV/0!"}}]
[null,{"$f":"Macro!A61","v":0},{"$f":"Macro!B61","v":0},{"$f":"Macro!E61","v":{"$error":"#DIV/0!"}}]
[null,{"$f":"Macro!A62","v":0},{"$f":"Macro!B62","v":0},{"$f":"Macro!E62","v":{"$error":"#DIV/0!"}}]
[null,{"$f":"Macro!A63","v":0},{"$f":"Macro!B63","v":0},{"$f":"Macro!E63","v":{"$error":"#DIV/0!"}}]
[null,{"$f":"Macro!A64","v":0},{"$f":"Macro!B64","v":0},{"$f":"Macro!E64","v":{"$error":"#DIV/0!"}}]
[null,{"$f":"Macro!A65","v":0},{"$f":"Macro!B65","v":0},{"$f":"Macro!E65","v":{"$error":"#DIV/0!"}}]
[null,{"$f":"Macro!A66","v":0},{"$f":"Macro!B66","v":0},{"$f":"Macro!E66","v":{"$error":"#DIV/0!"}}]
[null,{"$f":"Macro!A67","v":0},{"$f":"Macro!B67","v":0},{"$f":"Macro!E67","v":{"$error":"#DIV/0!"}}]
[null,{"$f":"Macro!A68","v":0},{"$f":"Macro!B68","v":0},{"$f":"Macro!E68","v":{"$error":"#DIV/0!"}}]
[null,{"$f":"Macro!A69","v":0},{"$f":"Macro!B69","v":0},{"$f":"Macro!E69","v":{"$error":"#DIV/0!"}}]
[null,{"$f":"Macro!A70","v":0},{"$f":"Macro!B70","v":0},{"$f":"Macro!E70","v":{"$error":"#DIV/0!"}}]
[null,{"$f":"Macro!A71","v":0},{"$f":"Macro!B71","v":0},{"$f":"Macro!E71","v":{"$error":"#DIV/0!"}}]
[null,{"$f":"Macro!A72","v":0},{"$f":"Macro!B72","v":0},{"$f":"Macro!E72","v":{"$error":"#DIV/0!"}}]
[null,{"$f":"Macro!A73","v":0},{"$f":"Macro!B73","v":0},{"$f":"Macro!E73","v":{"$error":"#DIV/0!"}}]
[null,{"$f":"Macro!A74","v":0},{"$f":"Macro!B74","v":0},{"$f":"Macro!E74","v":{"$error":"#DIV/0!"}}]
[null,{"$f":"Macro!A75","v":0},{"$f":"Macro!B75","v":0},{"$f":"Macro!E75","v":{"$error":"#DIV/0!"}}]
[null,{"$f":"Macro!A76","v":0},{"$f":"Macro!B76","v":0},{"$f":"Macro!E76","v":{"$error":"#DIV/0!"}}]
[null,{"$f":"Macro!A77","v":0},{"$f":"Macro!B77","v":0},{"$f":"Macro!E77","v":{"$error":"#DIV/0!"}}]
[null,{"$f":"Macro!A78","v":0},{"$f":"Macro!B78","v":0},{"$f":"Macro!E78","v":{"$error":"#DIV/0!"}}]
[null,{"$f":"Macro!A79","v":0},{"$f":"Macro!B79","v":0},{"$f":"Macro!E79","v":{"$error":"#DIV/0!"}}]
[null,{"$f":"Macro!A80","v":0},{"$f":"Macro!B80","v":0},{"$f":"Macro!E80","v":{"$error":"#DIV/0!"}}]
[null,{"$f":"Macro!A81","v":0},{"$f":"Macro!B81","v":0},{"$f":"Macro!E81","v":{"$error":"#DIV/0!"}}]
[null,{"$f":"Macro!A82","v":0},{"$f":"Macro!B82","v":0},{"$f":"Macro!E82","v":{"$error":"#DIV/0!"}}]
[null,{"$f":"Macro!A83","v":0},{"$f":"Macro!B83","v":0},{"$f":"Macro!E83","v":{"$error":"#DIV/0!"}}]
[null,{"$f":"Macro!A84","v":0},{"$f":"Macro!B84","v":0},{"$f":"Macro!E84","v":{"$error":"#DIV/0!"}}]
[null,{"$f":"Macro!A85","v":0},{"$f":"Macro!B85","v":0},{"$f":"Macro!E85","v":{"$error":"#DIV/0!"}}]
[null,{"$f":"Macro!A86","v":0},{"$f":"Macro!B86","v":0},{"$f":"Macro!E86","v":{"$error":"#DIV/0!"}}]
[null,{"$f":"Macro!A87","v":0},{"$f":"Macro!B87","v":0},{"$f":"Macro!E87","v":{"$error":"#DIV/0!"}}]
[null,{"$f":"Macro!A88","v":0},{"$f":"Macro!B88","v":0},{"$f":"Macro!E88","v":{"$error":"#DIV/0!"}}]
[null,{"$f":"Macro!A89","v":0},{"$f":"Macro!B89","v":0},{"$f":"Macro!E89","v":{"$error":"#DIV/0!"}}]
[null,{"$f":"Macro!A90","v":0},{"$f":"Macro!B90","v":0},{"$f":"Macro!E90","v":{"$error":"#DIV/0!"}}]
[null,{"$f":"Macro!A91","v":0},{"$f":"Macro!B91","v":0},{"$f":"Macro!E91","v":{"$error":"#DIV/0!"}}]
[null,{"$f":"Macro!A92","v":0},{"$f":"Macro!B92","v":0},{"$f":"Macro!E92","v":{"$error":"#DIV/0!"}}]
[null,{"$f":"Macro!A93","v":0},{"$f":"Macro!B93","v":0},{"$f":"Macro!E93","v":{"$error":"#DIV/0!"}}]
[null,{"$f":"Macro!A94","v":0},{"$f":"Macro!B94","v":0},{"$f":"Macro!E94","v":{"$error":"#DIV/0!"}}]
[null,{"$f":"Macro!A95","v":0},{"$f":"Macro!B95","v":0},{"$f":"Macro!E95","v":{"$error":"#DIV/0!"}}]
[null,{"$f":"Macro!A96","v":0},{"$f":"Macro!B96","v":0},{"$f":"Macro!E96","v":{"$error":"#DIV/0!"}}]
[null,{"$f":"Macro!A97","v":0},{"$f":"Macro!B97","v":0},{"$f":"Macro!E97","v":{"$error":"#DIV/0!"}}]
[null,{"$f":"Macro!A98","v":0},{"$f":"Macro!B98","v":0},{"$f":"Macro!E98","v":{"$error":"#DIV/0!"}}]
[null,{"$f":"Macro!A99","v":0},{"$f":"Macro!B99","v":0},{"$f":"Macro!E99","v":{"$error":"#DIV/0!"}}]
[null,{"$f":"Macro!A100","v":0},{"$f":"Macro!B100","v":0},{"$f":"Macro!E100","v":{"$error":"#DIV/0!"}}]
[null,{"$f":"Macro!A101","v":0},{"$f":"Macro!B101","v":0},{"$f":"Macro!E101","v":{"$error":"#DIV/0!"}}]
[null,{"$f":"Macro!A102","v":0},{"$f":"Macro!B102","v":0},{"$f":"Macro!E102","v":{"$error":"#DIV/0!"}}]
[null,{"$f":"Macro!A103","v":0},{"$f":"Macro!B103","v":0},{"$f":"Macro!E103","v":{"$error":"#DIV/0!"}}]
[null,{"$f":"Macro!A104","v":0},{"$f":"Macro!B104","v":0},{"$f":"Macro!E104","v":{"$error":"#DIV/0!"}}]
[null,{"$f":"Macro!A105","v":0},{"$f":"Macro!B105","v":0},{"$f":"Macro!E105","v":{"$error":"#DIV/0!"}}]
[null,{"$f":"Macro!A106","v":0},{"$f":"Macro!B106","v":0},{"$f":"Macro!E106","v":{"$error":"#DIV/0!"}}]
[null,{"$f":"Macro!A107","v":0},{"$f":"Macro!B107","v":0},{"$f":"Macro!E107","v":{"$error":"#DIV/0!"}}]
[null,{"$f":"Macro!A108","v":0},{"$f":"Macro!B108","v":0},{"$f":"Macro!E108","v":{"$error":"#DIV/0!"}}]
[null,{"$f":"Macro!A109","v":0},{"$f":"Macro!B109","v":0},{"$f":"Macro!E109","v":{"$error":"#DIV/0!"}}]
[null,{"$f":"Macro!A110","v":0},{"$f":"Macro!B110","v":0},{"$f":"Macro!E110","v":{"$error":"#DIV/0!"}}]
[null,{"$f":"Macro!A111","v":0},{"$f":"Macro!B111","v":0},{"$f":"Macro!E111","v":{"$error":"#DIV/0!"}}]
[null,{"$f":"Macro!A112","v":0},{"$f":"Macro!B112","v":0},{"$f":"Macro!E112","v":{"$error":"#DIV/0!"}}]
[null,{"$f":"Macro!A113","v":0},{"$f":"Macro!B113","v":0},{"$f":"Macro!E113","v":{"$error":"#DIV/0!"}}]
[null,{"$f":"Macro!A114","v":0},{"$f":"Macro!B114","v":0},{"$f":"Macro!E114","v":{"$error":"#DIV/0!"}}]
[null,{"$f":"Macro!A115","v":0},{"$f":"Macro!B115","v":0},{"$f":"Macro!E115","v":{"$error":"#DIV/0!"}}]
[null,{"$f":"Macro!A116","v":0},{"$f":"Macro!B116","v":0},{"$f":"Macro!E116","v":{"$error":"#DIV/0!"}}]
[null,{"$f":"Macro!A117","v":0},{"$f":"Macro!B117","v":0},{"$f":"Macro!E117","v":{"$error":"#DIV/0!"}}]
[null,{"$f":"Macro!A118","v":0},{"$f":"Macro!B118","v":0},{"$f":"Macro!E118","v":{"$error":"#DIV/0!"}}]
[null,{"$f":"Macro!A119","v":0},{"$f":"Macro!B119","v":0},{"$f":"Macro!E119","v":{"$error":"#DIV/0!"}}]
[null,{"$f":"Macro!A120","v":0},{"$f":"Macro!B120","v":0},{"$f":"Macro!E120","v":{"$error":"#DIV/0!"}}]
[null,{"$f":"Macro!A121","v":0},{"$f":"Macro!B121","v":0},{"$f":"Macro!E121","v":{"$error":"#DIV/0!"}}]
[null,{"$f":"Macro!A122","v":0},{"$f":"Macro!B122","v":0},{"$f":"Macro!E122","v":{"$error":"#DIV/0!"}}]
[null,{"$f":"Macro!A123","v":0},{"$f":"Macro!B123","v":0},{"$f":"Macro!E123","v":{"$error":"#DIV/0!"}}]
[null,{"$f":"Macro!A124","v":0},{"$f":"Macro!B124","v":0},{"$f":"Macro!E124","v":{"$error":"#DIV/0!"}}]
[null,{"$f":"Macro!A125","v":0},{"$f":"Macro!B125","v":0},{"$f":"Macro!E125","v":{"$error":"#DIV/0!"}}]
[null,{"$f":"Macro!A126","v":0},{"$f":"Macro!B126","v":0},{"$f":"Macro!E126","v":{"$error":"#DIV/0!"}}]
[null,{"$f":"Macro!A127","v":0},{"$f":"Macro!B127","v":0},{"$f":"Macro!E127","v":{"$error":"#DIV/0!"}}]
[null,{"$f":"Macro!A128","v":0},{"$f":"Macro!B128","v":0},{"$f":"Macro!E128","v":{"$error":"#DIV/0!"}}]
[null,{"$f":"Macro!A129","v":0},{"$f":"Macro!B129","v":0},{"$f":"Macro!E129","v":{"$error":"#DIV/0!"}}]
[null,{"$f":"Macro!A130","v":0},{"$f":"Macro!B130","v":0},{"$f":"Macro!E130","v":{"$error":"#DIV/0!"}}]
[null,{"$f":"Macro!A131","v":0},{"$f":"Macro!B131","v":0},{"$f":"Macro!E131","v":{"$error":"#DIV/0!"}}]
[null,{"$f":"Macro!A132","v":0},{"$f":"Macro!B132","v":0},{"$f":"Macro!E132","v":{"$error":"#DIV/0!"}}]
[null,{"$f":"Macro!A133","v":0},{"$f":"Macro!B133","v":0},{"$f":"Macro!E133","v":{"$error":"#DIV/0!"}}]
[null,{"$f":"Macro!A134","v":0},{"$f":"Macro!B134","v":0},{"$f":"Macro!E134","v":{"$error":"#DIV/0!"}}]
[null,{"$f":"Macro!A135","v":0},{"$f":"Macro!B135","v":0},{"$f":"Macro!E135","v":{"$error":"#DIV/0!"}}]
[null,{"$f":"Macro!A136","v":0},{"$f":"Macro!B136","v":0},{"$f":"Macro!E136","v":{"$error":"#DIV/0!"}}]
[null,{"$f":"Macro!A137","v":0},{"$f":"Macro!B137","v":0},{"$f":"Macro!E137","v":{"$error":"#DIV/0!"}}]
[null,{"$f":"Macro!A138","v":0},{"$f":"Macro!B138","v":0},{"$f":"Macro!E138","v":{"$error":"#DIV/0!"}}]
[null,{"$f":"Macro!A139","v":0},{"$f":"Macro!B139","v":0},{"$f":"Macro!E139","v":{"$error":"#DIV/0!"}}]
[null,{"$f":"Macro!A140","v":0},{"$f":"Macro!B140","v":0},{"$f":"Macro!E140","v":{"$error":"#DIV/0!"}}]
[null,{"$f":"Macro!A141","v":0},{"$f":"Macro!B141","v":0},{"$f":"Macro!E141","v":{"$error":"#DIV/0!"}}]
[null,{"$f":"Macro!A142","v":0},{"$f":"Macro!B142","v":0},{"$f":"Macro!E142","v":{"$error":"#DIV/0!"}}]
[null,{"$f":"Macro!A143","v":0},{"$f":"Macro!B143","v":0},{"$f":"Macro!E143","v":{"$error":"#DIV/0!"}}]
[null,{"$f":"Macro!A144","v":0},{"$f":"Macro!B144","v":0},{"$f":"Macro!E144","v":{"$error":"#DIV/0!"}}]
[null,{"$f":"Macro!A145","v":0},{"$f":"Macro!B145","v":0},{"$f":"Macro!E145","v":{"$error":"#DIV/0!"}}]
[null,{"$f":"Macro!A146","v":0},{"$f":"Macro!B146","v":0},{"$f":"Macro!E146","v":{"$error":"#DIV/0!"}}]
[null,{"$f":"Macro!A147","v":0},{"$f":"Macro!B147","v":0},{"$f":"Macro!E147","v":{"$error":"#DIV/0!"}}]
[null,{"$f":"Macro!A148","v":0},{"$f":"Macro!B148","v":0},{"$f":"Macro!E148","v":{"$error":"#DIV/0!"}}]
[null,{"$f":"Macro!A149","v":0},{"$f":"Macro!B149","v":0},{"$f":"Macro!E149","v":{"$error":"#DIV/0!"}}]
[null,{"$f":"Macro!A150","v":0},{"$f":"Macro!B150","v":0},{"$f":"Macro!E150","v":{"$error":"#DIV/0!"}}]
[null,{"$f":"Macro!A151","v":0},{"$f":"Macro!B151","v":0},{"$f":"Macro!E151","v":{"$error":"#DIV/0!"}}]
[null,{"$f":"Macro!A152","v":0},{"$f":"Macro!B152","v":0},{"$f":"Macro!E152","v":{"$error":"#DIV/0!"}}]
[null,{"$f":"Macro!A153","v":0},{"$f":"Macro!B153","v":0},{"$f":"Macro!E153","v":{"$error":"#DIV/0!"}}]
[null,{"$f":"Macro!A154","v":0},{"$f":"Macro!B154","v":0},{"$f":"Macro!E154","v":{"$error":"#DIV/0!"}}]
[null,{"$f":"Macro!A155","v":0},{"$f":"Macro!B155","v":0},{"$f":"Macro!E155","v":{"$error":"#DIV/0!"}}]
[null,{"$f":"Macro!A156","v":0},{"$f":"Macro!B156","v":0},{"$f":"Macro!E156","v":{"$error":"#DIV/0!"}}]
[null,{"$f":"Macro!A157","v":0},{"$f":"Macro!B157","v":0},{"$f":"Macro!E157","v":{"$error":"#DIV/0!"}}]
[null,{"$f":"Macro!A158","v":0},{"$f":"Macro!B158","v":0},{"$f":"Macro!E158","v":{"$error":"#DIV/0!"}}]
[null,{"$f":"Macro!A159","v":0},{"$f":"Macro!B159","v":0},{"$f":"Macro!E159","v":{"$error":"#DIV/0!"}}]
[null,{"$f":"Macro!A160","v":0},{"$f":"Macro!B160","v":0},{"$f":"Macro!E160","v":{"$error":"#DIV/0!"}}]
[null,{"$f":"Macro!A161","v":0},{"$f":"Macro!B161","v":0},{"$f":"Macro!E161","v":{"$error":"#DIV/0!"}}]
[null,{"$f":"Macro!A162","v":0},{"$f":"Macro!B162","v":0},{"$f":"Macro!E162","v":{"$error":"#DIV/0!"}}]
[null,{"$f":"Macro!A163","v":0},{"$f":"Macro!B163","v":0},{"$f":"Macro!E163","v":{"$error":"#DIV/0!"}}]
[null,{"$f":"Macro!A164","v":0},{"$f":"Macro!B164","v":0},{"$f":"Macro!E164","v":{"$error":"#DIV/0!"}}]
[null,{"$f":"Macro!A165","v":0},{"$f":"Macro!B165","v":0},{"$f":"Macro!E165","v":{"$error":"#DIV/0!"}}]
[null,{"$f":"Macro!A166","v":0},{"$f":"Macro!B166","v":0},{"$f":"Macro!E166","v":{"$error":"#DIV/0!"}}]
[null,{"$f":"Macro!A167","v":0},{"$f":"Macro!B167","v":0},{"$f":"Macro!E167","v":{"$error":"#DIV/0!"}}]
[null,{"$f":"Macro!A168","v":0},{"$f":"Macro!B168","v":0},{"$f":"Macro!E168","v":{"$error":"#DIV/0!"}}]
[null,{"$f":"Macro!A169","v":0},{"$f":"Macro!B169","v":0},{"$f":"Macro!E169","v":{"$error":"#DIV/0!"}}]
[null,{"$f":"Macro!A170","v":0},{"$f":"Macro!B170","v":0},{"$f":"Macro!E170","v":{"$error":"#DIV/0!"}}]
[null,{"$f":"Macro!A171","v":0},{"$f":"Macro!B171","v":0},{"$f":"Macro!E171","v":{"$error":"#DIV/0!"}}]
[null,{"$f":"Macro!A172","v":0},{"$f":"Macro!B172","v":0},{"$f":"Macro!E172","v":{"$error":"#DIV/0!"}}]
[null,{"$f":"Macro!A173","v":0},{"$f":"Macro!B173","v":0},{"$f":"Macro!E173","v":{"$error":"#DIV/0!"}}]
[null,{"$f":"Macro!A174","v":0},{"$f":"Macro!B174","v":0},{"$f":"Macro!E174","v":{"$error":"#DIV/0!"}}]
[null,{"$f":"Macro!A175","v":0},{"$f":"Macro!B175","v":0},{"$f":"Macro!E175","v":{"$error":"#DIV/0!"}}]
[null,{"$f":"Macro!A176","v":0},{"$f":"Macro!B176","v":0},{"$f":"Macro!E176","v":{"$error":"#DIV/0!"}}]
[null,{"$f":"Macro!A177","v":0},{"$f":"Macro!B177","v":0},{"$f":"Macro!E177","v":{"$error":"#DIV/0!"}}]
[null,{"$f":"Macro!A178","v":0},{"$f":"Macro!B178","v":0},{"$f":"Macro!E178","v":{"$error":"#DIV/0!"}}]
[null,{"$f":"Macro!A179","v":0},{"$f":"Macro!B179","v":0},{"$f":"Macro!E179","v":{"$error":"#DIV/0!"}}]
[null,{"$f":"Macro!A180","v":0},{"$f":"Macro!B180","v":0},{"$f":"Macro!E180","v":{"$error":"#DIV/0!"}}]
[null,{"$f":"Macro!A181","v":0},{"$f":"Macro!B181","v":0},{"$f":"Macro!E181","v":{"$error":"#DIV/0!"}}]
[null,{"$f":"Macro!A182","v":0},{"$f":"Macro!B182","v":0},{"$f":"Macro!E182","v":{"$error":"#DIV/0!"}}]
[null,{"$f":"Macro!A183","v":0},{"$f":"Macro!B183","v":0},{"$f":"Macro!E183","v":{"$error":"#DIV/0!"}}]
[null,{"$f":"Macro!A184","v":0},{"$f":"Macro!B184","v":0},{"$f":"Macro!E184","v":{"$error":"#DIV/0!"}}]
[null,{"$f":"Macro!A185","v":0},{"$f":"Macro!B185","v":0},{"$f":"Macro!E185","v":{"$error":"#DIV/0!"}}]
[null,{"$f":"Macro!A186","v":0},{"$f":"Macro!B186","v":0},{"$f":"Macro!E186","v":{"$error":"#DIV/0!"}}]
[null,{"$f":"Macro!A187","v":0},{"$f":"Macro!B187","v":0},{"$f":"Macro!E187","v":{"$error":"#DIV/0!"}}]
[null,{"$f":"Macro!A188","v":0},{"$f":"Macro!B188","v":0},{"$f":"Macro!E188","v":{"$error":"#DIV/0!"}}]
[null,{"$f":"Macro!A189","v":0},{"$f":"Macro!B189","v":0},{"$f":"Macro!E189","v":{"$error":"#DIV/0!"}}]
[null,{"$f":"Macro!A190","v":0},{"$f":"Macro!B190","v":0},{"$f":"Macro!E190","v":{"$error":"#DIV/0!"}}]
[null,{"$f":"Macro!A191","v":0},{"$f":"Macro!B191","v":0},{"$f":"Macro!E191","v":{"$error":"#DIV/0!"}}]
[null,{"$f":"Macro!A192","v":0},{"$f":"Macro!B192","v":0},{"$f":"Macro!E192","v":{"$error":"#DIV/0!"}}]
[null,{"$f":"Macro!A193","v":0},{"$f":"Macro!B193","v":0},{"$f":"Macro!E193","v":{"$error":"#DIV/0!"}}]
[null,{"$f":"Macro!A194","v":0},{"$f":"Macro!B194","v":0},{"$f":"Macro!E194","v":{"$error":"#DIV/0!"}}]
[null,{"$f":"Macro!A195","v":0},{"$f":"Macro!B195","v":0},{"$f":"Macro!E195","v":{"$error":"#DIV/0!"}}]
[null,{"$f":"Macro!A196","v":0},{"$f":"Macro!B196","v":0},{"$f":"Macro!E196","v":{"$error":"#DIV/0!"}}]
[null,{"$f":"Macro!A197","v":0},{"$f":"Macro!B197","v":0},{"$f":"Macro!E197","v":{"$error":"#DIV/0!"}}]
[null,{"$f":"Macro!A198","v":0},{"$f":"Macro!B198","v":0},{"$f":"Macro!E198","v":{"$error":"#DIV/0!"}}]
[null,{"$f":"Macro!A199","v":0},{"$f":"Macro!B199","v":0},{"$f":"Macro!E199","v":{"$error":"#DIV/0!"}}]
[null,{"$f":"Macro!A200","v":0},{"$f":"Macro!B200","v":0},{"$f":"Macro!E200","v":{"$error":"#DIV/0!"}}]
[null,{"$f":"Macro!A201","v":0},{"$f":"Macro!B201","v":0},{"$f":"Macro!E201","v":{"$error":"#DIV/0!"}}]
[null,{"$f":"Macro!A202","v":0},{"$f":"Macro!B202","v":0},{"$f":"Macro!E202","v":{"$error":"#DIV/0!"}}]
[null,{"$f":"Macro!A203","v":0},{"$f":"Macro!B203","v":0},{"$f":"Macro!E203","v":{"$error":"#DIV/0!"}}]
[null,{"$f":"Macro!A204","v":0},{"$f":"Macro!B204","v":0},{"$f":"Macro!E204","v":{"$error":"#DIV/0!"}}]
[null,{"$f":"Macro!A205","v":0},{"$f":"Macro!B205","v":0},{"$f":"Macro!E205","v":{"$error":"#DIV/0!"}}]
[null,{"$f":"Macro!A206","v":0},{"$f":"Macro!B206","v":0},{"$f":"Macro!E206","v":{"$error":"#DIV/0!"}}]
[null,{"$f":"Macro!A207","v":0},{"$f":"Macro!B207","v":0},{"$f":"Macro!E207","v":{"$error":"#DIV/0!"}}]
[null,{"$f":"Macro!A208","v":0},{"$f":"Macro!B208","v":0},{"$f":"Macro!E208","v":{"$error":"#DIV/0!"}}]
[null,{"$f":"Macro!A209","v":0},{"$f":"Macro!B209","v":0},{"$f":"Macro!E209","v":{"$error":"#DIV/0!"}}]
[null,{"$f":"Macro!A210","v":0},{"$f":"Macro!B210","v":0},{"$f":"Macro!E210","v":{"$error":"#DIV/0!"}}]
[null,{"$f":"Macro!A211","v":0},{"$f":"Macro!B211","v":0},{"$f":"Macro!E211","v":{"$error":"#DIV/0!"}}]
[null,{"$f":"Macro!A212","v":0},{"$f":"Macro!B212","v":0},{"$f":"Macro!E212","v":{"$error":"#DIV/0!"}}]
[null,{"$f":"Macro!A213","v":0},{"$f":"Macro!B213","v":0},{"$f":"Macro!E213","v":{"$error":"#DIV/0!"}}]
[null,{"$f":"Macro!A214","v":0},{"$f":"Macro!B214","v":0},{"$f":"Macro!E214","v":{"$error":"#DIV/0!"}}]
[null,{"$f":"Macro!A215","v":0},{"$f":"Macro!B215","v":0},{"$f":"Macro!E215","v":{"$error":"#DIV/0!"}}]
[null,{"$f":"Macro!A216","v":0},{"$f":"Macro!B216","v":0},{"$f":"Macro!E216","v":{"$error":"#DIV/0!"}}]
[null,{"$f":"Macro!A217","v":0},{"$f":"Macro!B217","v":0},{"$f":"Macro!E217","v":{"$error":"#DIV/0!"}}]
[null,{"$f":"Macro!A218","v":0},{"$f":"Macro!B218","v":0},{"$f":"Macro!E218","v":{"$error":"#DIV/0!"}}]
[null,{"$f":"Macro!A219","v":0},{"$f":"Macro!B219","v":0},{"$f":"Macro!E219","v":{"$error":"#DIV/0!"}}]
[null,{"$f":"Macro!A220","v":0},{"$f":"Macro!B220","v":0},{"$f":"Macro!E220","v":{"$error":"#DIV/0!"}}]
[null,{"$f":"Macro!A221","v":0},{"$f":"Macro!B221","v":0},{"$f":"Macro!E221","v":{"$error":"#DIV/0!"}}]
[null,{"$f":"Macro!A222","v":0},{"$f":"Macro!B222","v":0},{"$f":"Macro!E222","v":{"$error":"#DIV/0!"}}]
[null,{"$f":"Macro!A223","v":0},{"$f":"Macro!B223","v":0},{"$f":"Macro!E223","v":{"$error":"#DIV/0!"}}]
[null,{"$f":"Macro!A224","v":0},{"$f":"Macro!B224","v":0},{"$f":"Macro!E224","v":{"$error":"#DIV/0!"}}]
[null,{"$f":"Macro!A225","v":0},{"$f":"Macro!B225","v":0},{"$f":"Macro!E225","v":{"$error":"#DIV/0!"}}]
[null,{"$f":"Macro!A226","v":0},{"$f":"Macro!B226","v":0},{"$f":"Macro!E226","v":{"$error":"#DIV/0!"}}]
[null,{"$f":"Macro!A227","v":0},{"$f":"Macro!B227","v":0},{"$f":"Macro!E227","v":{"$error":"#DIV/0!"}}]
[null,{"$f":"Macro!A228","v":0},{"$f":"Macro!B228","v":0},{"$f":"Macro!E228","v":{"$error":"#DIV/0!"}}]
[null,{"$f":"Macro!A229","v":0},{"$f":"Macro!B229","v":0},{"$f":"Macro!E229","v":{"$error":"#DIV/0!"}}]
[null,{"$f":"Macro!A230","v":0},{"$f":"Macro!B230","v":0},{"$f":"Macro!E230","v":{"$error":"#DIV/0!"}}]
[null,{"$f":"Macro!A231","v":0},{"$f":"Macro!B231","v":0},{"$f":"Macro!E231","v":{"$error":"#DIV/0!"}}]
[null,{"$f":"Macro!A232","v":0},{"$f":"Macro!B232","v":0},{"$f":"Macro!E232","v":{"$error":"#DIV/0!"}}]
[null,{"$f":"Macro!A233","v":0},{"$f":"Macro!B233","v":0},{"$f":"Macro!E233","v":{"$error":"#DIV/0!"}}]
[null,{"$f":"Macro!A234","v":0},{"$f":"Macro!B234","v":0},{"$f":"Macro!E234","v":{"$error":"#DIV/0!"}}]
[null,{"$f":"Macro!A235","v":0},{"$f":"Macro!B235","v":0},{"$f":"Macro!E235","v":{"$error":"#DIV/0!"}}]
[null,{"$f":"Macro!A236","v":0},{"$f":"Macro!B236","v":0},{"$f":"Macro!E236","v":{"$error":"#DIV/0!"}}]
[null,{"$f":"Macro!A237","v":0},{"$f":"Macro!B237","v":0},{"$f":"Macro!E237","v":{"$error":"#DIV/0!"}}]
[null,{"$f":"Macro!A238","v":0},{"$f":"Macro!B238","v":0},{"$f":"Macro!E238","v":{"$error":"#DIV/0!"}}]
[null,{"$f":"Macro!A239","v":0},{"$f":"Macro!B239","v":0},{"$f":"Macro!E239","v":{"$error":"#DIV/0!"}}]
[null,{"$f":"Macro!A240","v":0},{"$f":"Macro!B240","v":0},{"$f":"Macro!E240","v":{"$error":"#DIV/0!"}}]
[null,{"$f":"Macro!A241","v":0},{"$f":"Macro!B241","v":0},{"$f":"Macro!E241","v":{"$error":"#DIV/0!"}}]
[null,{"$f":"Macro!A242","v":0},{"$f":"Macro!B242","v":0},{"$f":"Macro!E242","v":{"$error":"#DIV/0!"}}]
[null,{"$f":"Macro!A243","v":0},{"$f":"Macro!B243","v":0},{"$f":"Macro!E243","v":{"$error":"#DIV/0!"}}]
[null,{"$f":"Macro!A244","v":0},{"$f":"Macro!B244","v":0},{"$f":"Macro!E244","v":{"$error":"#DIV/0!"}}]
[null,{"$f":"Macro!A245","v":0},{"$f":"Macro!B245","v":0},{"$f":"Macro!E245","v":{"$error":"#DIV/0!"}}]
[null,{"$f":"Macro!A246","v":0},{"$f":"Macro!B246","v":0},{"$f":"Macro!E246","v":{"$error":"#DIV/0!"}}]
[null,{"$f":"Macro!A247","v":0},{"$f":"Macro!B247","v":0},{"$f":"Macro!E247","v":{"$error":"#DIV/0!"}}]
[null,{"$f":"Macro!A248","v":0},{"$f":"Macro!B248","v":0},{"$f":"Macro!E248","v":{"$error":"#DIV/0!"}}]
[null,{"$f":"Macro!A249","v":0},{"$f":"Macro!B249","v":0},{"$f":"Macro!E249","v":{"$error":"#DIV/0!"}}]
[null,{"$f":"Macro!A250","v":0},{"$f":"Macro!B250","v":0},{"$f":"Macro!E250","v":{"$error":"#DIV/0!"}}]
[null,{"$f":"Macro!A251","v":0},{"$f":"Macro!B251","v":0},{"$f":"Macro!E251","v":{"$error":"#DIV/0!"}}]
[null,{"$f":"Macro!A252","v":0},{"$f":"Macro!B252","v":0},{"$f":"Macro!E252","v":{"$error":"#DIV/0!"}}]
[null,{"$f":"Macro!A253","v":0},{"$f":"Macro!B253","v":0},{"$f":"Macro!E253","v":{"$error":"#DIV/0!"}}]
[null,{"$f":"Macro!A254","v":0},{"$f":"Macro!B254","v":0},{"$f":"Macro!E254","v":{"$error":"#DIV/0!"}}]
[null,{"$f":"Macro!A255","v":0},{"$f":"Macro!B255","v":0},{"$f":"Macro!E255","v":{"$error":"#DIV/0!"}}]
[null,{"$f":"Macro!A256","v":0},{"$f":"Macro!B256","v":0},{"$f":"Macro!E256","v":{"$error":"#DIV/0!"}}]
[null,{"$f":"Macro!A257","v":0},{"$f":"Macro!B257","v":0},{"$f":"Macro!E257","v":{"$error":"#DIV/0!"}}]
[null,{"$f":"Macro!A258","v":0},{"$f":"Macro!B258","v":0},{"$f":"Macro!E258","v":{"$error":"#DIV/0!"}}]
[null,{"$f":"Macro!A259","v":0},{"$f":"Macro!B259","v":0},{"$f":"Macro!E259","v":{"$error":"#DIV/0!"}}]
[null,{"$f":"Macro!A260","v":0},{"$f":"Macro!B260","v":0},{"$f":"Macro!E260","v":{"$error":"#DIV/0!"}}]
[null,{"$f":"Macro!A261","v":0},{"$f":"Macro!B261","v":0},{"$f":"Macro!E261","v":{"$error":"#DIV/0!"}}]
[null,{"$f":"Macro!A262","v":0},{"$f":"Macro!B262","v":0},{"$f":"Macro!E262","v":{"$error":"#DIV/0!"}}]
[null,{"$f":"Macro!A263","v":0},{"$f":"Macro!B263","v":0},{"$f":"Macro!E263","v":{"$error":"#DIV/0!"}}]
[null,{"$f":"Macro!A264","v":0},{"$f":"Macro!B264","v":0},{"$f":"Macro!E264","v":{"$error":"#DIV/0!"}}]
[null,{"$f":"Macro!A265","v":0},{"$f":"Macro!B265","v":0},{"$f":"Macro!E265","v":{"$error":"#DIV/0!"}}]
[null,{"$f":"Macro!A266","v":0},{"$f":"Macro!B266","v":0},{"$f":"Macro!E266","v":{"$error":"#DIV/0!"}}]
[null,{"$f":"Macro!A267","v":0},{"$f":"Macro!B267","v":0},{"$f":"Macro!E267","v":{"$error":"#DIV/0!"}}]
[null,{"$f":"Macro!A268","v":0},{"$f":"Macro!B268","v":0},{"$f":"Macro!E268","v":{"$error":"#DIV/0!"}}]
[null,{"$f":"Macro!A269","v":0},{"$f":"Macro!B269","v":0},{"$f":"Macro!E269","v":{"$error":"#DIV/0!"}}]
[null,{"$f":"Macro!A270","v":0},{"$f":"Macro!B270","v":0},{"$f":"Macro!E270","v":{"$error":"#DIV/0!"}}]
[null,{"$f":"Macro!A271","v":0},{"$f":"Macro!B271","v":0},{"$f":"Macro!E271","v":{"$error":"#DIV/0!"}}]
[null,{"$f":"Macro!A272","v":0},{"$f":"Macro!B272","v":0},{"$f":"Macro!E272","v":{"$error":"#DIV/0!"}}]
[null,{"$f":"Macro!A273","v":0},{"$f":"Macro!B273","v":0},{"$f":"Macro!E273","v":{"$error":"#DIV/0!"}}]
[null,{"$f":"Macro!A274","v":0},{"$f":"Macro!B274","v":0},{"$f":"Macro!E274","v":{"$error":"#DIV/0!"}}]
[null,{"$f":"Macro!A275","v":0},{"$f":"Macro!B275","v":0},{"$f":"Macro!E275","v":{"$error":"#DIV/0!"}}]
[null,{"$f":"Macro!A276","v":0},{"$f":"Macro!B276","v":0},{"$f":"Macro!E276","v":{"$error":"#DIV/0!"}}]
[null,{"$f":"Macro!A277","v":0},{"$f":"Macro!B277","v":0},{"$f":"Macro!E277","v":{"$error":"#DIV/0!"}}]
[null,{"$f":"Macro!A278","v":0},{"$f":"Macro!B278","v":0},{"$f":"Macro!E278","v":{"$error":"#DIV/0!"}}]
[null,{"$f":"Macro!A279","v":0},{"$f":"Macro!B279","v":0},{"$f":"Macro!E279","v":{"$error":"#DIV/0!"}}]
[null,{"$f":"Macro!A280","v":0},{"$f":"Macro!B280","v":0},{"$f":"Macro!E280","v":{"$error":"#DIV/0!"}}]
[null,{"$f":"Macro!A281","v":0},{"$f":"Macro!B281","v":0},{"$f":"Macro!E281","v":{"$error":"#DIV/0!"}}]
[null,{"$f":"Macro!A282","v":0},{"$f":"Macro!B282","v":0},{"$f":"Macro!E282","v":{"$error":"#DIV/0!"}}]
[null,{"$f":"Macro!A283","v":0},{"$f":"Macro!B283","v":0},{"$f":"Macro!E283","v":{"$error":"#DIV/0!"}}]
[null,{"$f":"Macro!A284","v":0},{"$f":"Macro!B284","v":0},{"$f":"Macro!E284","v":{"$error":"#DIV/0!"}}]
[null,{"$f":"Macro!A285","v":0},{"$f":"Macro!B285","v":0},{"$f":"Macro!E285","v":{"$error":"#DIV/0!"}}]
[null,{"$f":"Macro!A286","v":0},{"$f":"Macro!B286","v":0},{"$f":"Macro!E286","v":{"$error":"#DIV/0!"}}]
[null,{"$f":"Macro!A287","v":0},{"$f":"Macro!B287","v":0},{"$f":"Macro!E287","v":{"$error":"#DIV/0!"}}]
[null,{"$f":"Macro!A288","v":0},{"$f":"Macro!B288","v":0},{"$f":"Macro!E288","v":{"$error":"#DIV/0!"}}]
[null,{"$f":"Macro!A289","v":0},{"$f":"Macro!B289","v":0},{"$f":"Macro!E289","v":{"$error":"#DIV/0!"}}]
[null,{"$f":"Macro!A290","v":0},{"$f":"Macro!B290","v":0},{"$f":"Macro!E290","v":{"$error":"#DIV/0!"}}]
[null,{"$f":"Macro!A291","v":0},{"$f":"Macro!B291","v":0},{"$f":"Macro!E291","v":{"$error":"#DIV/0!"}}]
[null,{"$f":"Macro!A292","v":0},{"$f":"Macro!B292","v":0},{"$f":"Macro!E292","v":{"$error":"#DIV/0!"}}]
[null,{"$f":"Macro!A293","v":0},{"$f":"Macro!B293","v":0},{"$f":"Macro!E293","v":{"$error":"#DIV/0!"}}]
[null,{"$f":"Macro!A294","v":0},{"$f":"Macro!B294","v":0},{"$f":"Macro!E294","v":{"$error":"#DIV/0!"}}]
[null,{"$f":"Macro!A295","v":0},{"$f":"Macro!B295","v":0},{"$f":"Macro!E295","v":{"$error":"#DIV/0!"}}]
[null,{"$f":"Macro!A296","v":0},{"$f":"Macro!B296","v":0},{"$f":"Macro!E296","v":{"$error":"#DIV/0!"}}]
[null,{"$f":"Macro!A297","v":0},{"$f":"Macro!B297","v":0},{"$f":"Macro!E297","v":{"$error":"#DIV/0!"}}]
[null,{"$f":"Macro!A298","v":0},{"$f":"Macro!B298","v":0},{"$f":"Macro!E298","v":{"$error":"#DIV/0!"}}]
[null,{"$f":"Macro!A299","v":0},{"$f":"Macro!B299","v":0},{"$f":"Macro!E299","v":{"$error":"#DIV/0!"}}]
[null,{"$f":"Macro!A300","v":0},{"$f":"Macro!B300","v":0},{"$f":"Macro!E300","v":{"$error":"#DIV/0!"}}]
[null,{"$f":"Macro!A301","v":0},{"$f":"Macro!B301","v":0},{"$f":"Macro!E301","v":{"$error":"#DIV/0!"}}]
[null,{"$f":"Macro!A302","v":0},{"$f":"Macro!B302","v":0},{"$f":"Macro!E302","v":{"$error":"#DIV/0!"}}]
[null,{"$f":"Macro!A303","v":0},{"$f":"Macro!B303","v":0},{"$f":"Macro!E303","v":{"$error":"#DIV/0!"}}]
[null,{"$f":"Macro!A304","v":0},{"$f":"Macro!B304","v":0},{"$f":"Macro!E304","v":{"$error":"#DIV/0!"}}]
[null,{"$f":"Macro!A305","v":0},{"$f":"Macro!B305","v":0},{"$f":"Macro!E305","v":{"$error":"#DIV/0!"}}]
[null,{"$f":"Macro!A306","v":0},{"$f":"Macro!B306","v":0},{"$f":"Macro!E306","v":{"$error":"#DIV/0!"}}]
[null,{"$f":"Macro!A307","v":0},{"$f":"Macro!B307","v":0},{"$f":"Macro!E307","v":{"$error":"#DIV/0!"}}]
[null,{"$f":"Macro!A308","v":0},{"$f":"Macro!B308","v":0},{"$f":"Macro!E308","v":{"$error":"#DIV/0!"}}]
[null,{"$f":"Macro!A309","v":0},{"$f":"Macro!B309","v":0},{"$f":"Macro!E309","v":{"$error":"#DIV/0!"}}]
[null,{"$f":"Macro!A310","v":0},{"$f":"Macro!B310","v":0},{"$f":"Macro!E310","v":{"$error":"#DIV/0!"}}]
[null,{"$f":"Macro!A311","v":0},{"$f":"Macro!B311","v":0},{"$f":"Macro!E311","v":{"$error":"#DIV/0!"}}]
[null,{"$f":"Macro!A312","v":0},{"$f":"Macro!B312","v":0},{"$f":"Macro!E312","v":{"$error":"#DIV/0!"}}]
[null,{"$f":"Macro!A313","v":0},{"$f":"Macro!B313","v":0},{"$f":"Macro!E313","v":{"$error":"#DIV/0!"}}]
[null,{"$f":"Macro!A314","v":0},{"$f":"Macro!B314","v":0},{"$f":"Macro!E314","v":{"$error":"#DIV/0!"}}]
[null,{"$f":"Macro!A315","v":0},{"$f":"Macro!B315","v":0},{"$f":"Macro!E315","v":{"$error":"#DIV/0!"}}]
[null,{"$f":"Macro!A316","v":0},{"$f":"Macro!B316","v":0},{"$f":"Macro!E316","v":{"$error":"#DIV/0!"}}]
[null,{"$f":"Macro!A317","v":0},{"$f":"Macro!B317","v":0},{"$f":"Macro!E317","v":{"$error":"#DIV/0!"}}]
[null,{"$f":"Macro!A318","v":0},{"$f":"Macro!B318","v":0},{"$f":"Macro!E318","v":{"$error":"#DIV/0!"}}]
[null,{"$f":"Macro!A319","v":0},{"$f":"Macro!B319","v":0},{"$f":"Macro!E319","v":{"$error":"#DIV/0!"}}]
[null,{"$f":"Macro!A320","v":0},{"$f":"Macro!B320","v":0},{"$f":"Macro!E320","v":{"$error":"#DIV/0!"}}]
[null,{"$f":"Macro!A321","v":0},{"$f":"Macro!B321","v":0},{"$f":"Macro!E321","v":{"$error":"#DIV/0!"}}]
[null,{"$f":"Macro!A322","v":0},{"$f":"Macro!B322","v":0},{"$f":"Macro!E322","v":{"$error":"#DIV/0!"}}]
[null,{"$f":"Macro!A323","v":0},{"$f":"Macro!B323","v":0},{"$f":"Macro!E323","v":{"$error":"#DIV/0!"}}]
[null,{"$f":"Macro!A324","v":0},{"$f":"Macro!B324","v":0},{"$f":"Macro!E324","v":{"$error":"#DIV/0!"}}]
[null,{"$f":"Macro!A325","v":0},{"$f":"Macro!B325","v":0},{"$f":"Macro!E325","v":{"$error":"#DIV/0!"}}]
[null,{"$f":"Macro!A326","v":0},{"$f":"Macro!B326","v":0},{"$f":"Macro!E326","v":{"$error":"#DIV/0!"}}]
[null,{"$f":"Macro!A327","v":0},{"$f":"Macro!B327","v":0},{"$f":"Macro!E327","v":{"$error":"#DIV/0!"}}]
[null,{"$f":"Macro!A328","v":0},{"$f":"Macro!B328","v":0},{"$f":"Macro!E328","v":{"$error":"#DIV/0!"}}]
[null,{"$f":"Macro!A329","v":0},{"$f":"Macro!B329","v":0},{"$f":"Macro!E329","v":{"$error":"#DIV/0!"}}]
[null,{"$f":"Macro!A330","v":0},{"$f":"Macro!B330","v":0},{"$f":"Macro!E330","v":{"$error":"#DIV/0!"}}]
[null,{"$f":"Macro!A331","v":0},{"$f":"Macro!B331","v":0},{"$f":"Macro!E331","v":{"$error":"#DIV/0!"}}]
[null,{"$f":"Macro!A332","v":0},{"$f":"Macro!B332","v":0},{"$f":"Macro!E332","v":{"$error":"#DIV/0!"}}]
[null,{"$f":"Macro!A333","v":0},{"$f":"Macro!B333","v":0},{"$f":"Macro!E333","v":{"$error":"#DIV/0!"}}]
[null,{"$f":"Macro!A334","v":0},{"$f":"Macro!B334","v":0},{"$f":"Macro!E334","v":{"$error":"#DIV/0!"}}]
[null,{"$f":"Macro!A335","v":0},{"$f":"Macro!B335","v":0},{"$f":"Macro!E335","v":{"$error":"#DIV/0!"}}]
[null,{"$f":"Macro!A336","v":0},{"$f":"Macro!B336","v":0},{"$f":"Macro!E336","v":{"$error":"#DIV/0!"}}]
[null,{"$f":"Macro!A337","v":0},{"$f":"Macro!B337","v":0},{"$f":"Macro!E337","v":{"$error":"#DIV/0!"}}]
[null,{"$f":"Macro!A338","v":0},{"$f":"Macro!B338","v":0},{"$f":"Macro!E338","v":{"$error":"#DIV/0!"}}]
[null,{"$f":"Macro!A339","v":0},{"$f":"Macro!B339","v":0},{"$f":"Macro!E339","v":{"$error":"#DIV/0!"}}]
[null,{"$f":"Macro!A340","v":0},{"$f":"Macro!B340","v":0},{"$f":"Macro!E340","v":{"$error":"#DIV/0!"}}]
[null,{"$f":"Macro!A341","v":0},{"$f":"Macro!B341","v":0},{"$f":"Macro!E341","v":{"$error":"#DIV/0!"}}]
[null,{"$f":"Macro!A342","v":0},{"$f":"Macro!B342","v":0},{"$f":"Macro!E342","v":{"$error":"#DIV/0!"}}]
[null,{"$f":"Macro!A343","v":0},{"$f":"Macro!B343","v":0},{"$f":"Macro!E343","v":{"$error":"#DIV/0!"}}]
[null,{"$f":"Macro!A344","v":0},{"$f":"Macro!B344","v":0},{"$f":"Macro!E344","v":{"$error":"#DIV/0!"}}]
[null,{"$f":"Macro!A345","v":0},{"$f":"Macro!B345","v":0},{"$f":"Macro!E345","v":{"$error":"#DIV/0!"}}]
[null,{"$f":"Macro!A346","v":0},{"$f":"Macro!B346","v":0},{"$f":"Macro!E346","v":{"$error":"#DIV/0!"}}]
[null,{"$f":"Macro!A347","v":0},{"$f":"Macro!B347","v":0},{"$f":"Macro!E347","v":{"$error":"#DIV/0!"}}]
[null,{"$f":"Macro!A348","v":0},{"$f":"Macro!B348","v":0},{"$f":"Macro!E348","v":{"$error":"#DIV/0!"}}]
[null,{"$f":"Macro!A349","v":0},{"$f":"Macro!B349","v":0},{"$f":"Macro!E349","v":{"$error":"#DIV/0!"}}]
[null,{"$f":"Macro!A350","v":0},{"$f":"Macro!B350","v":0},{"$f":"Macro!E350","v":{"$error":"#DIV/0!"}}]
[null,{"$f":"Macro!A351","v":0},{"$f":"Macro!B351","v":0},{"$f":"Macro!E351","v":{"$error":"#DIV/0!"}}]
[null,{"$f":"Macro!A352","v":0},{"$f":"Macro!B352","v":0},{"$f":"Macro!E352","v":{"$error":"#DIV/0!"}}]
[null,{"$f":"Macro!A353","v":0},{"$f":"Macro!B353","v":0},{"$f":"Macro!E353","v":{"$error":"#DIV/0!"}}]
[null,{"$f":"Macro!A354","v":0},{"$f":"Macro!B354","v":0},{"$f":"Macro!E354","v":{"$error":"#DIV/0!"}}]
[null,{"$f":"Macro!A355","v":0},{"$f":"Macro!B355","v":0},{"$f":"Macro!E355","v":{"$error":"#DIV/0!"}}]
[null,{"$f":"Macro!A356","v":0},{"$f":"Macro!B356","v":0},{"$f":"Macro!E356","v":{"$error":"#DIV/0!"}}]
[null,{"$f":"Macro!A357","v":0},{"$f":"Macro!B357","v":0},{"$f":"Macro!E357","v":{"$error":"#DIV/0!"}}]
[null,{"$f":"Macro!A358","v":0},{"$f":"Macro!B358","v":0},{"$f":"Macro!E358","v":{"$error":"#DIV/0!"}}]
[null,{"$f":"Macro!A359","v":0},{"$f":"Macro!B359","v":0},{"$f":"Macro!E359","v":{"$error":"#DIV/0!"}}]
[null,{"$f":"Macro!A360","v":0},{"$f":"Macro!B360","v":0},{"$f":"Macro!E360","v":{"$error":"#DIV/0!"}}]
[null,{"$f":"Macro!A361","v":0},{"$f":"Macro!B361","v":0},{"$f":"Macro!E361","v":{"$error":"#DIV/0!"}}]
[null,{"$f":"Macro!A362","v":0},{"$f":"Macro!B362","v":0},{"$f":"Macro!E362","v":{"$error":"#DIV/0!"}}]
[null,{"$f":"Macro!A363","v":0},{"$f":"Macro!B363","v":0},{"$f":"Macro!E363","v":{"$error":"#DIV/0!"}}]
[null,{"$f":"Macro!A364","v":0},{"$f":"Macro!B364","v":0},{"$f":"Macro!E364","v":{"$error":"#DIV/0!"}}]
[null,{"$f":"Macro!A365","v":0},{"$f":"Macro!B365","v":0},{"$f":"Macro!E365","v":{"$error":"#DIV/0!"}}]
[null,{"$f":"Macro!A366","v":0},{"$f":"Macro!B366","v":0},{"$f":"Macro!E366","v":{"$error":"#DIV/0!"}}]
[null,{"$f":"Macro!A367","v":0},{"$f":"Macro!B367","v":0},{"$f":"Macro!E367","v":{"$error":"#DIV/0!"}}]
[null,{"$f":"Macro!A368","v":0},{"$f":"Macro!B368","v":0},{"$f":"Macro!E368","v":{"$error":"#DIV/0!"}}]
[null,{"$f":"Macro!A369","v":0},{"$f":"Macro!B369","v":0},{"$f":"Macro!E369","v":{"$error":"#DIV/0!"}}]
[null,{"$f":"Macro!A370","v":0},{"$f":"Macro!B370","v":0},{"$f":"Macro!E370","v":{"$error":"#DIV/0!"}}]
[null,{"$f":"Macro!A371","v":0},{"$f":"Macro!B371","v":0},{"$f":"Macro!E371","v":{"$error":"#DIV/0!"}}]
[null,{"$f":"Macro!A372","v":0},{"$f":"Macro!B372","v":0},{"$f":"Macro!E372","v":{"$error":"#DIV/0!"}}]
[null,{"$f":"Macro!A373","v":0},{"$f":"Macro!B373","v":0},{"$f":"Macro!E373","v":{"$error":"#DIV/0!"}}]
[null,{"$f":"Macro!A374","v":0},{"$f":"Macro!B374","v":0},{"$f":"Macro!E374","v":{"$error":"#DIV/0!"}}]
[null,{"$f":"Macro!A375","v":0},{"$f":"Macro!B375","v":0},{"$f":"Macro!E375","v":{"$error":"#DIV/0!"}}]
[null,{"$f":"Macro!A376","v":0},{"$f":"Macro!B376","v":0},{"$f":"Macro!E376","v":{"$error":"#DIV/0!"}}]
[null,{"$f":"Macro!A377","v":0},{"$f":"Macro!B377","v":0},{"$f":"Macro!E377","v":{"$error":"#DIV/0!"}}]
[null,{"$f":"Macro!A378","v":0},{"$f":"Macro!B378","v":0},{"$f":"Macro!E378","v":{"$error":"#DIV/0!"}}]
[null,{"$f":"Macro!A379","v":0},{"$f":"Macro!B379","v":0},{"$f":"Macro!E379","v":{"$error":"#DIV/0!"}}]
[null,{"$f":"Macro!A380","v":0},{"$f":"Macro!B380","v":0},{"$f":"Macro!E380","v":{"$error":"#DIV/0!"}}]
[null,{"$f":"Macro!A381","v":0},{"$f":"Macro!B381","v":0},{"$f":"Macro!E381","v":{"$error":"#DIV/0!"}}]
[null,{"$f":"Macro!A382","v":0},{"$f":"Macro!B382","v":0},{"$f":"Macro!E382","v":{"$error":"#DIV/0!"}}]
[null,{"$f":"Macro!A383","v":0},{"$f":"Macro!B383","v":0},{"$f":"Macro!E383","v":{"$error":"#DIV/0!"}}]
[null,{"$f":"Macro!A384","v":0},{"$f":"Macro!B384","v":0},{"$f":"Macro!E384","v":{"$error":"#DIV/0!"}}]
[null,{"$f":"Macro!A385","v":0},{"$f":"Macro!B385","v":0},{"$f":"Macro!E385","v":{"$error":"#DIV/0!"}}]
[null,{"$f":"Macro!A386","v":0},{"$f":"Macro!B386","v":0},{"$f":"Macro!E386","v":{"$error":"#DIV/0!"}}]
[null,{"$f":"Macro!A387","v":0},{"$f":"Macro!B387","v":0},{"$f":"Macro!E387","v":{"$error":"#DIV/0!"}}]
[null,{"$f":"Macro!A388","v":0},{"$f":"Macro!B388","v":0},{"$f":"Macro!E388","v":{"$error":"#DIV/0!"}}]
[null,{"$f":"Macro!A389","v":0},{"$f":"Macro!B389","v":0},{"$f":"Macro!E389","v":{"$error":"#DIV/0!"}}]
[null,{"$f":"Macro!A390","v":0},{"$f":"Macro!B390","v":0},{"$f":"Macro!E390","v":{"$error":"#DIV/0!"}}]
[null,{"$f":"Macro!A391","v":0},{"$f":"Macro!B391","v":0},{"$f":"Macro!E391","v":{"$error":"#DIV/0!"}}]
[null,{"$f":"Macro!A392","v":0},{"$f":"Macro!B392","v":0},{"$f":"Macro!E392","v":{"$error":"#DIV/0!"}}]
[null,{"$f":"Macro!A393","v":0},{"$f":"Macro!B393","v":0},{"$f":"Macro!E393","v":{"$error":"#DIV/0!"}}]
[null,{"$f":"Macro!A394","v":0},{"$f":"Macro!B394","v":0},{"$f":"Macro!E394","v":{"$error":"#DIV/0!"}}]
[null,{"$f":"Macro!A395","v":0},{"$f":"Macro!B395","v":0},{"$f":"Macro!E395","v":{"$error":"#DIV/0!"}}]
[null,{"$f":"Macro!A396","v":0},{"$f":"Macro!B396","v":0},{"$f":"Macro!E396","v":{"$error":"#DIV/0!"}}]
[null,{"$f":"Macro!A397","v":0},{"$f":"Macro!B397","v":0},{"$f":"Macro!E397","v":{"$error":"#DIV/0!"}}]
[null,{"$f":"Macro!A398","v":0},{"$f":"Macro!B398","v":0},{"$f":"Macro!E398","v":{"$error":"#DIV/0!"}}]
[null,{"$f":"Macro!A399","v":0},{"$f":"Macro!B399","v":0},{"$f":"Macro!E399","v":{"$error":"#DIV/0!"}}]
[null,{"$f":"Macro!A400","v":0},{"$f":"Macro!B400","v":0},{"$f":"Macro!E400","v":{"$error":"#DIV/0!"}}]
[null,{"$f":"Macro!A401","v":0},{"$f":"Macro!B401","v":0},{"$f":"Macro!E401","v":{"$error":"#DIV/0!"}}]
[null,{"$f":"Macro!A402","v":0},{"$f":"Macro!B402","v":0},{"$f":"Macro!E402","v":{"$error":"#DIV/0!"}}]
[null,{"$f":"Macro!A403","v":0},{"$f":"Macro!B403","v":0},{"$f":"Macro!E403","v":{"$error":"#DIV/0!"}}]
[null,{"$f":"Macro!A404","v":0},{"$f":"Macro!B404","v":0},{"$f":"Macro!E404","v":{"$error":"#DIV/0!"}}]
[null,{"$f":"Macro!A405","v":0},{"$f":"Macro!B405","v":0},{"$f":"Macro!E405","v":{"$error":"#DIV/0!"}}]
[null,{"$f":"Macro!A406","v":0},{"$f":"Macro!B406","v":0},{"$f":"Macro!E406","v":{"$error":"#DIV/0!"}}]
[null,{"$f":"Macro!A407","v":0},{"$f":"Macro!B407","v":0},{"$f":"Macro!E407","v":{"$error":"#DIV/0!"}}]
[null,{"$f":"Macro!A408","v":0},{"$f":"Macro!B408","v":0},{"$f":"Macro!E408","v":{"$error":"#DIV/0!"}}]
[null,{"$f":"Macro!A409","v":0},{"$f":"Macro!B409","v":0},{"$f":"Macro!E409","v":{"$error":"#DIV/0!"}}]
[null,{"$f":"Macro!A410","v":0},{"$f":"Macro!B410","v":0},{"$f":"Macro!E410","v":{"$error":"#DIV/0!"}}]
[null,{"$f":"Macro!A411","v":0},{"$f":"Macro!B411","v":0},{"$f":"Macro!E411","v":{"$error":"#DIV/0!"}}]
[null,{"$f":"Macro!A412","v":0},{"$f":"Macro!B412","v":0},{"$f":"Macro!E412","v":{"$error":"#DIV/0!"}}]
[null,{"$f":"Macro!A413","v":0},{"$f":"Macro!B413","v":0},{"$f":"Macro!E413","v":{"$error":"#DIV/0!"}}]
[null,{"$f":"Macro!A414","v":0},{"$f":"Macro!B414","v":0},{"$f":"Macro!E414","v":{"$error":"#DIV/0!"}}]
[null,{"$f":"Macro!A415","v":0},{"$f":"Macro!B415","v":0},{"$f":"Macro!E415","v":{"$error":"#DIV/0!"}}]
[null,{"$f":"Macro!A416","v":0},{"$f":"Macro!B416","v":0},{"$f":"Macro!E416","v":{"$error":"#DIV/0!"}}]
[null,{"$f":"Macro!A417","v":0},{"$f":"Macro!B417","v":0},{"$f":"Macro!E417","v":{"$error":"#DIV/0!"}}]
[null,{"$f":"Macro!A418","v":0},{"$f":"Macro!B418","v":0},{"$f":"Macro!E418","v":{"$error":"#DIV/0!"}}]
[null,{"$f":"Macro!A419","v":0},{"$f":"Macro!B419","v":0},{"$f":"Macro!E419","v":{"$error":"#DIV/0!"}}]
[null,{"$f":"Macro!A420","v":0},{"$f":"Macro!B420","v":0},{"$f":"Macro!E420","v":{"$error":"#DIV/0!"}}]
[null,{"$f":"Macro!A421","v":0},{"$f":"Macro!B421","v":0},{"$f":"Macro!E421","v":{"$error":"#DIV/0!"}}]
[null,{"$f":"Macro!A422","v":0},{"$f":"Macro!B422","v":0},{"$f":"Macro!E422","v":{"$error":"#DIV/0!"}}]
[null,{"$f":"Macro!A423","v":0},{"$f":"Macro!B423","v":0},{"$f":"Macro!E423","v":{"$error":"#DIV/0!"}}]
[null,{"$f":"Macro!A424","v":0},{"$f":"Macro!B424","v":0},{"$f":"Macro!E424","v":{"$error":"#DIV/0!"}}]
[null,{"$f":"Macro!A425","v":0},{"$f":"Macro!B425","v":0},{"$f":"Macro!E425","v":{"$error":"#DIV/0!"}}]
[null,{"$f":"Macro!A426","v":0},{"$f":"Macro!B426","v":0},{"$f":"Macro!E426","v":{"$error":"#DIV/0!"}}]
[null,{"$f":"Macro!A427","v":0},{"$f":"Macro!B427","v":0},{"$f":"Macro!E427","v":{"$error":"#DIV/0!"}}]
[null,{"$f":"Macro!A428","v":0},{"$f":"Macro!B428","v":0},{"$f":"Macro!E428","v":{"$error":"#DIV/0!"}}]
[null,{"$f":"Macro!A429","v":0},{"$f":"Macro!B429","v":0},{"$f":"Macro!E429","v":{"$error":"#DIV/0!"}}]
[null,{"$f":"Macro!A430","v":0},{"$f":"Macro!B430","v":0},{"$f":"Macro!E430","v":{"$error":"#DIV/0!"}}]
[null,{"$f":"Macro!A431","v":0},{"$f":"Macro!B431","v":0},{"$f":"Macro!E431","v":{"$error":"#DIV/0!"}}]
[null,{"$f":"Macro!A432","v":0},{"$f":"Macro!B432","v":0},{"$f":"Macro!E432","v":{"$error":"#DIV/0!"}}]
[null,{"$f":"Macro!A433","v":0},{"$f":"Macro!B433","v":0},{"$f":"Macro!E433","v":{"$error":"#DIV/0!"}}]
[null,{"$f":"Macro!A434","v":0},{"$f":"Macro!B434","v":0},{"$f":"Macro!E434","v":{"$error":"#DIV/0!"}}]
[null,{"$f":"Macro!A435","v":0},{"$f":"Macro!B435","v":0},{"$f":"Macro!E435","v":{"$error":"#DIV/0!"}}]
[null,{"$f":"Macro!A436","v":0},{"$f":"Macro!B436","v":0},{"$f":"Macro!E436","v":{"$error":"#DIV/0!"}}]
[null,{"$f":"Macro!A437","v":0},{"$f":"Macro!B437","v":0},{"$f":"Macro!E437","v":{"$error":"#DIV/0!"}}]
[null,{"$f":"Macro!A438","v":0},{"$f":"Macro!B438","v":0},{"$f":"Macro!E438","v":{"$error":"#DIV/0!"}}]
[null,{"$f":"Macro!A439","v":0},{"$f":"Macro!B439","v":0},{"$f":"Macro!E439","v":{"$error":"#DIV/0!"}}]
[null,{"$f":"Macro!A440","v":0},{"$f":"Macro!B440","v":0},{"$f":"Macro!E440","v":{"$error":"#DIV/0!"}}]
[null,{"$f":"Macro!A441","v":0},{"$f":"Macro!B441","v":0},{"$f":"Macro!E441","v":{"$error":"#DIV/0!"}}]
[null,{"$f":"Macro!A442","v":0},{"$f":"Macro!B442","v":0},{"$f":"Macro!E442","v":{"$error":"#DIV/0!"}}]
[null,{"$f":"Macro!A443","v":0},{"$f":"Macro!B443","v":0},{"$f":"Macro!E443","v":{"$error":"#DIV/0!"}}]
[null,{"$f":"Macro!A444","v":0},{"$f":"Macro!B444","v":0},{"$f":"Macro!E444","v":{"$error":"#DIV/0!"}}]
[null,{"$f":"Macro!A445","v":0},{"$f":"Macro!B445","v":0},{"$f":"Macro!E445","v":{"$error":"#DIV/0!"}}]
[null,{"$f":"Macro!A446","v":0},{"$f":"Macro!B446","v":0},{"$f":"Macro!E446","v":{"$error":"#DIV/0!"}}]
[null,{"$f":"Macro!A447","v":0},{"$f":"Macro!B447","v":0},{"$f":"Macro!E447","v":{"$error":"#DIV/0!"}}]
[null,{"$f":"Macro!A448","v":0},{"$f":"Macro!B448","v":0},{"$f":"Macro!E448","v":{"$error":"#DIV/0!"}}]
[null,{"$f":"Macro!A449","v":0},{"$f":"Macro!B449","v":0},{"$f":"Macro!E449","v":{"$error":"#DIV/0!"}}]
[null,{"$f":"Macro!A450","v":0},{"$f":"Macro!B450","v":0},{"$f":"Macro!E450","v":{"$error":"#DIV/0!"}}]
[null,{"$f":"Macro!A451","v":0},{"$f":"Macro!B451","v":0},{"$f":"Macro!E451","v":{"$error":"#DIV/0!"}}]
[null,{"$f":"Macro!A452","v":0},{"$f":"Macro!B452","v":0},{"$f":"Macro!E452","v":{"$error":"#DIV/0!"}}]
[null,{"$f":"Macro!A453","v":0},{"$f":"Macro!B453","v":0},{"$f":"Macro!E453","v":{"$error":"#DIV/0!"}}]
[null,{"$f":"Macro!A454","v":0},{"$f":"Macro!B454","v":0},{"$f":"Macro!E454","v":{"$error":"#DIV/0!"}}]
[null,{"$f":"Macro!A455","v":0},{"$f":"Macro!B455","v":0},{"$f":"Macro!E455","v":{"$error":"#DIV/0!"}}]
[null,{"$f":"Macro!A456","v":0},{"$f":"Macro!B456","v":0},{"$f":"Macro!E456","v":{"$error":"#DIV/0!"}}]
[null,{"$f":"Macro!A457","v":0},{"$f":"Macro!B457","v":0},{"$f":"Macro!E457","v":{"$error":"#DIV/0!"}}]
[null,{"$f":"Macro!A458","v":0},{"$f":"Macro!B458","v":0},{"$f":"Macro!E458","v":{"$error":"#DIV/0!"}}]
[null,{"$f":"Macro!A459","v":0},{"$f":"Macro!B459","v":0},{"$f":"Macro!E459","v":{"$error":"#DIV/0!"}}]
[null,{"$f":"Macro!A460","v":0},{"$f":"Macro!B460","v":0},{"$f":"Macro!E460","v":{"$error":"#DIV/0!"}}]
[null,{"$f":"Macro!A461","v":0},{"$f":"Macro!B461","v":0},{"$f":"Macro!E461","v":{"$error":"#DIV/0!"}}]
[null,{"$f":"Macro!A462","v":0},{"$f":"Macro!B462","v":0},{"$f":"Macro!E462","v":{"$error":"#DIV/0!"}}]
[null,{"$f":"Macro!A463","v":0},{"$f":"Macro!B463","v":0},{"$f":"Macro!E463","v":{"$error":"#DIV/0!"}}]
[null,{"$f":"Macro!A464","v":0},{"$f":"Macro!B464","v":0},{"$f":"Macro!E464","v":{"$error":"#DIV/0!"}}]
[null,{"$f":"Macro!A465","v":0},{"$f":"Macro!B465","v":0},{"$f":"Macro!E465","v":{"$error":"#DIV/0!"}}]
[null,{"$f":"Macro!A466","v":0},{"$f":"Macro!B466","v":0},{"$f":"Macro!E466","v":{"$error":"#DIV/0!"}}]
[null,{"$f":"Macro!A467","v":0},{"$f":"Macro!B467","v":0},{"$f":"Macro!E467","v":{"$error":"#DIV/0!"}}]
[null,{"$f":"Macro!A468","v":0},{"$f":"Macro!B468","v":0},{"$f":"Macro!E468","v":{"$error":"#DIV/0!"}}]
[null,{"$f":"Macro!A469","v":0},{"$f":"Macro!B469","v":0},{"$f":"Macro!E469","v":{"$error":"#DIV/0!"}}]
[null,{"$f":"Macro!A470","v":0},{"$f":"Macro!B470","v":0},{"$f":"Macro!E470","v":{"$error":"#DIV/0!"}}]
[null,{"$f":"Macro!A471","v":0},{"$f":"Macro!B471","v":0},{"$f":"Macro!E471","v":{"$error":"#DIV/0!"}}]
[null,{"$f":"Macro!A472","v":0},{"$f":"Macro!B472","v":0},{"$f":"Macro!E472","v":{"$error":"#DIV/0!"}}]
[null,{"$f":"Macro!A473","v":0},{"$f":"Macro!B473","v":0},{"$f":"Macro!E473","v":{"$error":"#DIV/0!"}}]
[null,{"$f":"Macro!A474","v":0},{"$f":"Macro!B474","v":0},{"$f":"Macro!E474","v":{"$error":"#DIV/0!"}}]
[null,{"$f":"Macro!A475","v":0},{"$f":"Macro!B475","v":0},{"$f":"Macro!E475","v":{"$error":"#DIV/0!"}}]
[null,{"$f":"Macro!A476","v":0},{"$f":"Macro!B476","v":0},{"$f":"Macro!E476","v":{"$error":"#DIV/0!"}}]
[null,{"$f":"Macro!A477","v":0},{"$f":"Macro!B477","v":0},{"$f":"Macro!E477","v":{"$error":"#DIV/0!"}}]
[null,{"$f":"Macro!A478","v":0},{"$f":"Macro!B478","v":0},{"$f":"Macro!E478","v":{"$error":"#DIV/0!"}}]
[null,{"$f":"Macro!A479","v":0},{"$f":"Macro!B479","v":0},{"$f":"Macro!E479","v":{"$error":"#DIV/0!"}}]
[null,{"$f":"Macro!A480","v":0},{"$f":"Macro!B480","v":0},{"$f":"Macro!E480","v":{"$error":"#DIV/0!"}}]
[null,{"$f":"Macro!A481","v":0},{"$f":"Macro!B481","v":0},{"$f":"Macro!E481","v":{"$error":"#DIV/0!"}}]
[null,{"$f":"Macro!A482","v":0},{"$f":"Macro!B482","v":0},{"$f":"Macro!E482","v":{"$error":"#DIV/0!"}}]
[null,{"$f":"Macro!A483","v":0},{"$f":"Macro!B483","v":0},{"$f":"Macro!E483","v":{"$error":"#DIV/0!"}}]
[null,{"$f":"Macro!A484","v":0},{"$f":"Macro!B484","v":0},{"$f":"Macro!E484","v":{"$error":"#DIV/0!"}}]
[null,{"$f":"Macro!A485","v":0},{"$f":"Macro!B485","v":0},{"$f":"Macro!E485","v":{"$error":"#DIV/0!"}}]
[null,{"$f":"Macro!A486","v":0},{"$f":"Macro!B486","v":0},{"$f":"Macro!E486","v":{"$error":"#DIV/0!"}}]
[null,{"$f":"Macro!A487","v":0},{"$f":"Macro!B487","v":0},{"$f":"Macro!E487","v":{"$error":"#DIV/0!"}}]
[null,{"$f":"Macro!A488","v":0},{"$f":"Macro!B488","v":0},{"$f":"Macro!E488","v":{"$error":"#DIV/0!"}}]
[null,{"$f":"Macro!A489","v":0},{"$f":"Macro!B489","v":0},{"$f":"Macro!E489","v":{"$error":"#DIV/0!"}}]
[null,{"$f":"Macro!A490","v":0},{"$f":"Macro!B490","v":0},{"$f":"Macro!E490","v":{"$error":"#DIV/0!"}}]
[null,{"$f":"Macro!A491","v":0},{"$f":"Macro!B491","v":0},{"$f":"Macro!E491","v":{"$error":"#DIV/0!"}}]
[null,{"$f":"Macro!A492","v":0},{"$f":"Macro!B492","v":0},{"$f":"Macro!E492","v":{"$error":"#DIV/0!"}}]
[null,{"$f":"Macro!A493","v":0},{"$f":"Macro!B493","v":0},{"$f":"Macro!E493","v":{"$error":"#DIV/0!"}}]
[null,{"$f":"Macro!A494","v":0},{"$f":"Macro!B494","v":0},{"$f":"Macro!E494","v":{"$error":"#DIV/0!"}}]
[null,{"$f":"Macro!A495","v":0},{"$f":"Macro!B495","v":0},{"$f":"Macro!E495","v":{"$error":"#DIV/0!"}}]
[null,{"$f":"Macro!A496","v":0},{"$f":"Macro!B496","v":0},{"$f":"Macro!E496","v":{"$error":"#DIV/0!"}}]
[null,{"$f":"Macro!A497","v":0},{"$f":"Macro!B497","v":0},{"$f":"Macro!E497","v":{"$error":"#DIV/0!"}}]
[null,{"$f":"Macro!A498","v":0},{"$f":"Macro!B498","v":0},{"$f":"Macro!E498","v":{"$error":"#DIV/0!"}}]
[null,{"$f":"Macro!A499","v":0},{"$f":"Macro!B499","v":0},{"$f":"Macro!E499","v":{"$error":"#DIV/0!"}}]
[null,{"$f":"Macro!A500","v":0},{"$f":"Macro!B500","v":0},{"$f":"Macro!E500","v":{"$error":"#DIV/0!"}}]
[null,{"$f":"Macro!A501","v":0},{"$f":"Macro!B501","v":0},{"$f":"Macro!E501","v":{"$error":"#DIV/0!"}}]
[null,{"$f":"Macro!A502","v":0},{"$f":"Macro!B502","v":0},{"$f":"Macro!E502","v":{"$error":"#DIV/0!"}}]
[null,{"$f":"Macro!A503","v":0},{"$f":"Macro!B503","v":0},{"$f":"Macro!E503","v":{"$error":"#DIV/0!"}}]
[null,{"$f":"Macro!A504","v":0},{"$f":"Macro!B504","v":0},{"$f":"Macro!E504","v":{"$error":"#DIV/0!"}}]
[null,{"$f":"Macro!A505","v":0},{"$f":"Macro!B505","v":0},{"$f":"Macro!E505","v":{"$error":"#DIV/0!"}}]
[null,{"$f":"Macro!A506","v":0},{"$f":"Macro!B506","v":0},{"$f":"Macro!E506","v":{"$error":"#DIV/0!"}}]
[null,{"$f":"Macro!A507","v":0},{"$f":"Macro!B507","v":0},{"$f":"Macro!E507","v":{"$error":"#DIV/0!"}}]
[null,{"$f":"Macro!A508","v":0},{"$f":"Macro!B508","v":0},{"$f":"Macro!E508","v":{"$error":"#DIV/0!"}}]
[null,{"$f":"Macro!A509","v":0},{"$f":"Macro!B509","v":0},{"$f":"Macro!E509","v":{"$error":"#DIV/0!"}}]
[null,{"$f":"Macro!A510","v":0},{"$f":"Macro!B510","v":0},{"$f":"Macro!E510","v":{"$error":"#DIV/0!"}}]
[null,{"$f":"Macro!A511","v":0},{"$f":"Macro!B511","v":0},{"$f":"Macro!E511","v":{"$error":"#DIV/0!"}}]
[null,{"$f":"Macro!A512","v":0},{"$f":"Macro!B512","v":0},{"$f":"Macro!E512","v":{"$error":"#DIV/0!"}}]
[null,{"$f":"Macro!A513","v":0},{"$f":"Macro!B513","v":0},{"$f":"Macro!E513","v":{"$error":"#DIV/0!"}}]
[null,{"$f":"Macro!A514","v":0},{"$f":"Macro!B514","v":0},{"$f":"Macro!E514","v":{"$error":"#DIV/0!"}}]
[null,{"$f":"Macro!A515","v":0},{"$f":"Macro!B515","v":0},{"$f":"Macro!E515","v":{"$error":"#DIV/0!"}}]
[null,{"$f":"Macro!A516","v":0},{"$f":"Macro!B516","v":0},{"$f":"Macro!E516","v":{"$error":"#DIV/0!"}}]
[null,{"$f":"Macro!A517","v":0},{"$f":"Macro!B517","v":0},{"$f":"Macro!E517","v":{"$error":"#DIV/0!"}}]
[null,{"$f":"Macro!A518","v":0},{"$f":"Macro!B518","v":0},{"$f":"Macro!E518","v":{"$error":"#DIV/0!"}}]
[null,{"$f":"Macro!A519","v":0},{"$f":"Macro!B519","v":0},{"$f":"Macro!E519","v":{"$error":"#DIV/0!"}}]
[null,{"$f":"Macro!A520","v":0},{"$f":"Macro!B520","v":0},{"$f":"Macro!E520","v":{"$error":"#DIV/0!"}}]
[null,{"$f":"Macro!A521","v":0},{"$f":"Macro!B521","v":0},{"$f":"Macro!E521","v":{"$error":"#DIV/0!"}}]
[null,{"$f":"Macro!A522","v":0},{"$f":"Macro!B522","v":0},{"$f":"Macro!E522","v":{"$error":"#DIV/0!"}}]
[null,{"$f":"Macro!A523","v":0},{"$f":"Macro!B523","v":0},{"$f":"Macro!E523","v":{"$error":"#DIV/0!"}}]
[null,{"$f":"Macro!A524","v":0},{"$f":"Macro!B524","v":0},{"$f":"Macro!E524","v":{"$error":"#DIV/0!"}}]
[null,{"$f":"Macro!A525","v":0},{"$f":"Macro!B525","v":0},{"$f":"Macro!E525","v":{"$error":"#DIV/0!"}}]
[null,{"$f":"Macro!A526","v":0},{"$f":"Macro!B526","v":0},{"$f":"Macro!E526","v":{"$error":"#DIV/0!"}}]
[null,{"$f":"Macro!A527","v":0},{"$f":"Macro!B527","v":0},{"$f":"Macro!E527","v":{"$error":"#DIV/0!"}}]
[null,{"$f":"Macro!A528","v":0},{"$f":"Macro!B528","v":0},{"$f":"Macro!E528","v":{"$error":"#DIV/0!"}}]
[null,{"$f":"Macro!A529","v":0},{"$f":"Macro!B529","v":0},{"$f":"Macro!E529","v":{"$error":"#DIV/0!"}}]
[null,{"$f":"Macro!A530","v":0},{"$f":"Macro!B530","v":0},{"$f":"Macro!E530","v":{"$error":"#DIV/0!"}}]
[null,{"$f":"Macro!A531","v":0},{"$f":"Macro!B531","v":0},{"$f":"Macro!E531","v":{"$error":"#DIV/0!"}}]
[null,{"$f":"Macro!A532","v":0},{"$f":"Macro!B532","v":0},{"$f":"Macro!E532","v":{"$error":"#DIV/0!"}}]
[null,{"$f":"Macro!A533","v":0},{"$f":"Macro!B533","v":0},{"$f":"Macro!E533","v":{"$error":"#DIV/0!"}}]
[null,{"$f":"Macro!A534","v":0},{"$f":"Macro!B534","v":0},{"$f":"Macro!E534","v":{"$error":"#DIV/0!"}}]
[null,{"$f":"Macro!A535","v":0},{"$f":"Macro!B535","v":0},{"$f":"Macro!E535","v":{"$error":"#DIV/0!"}}]
[null,{"$f":"Macro!A536","v":0},{"$f":"Macro!B536","v":0},{"$f":"Macro!E536","v":{"$error":"#DIV/0!"}}]
[null,{"$f":"Macro!A537","v":0},{"$f":"Macro!B537","v":0},{"$f":"Macro!E537","v":{"$error":"#DIV/0!"}}]
[null,{"$f":"Macro!A538","v":0},{"$f":"Macro!B538","v":0},{"$f":"Macro!E538","v":{"$error":"#DIV/0!"}}]
[null,{"$f":"Macro!A539","v":0},{"$f":"Macro!B539","v":0},{"$f":"Macro!E539","v":{"$error":"#DIV/0!"}}]
[null,{"$f":"Macro!A540","v":0},{"$f":"Macro!B540","v":0},{"$f":"Macro!E540","v":{"$error":"#DIV/0!"}}]
[null,{"$f":"Macro!A541","v":0},{"$f":"Macro!B541","v":0},{"$f":"Macro!E541","v":{"$error":"#DIV/0!"}}]
[null,{"$f":"Macro!A542","v":0},{"$f":"Macro!B542","v":0},{"$f":"Macro!E542","v":{"$error":"#DIV/0!"}}]
[null,{"$f":"Macro!A543","v":0},{"$f":"Macro!B543","v":0},{"$f":"Macro!E543","v":{"$error":"#DIV/0!"}}]
[null,{"$f":"Macro!A544","v":0},{"$f":"Macro!B544","v":0},{"$f":"Macro!E544","v":{"$error":"#DIV/0!"}}]
[null,{"$f":"Macro!A545","v":0},{"$f":"Macro!B545","v":0},{"$f":"Macro!E545","v":{"$error":"#DIV/0!"}}]
[null,{"$f":"Macro!A546","v":0},{"$f":"Macro!B546","v":0},{"$f":"Macro!E546","v":{"$error":"#DIV/0!"}}]
[null,{"$f":"Macro!A547","v":0},{"$f":"Macro!B547","v":0},{"$f":"Macro!E547","v":{"$error":"#DIV/0!"}}]
[null,{"$f":"Macro!A548","v":0},{"$f":"Macro!B548","v":0},{"$f":"Macro!E548","v":{"$error":"#DIV/0!"}}]
[null,{"$f":"Macro!A549","v":0},{"$f":"Macro!B549","v":0},{"$f":"Macro!E549","v":{"$error":"#DIV/0!"}}]
[null,{"$f":"Macro!A550","v":0},{"$f":"Macro!B550","v":0},{"$f":"Macro!E550","v":{"$error":"#DIV/0!"}}]
[null,{"$f":"Macro!A551","v":0},{"$f":"Macro!B551","v":0},{"$f":"Macro!E551","v":{"$error":"#DIV/0!"}}]
[null,{"$f":"Macro!A552","v":0},{"$f":"Macro!B552","v":0},{"$f":"Macro!E552","v":{"$error":"#DIV/0!"}}]
[null,{"$f":"Macro!A553","v":0},{"$f":"Macro!B553","v":0},{"$f":"Macro!E553","v":{"$error":"#DIV/0!"}}]
[null,{"$f":"Macro!A554","v":0},{"$f":"Macro!B554","v":0},{"$f":"Macro!E554","v":{"$error":"#DIV/0!"}}]
[null,{"$f":"Macro!A555","v":0},{"$f":"Macro!B555","v":0},{"$f":"Macro!E555","v":{"$error":"#DIV/0!"}}]
[null,{"$f":"Macro!A556","v":0},{"$f":"Macro!B556","v":0},{"$f":"Macro!E556","v":{"$error":"#DIV/0!"}}]
[null,{"$f":"Macro!A557","v":0},{"$f":"Macro!B557","v":0},{"$f":"Macro!E557","v":{"$error":"#DIV/0!"}}]
[null,{"$f":"Macro!A558","v":0},{"$f":"Macro!B558","v":0},{"$f":"Macro!E558","v":{"$error":"#DIV/0!"}}]
[null,{"$f":"Macro!A559","v":0},{"$f":"Macro!B559","v":0},{"$f":"Macro!E559","v":{"$error":"#DIV/0!"}}]
[null,{"$f":"Macro!A560","v":0},{"$f":"Macro!B560","v":0},{"$f":"Macro!E560","v":{"$error":"#DIV/0!"}}]
[null,{"$f":"Macro!A561","v":0},{"$f":"Macro!B561","v":0},{"$f":"Macro!E561","v":{"$error":"#DIV/0!"}}]
[null,{"$f":"Macro!A562","v":0},{"$f":"Macro!B562","v":0},{"$f":"Macro!E562","v":{"$error":"#DIV/0!"}}]
[null,{"$f":"Macro!A563","v":0},{"$f":"Macro!B563","v":0},{"$f":"Macro!E563","v":{"$error":"#DIV/0!"}}]
[null,{"$f":"Macro!A564","v":0},{"$f":"Macro!B564","v":0},{"$f":"Macro!E564","v":{"$error":"#DIV/0!"}}]
[null,{"$f":"Macro!A565","v":0},{"$f":"Macro!B565","v":0},{"$f":"Macro!E565","v":{"$error":"#DIV/0!"}}]
[null,{"$f":"Macro!A566","v":0},{"$f":"Macro!B566","v":0},{"$f":"Macro!E566","v":{"$error":"#DIV/0!"}}]
[null,{"$f":"Macro!A567","v":0},{"$f":"Macro!B567","v":0},{"$f":"Macro!E567","v":{"$error":"#DIV/0!"}}]
[null,{"$f":"Macro!A568","v":0},{"$f":"Macro!B568","v":0},{"$f":"Macro!E568","v":{"$error":"#DIV/0!"}}]
[null,{"$f":"Macro!A569","v":0},{"$f":"Macro!B569","v":0},{"$f":"Macro!E569","v":{"$error":"#DIV/0!"}}]
[null,{"$f":"Macro!A570","v":0},{"$f":"Macro!B570","v":0},{"$f":"Macro!E570","v":{"$error":"#DIV/0!"}}]
[null,{"$f":"Macro!A571","v":0},{"$f":"Macro!B571","v":0},{"$f":"Macro!E571","v":{"$error":"#DIV/0!"}}]
[null,{"$f":"Macro!A572","v":0},{"$f":"Macro!B572","v":0},{"$f":"Macro!E572","v":{"$error":"#DIV/0!"}}]
[null,{"$f":"Macro!A573","v":0},{"$f":"Macro!B573","v":0},{"$f":"Macro!E573","v":{"$error":"#DIV/0!"}}]
[null,{"$f":"Macro!A574","v":0},{"$f":"Macro!B574","v":0},{"$f":"Macro!E574","v":{"$error":"#DIV/0!"}}]
[null,{"$f":"Macro!A575","v":0},{"$f":"Macro!B575","v":0},{"$f":"Macro!E575","v":{"$error":"#DIV/0!"}}]
[null,{"$f":"Macro!A576","v":0},{"$f":"Macro!B576","v":0},{"$f":"Macro!E576","v":{"$error":"#DIV/0!"}}]
[null,{"$f":"Macro!A577","v":0},{"$f":"Macro!B577","v":0},{"$f":"Macro!E577","v":{"$error":"#DIV/0!"}}]
[null,{"$f":"Macro!A578","v":0},{"$f":"Macro!B578","v":0},{"$f":"Macro!E578","v":{"$error":"#DIV/0!"}}]
[null,{"$f":"Macro!A579","v":0},{"$f":"Macro!B579","v":0},{"$f":"Macro!E579","v":{"$error":"#DIV/0!"}}]
[null,{"$f":"Macro!A580","v":0},{"$f":"Macro!B580","v":0},{"$f":"Macro!E580","v":{"$error":"#DIV/0!"}}]
[null,{"$f":"Macro!A581","v":0},{"$f":"Macro!B581","v":0},{"$f":"Macro!E581","v":{"$error":"#DIV/0!"}}]
[null,{"$f":"Macro!A582","v":0},{"$f":"Macro!B582","v":0},{"$f":"Macro!E582","v":{"$error":"#DIV/0!"}}]
[null,{"$f":"Macro!A583","v":0},{"$f":"Macro!B583","v":0},{"$f":"Macro!E583","v":{"$error":"#DIV/0!"}}]
[null,{"$f":"Macro!A584","v":0},{"$f":"Macro!B584","v":0},{"$f":"Macro!E584","v":{"$error":"#DIV/0!"}}]
[null,{"$f":"Macro!A585","v":0},{"$f":"Macro!B585","v":0},{"$f":"Macro!E585","v":{"$error":"#DIV/0!"}}]
[null,{"$f":"Macro!A586","v":0},{"$f":"Macro!B586","v":0},{"$f":"Macro!E586","v":{"$error":"#DIV/0!"}}]
[null,{"$f":"Macro!A587","v":0},{"$f":"Macro!B587","v":0},{"$f":"Macro!E587","v":{"$error":"#DIV/0!"}}]
[null,{"$f":"Macro!A588","v":0},{"$f":"Macro!B588","v":0},{"$f":"Macro!E588","v":{"$error":"#DIV/0!"}}]
[null,{"$f":"Macro!A589","v":0},{"$f":"Macro!B589","v":0},{"$f":"Macro!E589","v":{"$error":"#DIV/0!"}}]
[null,{"$f":"Macro!A590","v":0},{"$f":"Macro!B590","v":0},{"$f":"Macro!E590","v":{"$error":"#DIV/0!"}}]
[null,{"$f":"Macro!A591","v":0},{"$f":"Macro!B591","v":0},{"$f":"Macro!E591","v":{"$error":"#DIV/0!"}}]
[null,{"$f":"Macro!A592","v":0},{"$f":"Macro!B592","v":0},{"$f":"Macro!E592","v":{"$error":"#DIV/0!"}}]
[null,{"$f":"Macro!A593","v":0},{"$f":"Macro!B593","v":0},{"$f":"Macro!E593","v":{"$error":"#DIV/0!"}}]
[null,{"$f":"Macro!A594","v":0},{"$f":"Macro!B594","v":0},{"$f":"Macro!E594","v":{"$error":"#DIV/0!"}}]
[null,{"$f":"Macro!A595","v":0},{"$f":"Macro!B595","v":0},{"$f":"Macro!E595","v":{"$error":"#DIV/0!"}}]
[null,{"$f":"Macro!A596","v":0},{"$f":"Macro!B596","v":0},{"$f":"Macro!E596","v":{"$error":"#DIV/0!"}}]
[null,{"$f":"Macro!A597","v":0},{"$f":"Macro!B597","v":0},{"$f":"Macro!E597","v":{"$error":"#DIV/0!"}}]
[null,{"$f":"Macro!A598","v":0},{"$f":"Macro!B598","v":0},{"$f":"Macro!E598","v":{"$error":"#DIV/0!"}}]
[null,{"$f":"Macro!A599","v":0},{"$f":"Macro!B599","v":0},{"$f":"Macro!E599","v":{"$error":"#DIV/0!"}}]
[null,{"$f":"Macro!A600","v":0},{"$f":"Macro!B600","v":0},{"$f":"Macro!E600","v":{"$error":"#DIV/0!"}}]
[null,{"$f":"Macro!A601","v":0},{"$f":"Macro!B601","v":0},{"$f":"Macro!E601","v":{"$error":"#DIV/0!"}}]
[null,{"$f":"Macro!A602","v":0},{"$f":"Macro!B602","v":0},{"$f":"Macro!E602","v":{"$error":"#DIV/0!"}}]
[null,{"$f":"Macro!A603","v":0},{"$f":"Macro!B603","v":0},{"$f":"Macro!E603","v":{"$error":"#DIV/0!"}}]
[null,{"$f":"Macro!A604","v":0},{"$f":"Macro!B604","v":0},{"$f":"Macro!E604","v":{"$error":"#DIV/0!"}}]
[null,{"$f":"Macro!A605","v":0},{"$f":"Macro!B605","v":0},{"$f":"Macro!E605","v":{"$error":"#DIV/0!"}}]
[null,{"$f":"Macro!A606","v":0},{"$f":"Macro!B606","v":0},{"$f":"Macro!E606","v":{"$error":"#DIV/0!"}}]
[null,{"$f":"Macro!A607","v":0},{"$f":"Macro!B607","v":0},{"$f":"Macro!E607","v":{"$error":"#DIV/0!"}}]
[null,{"$f":"Macro!A608","v":0},{"$f":"Macro!B608","v":0},{"$f":"Macro!E608","v":{"$error":"#DIV/0!"}}]
[null,{"$f":"Macro!A609","v":0},{"$f":"Macro!B609","v":0},{"$f":"Macro!E609","v":{"$error":"#DIV/0!"}}]
[null,{"$f":"Macro!A610","v":0},{"$f":"Macro!B610","v":0},{"$f":"Macro!E610","v":{"$error":"#DIV/0!"}}]
[null,{"$f":"Macro!A611","v":0},{"$f":"Macro!B611","v":0},{"$f":"Macro!E611","v":{"$error":"#DIV/0!"}}]
[null,{"$f":"Macro!A612","v":0},{"$f":"Macro!B612","v":0},{"$f":"Macro!E612","v":{"$error":"#DIV/0!"}}]
[null,{"$f":"Macro!A613","v":0},{"$f":"Macro!B613","v":0},{"$f":"Macro!E613","v":{"$error":"#DIV/0!"}}]
[null,{"$f":"Macro!A614","v":0},{"$f":"Macro!B614","v":0},{"$f":"Macro!E614","v":{"$error":"#DIV/0!"}}]
[null,{"$f":"Macro!A615","v":0},{"$f":"Macro!B615","v":0},{"$f":"Macro!E615","v":{"$error":"#DIV/0!"}}]
[null,{"$f":"Macro!A616","v":0},{"$f":"Macro!B616","v":0},{"$f":"Macro!E616","v":{"$error":"#DIV/0!"}}]
[null,{"$f":"Macro!A617","v":0},{"$f":"Macro!B617","v":0},{"$f":"Macro!E617","v":{"$error":"#DIV/0!"}}]
[null,{"$f":"Macro!A618","v":0},{"$f":"Macro!B618","v":0},{"$f":"Macro!E618","v":{"$error":"#DIV/0!"}}]
[null,{"$f":"Macro!A619","v":0},{"$f":"Macro!B619","v":0},{"$f":"Macro!E619","v":{"$error":"#DIV/0!"}}]
[null,{"$f":"Macro!A620","v":0},{"$f":"Macro!B620","v":0},{"$f":"Macro!E620","v":{"$error":"#DIV/0!"}}]
[null,{"$f":"Macro!A621","v":0},{"$f":"Macro!B621","v":0},{"$f":"Macro!E621","v":{"$error":"#DIV/0!"}}]
[null,{"$f":"Macro!A622","v":0},{"$f":"Macro!B622","v":0},{"$f":"Macro!E622","v":{"$error":"#DIV/0!"}}]
[null,{"$f":"Macro!A623","v":0},{"$f":"Macro!B623","v":0},{"$f":"Macro!E623","v":{"$error":"#DIV/0!"}}]
[null,{"$f":"Macro!A624","v":0},{"$f":"Macro!B624","v":0},{"$f":"Macro!E624","v":{"$error":"#DIV/0!"}}]
[null,{"$f":"Macro!A625","v":0},{"$f":"Macro!B625","v":0},{"$f":"Macro!E625","v":{"$error":"#DIV/0!"}}]
[null,{"$f":"Macro!A626","v":0},{"$f":"Macro!B626","v":0},{"$f":"Macro!E626","v":{"$error":"#DIV/0!"}}]
[null,{"$f":"Macro!A627","v":0},{"$f":"Macro!B627","v":0},{"$f":"Macro!E627","v":{"$error":"#DIV/0!"}}]
[null,{"$f":"Macro!A628","v":0},{"$f":"Macro!B628","v":0},{"$f":"Macro!E628","v":{"$error":"#DIV/0!"}}]
[null,{"$f":"Macro!A629","v":0},{"$f":"Macro!B629","v":0},{"$f":"Macro!E629","v":{"$error":"#DIV/0!"}}]
[null,{"$f":"Macro!A630","v":0},{"$f":"Macro!B630","v":0},{"$f":"Macro!E630","v":{"$error":"#DIV/0!"}}]
[null,{"$f":"Macro!A631","v":0},{"$f":"Macro!B631","v":0},{"$f":"Macro!E631","v":{"$error":"#DIV/0!"}}]
[null,{"$f":"Macro!A632","v":0},{"$f":"Macro!B632","v":0},{"$f":"Macro!E632","v":{"$error":"#DIV/0!"}}]
[null,{"$f":"Macro!A633","v":0},{"$f":"Macro!B633","v":0},{"$f":"Macro!E633","v":{"$error":"#DIV/0!"}}]
[null,{"$f":"Macro!A634","v":0},{"$f":"Macro!B634","v":0},{"$f":"Macro!E634","v":{"$error":"#DIV/0!"}}]
[null,{"$f":"Macro!A635","v":0},{"$f":"Macro!B635","v":0},{"$f":"Macro!E635","v":{"$error":"#DIV/0!"}}]
[null,{"$f":"Macro!A636","v":0},{"$f":"Macro!B636","v":0},{"$f":"Macro!E636","v":{"$error":"#DIV/0!"}}]
[null,{"$f":"Macro!A637","v":0},{"$f":"Macro!B637","v":0},{"$f":"Macro!E637","v":{"$error":"#DIV/0!"}}]
[null,{"$f":"Macro!A638","v":0},{"$f":"Macro!B638","v":0},{"$f":"Macro!E638","v":{"$error":"#DIV/0!"}}]
[null,{"$f":"Macro!A639","v":0},{"$f":"Macro!B639","v":0},{"$f":"Macro!E639","v":{"$error":"#DIV/0!"}}]
[null,{"$f":"Macro!A640","v":0},{"$f":"Macro!B640","v":0},{"$f":"Macro!E640","v":{"$error":"#DIV/0!"}}]
[null,{"$f":"Macro!A641","v":0},{"$f":"Macro!B641","v":0},{"$f":"Macro!E641","v":{"$error":"#DIV/0!"}}]
[null,{"$f":"Macro!A642","v":0},{"$f":"Macro!B642","v":0},{"$f":"Macro!E642","v":{"$error":"#DIV/0!"}}]
[null,{"$f":"Macro!A643","v":0},{"$f":"Macro!B643","v":0},{"$f":"Macro!E643","v":{"$error":"#DIV/0!"}}]
[null,{"$f":"Macro!A644","v":0},{"$f":"Macro!B644","v":0},{"$f":"Macro!E644","v":{"$error":"#DIV/0!"}}]
[null,{"$f":"Macro!A645","v":0},{"$f":"Macro!B645","v":0},{"$f":"Macro!E645","v":{"$error":"#DIV/0!"}}]
[null,{"$f":"Macro!A646","v":0},{"$f":"Macro!B646","v":0},{"$f":"Macro!E646","v":{"$error":"#DIV/0!"}}]
[null,{"$f":"Macro!A647","v":0},{"$f":"Macro!B647","v":0},{"$f":"Macro!E647","v":{"$error":"#DIV/0!"}}]
[null,{"$f":"Macro!A648","v":0},{"$f":"Macro!B648","v":0},{"$f":"Macro!E648","v":{"$error":"#DIV/0!"}}]
[null,{"$f":"Macro!A649","v":0},{"$f":"Macro!B649","v":0},{"$f":"Macro!E649","v":{"$error":"#DIV/0!"}}]
[null,{"$f":"Macro!A650","v":0},{"$f":"Macro!B650","v":0},{"$f":"Macro!E650","v":{"$error":"#DIV/0!"}}]
[null,{"$f":"Macro!A651","v":0},{"$f":"Macro!B651","v":0},{"$f":"Macro!E651","v":{"$error":"#DIV/0!"}}]
[null,{"$f":"Macro!A652","v":0},{"$f":"Macro!B652","v":0},{"$f":"Macro!E652","v":{"$error":"#DIV/0!"}}]
[null,{"$f":"Macro!A653","v":0},{"$f":"Macro!B653","v":0},{"$f":"Macro!E653","v":{"$error":"#DIV/0!"}}]
[null,{"$f":"Macro!A654","v":0},{"$f":"Macro!B654","v":0},{"$f":"Macro!E654","v":{"$error":"#DIV/0!"}}]
[null,{"$f":"Macro!A655","v":0},{"$f":"Macro!B655","v":0},{"$f":"Macro!E655","v":{"$error":"#DIV/0!"}}]
[null,{"$f":"Macro!A656","v":0},{"$f":"Macro!B656","v":0},{"$f":"Macro!E656","v":{"$error":"#DIV/0!"}}]
[null,{"$f":"Macro!A657","v":0},{"$f":"Macro!B657","v":0},{"$f":"Macro!E657","v":{"$error":"#DIV/0!"}}]
[null,{"$f":"Macro!A658","v":0},{"$f":"Macro!B658","v":0},{"$f":"Macro!E658","v":{"$error":"#DIV/0!"}}]
[null,{"$f":"Macro!A659","v":0},{"$f":"Macro!B659","v":0},{"$f":"Macro!E659","v":{"$error":"#DIV/0!"}}]
[null,{"$f":"Macro!A660","v":0},{"$f":"Macro!B660","v":0},{"$f":"Macro!E660","v":{"$error":"#DIV/0!"}}]
[null,{"$f":"Macro!A661","v":0},{"$f":"Macro!B661","v":0},{"$f":"Macro!E661","v":{"$error":"#DIV/0!"}}]
[null,{"$f":"Macro!A662","v":0},{"$f":"Macro!B662","v":0},{"$f":"Macro!E662","v":{"$error":"#DIV/0!"}}]
[null,{"$f":"Macro!A663","v":0},{"$f":"Macro!B663","v":0},{"$f":"Macro!E663","v":{"$error":"#DIV/0!"}}]
[null,{"$f":"Macro!A664","v":0},{"$f":"Macro!B664","v":0},{"$f":"Macro!E664","v":{"$error":"#DIV/0!"}}]
[null,{"$f":"Macro!A665","v":0},{"$f":"Macro!B665","v":0},{"$f":"Macro!E665","v":{"$error":"#DIV/0!"}}]
[null,{"$f":"Macro!A666","v":0},{"$f":"Macro!B666","v":0},{"$f":"Macro!E666","v":{"$error":"#DIV/0!"}}]
[null,{"$f":"Macro!A667","v":0},{"$f":"Macro!B667","v":0},{"$f":"Macro!E667","v":{"$error":"#DIV/0!"}}]
[null,{"$f":"Macro!A668","v":0},{"$f":"Macro!B668","v":0},{"$f":"Macro!E668","v":{"$error":"#DIV/0!"}}]
[null,{"$f":"Macro!A669","v":0},{"$f":"Macro!B669","v":0},{"$f":"Macro!E669","v":{"$error":"#DIV/0!"}}]
[null,{"$f":"Macro!A670","v":0},{"$f":"Macro!B670","v":0},{"$f":"Macro!E670","v":{"$error":"#DIV/0!"}}]
[null,{"$f":"Macro!A671","v":0},{"$f":"Macro!B671","v":0},{"$f":"Macro!E671","v":{"$error":"#DIV/0!"}}]
[null,{"$f":"Macro!A672","v":0},{"$f":"Macro!B672","v":0},{"$f":"Macro!E672","v":{"$error":"#DIV/0!"}}]
[null,{"$f":"Macro!A673","v":0},{"$f":"Macro!B673","v":0},{"$f":"Macro!E673","v":{"$error":"#DIV/0!"}}]
[null,{"$f":"Macro!A674","v":0},{"$f":"Macro!B674","v":0},{"$f":"Macro!E674","v":{"$error":"#DIV/0!"}}]
[null,{"$f":"Macro!A675","v":0},{"$f":"Macro!B675","v":0},{"$f":"Macro!E675","v":{"$error":"#DIV/0!"}}]
[null,{"$f":"Macro!A676","v":0},{"$f":"Macro!B676","v":0},{"$f":"Macro!E676","v":{"$error":"#DIV/0!"}}]
[null,{"$f":"Macro!A677","v":0},{"$f":"Macro!B677","v":0},{"$f":"Macro!E677","v":{"$error":"#DIV/0!"}}]
[null,{"$f":"Macro!A678","v":0},{"$f":"Macro!B678","v":0},{"$f":"Macro!E678","v":{"$error":"#DIV/0!"}}]
[null,{"$f":"Macro!A679","v":0},{"$f":"Macro!B679","v":0},{"$f":"Macro!E679","v":{"$error":"#DIV/0!"}}]
[null,{"$f":"Macro!A680","v":0},{"$f":"Macro!B680","v":0},{"$f":"Macro!E680","v":{"$error":"#DIV/0!"}}]
[null,{"$f":"Macro!A681","v":0},{"$f":"Macro!B681","v":0},{"$f":"Macro!E681","v":{"$error":"#DIV/0!"}}]
[null,{"$f":"Macro!A682","v":0},{"$f":"Macro!B682","v":0},{"$f":"Macro!E682","v":{"$error":"#DIV/0!"}}]
[null,{"$f":"Macro!A683","v":0},{"$f":"Macro!B683","v":0},{"$f":"Macro!E683","v":{"$error":"#DIV/0!"}}]
[null,{"$f":"Macro!A684","v":0},{"$f":"Macro!B684","v":0},{"$f":"Macro!E684","v":{"$error":"#DIV/0!"}}]
[null,{"$f":"Macro!A685","v":0},{"$f":"Macro!B685","v":0},{"$f":"Macro!E685","v":{"$error":"#DIV/0!"}}]
[null,{"$f":"Macro!A686","v":0},{"$f":"Macro!B686","v":0},{"$f":"Macro!E686","v":{"$error":"#DIV/0!"}}]
[null,{"$f":"Macro!A687","v":0},{"$f":"Macro!B687","v":0},{"$f":"Macro!E687","v":{"$error":"#DIV/0!"}}]
[null,{"$f":"Macro!A688","v":0},{"$f":"Macro!B688","v":0},{"$f":"Macro!E688","v":{"$error":"#DIV/0!"}}]
[null,{"$f":"Macro!A689","v":0},{"$f":"Macro!B689","v":0},{"$f":"Macro!E689","v":{"$error":"#DIV/0!"}}]
[null,{"$f":"Macro!A690","v":0},{"$f":"Macro!B690","v":0},{"$f":"Macro!E690","v":{"$error":"#DIV/0!"}}]
[null,{"$f":"Macro!A691","v":0},{"$f":"Macro!B691","v":0},{"$f":"Macro!E691","v":{"$error":"#DIV/0!"}}]
[null,{"$f":"Macro!A692","v":0},{"$f":"Macro!B692","v":0},{"$f":"Macro!E692","v":{"$error":"#DIV/0!"}}]
[null,{"$f":"Macro!A693","v":0},{"$f":"Macro!B693","v":0},{"$f":"Macro!E693","v":{"$error":"#DIV/0!"}}]
[null,{"$f":"Macro!A694","v":0},{"$f":"Macro!B694","v":0},{"$f":"Macro!E694","v":{"$error":"#DIV/0!"}}]
[null,{"$f":"Macro!A695","v":0},{"$f":"Macro!B695","v":0},{"$f":"Macro!E695","v":{"$error":"#DIV/0!"}}]
[null,{"$f":"Macro!A696","v":0},{"$f":"Macro!B696","v":0},{"$f":"Macro!E696","v":{"$error":"#DIV/0!"}}]
[null,{"$f":"Macro!A697","v":0},{"$f":"Macro!B697","v":0},{"$f":"Macro!E697","v":{"$error":"#DIV/0!"}}]
[null,{"$f":"Macro!A698","v":0},{"$f":"Macro!B698","v":0},{"$f":"Macro!E698","v":{"$error":"#DIV/0!"}}]
[null,{"$f":"Macro!A699","v":0},{"$f":"Macro!B699","v":0},{"$f":"Macro!E699","v":{"$error":"#DIV/0!"}}]
[null,{"$f":"Macro!A700","v":0},{"$f":"Macro!B700","v":0},{"$f":"Macro!E700","v":{"$error":"#DIV/0!"}}]
[null,{"$f":"Macro!A701","v":0},{"$f":"Macro!B701","v":0},{"$f":"Macro!E701","v":{"$error":"#DIV/0!"}}]
[null,{"$f":"Macro!A702","v":0},{"$f":"Macro!B702","v":0},{"$f":"Macro!E702","v":{"$error":"#DIV/0!"}}]
[null,{"$f":"Macro!A703","v":0},{"$f":"Macro!B703","v":0},{"$f":"Macro!E703","v":{"$error":"#DIV/0!"}}]
[null,{"$f":"Macro!A704","v":0},{"$f":"Macro!B704","v":0},{"$f":"Macro!E704","v":{"$error":"#DIV/0!"}}]
[null,{"$f":"Macro!A705","v":0},{"$f":"Macro!B705","v":0},{"$f":"Macro!E705","v":{"$error":"#DIV/0!"}}]
[null,{"$f":"Macro!A706","v":0},{"$f":"Macro!B706","v":0},{"$f":"Macro!E706","v":{"$error":"#DIV/0!"}}]
[null,{"$f":"Macro!A707","v":0},{"$f":"Macro!B707","v":0},{"$f":"Macro!E707","v":{"$error":"#DIV/0!"}}]
[null,{"$f":"Macro!A708","v":0},{"$f":"Macro!B708","v":0},{"$f":"Macro!E708","v":{"$error":"#DIV/0!"}}]
[null,{"$f":"Macro!A709","v":0},{"$f":"Macro!B709","v":0},{"$f":"Macro!E709","v":{"$error":"#DIV/0!"}}]
[null,{"$f":"Macro!A710","v":0},{"$f":"Macro!B710","v":0},{"$f":"Macro!E710","v":{"$error":"#DIV/0!"}}]
[null,{"$f":"Macro!A711","v":0},{"$f":"Macro!B711","v":0},{"$f":"Macro!E711","v":{"$error":"#DIV/0!"}}]
[null,{"$f":"Macro!A712","v":0},{"$f":"Macro!B712","v":0},{"$f":"Macro!E712","v":{"$error":"#DIV/0!"}}]
[null,{"$f":"Macro!A713","v":0},{"$f":"Macro!B713","v":0},{"$f":"Macro!E713","v":{"$error":"#DIV/0!"}}]
[null,{"$f":"Macro!A714","v":0},{"$f":"Macro!B714","v":0},{"$f":"Macro!E714","v":{"$error":"#DIV/0!"}}]
[null,{"$f":"Macro!A715","v":0},{"$f":"Macro!B715","v":0},{"$f":"Macro!E715","v":{"$error":"#DIV/0!"}}]
[null,{"$f":"Macro!A716","v":0},{"$f":"Macro!B716","v":0},{"$f":"Macro!E716","v":{"$error":"#DIV/0!"}}]
[null,{"$f":"Macro!A717","v":0},{"$f":"Macro!B717","v":0},{"$f":"Macro!E717","v":{"$error":"#DIV/0!"}}]
[null,{"$f":"Macro!A718","v":0},{"$f":"Macro!B718","v":0},{"$f":"Macro!E718","v":{"$error":"#DIV/0!"}}]
[null,{"$f":"Macro!A719","v":0},{"$f":"Macro!B719","v":0},{"$f":"Macro!E719","v":{"$error":"#DIV/0!"}}]
[null,{"$f":"Macro!A720","v":0},{"$f":"Macro!B720","v":0},{"$f":"Macro!E720","v":{"$error":"#DIV/0!"}}]
[null,{"$f":"Macro!A721","v":0},{"$f":"Macro!B721","v":0},{"$f":"Macro!E721","v":{"$error":"#DIV/0!"}}]
[null,{"$f":"Macro!A722","v":0},{"$f":"Macro!B722","v":0},{"$f":"Macro!E722","v":{"$error":"#DIV/0!"}}]
[null,{"$f":"Macro!A723","v":0},{"$f":"Macro!B723","v":0},{"$f":"Macro!E723","v":{"$error":"#DIV/0!"}}]
[null,{"$f":"Macro!A724","v":0},{"$f":"Macro!B724","v":0},{"$f":"Macro!E724","v":{"$error":"#DIV/0!"}}]
[null,{"$f":"Macro!A725","v":0},{"$f":"Macro!B725","v":0},{"$f":"Macro!E725","v":{"$error":"#DIV/0!"}}]
[null,{"$f":"Macro!A726","v":0},{"$f":"Macro!B726","v":0},{"$f":"Macro!E726","v":{"$error":"#DIV/0!"}}]
[null,{"$f":"Macro!A727","v":0},{"$f":"Macro!B727","v":0},{"$f":"Macro!E727","v":{"$error":"#DIV/0!"}}]
[null,{"$f":"Macro!A728","v":0},{"$f":"Macro!B728","v":0},{"$f":"Macro!E728","v":{"$error":"#DIV/0!"}}]
[null,{"$f":"Macro!A729","v":0},{"$f":"Macro!B729","v":0},{"$f":"Macro!E729","v":{"$error":"#DIV/0!"}}]
[null,{"$f":"Macro!A730","v":0},{"$f":"Macro!B730","v":0},{"$f":"Macro!E730","v":{"$error":"#DIV/0!"}}]
[null,{"$f":"Macro!A731","v":0},{"$f":"Macro!B731","v":0},{"$f":"Macro!E731","v":{"$error":"#DIV/0!"}}]
[null,{"$f":"Macro!A732","v":0},{"$f":"Macro!B732","v":0},{"$f":"Macro!E732","v":{"$error":"#DIV/0!"}}]
[null,{"$f":"Macro!A733","v":0},{"$f":"Macro!B733","v":0},{"$f":"Macro!E733","v":{"$error":"#DIV/0!"}}]
[null,{"$f":"Macro!A734","v":0},{"$f":"Macro!B734","v":0},{"$f":"Macro!E734","v":{"$error":"#DIV/0!"}}]
[null,{"$f":"Macro!A735","v":0},{"$f":"Macro!B735","v":0},{"$f":"Macro!E735","v":{"$error":"#DIV/0!"}}]
[null,{"$f":"Macro!A736","v":0},{"$f":"Macro!B736","v":0},{"$f":"Macro!E736","v":{"$error":"#DIV/0!"}}]
[null,{"$f":"Macro!A737","v":0},{"$f":"Macro!B737","v":0},{"$f":"Macro!E737","v":{"$error":"#DIV/0!"}}]
[null,{"$f":"Macro!A738","v":0},{"$f":"Macro!B738","v":0},{"$f":"Macro!E738","v":{"$error":"#DIV/0!"}}]
[null,{"$f":"Macro!A739","v":0},{"$f":"Macro!B739","v":0},{"$f":"Macro!E739","v":{"$error":"#DIV/0!"}}]
[null,{"$f":"Macro!A740","v":0},{"$f":"Macro!B740","v":0},{"$f":"Macro!E740","v":{"$error":"#DIV/0!"}}]
[null,{"$f":"Macro!A741","v":0},{"$f":"Macro!B741","v":0},{"$f":"Macro!E741","v":{"$error":"#DIV/0!"}}]
[null,{"$f":"Macro!A742","v":0},{"$f":"Macro!B742","v":0},{"$f":"Macro!E742","v":{"$error":"#DIV/0!"}}]
[null,{"$f":"Macro!A743","v":0},{"$f":"Macro!B743","v":0},{"$f":"Macro!E743","v":{"$error":"#DIV/0!"}}]
[null,{"$f":"Macro!A744","v":0},{"$f":"Macro!B744","v":0},{"$f":"Macro!E744","v":{"$error":"#DIV/0!"}}]
[null,{"$f":"Macro!A745","v":0},{"$f":"Macro!B745","v":0},{"$f":"Macro!E745","v":{"$error":"#DIV/0!"}}]
[null,{"$f":"Macro!A746","v":0},{"$f":"Macro!B746","v":0},{"$f":"Macro!E746","v":{"$error":"#DIV/0!"}}]
[null,{"$f":"Macro!A747","v":0},{"$f":"Macro!B747","v":0},{"$f":"Macro!E747","v":{"$error":"#DIV/0!"}}]
[null,{"$f":"Macro!A748","v":0},{"$f":"Macro!B748","v":0},{"$f":"Macro!E748","v":{"$error":"#DIV/0!"}}]
[null,{"$f":"Macro!A749","v":0},{"$f":"Macro!B749","v":0},{"$f":"Macro!E749","v":{"$error":"#DIV/0!"}}]
[null,{"$f":"Macro!A750","v":0},{"$f":"Macro!B750","v":0},{"$f":"Macro!E750","v":{"$error":"#DIV/0!"}}]
[null,{"$f":"Macro!A751","v":0},{"$f":"Macro!B751","v":0},{"$f":"Macro!E751","v":{"$error":"#DIV/0!"}}]
[null,{"$f":"Macro!A752","v":0},{"$f":"Macro!B752","v":0},{"$f":"Macro!E752","v":{"$error":"#DIV/0!"}}]
[null,{"$f":"Macro!A753","v":0},{"$f":"Macro!B753","v":0},{"$f":"Macro!E753","v":{"$error":"#DIV/0!"}}]
[null,{"$f":"Macro!A754","v":0},{"$f":"Macro!B754","v":0},{"$f":"Macro!E754","v":{"$error":"#DIV/0!"}}]
[null,{"$f":"Macro!A755","v":0},{"$f":"Macro!B755","v":0},{"$f":"Macro!E755","v":{"$error":"#DIV/0!"}}]
[null,{"$f":"Macro!A756","v":0},{"$f":"Macro!B756","v":0},{"$f":"Macro!E756","v":{"$error":"#DIV/0!"}}]
[null,{"$f":"Macro!A757","v":0},{"$f":"Macro!B757","v":0},{"$f":"Macro!E757","v":{"$error":"#DIV/0!"}}]
[null,{"$f":"Macro!A758","v":0},{"$f":"Macro!B758","v":0},{"$f":"Macro!E758","v":{"$error":"#DIV/0!"}}]
[null,{"$f":"Macro!A759","v":0},{"$f":"Macro!B759","v":0},{"$f":"Macro!E759","v":{"$error":"#DIV/0!"}}]
[null,{"$f":"Macro!A760","v":0},{"$f":"Macro!B760","v":0},{"$f":"Macro!E760","v":{"$error":"#DIV/0!"}}]
[null,{"$f":"Macro!A761","v":0},{"$f":"Macro!B761","v":0},{"$f":"Macro!E761","v":{"$error":"#DIV/0!"}}]
[null,{"$f":"Macro!A762","v":0},{"$f":"Macro!B762","v":0},{"$f":"Macro!E762","v":{"$error":"#DIV/0!"}}]
[null,{"$f":"Macro!A763","v":0},{"$f":"Macro!B763","v":0},{"$f":"Macro!E763","v":{"$error":"#DIV/0!"}}]
[null,{"$f":"Macro!A764","v":0},{"$f":"Macro!B764","v":0},{"$f":"Macro!E764","v":{"$error":"#DIV/0!"}}]
[null,{"$f":"Macro!A765","v":0},{"$f":"Macro!B765","v":0},{"$f":"Macro!E765","v":{"$error":"#DIV/0!"}}]
[null,{"$f":"Macro!A766","v":0},{"$f":"Macro!B766","v":0},{"$f":"Macro!E766","v":{"$error":"#DIV/0!"}}]
[null,{"$f":"Macro!A767","v":0},{"$f":"Macro!B767","v":0},{"$f":"Macro!E767","v":{"$error":"#DIV/0!"}}]
[null,{"$f":"Macro!A768","v":0},{"$f":"Macro!B768","v":0},{"$f":"Macro!E768","v":{"$error":"#DIV/0!"}}]
[null,{"$f":"Macro!A769","v":0},{"$f":"Macro!B769","v":0},{"$f":"Macro!E769","v":{"$error":"#DIV/0!"}}]
[null,{"$f":"Macro!A770","v":0},{"$f":"Macro!B770","v":0},{"$f":"Macro!E770","v":{"$error":"#DIV/0!"}}]
[null,{"$f":"Macro!A771","v":0},{"$f":"Macro!B771","v":0},{"$f":"Macro!E771","v":{"$error":"#DIV/0!"}}]
[null,{"$f":"Macro!A772","v":0},{"$f":"Macro!B772","v":0},{"$f":"Macro!E772","v":{"$error":"#DIV/0!"}}]
[null,{"$f":"Macro!A773","v":0},{"$f":"Macro!B773","v":0},{"$f":"Macro!E773","v":{"$error":"#DIV/0!"}}]
[null,{"$f":"Macro!A774","v":0},{"$f":"Macro!B774","v":0},{"$f":"Macro!E774","v":{"$error":"#DIV/0!"}}]
[null,{"$f":"Macro!A775","v":0},{"$f":"Macro!B775","v":0},{"$f":"Macro!E775","v":{"$error":"#DIV/0!"}}]
[null,{"$f":"Macro!A776","v":0},{"$f":"Macro!B776","v":0},{"$f":"Macro!E776","v":{"$error":"#DIV/0!"}}]
[null,{"$f":"Macro!A777","v":0},{"$f":"Macro!B777","v":0},{"$f":"Macro!E777","v":{"$error":"#DIV/0!"}}]
[null,{"$f":"Macro!A778","v":0},{"$f":"Macro!B778","v":0},{"$f":"Macro!E778","v":{"$error":"#DIV/0!"}}]
[null,{"$f":"Macro!A779","v":0},{"$f":"Macro!B779","v":0},{"$f":"Macro!E779","v":{"$error":"#DIV/0!"}}]
[null,{"$f":"Macro!A780","v":0},{"$f":"Macro!B780","v":0},{"$f":"Macro!E780","v":{"$error":"#DIV/0!"}}]
[null,{"$f":"Macro!A781","v":0},{"$f":"Macro!B781","v":0},{"$f":"Macro!E781","v":{"$error":"#DIV/0!"}}]
[null,{"$f":"Macro!A782","v":0},{"$f":"Macro!B782","v":0},{"$f":"Macro!E782","v":{"$error":"#DIV/0!"}}]
[null,{"$f":"Macro!A783","v":0},{"$f":"Macro!B783","v":0},{"$f":"Macro!E783","v":{"$error":"#DIV/0!"}}]
[null,{"$f":"Macro!A784","v":0},{"$f":"Macro!B784","v":0},{"$f":"Macro!E784","v":{"$error":"#DIV/0!"}}]
[null,{"$f":"Macro!A785","v":0},{"$f":"Macro!B785","v":0},{"$f":"Macro!E785","v":{"$error":"#DIV/0!"}}]
[null,{"$f":"Macro!A786","v":0},{"$f":"Macro!B786","v":0},{"$f":"Macro!E786","v":{"$error":"#DIV/0!"}}]
[null,{"$f":"Macro!A787","v":0},{"$f":"Macro!B787","v":0},{"$f":"Macro!E787","v":{"$error":"#DIV/0!"}}]
[null,{"$f":"Macro!A788","v":0},{"$f":"Macro!B788","v":0},{"$f":"Macro!E788","v":{"$error":"#DIV/0!"}}]
[null,{"$f":"Macro!A789","v":0},{"$f":"Macro!B789","v":0},{"$f":"Macro!E789","v":{"$error":"#DIV/0!"}}]
[null,{"$f":"Macro!A790","v":0},{"$f":"Macro!B790","v":0},{"$f":"Macro!E790","v":{"$error":"#DIV/0!"}}]
[null,{"$f":"Macro!A791","v":0},{"$f":"Macro!B791","v":0},{"$f":"Macro!E791","v":{"$error":"#DIV/0!"}}]
[null,{"$f":"Macro!A792","v":0},{"$f":"Macro!B792","v":0},{"$f":"Macro!E792","v":{"$error":"#DIV/0!"}}]
[null,{"$f":"Macro!A793","v":0},{"$f":"Macro!B793","v":0},{"$f":"Macro!E793","v":{"$error":"#DIV/0!"}}]
[null,{"$f":"Macro!A794","v":0},{"$f":"Macro!B794","v":0},{"$f":"Macro!E794","v":{"$error":"#DIV/0!"}}]
[null,{"$f":"Macro!A795","v":0},{"$f":"Macro!B795","v":0},{"$f":"Macro!E795","v":{"$error":"#DIV/0!"}}]
[null,{"$f":"Macro!A796","v":0},{"$f":"Macro!B796","v":0},{"$f":"Macro!E796","v":{"$error":"#DIV/0!"}}]
[null,{"$f":"Macro!A797","v":0},{"$f":"Macro!B797","v":0},{"$f":"Macro!E797","v":{"$error":"#DIV/0!"}}]
[null,{"$f":"Macro!A798","v":0},{"$f":"Macro!B798","v":0},{"$f":"Macro!E798","v":{"$error":"#DIV/0!"}}]
[null,{"$f":"Macro!A799","v":0},{"$f":"Macro!B799","v":0},{"$f":"Macro!E799","v":{"$error":"#DIV/0!"}}]
[null,{"$f":"Macro!A800","v":0},{"$f":"Macro!B800","v":0},{"$f":"Macro!E800","v":{"$error":"#DIV/0!"}}]
[null,{"$f":"Macro!A801","v":0},{"$f":"Macro!B801","v":0},{"$f":"Macro!E801","v":{"$error":"#DIV/0!"}}]
[null,{"$f":"Macro!A802","v":0},{"$f":"Macro!B802","v":0},{"$f":"Macro!E802","v":{"$error":"#DIV/0!"}}]
[null,{"$f":"Macro!A803","v":0},{"$f":"Macro!B803","v":0},{"$f":"Macro!E803","v":{"$error":"#DIV/0!"}}]
[null,{"$f":"Macro!A804","v":0},{"$f":"Macro!B804","v":0},{"$f":"Macro!E804","v":{"$error":"#DIV/0!"}}]
[null,{"$f":"Macro!A805","v":0},{"$f":"Macro!B805","v":0},{"$f":"Macro!E805","v":{"$error":"#DIV/0!"}}]
[null,{"$f":"Macro!A806","v":0},{"$f":"Macro!B806","v":0},{"$f":"Macro!E806","v":{"$error":"#DIV/0!"}}]
[null,{"$f":"Macro!A807","v":0},{"$f":"Macro!B807","v":0},{"$f":"Macro!E807","v":{"$error":"#DIV/0!"}}]
[null,{"$f":"Macro!A808","v":0},{"$f":"Macro!B808","v":0},{"$f":"Macro!E808","v":{"$error":"#DIV/0!"}}]
[null,{"$f":"Macro!A809","v":0},{"$f":"Macro!B809","v":0},{"$f":"Macro!E809","v":{"$error":"#DIV/0!"}}]
[null,{"$f":"Macro!A810","v":0},{"$f":"Macro!B810","v":0},{"$f":"Macro!E810","v":{"$error":"#DIV/0!"}}]
[null,{"$f":"Macro!A811","v":0},{"$f":"Macro!B811","v":0},{"$f":"Macro!E811","v":{"$error":"#DIV/0!"}}]
[null,{"$f":"Macro!A812","v":0},{"$f":"Macro!B812","v":0},{"$f":"Macro!E812","v":{"$error":"#DIV/0!"}}]
[null,{"$f":"Macro!A813","v":0},{"$f":"Macro!B813","v":0},{"$f":"Macro!E813","v":{"$error":"#DIV/0!"}}]
[null,{"$f":"Macro!A814","v":0},{"$f":"Macro!B814","v":0},{"$f":"Macro!E814","v":{"$error":"#DIV/0!"}}]
[null,{"$f":"Macro!A815","v":0},{"$f":"Macro!B815","v":0},{"$f":"Macro!E815","v":{"$error":"#DIV/0!"}}]
[null,{"$f":"Macro!A816","v":0},{"$f":"Macro!B816","v":0},{"$f":"Macro!E816","v":{"$error":"#DIV/0!"}}]
[null,{"$f":"Macro!A817","v":0},{"$f":"Macro!B817","v":0},{"$f":"Macro!E817","v":{"$error":"#DIV/0!"}}]
[null,{"$f":"Macro!A818","v":0},{"$f":"Macro!B818","v":0},{"$f":"Macro!E818","v":{"$error":"#DIV/0!"}}]
[null,{"$f":"Macro!A819","v":0},{"$f":"Macro!B819","v":0},{"$f":"Macro!E819","v":{"$error":"#DIV/0!"}}]
[null,{"$f":"Macro!A820","v":0},{"$f":"Macro!B820","v":0},{"$f":"Macro!E820","v":{"$error":"#DIV/0!"}}]
[null,{"$f":"Macro!A821","v":0},{"$f":"Macro!B821","v":0},{"$f":"Macro!E821","v":{"$error":"#DIV/0!"}}]
[null,{"$f":"Macro!A822","v":0},{"$f":"Macro!B822","v":0},{"$f":"Macro!E822","v":{"$error":"#DIV/0!"}}]
[null,{"$f":"Macro!A823","v":0},{"$f":"Macro!B823","v":0},{"$f":"Macro!E823","v":{"$error":"#DIV/0!"}}]
[null,{"$f":"Macro!A824","v":0},{"$f":"Macro!B824","v":0},{"$f":"Macro!E824","v":{"$error":"#DIV/0!"}}]
[null,{"$f":"Macro!A825","v":0},{"$f":"Macro!B825","v":0},{"$f":"Macro!E825","v":{"$error":"#DIV/0!"}}]
[null,{"$f":"Macro!A826","v":0},{"$f":"Macro!B826","v":0},{"$f":"Macro!E826","v":{"$error":"#DIV/0!"}}]
[null,{"$f":"Macro!A827","v":0},{"$f":"Macro!B827","v":0},{"$f":"Macro!E827","v":{"$error":"#DIV/0!"}}]
[null,{"$f":"Macro!A828","v":0},{"$f":"Macro!B828","v":0},{"$f":"Macro!E828","v":{"$error":"#DIV/0!"}}]
[null,{"$f":"Macro!A829","v":0},{"$f":"Macro!B829","v":0},{"$f":"Macro!E829","v":{"$error":"#DIV/0!"}}]
[null,{"$f":"Macro!A830","v":0},{"$f":"Macro!B830","v":0},{"$f":"Macro!E830","v":{"$error":"#DIV/0!"}}]
[null,{"$f":"Macro!A831","v":0},{"$f":"Macro!B831","v":0},{"$f":"Macro!E831","v":{"$error":"#DIV/0!"}}]
[null,{"$f":"Macro!A832","v":0},{"$f":"Macro!B832","v":0},{"$f":"Macro!E832","v":{"$error":"#DIV/0!"}}]
[null,{"$f":"Macro!A833","v":0},{"$f":"Macro!B833","v":0},{"$f":"Macro!E833","v":{"$error":"#DIV/0!"}}]
[null,{"$f":"Macro!A834","v":0},{"$f":"Macro!B834","v":0},{"$f":"Macro!E834","v":{"$error":"#DIV/0!"}}]
[null,{"$f":"Macro!A835","v":0},{"$f":"Macro!B835","v":0},{"$f":"Macro!E835","v":{"$error":"#DIV/0!"}}]
[null,{"$f":"Macro!A836","v":0},{"$f":"Macro!B836","v":0},{"$f":"Macro!E836","v":{"$error":"#DIV/0!"}}]
[null,{"$f":"Macro!A837","v":0},{"$f":"Macro!B837","v":0},{"$f":"Macro!E837","v":{"$error":"#DIV/0!"}}]
[null,{"$f":"Macro!A838","v":0},{"$f":"Macro!B838","v":0},{"$f":"Macro!E838","v":{"$error":"#DIV/0!"}}]
[null,{"$f":"Macro!A839","v":0},{"$f":"Macro!B839","v":0},{"$f":"Macro!E839","v":{"$error":"#DIV/0!"}}]
[null,{"$f":"Macro!A840","v":0},{"$f":"Macro!B840","v":0},{"$f":"Macro!E840","v":{"$error":"#DIV/0!"}}]
[null,{"$f":"Macro!A841","v":0},{"$f":"Macro!B841","v":0},{"$f":"Macro!E841","v":{"$error":"#DIV/0!"}}]
[null,{"$f":"Macro!A842","v":0},{"$f":"Macro!B842","v":0},{"$f":"Macro!E842","v":{"$error":"#DIV/0!"}}]
[null,{"$f":"Macro!A843","v":0},{"$f":"Macro!B843","v":0},{"$f":"Macro!E843","v":{"$error":"#DIV/0!"}}]
[null,{"$f":"Macro!A844","v":0},{"$f":"Macro!B844","v":0},{"$f":"Macro!E844","v":{"$error":"#DIV/0!"}}]
[null,{"$f":"Macro!A845","v":0},{"$f":"Macro!B845","v":0},{"$f":"Macro!E845","v":{"$error":"#DIV/0!"}}]
[null,{"$f":"Macro!A846","v":0},{"$f":"Macro!B846","v":0},{"$f":"Macro!E846","v":{"$error":"#DIV/0!"}}]
[null,{"$f":"Macro!A847","v":0},{"$f":"Macro!B847","v":0},{"$f":"Macro!E847","v":{"$error":"#DIV/0!"}}]
[null,{"$f":"Macro!A848","v":0},{"$f":"Macro!B848","v":0},{"$f":"Macro!E848","v":{"$error":"#DIV/0!"}}]
[null,{"$f":"Macro!A849","v":0},{"$f":"Macro!B849","v":0},{"$f":"Macro!E849","v":{"$error":"#DIV/0!"}}]
[null,{"$f":"Macro!A850","v":0},{"$f":"Macro!B850","v":0},{"$f":"Macro!E850","v":{"$error":"#DIV/0!"}}]
[null,{"$f":"Macro!A851","v":0},{"$f":"Macro!B851","v":0},{"$f":"Macro!E851","v":{"$error":"#DIV/0!"}}]
[null,{"$f":"Macro!A852","v":0},{"$f":"Macro!B852","v":0},{"$f":"Macro!E852","v":{"$error":"#DIV/0!"}}]
[null,{"$f":"Macro!A853","v":0},{"$f":"Macro!B853","v":0},{"$f":"Macro!E853","v":{"$error":"#DIV/0!"}}]
[null,{"$f":"Macro!A854","v":0},{"$f":"Macro!B854","v":0},{"$f":"Macro!E854","v":{"$error":"#DIV/0!"}}]
[null,{"$f":"Macro!A855","v":0},{"$f":"Macro!B855","v":0},{"$f":"Macro!E855","v":{"$error":"#DIV/0!"}}]
[null,{"$f":"Macro!A856","v":0},{"$f":"Macro!B856","v":0},{"$f":"Macro!E856","v":{"$error":"#DIV/0!"}}]
[null,{"$f":"Macro!A857","v":0},{"$f":"Macro!B857","v":0},{"$f":"Macro!E857","v":{"$error":"#DIV/0!"}}]
[null,{"$f":"Macro!A858","v":0},{"$f":"Macro!B858","v":0},{"$f":"Macro!E858","v":{"$error":"#DIV/0!"}}]
[null,{"$f":"Macro!A859","v":0},{"$f":"Macro!B859","v":0},{"$f":"Macro!E859","v":{"$error":"#DIV/0!"}}]
[null,{"$f":"Macro!A860","v":0},{"$f":"Macro!B860","v":0},{"$f":"Macro!E860","v":{"$error":"#DIV/0!"}}]
[null,{"$f":"Macro!A861","v":0},{"$f":"Macro!B861","v":0},{"$f":"Macro!E861","v":{"$error":"#DIV/0!"}}]
[null,{"$f":"Macro!A862","v":0},{"$f":"Macro!B862","v":0},{"$f":"Macro!E862","v":{"$error":"#DIV/0!"}}]
[null,{"$f":"Macro!A863","v":0},{"$f":"Macro!B863","v":0},{"$f":"Macro!E863","v":{"$error":"#DIV/0!"}}]
[null,{"$f":"Macro!A864","v":0},{"$f":"Macro!B864","v":0},{"$f":"Macro!E864","v":{"$error":"#DIV/0!"}}]
[null,{"$f":"Macro!A865","v":0},{"$f":"Macro!B865","v":0},{"$f":"Macro!E865","v":{"$error":"#DIV/0!"}}]
[null,{"$f":"Macro!A866","v":0},{"$f":"Macro!B866","v":0},{"$f":"Macro!E866","v":{"$error":"#DIV/0!"}}]
[null,{"$f":"Macro!A867","v":0},{"$f":"Macro!B867","v":0},{"$f":"Macro!E867","v":{"$error":"#DIV/0!"}}]
[null,{"$f":"Macro!A868","v":0},{"$f":"Macro!B868","v":0},{"$f":"Macro!E868","v":{"$error":"#DIV/0!"}}]
[null,{"$f":"Macro!A869","v":0},{"$f":"Macro!B869","v":0},{"$f":"Macro!E869","v":{"$error":"#DIV/0!"}}]
[null,{"$f":"Macro!A870","v":0},{"$f":"Macro!B870","v":0},{"$f":"Macro!E870","v":{"$error":"#DIV/0!"}}]
[null,{"$f":"Macro!A871","v":0},{"$f":"Macro!B871","v":0},{"$f":"Macro!E871","v":{"$error":"#DIV/0!"}}]
[null,{"$f":"Macro!A872","v":0},{"$f":"Macro!B872","v":0},{"$f":"Macro!E872","v":{"$error":"#DIV/0!"}}]
[null,{"$f":"Macro!A873","v":0},{"$f":"Macro!B873","v":0},{"$f":"Macro!E873","v":{"$error":"#DIV/0!"}}]
[null,{"$f":"Macro!A874","v":0},{"$f":"Macro!B874","v":0},{"$f":"Macro!E874","v":{"$error":"#DIV/0!"}}]
[null,{"$f":"Macro!A875","v":0},{"$f":"Macro!B875","v":0},{"$f":"Macro!E875","v":{"$error":"#DIV/0!"}}]
[null,{"$f":"Macro!A876","v":0},{"$f":"Macro!B876","v":0},{"$f":"Macro!E876","v":{"$error":"#DIV/0!"}}]
[null,{"$f":"Macro!A877","v":0},{"$f":"Macro!B877","v":0},{"$f":"Macro!E877","v":{"$error":"#DIV/0!"}}]
[null,{"$f":"Macro!A878","v":0},{"$f":"Macro!B878","v":0},{"$f":"Macro!E878","v":{"$error":"#DIV/0!"}}]
[null,{"$f":"Macro!A879","v":0},{"$f":"Macro!B879","v":0},{"$f":"Macro!E879","v":{"$error":"#DIV/0!"}}]
[null,{"$f":"Macro!A880","v":0},{"$f":"Macro!B880","v":0},{"$f":"Macro!E880","v":{"$error":"#DIV/0!"}}]
[null,{"$f":"Macro!A881","v":0},{"$f":"Macro!B881","v":0},{"$f":"Macro!E881","v":{"$error":"#DIV/0!"}}]
[null,{"$f":"Macro!A882","v":0},{"$f":"Macro!B882","v":0},{"$f":"Macro!E882","v":{"$error":"#DIV/0!"}}]
[null,{"$f":"Macro!A883","v":0},{"$f":"Macro!B883","v":0},{"$f":"Macro!E883","v":{"$error":"#DIV/0!"}}]
[null,{"$f":"Macro!A884","v":0},{"$f":"Macro!B884","v":0},{"$f":"Macro!E884","v":{"$error":"#DIV/0!"}}]
[null,{"$f":"Macro!A885","v":0},{"$f":"Macro!B885","v":0},{"$f":"Macro!E885","v":{"$error":"#DIV/0!"}}]
[null,{"$f":"Macro!A886","v":0},{"$f":"Macro!B886","v":0},{"$f":"Macro!E886","v":{"$error":"#DIV/0!"}}]
[null,{"$f":"Macro!A887","v":0},{"$f":"Macro!B887","v":0},{"$f":"Macro!E887","v":{"$error":"#DIV/0!"}}]
[null,{"$f":"Macro!A888","v":0},{"$f":"Macro!B888","v":0},{"$f":"Macro!E888","v":{"$error":"#DIV/0!"}}]
[null,{"$f":"Macro!A889","v":0},{"$f":"Macro!B889","v":0},{"$f":"Macro!E889","v":{"$error":"#DIV/0!"}}]
[null,{"$f":"Macro!A890","v":0},{"$f":"Macro!B890","v":0},{"$f":"Macro!E890","v":{"$error":"#DIV/0!"}}]
[null,{"$f":"Macro!A891","v":0},{"$f":"Macro!B891","v":0},{"$f":"Macro!E891","v":{"$error":"#DIV/0!"}}]
[null,{"$f":"Macro!A892","v":0},{"$f":"Macro!B892","v":0},{"$f":"Macro!E892","v":{"$error":"#DIV/0!"}}]
[null,{"$f":"Macro!A893","v":0},{"$f":"Macro!B893","v":0},{"$f":"Macro!E893","v":{"$error":"#DIV/0!"}}]
[null,{"$f":"Macro!A894","v":0},{"$f":"Macro!B894","v":0},{"$f":"Macro!E894","v":{"$error":"#DIV/0!"}}]
[null,{"$f":"Macro!A895","v":0},{"$f":"Macro!B895","v":0},{"$f":"Macro!E895","v":{"$error":"#DIV/0!"}}]
[null,{"$f":"Macro!A896","v":0},{"$f":"Macro!B896","v":0},{"$f":"Macro!E896","v":{"$error":"#DIV/0!"}}]
[null,{"$f":"Macro!A897","v":0},{"$f":"Macro!B897","v":0},{"$f":"Macro!E897","v":{"$error":"#DIV/0!"}}]
[null,{"$f":"Macro!A898","v":0},{"$f":"Macro!B898","v":0},{"$f":"Macro!E898","v":{"$error":"#DIV/0!"}}]
[null,{"$f":"Macro!A899","v":0},{"$f":"Macro!B899","v":0},{"$f":"Macro!E899","v":{"$error":"#DIV/0!"}}]
[null,{"$f":"Macro!A900","v":0},{"$f":"Macro!B900","v":0},{"$f":"Macro!E900","v":{"$error":"#DIV/0!"}}]
[null,{"$f":"Macro!A901","v":0},{"$f":"Macro!B901","v":0},{"$f":"Macro!E901","v":{"$error":"#DIV/0!"}}]
[null,{"$f":"Macro!A902","v":0},{"$f":"Macro!B902","v":0},{"$f":"Macro!E902","v":{"$error":"#DIV/0!"}}]
[null,{"$f":"Macro!A903","v":0},{"$f":"Macro!B903","v":0},{"$f":"Macro!E903","v":{"$error":"#DIV/0!"}}]
[null,{"$f":"Macro!A904","v":0},{"$f":"Macro!B904","v":0},{"$f":"Macro!E904","v":{"$error":"#DIV/0!"}}]
[null,{"$f":"Macro!A905","v":0},{"$f":"Macro!B905","v":0},{"$f":"Macro!E905","v":{"$error":"#DIV/0!"}}]
[null,{"$f":"Macro!A906","v":0},{"$f":"Macro!B906","v":0},{"$f":"Macro!E906","v":{"$error":"#DIV/0!"}}]
[null,{"$f":"Macro!A907","v":0},{"$f":"Macro!B907","v":0},{"$f":"Macro!E907","v":{"$error":"#DIV/0!"}}]
[null,{"$f":"Macro!A908","v":0},{"$f":"Macro!B908","v":0},{"$f":"Macro!E908","v":{"$error":"#DIV/0!"}}]
[null,{"$f":"Macro!A909","v":0},{"$f":"Macro!B909","v":0},{"$f":"Macro!E909","v":{"$error":"#DIV/0!"}}]
[null,{"$f":"Macro!A910","v":0},{"$f":"Macro!B910","v":0},{"$f":"Macro!E910","v":{"$error":"#DIV/0!"}}]
[null,{"$f":"Macro!A911","v":0},{"$f":"Macro!B911","v":0},{"$f":"Macro!E911","v":{"$error":"#DIV/0!"}}]
[null,{"$f":"Macro!A912","v":0},{"$f":"Macro!B912","v":0},{"$f":"Macro!E912","v":{"$error":"#DIV/0!"}}]
[null,{"$f":"Macro!A913","v":0},{"$f":"Macro!B913","v":0},{"$f":"Macro!E913","v":{"$error":"#DIV/0!"}}]
[null,{"$f":"Macro!A914","v":0},{"$f":"Macro!B914","v":0},{"$f":"Macro!E914","v":{"$error":"#DIV/0!"}}]
[null,{"$f":"Macro!A915","v":0},{"$f":"Macro!B915","v":0},{"$f":"Macro!E915","v":{"$error":"#DIV/0!"}}]
[null,{"$f":"Macro!A916","v":0},{"$f":"Macro!B916","v":0},{"$f":"Macro!E916","v":{"$error":"#DIV/0!"}}]
[null,{"$f":"Macro!A917","v":0},{"$f":"Macro!B917","v":0},{"$f":"Macro!E917","v":{"$error":"#DIV/0!"}}]
[null,{"$f":"Macro!A918","v":0},{"$f":"Macro!B918","v":0},{"$f":"Macro!E918","v":{"$error":"#DIV/0!"}}]
[null,{"$f":"Macro!A919","v":0},{"$f":"Macro!B919","v":0},{"$f":"Macro!E919","v":{"$error":"#DIV/0!"}}]
[null,{"$f":"Macro!A920","v":0},{"$f":"Macro!B920","v":0},{"$f":"Macro!E920","v":{"$error":"#DIV/0!"}}]
[null,{"$f":"Macro!A921","v":0},{"$f":"Macro!B921","v":0},{"$f":"Macro!E921","v":{"$error":"#DIV/0!"}}]
[null,{"$f":"Macro!A922","v":0},{"$f":"Macro!B922","v":0},{"$f":"Macro!E922","v":{"$error":"#DIV/0!"}}]
[null,{"$f":"Macro!A923","v":0},{"$f":"Macro!B923","v":0},{"$f":"Macro!E923","v":{"$error":"#DIV/0!"}}]
[null,{"$f":"Macro!A924","v":0},{"$f":"Macro!B924","v":0},{"$f":"Macro!E924","v":{"$error":"#DIV/0!"}}]
[null,{"$f":"Macro!A925","v":0},{"$f":"Macro!B925","v":0},{"$f":"Macro!E925","v":{"$error":"#DIV/0!"}}]
[null,{"$f":"Macro!A926","v":0},{"$f":"Macro!B926","v":0},{"$f":"Macro!E926","v":{"$error":"#DIV/0!"}}]
[null,{"$f":"Macro!A927","v":0},{"$f":"Macro!B927","v":0},{"$f":"Macro!E927","v":{"$error":"#DIV/0!"}}]
[null,{"$f":"Macro!A928","v":0},{"$f":"Macro!B928","v":0},{"$f":"Macro!E928","v":{"$error":"#DIV/0!"}}]
[null,{"$f":"Macro!A929","v":0},{"$f":"Macro!B929","v":0},{"$f":"Macro!E929","v":{"$error":"#DIV/0!"}}]
[null,{"$f":"Macro!A930","v":0},{"$f":"Macro!B930","v":0},{"$f":"Macro!E930","v":{"$error":"#DIV/0!"}}]
[null,{"$f":"Macro!A931","v":0},{"$f":"Macro!B931","v":0},{"$f":"Macro!E931","v":{"$error":"#DIV/0!"}}]
[null,{"$f":"Macro!A932","v":0},{"$f":"Macro!B932","v":0},{"$f":"Macro!E932","v":{"$error":"#DIV/0!"}}]
[null,{"$f":"Macro!A933","v":0},{"$f":"Macro!B933","v":0},{"$f":"Macro!E933","v":{"$error":"#DIV/0!"}}]
[null,{"$f":"Macro!A934","v":0},{"$f":"Macro!B934","v":0},{"$f":"Macro!E934","v":{"$error":"#DIV/0!"}}]
[null,{"$f":"Macro!A935","v":0},{"$f":"Macro!B935","v":0},{"$f":"Macro!E935","v":{"$error":"#DIV/0!"}}]
[null,{"$f":"Macro!A936","v":0},{"$f":"Macro!B936","v":0},{"$f":"Macro!E936","v":{"$error":"#DIV/0!"}}]
[null,{"$f":"Macro!A937","v":0},{"$f":"Macro!B937","v":0},{"$f":"Macro!E937","v":{"$error":"#DIV/0!"}}]
[null,{"$f":"Macro!A938","v":0},{"$f":"Macro!B938","v":0},{"$f":"Macro!E938","v":{"$error":"#DIV/0!"}}]
[null,{"$f":"Macro!A939","v":0},{"$f":"Macro!B939","v":0},{"$f":"Macro!E939","v":{"$error":"#DIV/0!"}}]
[null,{"$f":"Macro!A940","v":0},{"$f":"Macro!B940","v":0},{"$f":"Macro!E940","v":{"$error":"#DIV/0!"}}]
[null,{"$f":"Macro!A941","v":0},{"$f":"Macro!B941","v":0},{"$f":"Macro!E941","v":{"$error":"#DIV/0!"}}]
[null,{"$f":"Macro!A942","v":0},{"$f":"Macro!B942","v":0},{"$f":"Macro!E942","v":{"$error":"#DIV/0!"}}]
[null,{"$f":"Macro!A943","v":0},{"$f":"Macro!B943","v":0},{"$f":"Macro!E943","v":{"$error":"#DIV/0!"}}]
[null,{"$f":"Macro!A944","v":0},{"$f":"Macro!B944","v":0},{"$f":"Macro!E944","v":{"$error":"#DIV/0!"}}]
[null,{"$f":"Macro!A945","v":0},{"$f":"Macro!B945","v":0},{"$f":"Macro!E945","v":{"$error":"#DIV/0!"}}]
[null,{"$f":"Macro!A946","v":0},{"$f":"Macro!B946","v":0},{"$f":"Macro!E946","v":{"$error":"#DIV/0!"}}]
[null,{"$f":"Macro!A947","v":0},{"$f":"Macro!B947","v":0},{"$f":"Macro!E947","v":{"$error":"#DIV/0!"}}]
[null,{"$f":"Macro!A948","v":0},{"$f":"Macro!B948","v":0},{"$f":"Macro!E948","v":{"$error":"#DIV/0!"}}]
[null,{"$f":"Macro!A949","v":0},{"$f":"Macro!B949","v":0},{"$f":"Macro!E949","v":{"$error":"#DIV/0!"}}]
[null,{"$f":"Macro!A950","v":0},{"$f":"Macro!B950","v":0},{"$f":"Macro!E950","v":{"$error":"#DIV/0!"}}]
[null,{"$f":"Macro!A951","v":0},{"$f":"Macro!B951","v":0},{"$f":"Macro!E951","v":{"$error":"#DIV/0!"}}]
[null,{"$f":"Macro!A952","v":0},{"$f":"Macro!B952","v":0},{"$f":"Macro!E952","v":{"$error":"#DIV/0!"}}]
[null,{"$f":"Macro!A953","v":0},{"$f":"Macro!B953","v":0},{"$f":"Macro!E953","v":{"$error":"#DIV/0!"}}]
[null,{"$f":"Macro!A954","v":0},{"$f":"Macro!B954","v":0},{"$f":"Macro!E954","v":{"$error":"#DIV/0!"}}]
[null,{"$f":"Macro!A955","v":0},{"$f":"Macro!B955","v":0},{"$f":"Macro!E955","v":{"$error":"#DIV/0!"}}]
[null,{"$f":"Macro!A956","v":0},{"$f":"Macro!B956","v":0},{"$f":"Macro!E956","v":{"$error":"#DIV/0!"}}]
[null,{"$f":"Macro!A957","v":0},{"$f":"Macro!B957","v":0},{"$f":"Macro!E957","v":{"$error":"#DIV/0!"}}]
[null,{"$f":"Macro!A958","v":0},{"$f":"Macro!B958","v":0},{"$f":"Macro!E958","v":{"$error":"#DIV/0!"}}]
[null,{"$f":"Macro!A959","v":0},{"$f":"Macro!B959","v":0},{"$f":"Macro!E959","v":{"$error":"#DIV/0!"}}]
[null,{"$f":"Macro!A960","v":0},{"$f":"Macro!B960","v":0},{"$f":"Macro!E960","v":{"$error":"#DIV/0!"}}]
[null,{"$f":"Macro!A961","v":0},{"$f":"Macro!B961","v":0},{"$f":"Macro!E961","v":{"$error":"#DIV/0!"}}]
[null,{"$f":"Macro!A962","v":0},{"$f":"Macro!B962","v":0},{"$f":"Macro!E962","v":{"$error":"#DIV/0!"}}]
[null,{"$f":"Macro!A963","v":0},{"$f":"Macro!B963","v":0},{"$f":"Macro!E963","v":{"$error":"#DIV/0!"}}]
[null,{"$f":"Macro!A964","v":0},{"$f":"Macro!B964","v":0},{"$f":"Macro!E964","v":{"$error":"#DIV/0!"}}]
[null,{"$f":"Macro!A965","v":0},{"$f":"Macro!B965","v":0},{"$f":"Macro!E965","v":{"$error":"#DIV/0!"}}]
[null,{"$f":"Macro!A966","v":0},{"$f":"Macro!B966","v":0},{"$f":"Macro!E966","v":{"$error":"#DIV/0!"}}]
[null,{"$f":"Macro!A967","v":0},{"$f":"Macro!B967","v":0},{"$f":"Macro!E967","v":{"$error":"#DIV/0!"}}]
[null,{"$f":"Macro!A968","v":0},{"$f":"Macro!B968","v":0},{"$f":"Macro!E968","v":{"$error":"#DIV/0!"}}]
[null,{"$f":"Macro!A969","v":0},{"$f":"Macro!B969","v":0},{"$f":"Macro!E969","v":{"$error":"#DIV/0!"}}]
[null,{"$f":"Macro!A970","v":0},{"$f":"Macro!B970","v":0},{"$f":"Macro!E970","v":{"$error":"#DIV/0!"}}]
[null,{"$f":"Macro!A971","v":0},{"$f":"Macro!B971","v":0},{"$f":"Macro!E971","v":{"$error":"#DIV/0!"}}]
[null,{"$f":"Macro!A972","v":0},{"$f":"Macro!B972","v":0},{"$f":"Macro!E972","v":{"$error":"#DIV/0!"}}]
[null,{"$f":"Macro!A973","v":0},{"$f":"Macro!B973","v":0},{"$f":"Macro!E973","v":{"$error":"#DIV/0!"}}]
[null,{"$f":"Macro!A974","v":0},{"$f":"Macro!B974","v":0},{"$f":"Macro!E974","v":{"$error":"#DIV/0!"}}]
[null,{"$f":"Macro!A975","v":0},{"$f":"Macro!B975","v":0},{"$f":"Macro!E975","v":{"$error":"#DIV/0!"}}]
[null,{"$f":"Macro!A976","v":0},{"$f":"Macro!B976","v":0},{"$f":"Macro!E976","v":{"$error":"#DIV/0!"}}]
[null,{"$f":"Macro!A977","v":0},{"$f":"Macro!B977","v":0},{"$f":"Macro!E977","v":{"$error":"#DIV/0!"}}]
[null,{"$f":"Macro!A978","v":0},{"$f":"Macro!B978","v":0},{"$f":"Macro!E978","v":{"$error":"#DIV/0!"}}]
[null,{"$f":"Macro!A979","v":0},{"$f":"Macro!B979","v":0},{"$f":"Macro!E979","v":{"$error":"#DIV/0!"}}]
[null,{"$f":"Macro!A980","v":0},{"$f":"Macro!B980","v":0},{"$f":"Macro!E980","v":{"$error":"#DIV/0!"}}]
[null,{"$f":"Macro!A981","v":0},{"$f":"Macro!B981","v":0},{"$f":"Macro!E981","v":{"$error":"#DIV/0!"}}]
[null,{"$f":"Macro!A982","v":0},{"$f":"Macro!B982","v":0},{"$f":"Macro!E982","v":{"$error":"#DIV/0!"}}]
[null,{"$f":"Macro!A983","v":0},{"$f":"Macro!B983","v":0},{"$f":"Macro!E983","v":{"$error":"#DIV/0!"}}]
[null,{"$f":"Macro!A984","v":0},{"$f":"Macro!B984","v":0},{"$f":"Macro!E984","v":{"$error":"#DIV/0!"}}]
[null,{"$f":"Macro!A985","v":0},{"$f":"Macro!B985","v":0},{"$f":"Macro!E985","v":{"$error":"#DIV/0!"}}]
[null,{"$f":"Macro!A986","v":0},{"$f":"Macro!B986","v":0},{"$f":"Macro!E986","v":{"$error":"#DIV/0!"}}]
[null,{"$f":"Macro!A987","v":0},{"$f":"Macro!B987","v":0},{"$f":"Macro!E987","v":{"$error":"#DIV/0!"}}]
[null,{"$f":"Macro!A988","v":0},{"$f":"Macro!B988","v":0},{"$f":"Macro!E988","v":{"$error":"#DIV/0!"}}]
[null,{"$f":"Macro!A989","v":0},{"$f":"Macro!B989","v":0},{"$f":"Macro!E989","v":{"$error":"#DIV/0!"}}]
[null,{"$f":"Macro!A990","v":0},{"$f":"Macro!B990","v":0},{"$f":"Macro!E990","v":{"$error":"#DIV/0!"}}]
[null,{"$f":"Macro!A991","v":0},{"$f":"Macro!B991","v":0},{"$f":"Macro!E991","v":{"$error":"#DIV/0!"}}]
[null,{"$f":"Macro!A992","v":0},{"$f":"Macro!B992","v":0},{"$f":"Macro!E992","v":{"$error":"#DIV/0!"}}]
[null,{"$f":"Macro!A993","v":0},{"$f":"Macro!B993","v":0},{"$f":"Macro!E993","v":{"$error":"#DIV/0!"}}]
[null,{"$f":"Macro!A994","v":0},{"$f":"Macro!B994","v":0},{"$f":"Macro!E994","v":{"$error":"#DIV/0!"}}]
[null,{"$f":"Macro!A995","v":0},{"$f":"Macro!B995","v":0},{"$f":"Macro!E995","v":{"$error":"#DIV/0!"}}]
[null,{"$f":"Macro!A996","v":0},{"$f":"Macro!B996","v":0},{"$f":"Macro!E996","v":{"$error":"#DIV/0!"}}]
[null,{"$f":"Macro!A997","v":0},{"$f":"Macro!B997","v":0},{"$f":"Macro!E997","v":{"$error":"#DIV/0!"}}]
[null,{"$f":"Macro!A998","v":0},{"$f":"Macro!B998","v":0},{"$f":"Macro!E998","v":{"$error":"#DIV/0!"}}]
[null,{"$f":"Macro!A999","v":0},{"$f":"Macro!B999","v":0},{"$f":"Macro!E999","v":{"$error":"#DIV/0!"}}]
[null,{"$f":"Macro!A1000","v":0},{"$f":"Macro!B1000","v":0},{"$f":"Macro!E1000","v":{"$error":"#DIV/0!"}}]
[null,{"$f":"Macro!A1001","v":0},{"$f":"Macro!B1001","v":0},{"$f":"Macro!E1001","v":{"$error":"#DIV/0!"}}]
[null,{"$f":"Macro!A1002","v":0},{"$f":"Macro!B1002","v":0},{"$f":"Macro!E1002","v":{"$error":"#DIV/0!"}}]
[null,{"$f":"Macro!A1003","v":0},{"$f":"Macro!B1003","v":0},{"$f":"Macro!E1003","v":{"$error":"#DIV/0!"}}]
[null,{"$f":"Macro!A1004","v":0},{"$f":"Macro!B1004","v":0},{"$f":"Macro!E1004","v":{"$error":"#DIV/0!"}}]
[null,{"$f":"Macro!A1005","v":0},{"$f":"Macro!B1005","v":0},{"$f":"Macro!E1005","v":{"$error":"#DIV/0!"}}]
[null,{"$f":"Macro!A1006","v":0},{"$f":"Macro!B1006","v":0},{"$f":"Macro!E1006","v":{"$error":"#DIV/0!"}}]
[null,{"$f":"Macro!A1007","v":0},{"$f":"Macro!B1007","v":0},{"$f":"Macro!E1007","v":{"$error":"#DIV/0!"}}]
[null,{"$f":"Macro!A1008","v":0},{"$f":"Macro!B1008","v":0},{"$f":"Macro!E1008","v":{"$error":"#DIV/0!"}}]
[null,{"$f":"Macro!A1009","v":0},{"$f":"Macro!B1009","v":0},{"$f":"Macro!E1009","v":{"$error":"#DIV/0!"}}]
[null,{"$f":"Macro!A1010","v":0},{"$f":"Macro!B1010","v":0},{"$f":"Macro!E1010","v":{"$error":"#DIV/0!"}}]
[null,{"$f":"Macro!A1011","v":0},{"$f":"Macro!B1011","v":0},{"$f":"Macro!E1011","v":{"$error":"#DIV/0!"}}]
[null,{"$f":"Macro!A1012","v":0},{"$f":"Macro!B1012","v":0},{"$f":"Macro!E1012","v":{"$error":"#DIV/0!"}}]
[null,{"$f":"Macro!A1013","v":0},{"$f":"Macro!B1013","v":0},{"$f":"Macro!E1013","v":{"$error":"#DIV/0!"}}]
[null,{"$f":"Macro!A1014","v":0},{"$f":"Macro!B1014","v":0},{"$f":"Macro!E1014","v":{"$error":"#DIV/0!"}}]
[null,{"$f":"Macro!A1015","v":0},{"$f":"Macro!B1015","v":0},{"$f":"Macro!E1015","v":{"$error":"#DIV/0!"}}]
[null,{"$f":"Macro!A1016","v":0},{"$f":"Macro!B1016","v":0},{"$f":"Macro!E1016","v":{"$error":"#DIV/0!"}}]
[null,{"$f":"Macro!A1017","v":0},{"$f":"Macro!B1017","v":0},{"$f":"Macro!E1017","v":{"$error":"#DIV/0!"}}]
[null,{"$f":"Macro!A1018","v":0},{"$f":"Macro!B1018","v":0},{"$f":"Macro!E1018","v":{"$error":"#DIV/0!"}}]
[null,{"$f":"Macro!A1019","v":0},{"$f":"Macro!B1019","v":0},{"$f":"Macro!E1019","v":{"$error":"#DIV/0!"}}]
[null,{"$f":"Macro!A1020","v":0},{"$f":"Macro!B1020","v":0},{"$f":"Macro!E1020","v":{"$error":"#DIV/0!"}}]
[null,{"$f":"Macro!A1021","v":0},{"$f":"Macro!B1021","v":0},{"$f":"Macro!E1021","v":{"$error":"#DIV/0!"}}]
[null,{"$f":"Macro!A1022","v":0},{"$f":"Macro!B1022","v":0},{"$f":"Macro!E1022","v":{"$error":"#DIV/0!"}}]
[null,{"$f":"Macro!A1023","v":0},{"$f":"Macro!B1023","v":0},{"$f":"Macro!E1023","v":{"$error":"#DIV/0!"}}]
[null,{"$f":"Macro!A1024","v":0},{"$f":"Macro!B1024","v":0},{"$f":"Macro!E1024","v":{"$error":"#DIV/0!"}}]
[null,{"$f":"Macro!A1025","v":0},{"$f":"Macro!B1025","v":0},{"$f":"Macro!E1025","v":{"$error":"#DIV/0!"}}]
[null,{"$f":"Macro!A1026","v":0},{"$f":"Macro!B1026","v":0},{"$f":"Macro!E1026","v":{"$error":"#DIV/0!"}}]
[null,{"$f":"Macro!A1027","v":0},{"$f":"Macro!B1027","v":0},{"$f":"Macro!E1027","v":{"$error":"#DIV/0!"}}]
[null,{"$f":"Macro!A1028","v":0},{"$f":"Macro!B1028","v":0},{"$f":"Macro!E1028","v":{"$error":"#DIV/0!"}}]
[null,{"$f":"Macro!A1029","v":0},{"$f":"Macro!B1029","v":0},{"$f":"Macro!E1029","v":{"$error":"#DIV/0!"}}]
[null,{"$f":"Macro!A1030","v":0},{"$f":"Macro!B1030","v":0},{"$f":"Macro!E1030","v":{"$error":"#DIV/0!"}}]
[null,{"$f":"Macro!A1031","v":0},{"$f":"Macro!B1031","v":0},{"$f":"Macro!E1031","v":{"$error":"#DIV/0!"}}]
[null,{"$f":"Macro!A1032","v":0},{"$f":"Macro!B1032","v":0},{"$f":"Macro!E1032","v":{"$error":"#DIV/0!"}}]
[null,{"$f":"Macro!A1033","v":0},{"$f":"Macro!B1033","v":0},{"$f":"Macro!E1033","v":{"$error":"#DIV/0!"}}]
[null,{"$f":"Macro!A1034","v":0},{"$f":"Macro!B1034","v":0},{"$f":"Macro!E1034","v":{"$error":"#DIV/0!"}}]
[null,{"$f":"Macro!A1035","v":0},{"$f":"Macro!B1035","v":0},{"$f":"Macro!E1035","v":{"$error":"#DIV/0!"}}]
[null,{"$f":"Macro!A1036","v":0},{"$f":"Macro!B1036","v":0},{"$f":"Macro!E1036","v":{"$error":"#DIV/0!"}}]
[null,{"$f":"Macro!A1037","v":0},{"$f":"Macro!B1037","v":0},{"$f":"Macro!E1037","v":{"$error":"#DIV/0!"}}]
[null,{"$f":"Macro!A1038","v":0},{"$f":"Macro!B1038","v":0},{"$f":"Macro!E1038","v":{"$error":"#DIV/0!"}}]
[null,{"$f":"Macro!A1039","v":0},{"$f":"Macro!B1039","v":0},{"$f":"Macro!E1039","v":{"$error":"#DIV/0!"}}]
[null,{"$f":"Macro!A1040","v":0},{"$f":"Macro!B1040","v":0},{"$f":"Macro!E1040","v":{"$error":"#DIV/0!"}}]
[null,{"$f":"Macro!A1041","v":0},{"$f":"Macro!B1041","v":0},{"$f":"Macro!E1041","v":{"$error":"#DIV/0!"}}]
[null,{"$f":"Macro!A1042","v":0},{"$f":"Macro!B1042","v":0},{"$f":"Macro!E1042","v":{"$error":"#DIV/0!"}}]
[null,{"$f":"Macro!A1043","v":0},{"$f":"Macro!B1043","v":0},{"$f":"Macro!E1043","v":{"$error":"#DIV/0!"}}]
[null,{"$f":"Macro!A1044","v":0},{"$f":"Macro!B1044","v":0},{"$f":"Macro!E1044","v":{"$error":"#DIV/0!"}}]
[null,{"$f":"Macro!A1045","v":0},{"$f":"Macro!B1045","v":0},{"$f":"Macro!E1045","v":{"$error":"#DIV/0!"}}]
[null,{"$f":"Macro!A1046","v":0},{"$f":"Macro!B1046","v":0},{"$f":"Macro!E1046","v":{"$error":"#DIV/0!"}}]
[null,{"$f":"Macro!A1047","v":0},{"$f":"Macro!B1047","v":0},{"$f":"Macro!E1047","v":{"$error":"#DIV/0!"}}]
[null,{"$f":"Macro!A1048","v":0},{"$f":"Macro!B1048","v":0},{"$f":"Macro!E1048","v":{"$error":"#DIV/0!"}}]
[null,{"$f":"Macro!A1049","v":0},{"$f":"Macro!B1049","v":0},{"$f":"Macro!E1049","v":{"$error":"#DIV/0!"}}]
[null,{"$f":"Macro!A1050","v":0},{"$f":"Macro!B1050","v":0},{"$f":"Macro!E1050","v":{"$error":"#DIV/0!"}}]
[null,{"$f":"Macro!A1051","v":0},{"$f":"Macro!B1051","v":0},{"$f":"Macro!E1051","v":{"$error":"#DIV/0!"}}]
[null,{"$f":"Macro!A1052","v":0},{"$f":"Macro!B1052","v":0},{"$f":"Macro!E1052","v":{"$error":"#DIV/0!"}}]
[null,{"$f":"Macro!A1053","v":0},{"$f":"Macro!B1053","v":0},{"$f":"Macro!E1053","v":{"$error":"#DIV/0!"}}]
[null,{"$f":"Macro!A1054","v":0},{"$f":"Macro!B1054","v":0},{"$f":"Macro!E1054","v":{"$error":"#DIV/0!"}}]
[null,{"$f":"Macro!A1055","v":0},{"$f":"Macro!B1055","v":0},{"$f":"Macro!E1055","v":{"$error":"#DIV/0!"}}]
[null,{"$f":"Macro!A1056","v":0},{"$f":"Macro!B1056","v":0},{"$f":"Macro!E1056","v":{"$error":"#DIV/0!"}}]
[null,{"$f":"Macro!A1057","v":0},{"$f":"Macro!B1057","v":0},{"$f":"Macro!E1057","v":{"$error":"#DIV/0!"}}]
[null,{"$f":"Macro!A1058","v":0},{"$f":"Macro!B1058","v":0},{"$f":"Macro!E1058","v":{"$error":"#DIV/0!"}}]
[null,{"$f":"Macro!A1059","v":0},{"$f":"Macro!B1059","v":0},{"$f":"Macro!E1059","v":{"$error":"#DIV/0!"}}]
[null,{"$f":"Macro!A1060","v":0},{"$f":"Macro!B1060","v":0},{"$f":"Macro!E1060","v":{"$error":"#DIV/0!"}}]
[null,{"$f":"Macro!A1061","v":0},{"$f":"Macro!B1061","v":0},{"$f":"Macro!E1061","v":{"$error":"#DIV/0!"}}]
[null,{"$f":"Macro!A1062","v":0},{"$f":"Macro!B1062","v":0},{"$f":"Macro!E1062","v":{"$error":"#DIV/0!"}}]
[null,{"$f":"Macro!A1063","v":0},{"$f":"Macro!B1063","v":0},{"$f":"Macro!E1063","v":{"$error":"#DIV/0!"}}]
[null,{"$f":"Macro!A1064","v":0},{"$f":"Macro!B1064","v":0},{"$f":"Macro!E1064","v":{"$error":"#DIV/0!"}}]
[null,{"$f":"Macro!A1065","v":0},{"$f":"Macro!B1065","v":0},{"$f":"Macro!E1065","v":{"$error":"#DIV/0!"}}]
[null,{"$f":"Macro!A1066","v":0},{"$f":"Macro!B1066","v":0},{"$f":"Macro!E1066","v":{"$error":"#DIV/0!"}}]
[null,{"$f":"Macro!A1067","v":0},{"$f":"Macro!B1067","v":0},{"$f":"Macro!E1067","v":{"$error":"#DIV/0!"}}]
[null,{"$f":"Macro!A1068","v":0},{"$f":"Macro!B1068","v":0},{"$f":"Macro!E1068","v":{"$error":"#DIV/0!"}}]
[null,{"$f":"Macro!A1069","v":0},{"$f":"Macro!B1069","v":0},{"$f":"Macro!E1069","v":{"$error":"#DIV/0!"}}]
[null,{"$f":"Macro!A1070","v":0},{"$f":"Macro!B1070","v":0},{"$f":"Macro!E1070","v":{"$error":"#DIV/0!"}}]
[null,{"$f":"Macro!A1071","v":0},{"$f":"Macro!B1071","v":0},{"$f":"Macro!E1071","v":{"$error":"#DIV/0!"}}]
[null,{"$f":"Macro!A1072","v":0},{"$f":"Macro!B1072","v":0},{"$f":"Macro!E1072","v":{"$error":"#DIV/0!"}}]
[null,{"$f":"Macro!A1073","v":0},{"$f":"Macro!B1073","v":0},{"$f":"Macro!E1073","v":{"$error":"#DIV/0!"}}]
[null,{"$f":"Macro!A1074","v":0},{"$f":"Macro!B1074","v":0},{"$f":"Macro!E1074","v":{"$error":"#DIV/0!"}}]
[null,{"$f":"Macro!A1075","v":0},{"$f":"Macro!B1075","v":0},{"$f":"Macro!E1075","v":{"$error":"#DIV/0!"}}]
[null,{"$f":"Macro!A1076","v":0},{"$f":"Macro!B1076","v":0},{"$f":"Macro!E1076","v":{"$error":"#DIV/0!"}}]
[null,{"$f":"Macro!A1077","v":0},{"$f":"Macro!B1077","v":0},{"$f":"Macro!E1077","v":{"$error":"#DIV/0!"}}]
[null,{"$f":"Macro!A1078","v":0},{"$f":"Macro!B1078","v":0},{"$f":"Macro!E1078","v":{"$error":"#DIV/0!"}}]
[null,{"$f":"Macro!A1079","v":0},{"$f":"Macro!B1079","v":0},{"$f":"Macro!E1079","v":{"$error":"#DIV/0!"}}]
[null,{"$f":"Macro!A1080","v":0},{"$f":"Macro!B1080","v":0},{"$f":"Macro!E1080","v":{"$error":"#DIV/0!"}}]
[null,{"$f":"Macro!A1081","v":0},{"$f":"Macro!B1081","v":0},{"$f":"Macro!E1081","v":{"$error":"#DIV/0!"}}]
[null,{"$f":"Macro!A1082","v":0},{"$f":"Macro!B1082","v":0},{"$f":"Macro!E1082","v":{"$error":"#DIV/0!"}}]
[null,{"$f":"Macro!A1083","v":0},{"$f":"Macro!B1083","v":0},{"$f":"Macro!E1083","v":{"$error":"#DIV/0!"}}]
[null,{"$f":"Macro!A1084","v":0},{"$f":"Macro!B1084","v":0},{"$f":"Macro!E1084","v":{"$error":"#DIV/0!"}}]
[null,{"$f":"Macro!A1085","v":0},{"$f":"Macro!B1085","v":0},{"$f":"Macro!E1085","v":{"$error":"#DIV/0!"}}]
[null,{"$f":"Macro!A1086","v":0},{"$f":"Macro!B1086","v":0},{"$f":"Macro!E1086","v":{"$error":"#DIV/0!"}}]
[null,{"$f":"Macro!A1087","v":0},{"$f":"Macro!B1087","v":0},{"$f":"Macro!E1087","v":{"$error":"#DIV/0!"}}]
[null,{"$f":"Macro!A1088","v":0},{"$f":"Macro!B1088","v":0},{"$f":"Macro!E1088","v":{"$error":"#DIV/0!"}}]
[null,{"$f":"Macro!A1089","v":0},{"$f":"Macro!B1089","v":0},{"$f":"Macro!E1089","v":{"$error":"#DIV/0!"}}]
[null,{"$f":"Macro!A1090","v":0},{"$f":"Macro!B1090","v":0},{"$f":"Macro!E1090","v":{"$error":"#DIV/0!"}}]
[null,{"$f":"Macro!A1091","v":0},{"$f":"Macro!B1091","v":0},{"$f":"Macro!E1091","v":{"$error":"#DIV/0!"}}]
[null,{"$f":"Macro!A1092","v":0},{"$f":"Macro!B1092","v":0},{"$f":"Macro!E1092","v":{"$error":"#DIV/0!"}}]
[null,{"$f":"Macro!A1093","v":0},{"$f":"Macro!B1093","v":0},{"$f":"Macro!E1093","v":{"$error":"#DIV/0!"}}]
[null,{"$f":"Macro!A1094","v":0},{"$f":"Macro!B1094","v":0},{"$f":"Macro!E1094","v":{"$error":"#DIV/0!"}}]
[null,{"$f":"Macro!A1095","v":0},{"$f":"Macro!B1095","v":0},{"$f":"Macro!E1095","v":{"$error":"#DIV/0!"}}]
[null,{"$f":"Macro!A1096","v":0},{"$f":"Macro!B1096","v":0},{"$f":"Macro!E1096","v":{"$error":"#DIV/0!"}}]
[null,{"$f":"Macro!A1097","v":0},{"$f":"Macro!B1097","v":0},{"$f":"Macro!E1097","v":{"$error":"#DIV/0!"}}]
[null,{"$f":"Macro!A1098","v":0},{"$f":"Macro!B1098","v":0},{"$f":"Macro!E1098","v":{"$error":"#DIV/0!"}}]
[null,{"$f":"Macro!A1099","v":0},{"$f":"Macro!B1099","v":0},{"$f":"Macro!E1099","v":{"$error":"#DIV/0!"}}]
[null,{"$f":"Macro!A1100","v":0},{"$f":"Macro!B1100","v":0},{"$f":"Macro!E1100","v":{"$error":"#DIV/0!"}}]
[null,{"$f":"Macro!A1101","v":0},{"$f":"Macro!B1101","v":0},{"$f":"Macro!E1101","v":{"$error":"#DIV/0!"}}]
[null,{"$f":"Macro!A1102","v":0},{"$f":"Macro!B1102","v":0},{"$f":"Macro!E1102","v":{"$error":"#DIV/0!"}}]
[null,{"$f":"Macro!A1103","v":0},{"$f":"Macro!B1103","v":0},{"$f":"Macro!E1103","v":{"$error":"#DIV/0!"}}]
[null,{"$f":"Macro!A1104","v":0},{"$f":"Macro!B1104","v":0},{"$f":"Macro!E1104","v":{"$error":"#DIV/0!"}}]
[null,{"$f":"Macro!A1105","v":0},{"$f":"Macro!B1105","v":0},{"$f":"Macro!E1105","v":{"$error":"#DIV/0!"}}]
[null,{"$f":"Macro!A1106","v":0},{"$f":"Macro!B1106","v":0},{"$f":"Macro!E1106","v":{"$error":"#DIV/0!"}}]
[null,{"$f":"Macro!A1107","v":0},{"$f":"Macro!B1107","v":0},{"$f":"Macro!E1107","v":{"$error":"#DIV/0!"}}]
[null,{"$f":"Macro!A1108","v":0},{"$f":"Macro!B1108","v":0},{"$f":"Macro!E1108","v":{"$error":"#DIV/0!"}}]
[null,{"$f":"Macro!A1109","v":0},{"$f":"Macro!B1109","v":0},{"$f":"Macro!E1109","v":{"$error":"#DIV/0!"}}]
[null,{"$f":"Macro!A1110","v":0},{"$f":"Macro!B1110","v":0},{"$f":"Macro!E1110","v":{"$error":"#DIV/0!"}}]
[null,{"$f":"Macro!A1111","v":0},{"$f":"Macro!B1111","v":0},{"$f":"Macro!E1111","v":{"$error":"#DIV/0!"}}]
[null,{"$f":"Macro!A1112","v":0},{"$f":"Macro!B1112","v":0},{"$f":"Macro!E1112","v":{"$error":"#DIV/0!"}}]
[null,{"$f":"Macro!A1113","v":0},{"$f":"Macro!B1113","v":0},{"$f":"Macro!E1113","v":{"$error":"#DIV/0!"}}]
[null,{"$f":"Macro!A1114","v":0},{"$f":"Macro!B1114","v":0},{"$f":"Macro!E1114","v":{"$error":"#DIV/0!"}}]
[null,{"$f":"Macro!A1115","v":0},{"$f":"Macro!B1115","v":0},{"$f":"Macro!E1115","v":{"$error":"#DIV/0!"}}]
[null,{"$f":"Macro!A1116","v":0},{"$f":"Macro!B1116","v":0},{"$f":"Macro!E1116","v":{"$error":"#DIV/0!"}}]
[null,{"$f":"Macro!A1117","v":0},{"$f":"Macro!B1117","v":0},{"$f":"Macro!E1117","v":{"$error":"#DIV/0!"}}]
[null,{"$f":"Macro!A1118","v":0},{"$f":"Macro!B1118","v":0},{"$f":"Macro!E1118","v":{"$error":"#DIV/0!"}}]
[null,{"$f":"Macro!A1119","v":0},{"$f":"Macro!B1119","v":0},{"$f":"Macro!E1119","v":{"$error":"#DIV/0!"}}]
[null,{"$f":"Macro!A1120","v":0},{"$f":"Macro!B1120","v":0},{"$f":"Macro!E1120","v":{"$error":"#DIV/0!"}}]
[null,{"$f":"Macro!A1121","v":0},{"$f":"Macro!B1121","v":0},{"$f":"Macro!E1121","v":{"$error":"#DIV/0!"}}]
[null,{"$f":"Macro!A1122","v":0},{"$f":"Macro!B1122","v":0},{"$f":"Macro!E1122","v":{"$error":"#DIV/0!"}}]
[null,{"$f":"Macro!A1123","v":0},{"$f":"Macro!B1123","v":0},{"$f":"Macro!E1123","v":{"$error":"#DIV/0!"}}]
[null,{"$f":"Macro!A1124","v":0},{"$f":"Macro!B1124","v":0},{"$f":"Macro!E1124","v":{"$error":"#DIV/0!"}}]
[null,{"$f":"Macro!A1125","v":0},{"$f":"Macro!B1125","v":0},{"$f":"Macro!E1125","v":{"$error":"#DIV/0!"}}]
[null,{"$f":"Macro!A1126","v":0},{"$f":"Macro!B1126","v":0},{"$f":"Macro!E1126","v":{"$error":"#DIV/0!"}}]
[null,{"$f":"Macro!A1127","v":0},{"$f":"Macro!B1127","v":0},{"$f":"Macro!E1127","v":{"$error":"#DIV/0!"}}]
[null,{"$f":"Macro!A1128","v":0},{"$f":"Macro!B1128","v":0},{"$f":"Macro!E1128","v":{"$error":"#DIV/0!"}}]
[null,{"$f":"Macro!A1129","v":0},{"$f":"Macro!B1129","v":0},{"$f":"Macro!E1129","v":{"$error":"#DIV/0!"}}]
[null,{"$f":"Macro!A1130","v":0},{"$f":"Macro!B1130","v":0},{"$f":"Macro!E1130","v":{"$error":"#DIV/0!"}}]
[null,{"$f":"Macro!A1131","v":0},{"$f":"Macro!B1131","v":0},{"$f":"Macro!E1131","v":{"$error":"#DIV/0!"}}]
[null,{"$f":"Macro!A1132","v":0},{"$f":"Macro!B1132","v":0},{"$f":"Macro!E1132","v":{"$error":"#DIV/0!"}}]
[null,{"$f":"Macro!A1133","v":0},{"$f":"Macro!B1133","v":0},{"$f":"Macro!E1133","v":{"$error":"#DIV/0!"}}]
[null,{"$f":"Macro!A1134","v":0},{"$f":"Macro!B1134","v":0},{"$f":"Macro!E1134","v":{"$error":"#DIV/0!"}}]
[null,{"$f":"Macro!A1135","v":0},{"$f":"Macro!B1135","v":0},{"$f":"Macro!E1135","v":{"$error":"#DIV/0!"}}]
[null,{"$f":"Macro!A1136","v":0},{"$f":"Macro!B1136","v":0},{"$f":"Macro!E1136","v":{"$error":"#DIV/0!"}}]
[null,{"$f":"Macro!A1137","v":0},{"$f":"Macro!B1137","v":0},{"$f":"Macro!E1137","v":{"$error":"#DIV/0!"}}]
[null,{"$f":"Macro!A1138","v":0},{"$f":"Macro!B1138","v":0},{"$f":"Macro!E1138","v":{"$error":"#DIV/0!"}}]
[null,{"$f":"Macro!A1139","v":0},{"$f":"Macro!B1139","v":0},{"$f":"Macro!E1139","v":{"$error":"#DIV/0!"}}]
[null,{"$f":"Macro!A1140","v":0},{"$f":"Macro!B1140","v":0},{"$f":"Macro!E1140","v":{"$error":"#DIV/0!"}}]
[null,{"$f":"Macro!A1141","v":0},{"$f":"Macro!B1141","v":0},{"$f":"Macro!E1141","v":{"$error":"#DIV/0!"}}]
[null,{"$f":"Macro!A1142","v":0},{"$f":"Macro!B1142","v":0},{"$f":"Macro!E1142","v":{"$error":"#DIV/0!"}}]
[null,{"$f":"Macro!A1143","v":0},{"$f":"Macro!B1143","v":0},{"$f":"Macro!E1143","v":{"$error":"#DIV/0!"}}]
[null,{"$f":"Macro!A1144","v":0},{"$f":"Macro!B1144","v":0},{"$f":"Macro!E1144","v":{"$error":"#DIV/0!"}}]
[null,{"$f":"Macro!A1145","v":0},{"$f":"Macro!B1145","v":0},{"$f":"Macro!E1145","v":{"$error":"#DIV/0!"}}]
[null,{"$f":"Macro!A1146","v":0},{"$f":"Macro!B1146","v":0},{"$f":"Macro!E1146","v":{"$error":"#DIV/0!"}}]
[null,{"$f":"Macro!A1147","v":0},{"$f":"Macro!B1147","v":0},{"$f":"Macro!E1147","v":{"$error":"#DIV/0!"}}]
[null,{"$f":"Macro!A1148","v":0},{"$f":"Macro!B1148","v":0},{"$f":"Macro!E1148","v":{"$error":"#DIV/0!"}}]
[null,{"$f":"Macro!A1149","v":0},{"$f":"Macro!B1149","v":0},{"$f":"Macro!E1149","v":{"$error":"#DIV/0!"}}]
[null,{"$f":"Macro!A1150","v":0},{"$f":"Macro!B1150","v":0},{"$f":"Macro!E1150","v":{"$error":"#DIV/0!"}}]
[null,{"$f":"Macro!A1151","v":0},{"$f":"Macro!B1151","v":0},{"$f":"Macro!E1151","v":{"$error":"#DIV/0!"}}]
[null,{"$f":"Macro!A1152","v":0},{"$f":"Macro!B1152","v":0},{"$f":"Macro!E1152","v":{"$error":"#DIV/0!"}}]
[null,{"$f":"Macro!A1153","v":0},{"$f":"Macro!B1153","v":0},{"$f":"Macro!E1153","v":{"$error":"#DIV/0!"}}]
[null,{"$f":"Macro!A1154","v":0},{"$f":"Macro!B1154","v":0},{"$f":"Macro!E1154","v":{"$error":"#DIV/0!"}}]
[null,{"$f":"Macro!A1155","v":0},{"$f":"Macro!B1155","v":0},{"$f":"Macro!E1155","v":{"$error":"#DIV/0!"}}]
[null,{"$f":"Macro!A1156","v":0},{"$f":"Macro!B1156","v":0},{"$f":"Macro!E1156","v":{"$error":"#DIV/0!"}}]
[null,{"$f":"Macro!A1157","v":0},{"$f":"Macro!B1157","v":0},{"$f":"Macro!E1157","v":{"$error":"#DIV/0!"}}]
[null,{"$f":"Macro!A1158","v":0},{"$f":"Macro!B1158","v":0},{"$f":"Macro!E1158","v":{"$error":"#DIV/0!"}}]
[null,{"$f":"Macro!A1159","v":0},{"$f":"Macro!B1159","v":0},{"$f":"Macro!E1159","v":{"$error":"#DIV/0!"}}]
[null,{"$f":"Macro!A1160","v":0},{"$f":"Macro!B1160","v":0},{"$f":"Macro!E1160","v":{"$error":"#DIV/0!"}}]
[null,{"$f":"Macro!A1161","v":0},{"$f":"Macro!B1161","v":0},{"$f":"Macro!E1161","v":{"$error":"#DIV/0!"}}]
[null,{"$f":"Macro!A1162","v":0},{"$f":"Macro!B1162","v":0},{"$f":"Macro!E1162","v":{"$error":"#DIV/0!"}}]
[null,{"$f":"Macro!A1163","v":0},{"$f":"Macro!B1163","v":0},{"$f":"Macro!E1163","v":{"$error":"#DIV/0!"}}]
[null,{"$f":"Macro!A1164","v":0},{"$f":"Macro!B1164","v":0},{"$f":"Macro!E1164","v":{"$error":"#DIV/0!"}}]
[null,{"$f":"Macro!A1165","v":0},{"$f":"Macro!B1165","v":0},{"$f":"Macro!E1165","v":{"$error":"#DIV/0!"}}]
[null,{"$f":"Macro!A1166","v":0},{"$f":"Macro!B1166","v":0},{"$f":"Macro!E1166","v":{"$error":"#DIV/0!"}}]
[null,{"$f":"Macro!A1167","v":0},{"$f":"Macro!B1167","v":0},{"$f":"Macro!E1167","v":{"$error":"#DIV/0!"}}]
[null,{"$f":"Macro!A1168","v":0},{"$f":"Macro!B1168","v":0},{"$f":"Macro!E1168","v":{"$error":"#DIV/0!"}}]
[null,{"$f":"Macro!A1169","v":0},{"$f":"Macro!B1169","v":0},{"$f":"Macro!E1169","v":{"$error":"#DIV/0!"}}]
[null,{"$f":"Macro!A1170","v":0},{"$f":"Macro!B1170","v":0},{"$f":"Macro!E1170","v":{"$error":"#DIV/0!"}}]
[null,{"$f":"Macro!A1171","v":0},{"$f":"Macro!B1171","v":0},{"$f":"Macro!E1171","v":{"$error":"#DIV/0!"}}]
[null,{"$f":"Macro!A1172","v":0},{"$f":"Macro!B1172","v":0},{"$f":"Macro!E1172","v":{"$error":"#DIV/0!"}}]
[null,{"$f":"Macro!A1173","v":0},{"$f":"Macro!B1173","v":0},{"$f":"Macro!E1173","v":{"$error":"#DIV/0!"}}]
[null,{"$f":"Macro!A1174","v":0},{"$f":"Macro!B1174","v":0},{"$f":"Macro!E1174","v":{"$error":"#DIV/0!"}}]
[null,{"$f":"Macro!A1175","v":0},{"$f":"Macro!B1175","v":0},{"$f":"Macro!E1175","v":{"$error":"#DIV/0!"}}]
[null,{"$f":"Macro!A1176","v":0},{"$f":"Macro!B1176","v":0},{"$f":"Macro!E1176","v":{"$error":"#DIV/0!"}}]
[null,{"$f":"Macro!A1177","v":0},{"$f":"Macro!B1177","v":0},{"$f":"Macro!E1177","v":{"$error":"#DIV/0!"}}]
[null,{"$f":"Macro!A1178","v":0},{"$f":"Macro!B1178","v":0},{"$f":"Macro!E1178","v":{"$error":"#DIV/0!"}}]
[null,{"$f":"Macro!A1179","v":0},{"$f":"Macro!B1179","v":0},{"$f":"Macro!E1179","v":{"$error":"#DIV/0!"}}]
[null,{"$f":"Macro!A1180","v":0},{"$f":"Macro!B1180","v":0},{"$f":"Macro!E1180","v":{"$error":"#DIV/0!"}}]
[null,{"$f":"Macro!A1181","v":0},{"$f":"Macro!B1181","v":0},{"$f":"Macro!E1181","v":{"$error":"#DIV/0!"}}]
[null,{"$f":"Macro!A1182","v":0},{"$f":"Macro!B1182","v":0},{"$f":"Macro!E1182","v":{"$error":"#DIV/0!"}}]
[null,{"$f":"Macro!A1183","v":0},{"$f":"Macro!B1183","v":0},{"$f":"Macro!E1183","v":{"$error":"#DIV/0!"}}]
[null,{"$f":"Macro!A1184","v":0},{"$f":"Macro!B1184","v":0},{"$f":"Macro!E1184","v":{"$error":"#DIV/0!"}}]
[null,{"$f":"Macro!A1185","v":0},{"$f":"Macro!B1185","v":0},{"$f":"Macro!E1185","v":{"$error":"#DIV/0!"}}]
[null,{"$f":"Macro!A1186","v":0},{"$f":"Macro!B1186","v":0},{"$f":"Macro!E1186","v":{"$error":"#DIV/0!"}}]
[null,{"$f":"Macro!A1187","v":0},{"$f":"Macro!B1187","v":0},{"$f":"Macro!E1187","v":{"$error":"#DIV/0!"}}]
[null,{"$f":"Macro!A1188","v":0},{"$f":"Macro!B1188","v":0},{"$f":"Macro!E1188","v":{"$error":"#DIV/0!"}}]
[null,{"$f":"Macro!A1189","v":0},{"$f":"Macro!B1189","v":0},{"$f":"Macro!E1189","v":{"$error":"#DIV/0!"}}]
[null,{"$f":"Macro!A1190","v":0},{"$f":"Macro!B1190","v":0},{"$f":"Macro!E1190","v":{"$error":"#DIV/0!"}}]
[null,{"$f":"Macro!A1191","v":0},{"$f":"Macro!B1191","v":0},{"$f":"Macro!E1191","v":{"$error":"#DIV/0!"}}]
[null,{"$f":"Macro!A1192","v":0},{"$f":"Macro!B1192","v":0},{"$f":"Macro!E1192","v":{"$error":"#DIV/0!"}}]
[null,{"$f":"Macro!A1193","v":0},{"$f":"Macro!B1193","v":0},{"$f":"Macro!E1193","v":{"$error":"#DIV/0!"}}]
[null,{"$f":"Macro!A1194","v":0},{"$f":"Macro!B1194","v":0},{"$f":"Macro!E1194","v":{"$error":"#DIV/0!"}}]
[null,{"$f":"Macro!A1195","v":0},{"$f":"Macro!B1195","v":0},{"$f":"Macro!E1195","v":{"$error":"#DIV/0!"}}]
[null,{"$f":"Macro!A1196","v":0},{"$f":"Macro!B1196","v":0},{"$f":"Macro!E1196","v":{"$error":"#DIV/0!"}}]
[null,{"$f":"Macro!A1197","v":0},{"$f":"Macro!B1197","v":0},{"$f":"Macro!E1197","v":{"$error":"#DIV/0!"}}]
[null,{"$f":"Macro!A1198","v":0},{"$f":"Macro!B1198","v":0},{"$f":"Macro!E1198","v":{"$error":"#DIV/0!"}}]
[null,{"$f":"Macro!A1199","v":0},{"$f":"Macro!B1199","v":0},{"$f":"Macro!E1199","v":{"$error":"#DIV/0!"}}]
[null,{"$f":"Macro!A1200","v":0},{"$f":"Macro!B1200","v":0},{"$f":"Macro!E1200","v":{"$error":"#DIV/0!"}}]
[null,{"$f":"Macro!A1201","v":0},{"$f":"Macro!B1201","v":0},{"$f":"Macro!E1201","v":{"$error":"#DIV/0!"}}]
[null,{"$f":"Macro!A1202","v":0},{"$f":"Macro!B1202","v":0},{"$f":"Macro!E1202","v":{"$error":"#DIV/0!"}}]
[null,{"$f":"Macro!A1203","v":0},{"$f":"Macro!B1203","v":0},{"$f":"Macro!E1203","v":{"$error":"#DIV/0!"}}]
[null,{"$f":"Macro!A1204","v":0},{"$f":"Macro!B1204","v":0},{"$f":"Macro!E1204","v":{"$error":"#DIV/0!"}}]
[null,{"$f":"Macro!A1205","v":0},{"$f":"Macro!B1205","v":0},{"$f":"Macro!E1205","v":{"$error":"#DIV/0!"}}]
[null,{"$f":"Macro!A1206","v":0},{"$f":"Macro!B1206","v":0},{"$f":"Macro!E1206","v":{"$error":"#DIV/0!"}}]
[null,{"$f":"Macro!A1207","v":0},{"$f":"Macro!B1207","v":0},{"$f":"Macro!E1207","v":{"$error":"#DIV/0!"}}]
[null,{"$f":"Macro!A1208","v":0},{"$f":"Macro!B1208","v":0},{"$f":"Macro!E1208","v":{"$error":"#DIV/0!"}}]
[null,{"$f":"Macro!A1209","v":0},{"$f":"Macro!B1209","v":0},{"$f":"Macro!E1209","v":{"$error":"#DIV/0!"}}]
[null,{"$f":"Macro!A1210","v":0},{"$f":"Macro!B1210","v":0},{"$f":"Macro!E1210","v":{"$error":"#DIV/0!"}}]
[null,{"$f":"Macro!A1211","v":0},{"$f":"Macro!B1211","v":0},{"$f":"Macro!E1211","v":{"$error":"#DIV/0!"}}]
[null,{"$f":"Macro!A1212","v":0},{"$f":"Macro!B1212","v":0},{"$f":"Macro!E1212","v":{"$error":"#DIV/0!"}}]
[null,{"$f":"Macro!A1213","v":0},{"$f":"Macro!B1213","v":0},{"$f":"Macro!E1213","v":{"$error":"#DIV/0!"}}]
[null,{"$f":"Macro!A1214","v":0},{"$f":"Macro!B1214","v":0},{"$f":"Macro!E1214","v":{"$error":"#DIV/0!"}}]
[null,{"$f":"Macro!A1215","v":0},{"$f":"Macro!B1215","v":0},{"$f":"Macro!E1215","v":{"$error":"#DIV/0!"}}]
[null,{"$f":"Macro!A1216","v":0},{"$f":"Macro!B1216","v":0},{"$f":"Macro!E1216","v":{"$error":"#DIV/0!"}}]
[null,{"$f":"Macro!A1217","v":0},{"$f":"Macro!B1217","v":0},{"$f":"Macro!E1217","v":{"$error":"#DIV/0!"}}]
[null,{"$f":"Macro!A1218","v":0},{"$f":"Macro!B1218","v":0},{"$f":"Macro!E1218","v":{"$error":"#DIV/0!"}}]
[null,{"$f":"Macro!A1219","v":0},{"$f":"Macro!B1219","v":0},{"$f":"Macro!E1219","v":{"$error":"#DIV/0!"}}]
[null,{"$f":"Macro!A1220","v":0},{"$f":"Macro!B1220","v":0},{"$f":"Macro!E1220","v":{"$error":"#DIV/0!"}}]
[null,{"$f":"Macro!A1221","v":0},{"$f":"Macro!B1221","v":0},{"$f":"Macro!E1221","v":{"$error":"#DIV/0!"}}]
[null,{"$f":"Macro!A1222","v":0},{"$f":"Macro!B1222","v":0},{"$f":"Macro!E1222","v":{"$error":"#DIV/0!"}}]
[null,{"$f":"Macro!A1223","v":0},{"$f":"Macro!B1223","v":0},{"$f":"Macro!E1223","v":{"$error":"#DIV/0!"}}]
[null,{"$f":"Macro!A1224","v":0},{"$f":"Macro!B1224","v":0},{"$f":"Macro!E1224","v":{"$error":"#DIV/0!"}}]
[null,{"$f":"Macro!A1225","v":0},{"$f":"Macro!B1225","v":0},{"$f":"Macro!E1225","v":{"$error":"#DIV/0!"}}]
[null,{"$f":"Macro!A1226","v":0},{"$f":"Macro!B1226","v":0},{"$f":"Macro!E1226","v":{"$error":"#DIV/0!"}}]
[null,{"$f":"Macro!A1227","v":0},{"$f":"Macro!B1227","v":0},{"$f":"Macro!E1227","v":{"$error":"#DIV/0!"}}]
[null,{"$f":"Macro!A1228","v":0},{"$f":"Macro!B1228","v":0},{"$f":"Macro!E1228","v":{"$error":"#DIV/0!"}}]
[null,{"$f":"Macro!A1229","v":0},{"$f":"Macro!B1229","v":0},{"$f":"Macro!E1229","v":{"$error":"#DIV/0!"}}]
[null,{"$f":"Macro!A1230","v":0},{"$f":"Macro!B1230","v":0},{"$f":"Macro!E1230","v":{"$error":"#DIV/0!"}}]
[null,{"$f":"Macro!A1231","v":0},{"$f":"Macro!B1231","v":0},{"$f":"Macro!E1231","v":{"$error":"#DIV/0!"}}]
[null,{"$f":"Macro!A1232","v":0},{"$f":"Macro!B1232","v":0},{"$f":"Macro!E1232","v":{"$error":"#DIV/0!"}}]
[null,{"$f":"Macro!A1233","v":0},{"$f":"Macro!B1233","v":0},{"$f":"Macro!E1233","v":{"$error":"#DIV/0!"}}]
[null,{"$f":"Macro!A1234","v":0},{"$f":"Macro!B1234","v":0},{"$f":"Macro!E1234","v":{"$error":"#DIV/0!"}}]
[null,{"$f":"Macro!A1235","v":0},{"$f":"Macro!B1235","v":0},{"$f":"Macro!E1235","v":{"$error":"#DIV/0!"}}]
[null,{"$f":"Macro!A1236","v":0},{"$f":"Macro!B1236","v":0},{"$f":"Macro!E1236","v":{"$error":"#DIV/0!"}}]
[null,{"$f":"Macro!A1237","v":0},{"$f":"Macro!B1237","v":0},{"$f":"Macro!E1237","v":{"$error":"#DIV/0!"}}]
[null,{"$f":"Macro!A1238","v":0},{"$f":"Macro!B1238","v":0},{"$f":"Macro!E1238","v":{"$error":"#DIV/0!"}}]
[null,{"$f":"Macro!A1239","v":0},{"$f":"Macro!B1239","v":0},{"$f":"Macro!E1239","v":{"$error":"#DIV/0!"}}]
[null,{"$f":"Macro!A1240","v":0},{"$f":"Macro!B1240","v":0},{"$f":"Macro!E1240","v":{"$error":"#DIV/0!"}}]
[null,{"$f":"Macro!A1241","v":0},{"$f":"Macro!B1241","v":0},{"$f":"Macro!E1241","v":{"$error":"#DIV/0!"}}]
[null,{"$f":"Macro!A1242","v":0},{"$f":"Macro!B1242","v":0},{"$f":"Macro!E1242","v":{"$error":"#DIV/0!"}}]
[null,{"$f":"Macro!A1243","v":0},{"$f":"Macro!B1243","v":0},{"$f":"Macro!E1243","v":{"$error":"#DIV/0!"}}]
[null,{"$f":"Macro!A1244","v":0},{"$f":"Macro!B1244","v":0},{"$f":"Macro!E1244","v":{"$error":"#DIV/0!"}}]
[null,{"$f":"Macro!A1245","v":0},{"$f":"Macro!B1245","v":0},{"$f":"Macro!E1245","v":{"$error":"#DIV/0!"}}]
[null,{"$f":"Macro!A1246","v":0},{"$f":"Macro!B1246","v":0},{"$f":"Macro!E1246","v":{"$error":"#DIV/0!"}}]
[null,{"$f":"Macro!A1247","v":0},{"$f":"Macro!B1247","v":0},{"$f":"Macro!E1247","v":{"$error":"#DIV/0!"}}]
[null,{"$f":"Macro!A1248","v":0},{"$f":"Macro!B1248","v":0},{"$f":"Macro!E1248","v":{"$error":"#DIV/0!"}}]
[null,{"$f":"Macro!A1249","v":0},{"$f":"Macro!B1249","v":0},{"$f":"Macro!E1249","v":{"$error":"#DIV/0!"}}]
[null,{"$f":"Macro!A1250","v":0},{"$f":"Macro!B1250","v":0},{"$f":"Macro!E1250","v":{"$error":"#DIV/0!"}}]
[null,{"$f":"Macro!A1251","v":0},{"$f":"Macro!B1251","v":0},{"$f":"Macro!E1251","v":{"$error":"#DIV/0!"}}]
[null,{"$f":"Macro!A1252","v":0},{"$f":"Macro!B1252","v":0},{"$f":"Macro!E1252","v":{"$error":"#DIV/0!"}}]
[null,{"$f":"Macro!A1253","v":0},{"$f":"Macro!B1253","v":0},{"$f":"Macro!E1253","v":{"$error":"#DIV/0!"}}]
[null,{"$f":"Macro!A1254","v":0},{"$f":"Macro!B1254","v":0},{"$f":"Macro!E1254","v":{"$error":"#DIV/0!"}}]
[null,{"$f":"Macro!A1255","v":0},{"$f":"Macro!B1255","v":0},{"$f":"Macro!E1255","v":{"$error":"#DIV/0!"}}]
[null,{"$f":"Macro!A1256","v":0},{"$f":"Macro!B1256","v":0},{"$f":"Macro!E1256","v":{"$error":"#DIV/0!"}}]
[null,{"$f":"Macro!A1257","v":0},{"$f":"Macro!B1257","v":0},{"$f":"Macro!E1257","v":{"$error":"#DIV/0!"}}]
[null,{"$f":"Macro!A1258","v":0},{"$f":"Macro!B1258","v":0},{"$f":"Macro!E1258","v":{"$error":"#DIV/0!"}}]
[null,{"$f":"Macro!A1259","v":0},{"$f":"Macro!B1259","v":0},{"$f":"Macro!E1259","v":{"$error":"#DIV/0!"}}]
[null,{"$f":"Macro!A1260","v":0},{"$f":"Macro!B1260","v":0},{"$f":"Macro!E1260","v":{"$error":"#DIV/0!"}}]
[null,{"$f":"Macro!A1261","v":0},{"$f":"Macro!B1261","v":0},{"$f":"Macro!E1261","v":{"$error":"#DIV/0!"}}]
[null,{"$f":"Macro!A1262","v":0},{"$f":"Macro!B1262","v":0},{"$f":"Macro!E1262","v":{"$error":"#DIV/0!"}}]
[null,{"$f":"Macro!A1263","v":0},{"$f":"Macro!B1263","v":0},{"$f":"Macro!E1263","v":{"$error":"#DIV/0!"}}]
[null,{"$f":"Macro!A1264","v":0},{"$f":"Macro!B1264","v":0},{"$f":"Macro!E1264","v":{"$error":"#DIV/0!"}}]
[null,{"$f":"Macro!A1265","v":0},{"$f":"Macro!B1265","v":0},{"$f":"Macro!E1265","v":{"$error":"#DIV/0!"}}]
[null,{"$f":"Macro!A1266","v":0},{"$f":"Macro!B1266","v":0},{"$f":"Macro!E1266","v":{"$error":"#DIV/0!"}}]
[null,{"$f":"Macro!A1267","v":0},{"$f":"Macro!B1267","v":0},{"$f":"Macro!E1267","v":{"$error":"#DIV/0!"}}]
[null,{"$f":"Macro!A1268","v":0},{"$f":"Macro!B1268","v":0},{"$f":"Macro!E1268","v":{"$error":"#DIV/0!"}}]
[null,{"$f":"Macro!A1269","v":0},{"$f":"Macro!B1269","v":0},{"$f":"Macro!E1269","v":{"$error":"#DIV/0!"}}]
[null,{"$f":"Macro!A1270","v":0},{"$f":"Macro!B1270","v":0},{"$f":"Macro!E1270","v":{"$error":"#DIV/0!"}}]
[null,{"$f":"Macro!A1271","v":0},{"$f":"Macro!B1271","v":0},{"$f":"Macro!E1271","v":{"$error":"#DIV/0!"}}]
[null,{"$f":"Macro!A1272","v":0},{"$f":"Macro!B1272","v":0},{"$f":"Macro!E1272","v":{"$error":"#DIV/0!"}}]
[null,{"$f":"Macro!A1273","v":0},{"$f":"Macro!B1273","v":0},{"$f":"Macro!E1273","v":{"$error":"#DIV/0!"}}]
[null,{"$f":"Macro!A1274","v":0},{"$f":"Macro!B1274","v":0},{"$f":"Macro!E1274","v":{"$error":"#DIV/0!"}}]
[null,{"$f":"Macro!A1275","v":0},{"$f":"Macro!B1275","v":0},{"$f":"Macro!E1275","v":{"$error":"#DIV/0!"}}]
[null,{"$f":"Macro!A1276","v":0},{"$f":"Macro!B1276","v":0},{"$f":"Macro!E1276","v":{"$error":"#DIV/0!"}}]
[null,{"$f":"Macro!A1277","v":0},{"$f":"Macro!B1277","v":0},{"$f":"Macro!E1277","v":{"$error":"#DIV/0!"}}]
[null,{"$f":"Macro!A1278","v":0},{"$f":"Macro!B1278","v":0},{"$f":"Macro!E1278","v":{"$error":"#DIV/0!"}}]
[null,{"$f":"Macro!A1279","v":0},{"$f":"Macro!B1279","v":0},{"$f":"Macro!E1279","v":{"$error":"#DIV/0!"}}]
[null,{"$f":"Macro!A1280","v":0},{"$f":"Macro!B1280","v":0},{"$f":"Macro!E1280","v":{"$error":"#DIV/0!"}}]
[null,{"$f":"Macro!A1281","v":0},{"$f":"Macro!B1281","v":0},{"$f":"Macro!E1281","v":{"$error":"#DIV/0!"}}]
[null,{"$f":"Macro!A1282","v":0},{"$f":"Macro!B1282","v":0},{"$f":"Macro!E1282","v":{"$error":"#DIV/0!"}}]
[null,{"$f":"Macro!A1283","v":0},{"$f":"Macro!B1283","v":0},{"$f":"Macro!E1283","v":{"$error":"#DIV/0!"}}]
[null,{"$f":"Macro!A1284","v":0},{"$f":"Macro!B1284","v":0},{"$f":"Macro!E1284","v":{"$error":"#DIV/0!"}}]
[null,{"$f":"Macro!A1285","v":0},{"$f":"Macro!B1285","v":0},{"$f":"Macro!E1285","v":{"$error":"#DIV/0!"}}]
[null,{"$f":"Macro!A1286","v":0},{"$f":"Macro!B1286","v":0},{"$f":"Macro!E1286","v":{"$error":"#DIV/0!"}}]
[null,{"$f":"Macro!A1287","v":0},{"$f":"Macro!B1287","v":0},{"$f":"Macro!E1287","v":{"$error":"#DIV/0!"}}]
[null,{"$f":"Macro!A1288","v":0},{"$f":"Macro!B1288","v":0},{"$f":"Macro!E1288","v":{"$error":"#DIV/0!"}}]
[null,{"$f":"Macro!A1289","v":0},{"$f":"Macro!B1289","v":0},{"$f":"Macro!E1289","v":{"$error":"#DIV/0!"}}]
[null,{"$f":"Macro!A1290","v":0},{"$f":"Macro!B1290","v":0},{"$f":"Macro!E1290","v":{"$error":"#DIV/0!"}}]
[null,{"$f":"Macro!A1291","v":0},{"$f":"Macro!B1291","v":0},{"$f":"Macro!E1291","v":{"$error":"#DIV/0!"}}]
[null,{"$f":"Macro!A1292","v":0},{"$f":"Macro!B1292","v":0},{"$f":"Macro!E1292","v":{"$error":"#DIV/0!"}}]
[null,{"$f":"Macro!A1293","v":0},{"$f":"Macro!B1293","v":0},{"$f":"Macro!E1293","v":{"$error":"#DIV/0!"}}]
[null,{"$f":"Macro!A1294","v":0},{"$f":"Macro!B1294","v":0},{"$f":"Macro!E1294","v":{"$error":"#DIV/0!"}}]
[null,{"$f":"Macro!A1295","v":0},{"$f":"Macro!B1295","v":0},{"$f":"Macro!E1295","v":{"$error":"#DIV/0!"}}]
[null,{"$f":"Macro!A1296","v":0},{"$f":"Macro!B1296","v":0},{"$f":"Macro!E1296","v":{"$error":"#DIV/0!"}}]
[null,{"$f":"Macro!A1297","v":0},{"$f":"Macro!B1297","v":0},{"$f":"Macro!E1297","v":{"$error":"#DIV/0!"}}]
[null,{"$f":"Macro!A1298","v":0},{"$f":"Macro!B1298","v":0},{"$f":"Macro!E1298","v":{"$error":"#DIV/0!"}}]
[null,{"$f":"Macro!A1299","v":0},{"$f":"Macro!B1299","v":0},{"$f":"Macro!E1299","v":{"$error":"#DIV/0!"}}]
[null,{"$f":"Macro!A1300","v":0},{"$f":"Macro!B1300","v":0},{"$f":"Macro!E1300","v":{"$error":"#DIV/0!"}}]
[null,{"$f":"Macro!A1301","v":0},{"$f":"Macro!B1301","v":0},{"$f":"Macro!E1301","v":{"$error":"#DIV/0!"}}]
[null,{"$f":"Macro!A1302","v":0},{"$f":"Macro!B1302","v":0},{"$f":"Macro!E1302","v":{"$error":"#DIV/0!"}}]
[null,{"$f":"Macro!A1303","v":0},{"$f":"Macro!B1303","v":0},{"$f":"Macro!E1303","v":{"$error":"#DIV/0!"}}]
[null,{"$f":"Macro!A1304","v":0},{"$f":"Macro!B1304","v":0},{"$f":"Macro!E1304","v":{"$error":"#DIV/0!"}}]
[null,{"$f":"Macro!A1305","v":0},{"$f":"Macro!B1305","v":0},{"$f":"Macro!E1305","v":{"$error":"#DIV/0!"}}]
[null,{"$f":"Macro!A1306","v":0},{"$f":"Macro!B1306","v":0},{"$f":"Macro!E1306","v":{"$error":"#DIV/0!"}}]
[null,{"$f":"Macro!A1307","v":0},{"$f":"Macro!B1307","v":0},{"$f":"Macro!E1307","v":{"$error":"#DIV/0!"}}]
[null,{"$f":"Macro!A1308","v":0},{"$f":"Macro!B1308","v":0},{"$f":"Macro!E1308","v":{"$error":"#DIV/0!"}}]
[null,{"$f":"Macro!A1309","v":0},{"$f":"Macro!B1309","v":0},{"$f":"Macro!E1309","v":{"$error":"#DIV/0!"}}]
[null,{"$f":"Macro!A1310","v":0},{"$f":"Macro!B1310","v":0},{"$f":"Macro!E1310","v":{"$error":"#DIV/0!"}}]
[null,{"$f":"Macro!A1311","v":0},{"$f":"Macro!B1311","v":0},{"$f":"Macro!E1311","v":{"$error":"#DIV/0!"}}]
[null,{"$f":"Macro!A1312","v":0},{"$f":"Macro!B1312","v":0},{"$f":"Macro!E1312","v":{"$error":"#DIV/0!"}}]
[null,{"$f":"Macro!A1313","v":0},{"$f":"Macro!B1313","v":0},{"$f":"Macro!E1313","v":{"$error":"#DIV/0!"}}]
[null,{"$f":"Macro!A1314","v":0},{"$f":"Macro!B1314","v":0},{"$f":"Macro!E1314","v":{"$error":"#DIV/0!"}}]
[null,{"$f":"Macro!A1315","v":0},{"$f":"Macro!B1315","v":0},{"$f":"Macro!E1315","v":{"$error":"#DIV/0!"}}]
[null,{"$f":"Macro!A1316","v":0},{"$f":"Macro!B1316","v":0},{"$f":"Macro!E1316","v":{"$error":"#DIV/0!"}}]
[null,{"$f":"Macro!A1317","v":0},{"$f":"Macro!B1317","v":0},{"$f":"Macro!E1317","v":{"$error":"#DIV/0!"}}]
[null,{"$f":"Macro!A1318","v":0},{"$f":"Macro!B1318","v":0},{"$f":"Macro!E1318","v":{"$error":"#DIV/0!"}}]
[null,{"$f":"Macro!A1319","v":0},{"$f":"Macro!B1319","v":0},{"$f":"Macro!E1319","v":{"$error":"#DIV/0!"}}]
[null,{"$f":"Macro!A1320","v":0},{"$f":"Macro!B1320","v":0},{"$f":"Macro!E1320","v":{"$error":"#DIV/0!"}}]
[null,{"$f":"Macro!A1321","v":0},{"$f":"Macro!B1321","v":0},{"$f":"Macro!E1321","v":{"$error":"#DIV/0!"}}]
[null,{"$f":"Macro!A1322","v":0},{"$f":"Macro!B1322","v":0},{"$f":"Macro!E1322","v":{"$error":"#DIV/0!"}}]
[null,{"$f":"Macro!A1323","v":0},{"$f":"Macro!B1323","v":0},{"$f":"Macro!E1323","v":{"$error":"#DIV/0!"}}]
[null,{"$f":"Macro!A1324","v":0},{"$f":"Macro!B1324","v":0},{"$f":"Macro!E1324","v":{"$error":"#DIV/0!"}}]
[null,{"$f":"Macro!A1325","v":0},{"$f":"Macro!B1325","v":0},{"$f":"Macro!E1325","v":{"$error":"#DIV/0!"}}]
[null,{"$f":"Macro!A1326","v":0},{"$f":"Macro!B1326","v":0},{"$f":"Macro!E1326","v":{"$error":"#DIV/0!"}}]
[null,{"$f":"Macro!A1327","v":0},{"$f":"Macro!B1327","v":0},{"$f":"Macro!E1327","v":{"$error":"#DIV/0!"}}]
[null,{"$f":"Macro!A1328","v":0},{"$f":"Macro!B1328","v":0},{"$f":"Macro!E1328","v":{"$error":"#DIV/0!"}}]
[null,{"$f":"Macro!A1329","v":0},{"$f":"Macro!B1329","v":0},{"$f":"Macro!E1329","v":{"$error":"#DIV/0!"}}]
[null,{"$f":"Macro!A1330","v":0},{"$f":"Macro!B1330","v":0},{"$f":"Macro!E1330","v":{"$error":"#DIV/0!"}}]
[null,{"$f":"Macro!A1331","v":0},{"$f":"Macro!B1331","v":0},{"$f":"Macro!E1331","v":{"$error":"#DIV/0!"}}]
[null,{"$f":"Macro!A1332","v":0},{"$f":"Macro!B1332","v":0},{"$f":"Macro!E1332","v":{"$error":"#DIV/0!"}}]
[null,{"$f":"Macro!A1333","v":0},{"$f":"Macro!B1333","v":0},{"$f":"Macro!E1333","v":{"$error":"#DIV/0!"}}]
[null,{"$f":"Macro!A1334","v":0},{"$f":"Macro!B1334","v":0},{"$f":"Macro!E1334","v":{"$error":"#DIV/0!"}}]
[null,{"$f":"Macro!A1335","v":0},{"$f":"Macro!B1335","v":0},{"$f":"Macro!E1335","v":{"$error":"#DIV/0!"}}]
[null,{"$f":"Macro!A1336","v":0},{"$f":"Macro!B1336","v":0},{"$f":"Macro!E1336","v":{"$error":"#DIV/0!"}}]
[null,{"$f":"Macro!A1337","v":0},{"$f":"Macro!B1337","v":0},{"$f":"Macro!E1337","v":{"$error":"#DIV/0!"}}]
[null,{"$f":"Macro!A1338","v":0},{"$f":"Macro!B1338","v":0},{"$f":"Macro!E1338","v":{"$error":"#DIV/0!"}}]
[null,{"$f":"Macro!A1339","v":0},{"$f":"Macro!B1339","v":0},{"$f":"Macro!E1339","v":{"$error":"#DIV/0!"}}]
[null,{"$f":"Macro!A1340","v":0},{"$f":"Macro!B1340","v":0},{"$f":"Macro!E1340","v":{"$error":"#DIV/0!"}}]
[null,{"$f":"Macro!A1341","v":0},{"$f":"Macro!B1341","v":0},{"$f":"Macro!E1341","v":{"$error":"#DIV/0!"}}]
[null,{"$f":"Macro!A1342","v":0},{"$f":"Macro!B1342","v":0},{"$f":"Macro!E1342","v":{"$error":"#DIV/0!"}}]
[null,{"$f":"Macro!A1343","v":0},{"$f":"Macro!B1343","v":0},{"$f":"Macro!E1343","v":{"$error":"#DIV/0!"}}]
[null,{"$f":"Macro!A1344","v":0},{"$f":"Macro!B1344","v":0},{"$f":"Macro!E1344","v":{"$error":"#DIV/0!"}}]
[null,{"$f":"Macro!A1345","v":0},{"$f":"Macro!B1345","v":0},{"$f":"Macro!E1345","v":{"$error":"#DIV/0!"}}]
[null,{"$f":"Macro!A1346","v":0},{"$f":"Macro!B1346","v":0},{"$f":"Macro!E1346","v":{"$error":"#DIV/0!"}}]
[null,{"$f":"Macro!A1347","v":0},{"$f":"Macro!B1347","v":0},{"$f":"Macro!E1347","v":{"$error":"#DIV/0!"}}]
[null,{"$f":"Macro!A1348","v":0},{"$f":"Macro!B1348","v":0},{"$f":"Macro!E1348","v":{"$error":"#DIV/0!"}}]
[null,{"$f":"Macro!A1349","v":0},{"$f":"Macro!B1349","v":0},{"$f":"Macro!E1349","v":{"$error":"#DIV/0!"}}]
[null,{"$f":"Macro!A1350","v":0},{"$f":"Macro!B1350","v":0},{"$f":"Macro!E1350","v":{"$error":"#DIV/0!"}}]
[null,{"$f":"Macro!A1351","v":0},{"$f":"Macro!B1351","v":0},{"$f":"Macro!E1351","v":{"$error":"#DIV/0!"}}]
[null,{"$f":"Macro!A1352","v":0},{"$f":"Macro!B1352","v":0},{"$f":"Macro!E1352","v":{"$error":"#DIV/0!"}}]
[null,{"$f":"Macro!A1353","v":0},{"$f":"Macro!B1353","v":0},{"$f":"Macro!E1353","v":{"$error":"#DIV/0!"}}]
[null,{"$f":"Macro!A1354","v":0},{"$f":"Macro!B1354","v":0},{"$f":"Macro!E1354","v":{"$error":"#DIV/0!"}}]
[null,{"$f":"Macro!A1355","v":0},{"$f":"Macro!B1355","v":0},{"$f":"Macro!E1355","v":{"$error":"#DIV/0!"}}]
[null,{"$f":"Macro!A1356","v":0},{"$f":"Macro!B1356","v":0},{"$f":"Macro!E1356","v":{"$error":"#DIV/0!"}}]
[null,{"$f":"Macro!A1357","v":0},{"$f":"Macro!B1357","v":0},{"$f":"Macro!E1357","v":{"$error":"#DIV/0!"}}]
[null,{"$f":"Macro!A1358","v":0},{"$f":"Macro!B1358","v":0},{"$f":"Macro!E1358","v":{"$error":"#DIV/0!"}}]
[null,{"$f":"Macro!A1359","v":0},{"$f":"Macro!B1359","v":0},{"$f":"Macro!E1359","v":{"$error":"#DIV/0!"}}]
[null,{"$f":"Macro!A1360","v":0},{"$f":"Macro!B1360","v":0},{"$f":"Macro!E1360","v":{"$error":"#DIV/0!"}}]
[null,{"$f":"Macro!A1361","v":0},{"$f":"Macro!B1361","v":0},{"$f":"Macro!E1361","v":{"$error":"#DIV/0!"}}]
[null,{"$f":"Macro!A1362","v":0},{"$f":"Macro!B1362","v":0},{"$f":"Macro!E1362","v":{"$error":"#DIV/0!"}}]
[null,{"$f":"Macro!A1363","v":0},{"$f":"Macro!B1363","v":0},{"$f":"Macro!E1363","v":{"$error":"#DIV/0!"}}]
[null,{"$f":"Macro!A1364","v":0},{"$f":"Macro!B1364","v":0},{"$f":"Macro!E1364","v":{"$error":"#DIV/0!"}}]
[null,{"$f":"Macro!A1365","v":0},{"$f":"Macro!B1365","v":0},{"$f":"Macro!E1365","v":{"$error":"#DIV/0!"}}]
[null,{"$f":"Macro!A1366","v":0},{"$f":"Macro!B1366","v":0},{"$f":"Macro!E1366","v":{"$error":"#DIV/0!"}}]
[null,{"$f":"Macro!A1367","v":0},{"$f":"Macro!B1367","v":0},{"$f":"Macro!E1367","v":{"$error":"#DIV/0!"}}]
[null,{"$f":"Macro!A1368","v":0},{"$f":"Macro!B1368","v":0},{"$f":"Macro!E1368","v":{"$error":"#DIV/0!"}}]
[null,{"$f":"Macro!A1369","v":0},{"$f":"Macro!B1369","v":0},{"$f":"Macro!E1369","v":{"$error":"#DIV/0!"}}]
[null,{"$f":"Macro!A1370","v":0},{"$f":"Macro!B1370","v":0},{"$f":"Macro!E1370","v":{"$error":"#DIV/0!"}}]
[null,{"$f":"Macro!A1371","v":0},{"$f":"Macro!B1371","v":0},{"$f":"Macro!E1371","v":{"$error":"#DIV/0!"}}]
[null,{"$f":"Macro!A1372","v":0},{"$f":"Macro!B1372","v":0},{"$f":"Macro!E1372","v":{"$error":"#DIV/0!"}}]
[null,{"$f":"Macro!A1373","v":0},{"$f":"Macro!B1373","v":0},{"$f":"Macro!E1373","v":{"$error":"#DIV/0!"}}]
[null,{"$f":"Macro!A1374","v":0},{"$f":"Macro!B1374","v":0},{"$f":"Macro!E1374","v":{"$error":"#DIV/0!"}}]
[null,{"$f":"Macro!A1375","v":0},{"$f":"Macro!B1375","v":0},{"$f":"Macro!E1375","v":{"$error":"#DIV/0!"}}]
[null,{"$f":"Macro!A1376","v":0},{"$f":"Macro!B1376","v":0},{"$f":"Macro!E1376","v":{"$error":"#DIV/0!"}}]
[null,{"$f":"Macro!A1377","v":0},{"$f":"Macro!B1377","v":0},{"$f":"Macro!E1377","v":{"$error":"#DIV/0!"}}]
[null,{"$f":"Macro!A1378","v":0},{"$f":"Macro!B1378","v":0},{"$f":"Macro!E1378","v":{"$error":"#DIV/0!"}}]
[null,{"$f":"Macro!A1379","v":0},{"$f":"Macro!B1379","v":0},{"$f":"Macro!E1379","v":{"$error":"#DIV/0!"}}]
[null,{"$f":"Macro!A1380","v":0},{"$f":"Macro!B1380","v":0},{"$f":"Macro!E1380","v":{"$error":"#DIV/0!"}}]
[null,{"$f":"Macro!A1381","v":0},{"$f":"Macro!B1381","v":0},{"$f":"Macro!E1381","v":{"$error":"#DIV/0!"}}]
[null,{"$f":"Macro!A1382","v":0},{"$f":"Macro!B1382","v":0},{"$f":"Macro!E1382","v":{"$error":"#DIV/0!"}}]
[null,{"$f":"Macro!A1383","v":0},{"$f":"Macro!B1383","v":0},{"$f":"Macro!E1383","v":{"$error":"#DIV/0!"}}]
[null,{"$f":"Macro!A1384","v":0},{"$f":"Macro!B1384","v":0},{"$f":"Macro!E1384","v":{"$error":"#DIV/0!"}}]
[null,{"$f":"Macro!A1385","v":0},{"$f":"Macro!B1385","v":0},{"$f":"Macro!E1385","v":{"$error":"#DIV/0!"}}]
[null,{"$f":"Macro!A1386","v":0},{"$f":"Macro!B1386","v":0},{"$f":"Macro!E1386","v":{"$error":"#DIV/0!"}}]
[null,{"$f":"Macro!A1387","v":0},{"$f":"Macro!B1387","v":0},{"$f":"Macro!E1387","v":{"$error":"#DIV/0!"}}]
[null,{"$f":"Macro!A1388","v":0},{"$f":"Macro!B1388","v":0},{"$f":"Macro!E1388","v":{"$error":"#DIV/0!"}}]
[null,{"$f":"Macro!A1389","v":0},{"$f":"Macro!B1389","v":0},{"$f":"Macro!E1389","v":{"$error":"#DIV/0!"}}]
[null,{"$f":"Macro!A1390","v":0},{"$f":"Macro!B1390","v":0},{"$f":"Macro!E1390","v":{"$error":"#DIV/0!"}}]
[null,{"$f":"Macro!A1391","v":0},{"$f":"Macro!B1391","v":0},{"$f":"Macro!E1391","v":{"$error":"#DIV/0!"}}]
[null,{"$f":"Macro!A1392","v":0},{"$f":"Macro!B1392","v":0},{"$f":"Macro!E1392","v":{"$error":"#DIV/0!"}}]
[null,{"$f":"Macro!A1393","v":0},{"$f":"Macro!B1393","v":0},{"$f":"Macro!E1393","v":{"$error":"#DIV/0!"}}]
[null,{"$f":"Macro!A1394","v":0},{"$f":"Macro!B1394","v":0},{"$f":"Macro!E1394","v":{"$error":"#DIV/0!"}}]
[null,{"$f":"Macro!A1395","v":0},{"$f":"Macro!B1395","v":0},{"$f":"Macro!E1395","v":{"$error":"#DIV/0!"}}]
[null,{"$f":"Macro!A1396","v":0},{"$f":"Macro!B1396","v":0},{"$f":"Macro!E1396","v":{"$error":"#DIV/0!"}}]
[null,{"$f":"Macro!A1397","v":0},{"$f":"Macro!B1397","v":0},{"$f":"Macro!E1397","v":{"$error":"#DIV/0!"}}]
[null,{"$f":"Macro!A1398","v":0},{"$f":"Macro!B1398","v":0},{"$f":"Macro!E1398","v":{"$error":"#DIV/0!"}}]
[null,{"$f":"Macro!A1399","v":0},{"$f":"Macro!B1399","v":0},{"$f":"Macro!E1399","v":{"$error":"#DIV/0!"}}]
[null,{"$f":"Macro!A1400","v":0},{"$f":"Macro!B1400","v":0},{"$f":"Macro!E1400","v":{"$error":"#DIV/0!"}}]
[null,{"$f":"Macro!A1401","v":0},{"$f":"Macro!B1401","v":0},{"$f":"Macro!E1401","v":{"$error":"#DIV/0!"}}]
[null,{"$f":"Macro!A1402","v":0},{"$f":"Macro!B1402","v":0},{"$f":"Macro!E1402","v":{"$error":"#DIV/0!"}}]
[null,{"$f":"Macro!A1403","v":0},{"$f":"Macro!B1403","v":0},{"$f":"Macro!E1403","v":{"$error":"#DIV/0!"}}]
[null,{"$f":"Macro!A1404","v":0},{"$f":"Macro!B1404","v":0},{"$f":"Macro!E1404","v":{"$error":"#DIV/0!"}}]
[null,{"$f":"Macro!A1405","v":0},{"$f":"Macro!B1405","v":0},{"$f":"Macro!E1405","v":{"$error":"#DIV/0!"}}]
[null,{"$f":"Macro!A1406","v":0},{"$f":"Macro!B1406","v":0},{"$f":"Macro!E1406","v":{"$error":"#DIV/0!"}}]
[null,{"$f":"Macro!A1407","v":0},{"$f":"Macro!B1407","v":0},{"$f":"Macro!E1407","v":{"$error":"#DIV/0!"}}]
[null,{"$f":"Macro!A1408","v":0},{"$f":"Macro!B1408","v":0},{"$f":"Macro!E1408","v":{"$error":"#DIV/0!"}}]
[null,{"$f":"Macro!A1409","v":0},{"$f":"Macro!B1409","v":0},{"$f":"Macro!E1409","v":{"$error":"#DIV/0!"}}]
[null,{"$f":"Macro!A1410","v":0},{"$f":"Macro!B1410","v":0},{"$f":"Macro!E1410","v":{"$error":"#DIV/0!"}}]
[null,{"$f":"Macro!A1411","v":0},{"$f":"Macro!B1411","v":0},{"$f":"Macro!E1411","v":{"$error":"#DIV/0!"}}]
[null,{"$f":"Macro!A1412","v":0},{"$f":"Macro!B1412","v":0},{"$f":"Macro!E1412","v":{"$error":"#DIV/0!"}}]
[null,{"$f":"Macro!A1413","v":0},{"$f":"Macro!B1413","v":0},{"$f":"Macro!E1413","v":{"$error":"#DIV/0!"}}]
[null,{"$f":"Macro!A1414","v":0},{"$f":"Macro!B1414","v":0},{"$f":"Macro!E1414","v":{"$error":"#DIV/0!"}}]
[null,{"$f":"Macro!A1415","v":0},{"$f":"Macro!B1415","v":0},{"$f":"Macro!E1415","v":{"$error":"#DIV/0!"}}]
[null,{"$f":"Macro!A1416","v":0},{"$f":"Macro!B1416","v":0},{"$f":"Macro!E1416","v":{"$error":"#DIV/0!"}}]
[null,{"$f":"Macro!A1417","v":0},{"$f":"Macro!B1417","v":0},{"$f":"Macro!E1417","v":{"$error":"#DIV/0!"}}]
[null,{"$f":"Macro!A1418","v":0},{"$f":"Macro!B1418","v":0},{"$f":"Macro!E1418","v":{"$error":"#DIV/0!"}}]
[null,{"$f":"Macro!A1419","v":0},{"$f":"Macro!B1419","v":0},{"$f":"Macro!E1419","v":{"$error":"#DIV/0!"}}]
[null,{"$f":"Macro!A1420","v":0},{"$f":"Macro!B1420","v":0},{"$f":"Macro!E1420","v":{"$error":"#DIV/0!"}}]
[null,{"$f":"Macro!A1421","v":0},{"$f":"Macro!B1421","v":0},{"$f":"Macro!E1421","v":{"$error":"#DIV/0!"}}]
[null,{"$f":"Macro!A1422","v":0},{"$f":"Macro!B1422","v":0},{"$f":"Macro!E1422","v":{"$error":"#DIV/0!"}}]
[null,{"$f":"Macro!A1423","v":0},{"$f":"Macro!B1423","v":0},{"$f":"Macro!E1423","v":{"$error":"#DIV/0!"}}]
[null,{"$f":"Macro!A1424","v":0},{"$f":"Macro!B1424","v":0},{"$f":"Macro!E1424","v":{"$error":"#DIV/0!"}}]
[null,{"$f":"Macro!A1425","v":0},{"$f":"Macro!B1425","v":0},{"$f":"Macro!E1425","v":{"$error":"#DIV/0!"}}]
[null,{"$f":"Macro!A1426","v":0},{"$f":"Macro!B1426","v":0},{"$f":"Macro!E1426","v":{"$error":"#DIV/0!"}}]
[null,{"$f":"Macro!A1427","v":0},{"$f":"Macro!B1427","v":0},{"$f":"Macro!E1427","v":{"$error":"#DIV/0!"}}]
[null,{"$f":"Macro!A1428","v":0},{"$f":"Macro!B1428","v":0},{"$f":"Macro!E1428","v":{"$error":"#DIV/0!"}}]
[null,{"$f":"Macro!A1429","v":0},{"$f":"Macro!B1429","v":0},{"$f":"Macro!E1429","v":{"$error":"#DIV/0!"}}]
[null,{"$f":"Macro!A1430","v":0},{"$f":"Macro!B1430","v":0},{"$f":"Macro!E1430","v":{"$error":"#DIV/0!"}}]
[null,{"$f":"Macro!A1431","v":0},{"$f":"Macro!B1431","v":0},{"$f":"Macro!E1431","v":{"$error":"#DIV/0!"}}]
[null,{"$f":"Macro!A1432","v":0},{"$f":"Macro!B1432","v":0},{"$f":"Macro!E1432","v":{"$error":"#DIV/0!"}}]
[null,{"$f":"Macro!A1433","v":0},{"$f":"Macro!B1433","v":0},{"$f":"Macro!E1433","v":{"$error":"#DIV/0!"}}]
[null,{"$f":"Macro!A1434","v":0},{"$f":"Macro!B1434","v":0},{"$f":"Macro!E1434","v":{"$error":"#DIV/0!"}}]
[null,{"$f":"Macro!A1435","v":0},{"$f":"Macro!B1435","v":0},{"$f":"Macro!E1435","v":{"$error":"#DIV/0!"}}]
[null,{"$f":"Macro!A1436","v":0},{"$f":"Macro!B1436","v":0},{"$f":"Macro!E1436","v":{"$error":"#DIV/0!"}}]
[null,{"$f":"Macro!A1437","v":0},{"$f":"Macro!B1437","v":0},{"$f":"Macro!E1437","v":{"$error":"#DIV/0!"}}]
[null,{"$f":"Macro!A1438","v":0},{"$f":"Macro!B1438","v":0},{"$f":"Macro!E1438","v":{"$error":"#DIV/0!"}}]
[null,{"$f":"Macro!A1439","v":0},{"$f":"Macro!B1439","v":0},{"$f":"Macro!E1439","v":{"$error":"#DIV/0!"}}]
[null,{"$f":"Macro!A1440","v":0},{"$f":"Macro!B1440","v":0},{"$f":"Macro!E1440","v":{"$error":"#DIV/0!"}}]
[null,{"$f":"Macro!A1441","v":0},{"$f":"Macro!B1441","v":0},{"$f":"Macro!E1441","v":{"$error":"#DIV/0!"}}]
[null,{"$f":"Macro!A1442","v":0},{"$f":"Macro!B1442","v":0},{"$f":"Macro!E1442","v":{"$error":"#DIV/0!"}}]
[null,{"$f":"Macro!A1443","v":0},{"$f":"Macro!B1443","v":0},{"$f":"Macro!E1443","v":{"$error":"#DIV/0!"}}]
[null,{"$f":"Macro!A1444","v":0},{"$f":"Macro!B1444","v":0},{"$f":"Macro!E1444","v":{"$error":"#DIV/0!"}}]
[null,{"$f":"Macro!A1445","v":0},{"$f":"Macro!B1445","v":0},{"$f":"Macro!E1445","v":{"$error":"#DIV/0!"}}]
[null,{"$f":"Macro!A1446","v":0},{"$f":"Macro!B1446","v":0},{"$f":"Macro!E1446","v":{"$error":"#DIV/0!"}}]
[null,{"$f":"Macro!A1447","v":0},{"$f":"Macro!B1447","v":0},{"$f":"Macro!E1447","v":{"$error":"#DIV/0!"}}]
[null,{"$f":"Macro!A1448","v":0},{"$f":"Macro!B1448","v":0},{"$f":"Macro!E1448","v":{"$error":"#DIV/0!"}}]
[null,{"$f":"Macro!A1449","v":0},{"$f":"Macro!B1449","v":0},{"$f":"Macro!E1449","v":{"$error":"#DIV/0!"}}]
[null,{"$f":"Macro!A1450","v":0},{"$f":"Macro!B1450","v":0},{"$f":"Macro!E1450","v":{"$error":"#DIV/0!"}}]
[null,{"$f":"Macro!A1451","v":0},{"$f":"Macro!B1451","v":0},{"$f":"Macro!E1451","v":{"$error":"#DIV/0!"}}]
[null,{"$f":"Macro!A1452","v":0},{"$f":"Macro!B1452","v":0},{"$f":"Macro!E1452","v":{"$error":"#DIV/0!"}}]
[null,{"$f":"Macro!A1453","v":0},{"$f":"Macro!B1453","v":0},{"$f":"Macro!E1453","v":{"$error":"#DIV/0!"}}]
[null,{"$f":"Macro!A1454","v":0},{"$f":"Macro!B1454","v":0},{"$f":"Macro!E1454","v":{"$error":"#DIV/0!"}}]
[null,{"$f":"Macro!A1455","v":0},{"$f":"Macro!B1455","v":0},{"$f":"Macro!E1455","v":{"$error":"#DIV/0!"}}]
[null,{"$f":"Macro!A1456","v":0},{"$f":"Macro!B1456","v":0},{"$f":"Macro!E1456","v":{"$error":"#DIV/0!"}}]
[null,{"$f":"Macro!A1457","v":0},{"$f":"Macro!B1457","v":0},{"$f":"Macro!E1457","v":{"$error":"#DIV/0!"}}]
[null,{"$f":"Macro!A1458","v":0},{"$f":"Macro!B1458","v":0},{"$f":"Macro!E1458","v":{"$error":"#DIV/0!"}}]
[null,{"$f":"Macro!A1459","v":0},{"$f":"Macro!B1459","v":0},{"$f":"Macro!E1459","v":{"$error":"#DIV/0!"}}]
[null,{"$f":"Macro!A1460","v":0},{"$f":"Macro!B1460","v":0},{"$f":"Macro!E1460","v":{"$error":"#DIV/0!"}}]
[null,{"$f":"Macro!A1461","v":0},{"$f":"Macro!B1461","v":0},{"$f":"Macro!E1461","v":{"$error":"#DIV/0!"}}]
[null,{"$f":"Macro!A1462","v":0},{"$f":"Macro!B1462","v":0},{"$f":"Macro!E1462","v":{"$error":"#DIV/0!"}}]
[null,{"$f":"Macro!A1463","v":0},{"$f":"Macro!B1463","v":0},{"$f":"Macro!E1463","v":{"$error":"#DIV/0!"}}]
[null,{"$f":"Macro!A1464","v":0},{"$f":"Macro!B1464","v":0},{"$f":"Macro!E1464","v":{"$error":"#DIV/0!"}}]
[null,{"$f":"Macro!A1465","v":0},{"$f":"Macro!B1465","v":0},{"$f":"Macro!E1465","v":{"$error":"#DIV/0!"}}]
[null,{"$f":"Macro!A1466","v":0},{"$f":"Macro!B1466","v":0},{"$f":"Macro!E1466","v":{"$error":"#DIV/0!"}}]
[null,{"$f":"Macro!A1467","v":0},{"$f":"Macro!B1467","v":0},{"$f":"Macro!E1467","v":{"$error":"#DIV/0!"}}]
[null,{"$f":"Macro!A1468","v":0},{"$f":"Macro!B1468","v":0},{"$f":"Macro!E1468","v":{"$error":"#DIV/0!"}}]
[null,{"$f":"Macro!A1469","v":0},{"$f":"Macro!B1469","v":0},{"$f":"Macro!E1469","v":{"$error":"#DIV/0!"}}]
[null,{"$f":"Macro!A1470","v":0},{"$f":"Macro!B1470","v":0},{"$f":"Macro!E1470","v":{"$error":"#DIV/0!"}}]
[null,{"$f":"Macro!A1471","v":0},{"$f":"Macro!B1471","v":0},{"$f":"Macro!E1471","v":{"$error":"#DIV/0!"}}]
[null,{"$f":"Macro!A1472","v":0},{"$f":"Macro!B1472","v":0},{"$f":"Macro!E1472","v":{"$error":"#DIV/0!"}}]
[null,{"$f":"Macro!A1473","v":0},{"$f":"Macro!B1473","v":0},{"$f":"Macro!E1473","v":{"$error":"#DIV/0!"}}]
[null,{"$f":"Macro!A1474","v":0},{"$f":"Macro!B1474","v":0},{"$f":"Macro!E1474","v":{"$error":"#DIV/0!"}}]
[null,{"$f":"Macro!A1475","v":0},{"$f":"Macro!B1475","v":0},{"$f":"Macro!E1475","v":{"$error":"#DIV/0!"}}]
[null,{"$f":"Macro!A1476","v":0},{"$f":"Macro!B1476","v":0},{"$f":"Macro!E1476","v":{"$error":"#DIV/0!"}}]
[null,{"$f":"Macro!A1477","v":0},{"$f":"Macro!B1477","v":0},{"$f":"Macro!E1477","v":{"$error":"#DIV/0!"}}]
[null,{"$f":"Macro!A1478","v":0},{"$f":"Macro!B1478","v":0},{"$f":"Macro!E1478","v":{"$error":"#DIV/0!"}}]
[null,{"$f":"Macro!A1479","v":0},{"$f":"Macro!B1479","v":0},{"$f":"Macro!E1479","v":{"$error":"#DIV/0!"}}]
[null,{"$f":"Macro!A1480","v":0},{"$f":"Macro!B1480","v":0},{"$f":"Macro!E1480","v":{"$error":"#DIV/0!"}}]
[null,{"$f":"Macro!A1481","v":0},{"$f":"Macro!B1481","v":0},{"$f":"Macro!E1481","v":{"$error":"#DIV/0!"}}]
[null,{"$f":"Macro!A1482","v":0},{"$f":"Macro!B1482","v":0},{"$f":"Macro!E1482","v":{"$error":"#DIV/0!"}}]
[null,{"$f":"Macro!A1483","v":0},{"$f":"Macro!B1483","v":0},{"$f":"Macro!E1483","v":{"$error":"#DIV/0!"}}]
[null,{"$f":"Macro!A1484","v":0},{"$f":"Macro!B1484","v":0},{"$f":"Macro!E1484","v":{"$error":"#DIV/0!"}}]
[null,{"$f":"Macro!A1485","v":0},{"$f":"Macro!B1485","v":0},{"$f":"Macro!E1485","v":{"$error":"#DIV/0!"}}]
[null,{"$f":"Macro!A1486","v":0},{"$f":"Macro!B1486","v":0},{"$f":"Macro!E1486","v":{"$error":"#DIV/0!"}}]
[null,{"$f":"Macro!A1487","v":0},{"$f":"Macro!B1487","v":0},{"$f":"Macro!E1487","v":{"$error":"#DIV/0!"}}]
[null,{"$f":"Macro!A1488","v":0},{"$f":"Macro!B1488","v":0},{"$f":"Macro!E1488","v":{"$error":"#DIV/0!"}}]
[null,{"$f":"Macro!A1489","v":0},{"$f":"Macro!B1489","v":0},{"$f":"Macro!E1489","v":{"$error":"#DIV/0!"}}]
[null,{"$f":"Macro!A1490","v":0},{"$f":"Macro!B1490","v":0},{"$f":"Macro!E1490","v":{"$error":"#DIV/0!"}}]
[null,{"$f":"Macro!A1491","v":0},{"$f":"Macro!B1491","v":0},{"$f":"Macro!E1491","v":{"$error":"#DIV/0!"}}]
[null,{"$f":"Macro!A1492","v":0},{"$f":"Macro!B1492","v":0},{"$f":"Macro!E1492","v":{"$error":"#DIV/0!"}}]
[null,{"$f":"Macro!A1493","v":0},{"$f":"Macro!B1493","v":0},{"$f":"Macro!E1493","v":{"$error":"#DIV/0!"}}]
[null,{"$f":"Macro!A1494","v":0},{"$f":"Macro!B1494","v":0},{"$f":"Macro!E1494","v":{"$error":"#DIV/0!"}}]
[null,{"$f":"Macro!A1495","v":0},{"$f":"Macro!B1495","v":0},{"$f":"Macro!E1495","v":{"$error":"#DIV/0!"}}]
[null,{"$f":"Macro!A1496","v":0},{"$f":"Macro!B1496","v":0},{"$f":"Macro!E1496","v":{"$error":"#DIV/0!"}}]
[null,{"$f":"Macro!A1497","v":0},{"$f":"Macro!B1497","v":0},{"$f":"Macro!E1497","v":{"$error":"#DIV/0!"}}]
[null,{"$f":"Macro!A1498","v":0},{"$f":"Macro!B1498","v":0},{"$f":"Macro!E1498","v":{"$error":"#DIV/0!"}}]
[null,{"$f":"Macro!A1499","v":0},{"$f":"Macro!B1499","v":0},{"$f":"Macro!E1499","v":{"$error":"#DIV/0!"}}]
[null,{"$f":"Macro!A1500","v":0},{"$f":"Macro!B1500","v":0},{"$f":"Macro!E1500","v":{"$error":"#DIV/0!"}}]
[null,{"$f":"Macro!A1501","v":0},{"$f":"Macro!B1501","v":0},{"$f":"Macro!E1501","v":{"$error":"#DIV/0!"}}]
[null,{"$f":"Macro!A1502","v":0},{"$f":"Macro!B1502","v":0},{"$f":"Macro!E1502","v":{"$error":"#DIV/0!"}}]
[null,{"$f":"Macro!A1503","v":0},{"$f":"Macro!B1503","v":0},{"$f":"Macro!E1503","v":{"$error":"#DIV/0!"}}]
[null,{"$f":"Macro!A1504","v":0},{"$f":"Macro!B1504","v":0},{"$f":"Macro!E1504","v":{"$error":"#DIV/0!"}}]
[null,{"$f":"Macro!A1505","v":0},{"$f":"Macro!B1505","v":0},{"$f":"Macro!E1505","v":{"$error":"#DIV/0!"}}]
[null,{"$f":"Macro!A1506","v":0},{"$f":"Macro!B1506","v":0},{"$f":"Macro!E1506","v":{"$error":"#DIV/0!"}}]
[null,{"$f":"Macro!A1507","v":0},{"$f":"Macro!B1507","v":0},{"$f":"Macro!E1507","v":{"$error":"#DIV/0!"}}]
[null,{"$f":"Macro!A1508","v":0},{"$f":"Macro!B1508","v":0},{"$f":"Macro!E1508","v":{"$error":"#DIV/0!"}}]
[null,{"$f":"Macro!A1509","v":0},{"$f":"Macro!B1509","v":0},{"$f":"Macro!E1509","v":{"$error":"#DIV/0!"}}]
[null,{"$f":"Macro!A1510","v":0},{"$f":"Macro!B1510","v":0},{"$f":"Macro!E1510","v":{"$error":"#DIV/0!"}}]
[null,{"$f":"Macro!A1511","v":0},{"$f":"Macro!B1511","v":0},{"$f":"Macro!E1511","v":{"$error":"#DIV/0!"}}]
[null,{"$f":"Macro!A1512","v":0},{"$f":"Macro!B1512","v":0},{"$f":"Macro!E1512","v":{"$error":"#DIV/0!"}}]
[null,{"$f":"Macro!A1513","v":0},{"$f":"Macro!B1513","v":0},{"$f":"Macro!E1513","v":{"$error":"#DIV/0!"}}]
[null,{"$f":"Macro!A1514","v":0},{"$f":"Macro!B1514","v":0},{"$f":"Macro!E1514","v":{"$error":"#DIV/0!"}}]
[null,{"$f":"Macro!A1515","v":0},{"$f":"Macro!B1515","v":0},{"$f":"Macro!E1515","v":{"$error":"#DIV/0!"}}]
[null,{"$f":"Macro!A1516","v":0},{"$f":"Macro!B1516","v":0},{"$f":"Macro!E1516","v":{"$error":"#DIV/0!"}}]
[null,{"$f":"Macro!A1517","v":0},{"$f":"Macro!B1517","v":0},{"$f":"Macro!E1517","v":{"$error":"#DIV/0!"}}]
[null,{"$f":"Macro!A1518","v":0},{"$f":"Macro!B1518","v":0},{"$f":"Macro!E1518","v":{"$error":"#DIV/0!"}}]
[null,{"$f":"Macro!A1519","v":0},{"$f":"Macro!B1519","v":0},{"$f":"Macro!E1519","v":{"$error":"#DIV/0!"}}]
[null,{"$f":"Macro!A1520","v":0},{"$f":"Macro!B1520","v":0},{"$f":"Macro!E1520","v":{"$error":"#DIV/0!"}}]
[null,{"$f":"Macro!A1521","v":0},{"$f":"Macro!B1521","v":0},{"$f":"Macro!E1521","v":{"$error":"#DIV/0!"}}]
[null,{"$f":"Macro!A1522","v":0},{"$f":"Macro!B1522","v":0},{"$f":"Macro!E1522","v":{"$error":"#DIV/0!"}}]
[null,{"$f":"Macro!A1523","v":0},{"$f":"Macro!B1523","v":0},{"$f":"Macro!E1523","v":{"$error":"#DIV/0!"}}]
[null,{"$f":"Macro!A1524","v":0},{"$f":"Macro!B1524","v":0},{"$f":"Macro!E1524","v":{"$error":"#DIV/0!"}}]
[null,{"$f":"Macro!A1525","v":0},{"$f":"Macro!B1525","v":0},{"$f":"Macro!E1525","v":{"$error":"#DIV/0!"}}]
[null,{"$f":"Macro!A1526","v":0},{"$f":"Macro!B1526","v":0},{"$f":"Macro!E1526","v":{"$error":"#DIV/0!"}}]
[null,{"$f":"Macro!A1527","v":0},{"$f":"Macro!B1527","v":0},{"$f":"Macro!E1527","v":{"$error":"#DIV/0!"}}]
[null,{"$f":"Macro!A1528","v":0},{"$f":"Macro!B1528","v":0},{"$f":"Macro!E1528","v":{"$error":"#DIV/0!"}}]
[null,{"$f":"Macro!A1529","v":0},{"$f":"Macro!B1529","v":0},{"$f":"Macro!E1529","v":{"$error":"#DIV/0!"}}]
[null,{"$f":"Macro!A1530","v":0},{"$f":"Macro!B1530","v":0},{"$f":"Macro!E1530","v":{"$error":"#DIV/0!"}}]
[null,{"$f":"Macro!A1531","v":0},{"$f":"Macro!B1531","v":0},{"$f":"Macro!E1531","v":{"$error":"#DIV/0!"}}]
[null,{"$f":"Macro!A1532","v":0},{"$f":"Macro!B1532","v":0},{"$f":"Macro!E1532","v":{"$error":"#DIV/0!"}}]
[null,{"$f":"Macro!A1533","v":0},{"$f":"Macro!B1533","v":0},{"$f":"Macro!E1533","v":{"$error":"#DIV/0!"}}]
[null,{"$f":"Macro!A1534","v":0},{"$f":"Macro!B1534","v":0},{"$f":"Macro!E1534","v":{"$error":"#DIV/0!"}}]
[null,{"$f":"Macro!A1535","v":0},{"$f":"Macro!B1535","v":0},{"$f":"Macro!E1535","v":{"$error":"#DIV/0!"}}]
[null,{"$f":"Macro!A1536","v":0},{"$f":"Macro!B1536","v":0},{"$f":"Macro!E1536","v":{"$error":"#DIV/0!"}}]
[null,{"$f":"Macro!A1537","v":0},{"$f":"Macro!B1537","v":0},{"$f":"Macro!E1537","v":{"$error":"#DIV/0!"}}]
[null,{"$f":"Macro!A1538","v":0},{"$f":"Macro!B1538","v":0},{"$f":"Macro!E1538","v":{"$error":"#DIV/0!"}}]
[null,{"$f":"Macro!A1539","v":0},{"$f":"Macro!B1539","v":0},{"$f":"Macro!E1539","v":{"$error":"#DIV/0!"}}]
[null,{"$f":"Macro!A1540","v":0},{"$f":"Macro!B1540","v":0},{"$f":"Macro!E1540","v":{"$error":"#DIV/0!"}}]
[null,{"$f":"Macro!A1541","v":0},{"$f":"Macro!B1541","v":0},{"$f":"Macro!E1541","v":{"$error":"#DIV/0!"}}]
[null,{"$f":"Macro!A1542","v":0},{"$f":"Macro!B1542","v":0},{"$f":"Macro!E1542","v":{"$error":"#DIV/0!"}}]
[null,{"$f":"Macro!A1543","v":0},{"$f":"Macro!B1543","v":0},{"$f":"Macro!E1543","v":{"$error":"#DIV/0!"}}]
[null,{"$f":"Macro!A1544","v":0},{"$f":"Macro!B1544","v":0},{"$f":"Macro!E1544","v":{"$error":"#DIV/0!"}}]
[null,{"$f":"Macro!A1545","v":0},{"$f":"Macro!B1545","v":0},{"$f":"Macro!E1545","v":{"$error":"#DIV/0!"}}]
[null,{"$f":"Macro!A1546","v":0},{"$f":"Macro!B1546","v":0},{"$f":"Macro!E1546","v":{"$error":"#DIV/0!"}}]
[null,{"$f":"Macro!A1547","v":0},{"$f":"Macro!B1547","v":0},{"$f":"Macro!E1547","v":{"$error":"#DIV/0!"}}]
[null,{"$f":"Macro!A1548","v":0},{"$f":"Macro!B1548","v":0},{"$f":"Macro!E1548","v":{"$error":"#DIV/0!"}}]
[null,{"$f":"Macro!A1549","v":0},{"$f":"Macro!B1549","v":0},{"$f":"Macro!E1549","v":{"$error":"#DIV/0!"}}]
[null,{"$f":"Macro!A1550","v":0},{"$f":"Macro!B1550","v":0},{"$f":"Macro!E1550","v":{"$error":"#DIV/0!"}}]
[null,{"$f":"Macro!A1551","v":0},{"$f":"Macro!B1551","v":0},{"$f":"Macro!E1551","v":{"$error":"#DIV/0!"}}]
[null,{"$f":"Macro!A1552","v":0},{"$f":"Macro!B1552","v":0},{"$f":"Macro!E1552","v":{"$error":"#DIV/0!"}}]
[null,{"$f":"Macro!A1553","v":0},{"$f":"Macro!B1553","v":0},{"$f":"Macro!E1553","v":{"$error":"#DIV/0!"}}]
[null,{"$f":"Macro!A1554","v":0},{"$f":"Macro!B1554","v":0},{"$f":"Macro!E1554","v":{"$error":"#DIV/0!"}}]
[null,{"$f":"Macro!A1555","v":0},{"$f":"Macro!B1555","v":0},{"$f":"Macro!E1555","v":{"$error":"#DIV/0!"}}]
[null,{"$f":"Macro!A1556","v":0},{"$f":"Macro!B1556","v":0},{"$f":"Macro!E1556","v":{"$error":"#DIV/0!"}}]
[null,{"$f":"Macro!A1557","v":0},{"$f":"Macro!B1557","v":0},{"$f":"Macro!E1557","v":{"$error":"#DIV/0!"}}]
[null,{"$f":"Macro!A1558","v":0},{"$f":"Macro!B1558","v":0},{"$f":"Macro!E1558","v":{"$error":"#DIV/0!"}}]
[null,{"$f":"Macro!A1559","v":0},{"$f":"Macro!B1559","v":0},{"$f":"Macro!E1559","v":{"$error":"#DIV/0!"}}]
[null,{"$f":"Macro!A1560","v":0},{"$f":"Macro!B1560","v":0},{"$f":"Macro!E1560","v":{"$error":"#DIV/0!"}}]
[null,{"$f":"Macro!A1561","v":0},{"$f":"Macro!B1561","v":0},{"$f":"Macro!E1561","v":{"$error":"#DIV/0!"}}]
[null,{"$f":"Macro!A1562","v":0},{"$f":"Macro!B1562","v":0},{"$f":"Macro!E1562","v":{"$error":"#DIV/0!"}}]
[null,{"$f":"Macro!A1563","v":0},{"$f":"Macro!B1563","v":0},{"$f":"Macro!E1563","v":{"$error":"#DIV/0!"}}]
[null,{"$f":"Macro!A1564","v":0},{"$f":"Macro!B1564","v":0},{"$f":"Macro!E1564","v":{"$error":"#DIV/0!"}}]
[null,{"$f":"Macro!A1565","v":0},{"$f":"Macro!B1565","v":0},{"$f":"Macro!E1565","v":{"$error":"#DIV/0!"}}]
[null,{"$f":"Macro!A1566","v":0},{"$f":"Macro!B1566","v":0},{"$f":"Macro!E1566","v":{"$error":"#DIV/0!"}}]
[null,{"$f":"Macro!A1567","v":0},{"$f":"Macro!B1567","v":0},{"$f":"Macro!E1567","v":{"$error":"#DIV/0!"}}]
[null,{"$f":"Macro!A1568","v":0},{"$f":"Macro!B1568","v":0},{"$f":"Macro!E1568","v":{"$error":"#DIV/0!"}}]
[null,{"$f":"Macro!A1569","v":0},{"$f":"Macro!B1569","v":0},{"$f":"Macro!E1569","v":{"$error":"#DIV/0!"}}]
[null,{"$f":"Macro!A1570","v":0},{"$f":"Macro!B1570","v":0},{"$f":"Macro!E1570","v":{"$error":"#DIV/0!"}}]
[null,{"$f":"Macro!A1571","v":0},{"$f":"Macro!B1571","v":0},{"$f":"Macro!E1571","v":{"$error":"#DIV/0!"}}]
[null,{"$f":"Macro!A1572","v":0},{"$f":"Macro!B1572","v":0},{"$f":"Macro!E1572","v":{"$error":"#DIV/0!"}}]
[null,{"$f":"Macro!A1573","v":0},{"$f":"Macro!B1573","v":0},{"$f":"Macro!E1573","v":{"$error":"#DIV/0!"}}]
[null,{"$f":"Macro!A1574","v":0},{"$f":"Macro!B1574","v":0},{"$f":"Macro!E1574","v":{"$error":"#DIV/0!"}}]
[null,{"$f":"Macro!A1575","v":0},{"$f":"Macro!B1575","v":0},{"$f":"Macro!E1575","v":{"$error":"#DIV/0!"}}]
[null,{"$f":"Macro!A1576","v":0},{"$f":"Macro!B1576","v":0},{"$f":"Macro!E1576","v":{"$error":"#DIV/0!"}}]
[null,{"$f":"Macro!A1577","v":0},{"$f":"Macro!B1577","v":0},{"$f":"Macro!E1577","v":{"$error":"#DIV/0!"}}]
[null,{"$f":"Macro!A1578","v":0},{"$f":"Macro!B1578","v":0},{"$f":"Macro!E1578","v":{"$error":"#DIV/0!"}}]
[null,{"$f":"Macro!A1579","v":0},{"$f":"Macro!B1579","v":0},{"$f":"Macro!E1579","v":{"$error":"#DIV/0!"}}]
[null,{"$f":"Macro!A1580","v":0},{"$f":"Macro!B1580","v":0},{"$f":"Macro!E1580","v":{"$error":"#DIV/0!"}}]
[null,{"$f":"Macro!A1581","v":0},{"$f":"Macro!B1581","v":0},{"$f":"Macro!E1581","v":{"$error":"#DIV/0!"}}]
[null,{"$f":"Macro!A1582","v":0},{"$f":"Macro!B1582","v":0},{"$f":"Macro!E1582","v":{"$error":"#DIV/0!"}}]
[null,{"$f":"Macro!A1583","v":0},{"$f":"Macro!B1583","v":0},{"$f":"Macro!E1583","v":{"$error":"#DIV/0!"}}]
[null,{"$f":"Macro!A1584","v":0},{"$f":"Macro!B1584","v":0},{"$f":"Macro!E1584","v":{"$error":"#DIV/0!"}}]
[null,{"$f":"Macro!A1585","v":0},{"$f":"Macro!B1585","v":0},{"$f":"Macro!E1585","v":{"$error":"#DIV/0!"}}]
[null,{"$f":"Macro!A1586","v":0},{"$f":"Macro!B1586","v":0},{"$f":"Macro!E1586","v":{"$error":"#DIV/0!"}}]
[null,{"$f":"Macro!A1587","v":0},{"$f":"Macro!B1587","v":0},{"$f":"Macro!E1587","v":{"$error":"#DIV/0!"}}]
[null,{"$f":"Macro!A1588","v":0},{"$f":"Macro!B1588","v":0},{"$f":"Macro!E1588","v":{"$error":"#DIV/0!"}}]
[null,{"$f":"Macro!A1589","v":0},{"$f":"Macro!B1589","v":0},{"$f":"Macro!E1589","v":{"$error":"#DIV/0!"}}]
[null,{"$f":"Macro!A1590","v":0},{"$f":"Macro!B1590","v":0},{"$f":"Macro!E1590","v":{"$error":"#DIV/0!"}}]
[null,{"$f":"Macro!A1591","v":0},{"$f":"Macro!B1591","v":0},{"$f":"Macro!E1591","v":{"$error":"#DIV/0!"}}]
[null,{"$f":"Macro!A1592","v":0},{"$f":"Macro!B1592","v":0},{"$f":"Macro!E1592","v":{"$error":"#DIV/0!"}}]
[null,{"$f":"Macro!A1593","v":0},{"$f":"Macro!B1593","v":0},{"$f":"Macro!E1593","v":{"$error":"#DIV/0!"}}]
[null,{"$f":"Macro!A1594","v":0},{"$f":"Macro!B1594","v":0},{"$f":"Macro!E1594","v":{"$error":"#DIV/0!"}}]
[null,{"$f":"Macro!A1595","v":0},{"$f":"Macro!B1595","v":0},{"$f":"Macro!E1595","v":{"$error":"#DIV/0!"}}]
[null,{"$f":"Macro!A1596","v":0},{"$f":"Macro!B1596","v":0},{"$f":"Macro!E1596","v":{"$error":"#DIV/0!"}}]
[null,{"$f":"Macro!A1597","v":0},{"$f":"Macro!B1597","v":0},{"$f":"Macro!E1597","v":{"$error":"#DIV/0!"}}]
[null,{"$f":"Macro!A1598","v":0},{"$f":"Macro!B1598","v":0},{"$f":"Macro!E1598","v":{"$error":"#DIV/0!"}}]
[null,{"$f":"Macro!A1599","v":0},{"$f":"Macro!B1599","v":0},{"$f":"Macro!E1599","v":{"$error":"#DIV/0!"}}]
[null,{"$f":"Macro!A1600","v":0},{"$f":"Macro!B1600","v":0},{"$f":"Macro!E1600","v":{"$error":"#DIV/0!"}}]
[null,{"$f":"Macro!A1601","v":0},{"$f":"Macro!B1601","v":0},{"$f":"Macro!E1601","v":{"$error":"#DIV/0!"}}]
[null,{"$f":"Macro!A1602","v":0},{"$f":"Macro!B1602","v":0},{"$f":"Macro!E1602","v":{"$error":"#DIV/0!"}}]
[null,{"$f":"Macro!A1603","v":0},{"$f":"Macro!B1603","v":0},{"$f":"Macro!E1603","v":{"$error":"#DIV/0!"}}]
[null,{"$f":"Macro!A1604","v":0},{"$f":"Macro!B1604","v":0},{"$f":"Macro!E1604","v":{"$error":"#DIV/0!"}}]
[null,{"$f":"Macro!A1605","v":0},{"$f":"Macro!B1605","v":0},{"$f":"Macro!E1605","v":{"$error":"#DIV/0!"}}]
[null,{"$f":"Macro!A1606","v":0},{"$f":"Macro!B1606","v":0},{"$f":"Macro!E1606","v":{"$error":"#DIV/0!"}}]
[null,{"$f":"Macro!A1607","v":0},{"$f":"Macro!B1607","v":0},{"$f":"Macro!E1607","v":{"$error":"#DIV/0!"}}]
[null,{"$f":"Macro!A1608","v":0},{"$f":"Macro!B1608","v":0},{"$f":"Macro!E1608","v":{"$error":"#DIV/0!"}}]
[null,{"$f":"Macro!A1609","v":0},{"$f":"Macro!B1609","v":0},{"$f":"Macro!E1609","v":{"$error":"#DIV/0!"}}]
[null,{"$f":"Macro!A1610","v":0},{"$f":"Macro!B1610","v":0},{"$f":"Macro!E1610","v":{"$error":"#DIV/0!"}}]
[null,{"$f":"Macro!A1611","v":0},{"$f":"Macro!B1611","v":0},{"$f":"Macro!E1611","v":{"$error":"#DIV/0!"}}]
[null,{"$f":"Macro!A1612","v":0},{"$f":"Macro!B1612","v":0},{"$f":"Macro!E1612","v":{"$error":"#DIV/0!"}}]
[null,{"$f":"Macro!A1613","v":0},{"$f":"Macro!B1613","v":0},{"$f":"Macro!E1613","v":{"$error":"#DIV/0!"}}]
[null,{"$f":"Macro!A1614","v":0},{"$f":"Macro!B1614","v":0},{"$f":"Macro!E1614","v":{"$error":"#DIV/0!"}}]
[null,{"$f":"Macro!A1615","v":0},{"$f":"Macro!B1615","v":0},{"$f":"Macro!E1615","v":{"$error":"#DIV/0!"}}]
[null,{"$f":"Macro!A1616","v":0},{"$f":"Macro!B1616","v":0},{"$f":"Macro!E1616","v":{"$error":"#DIV/0!"}}]
[null,{"$f":"Macro!A1617","v":0},{"$f":"Macro!B1617","v":0},{"$f":"Macro!E1617","v":{"$error":"#DIV/0!"}}]
[null,{"$f":"Macro!A1618","v":0},{"$f":"Macro!B1618","v":0},{"$f":"Macro!E1618","v":{"$error":"#DIV/0!"}}]
[null,{"$f":"Macro!A1619","v":0},{"$f":"Macro!B1619","v":0},{"$f":"Macro!E1619","v":{"$error":"#DIV/0!"}}]
[null,{"$f":"Macro!A1620","v":0},{"$f":"Macro!B1620","v":0},{"$f":"Macro!E1620","v":{"$error":"#DIV/0!"}}]
[null,{"$f":"Macro!A1621","v":0},{"$f":"Macro!B1621","v":0},{"$f":"Macro!E1621","v":{"$error":"#DIV/0!"}}]
[null,{"$f":"Macro!A1622","v":0},{"$f":"Macro!B1622","v":0},{"$f":"Macro!E1622","v":{"$error":"#DIV/0!"}}]
[null,{"$f":"Macro!A1623","v":0},{"$f":"Macro!B1623","v":0},{"$f":"Macro!E1623","v":{"$error":"#DIV/0!"}}]
[null,{"$f":"Macro!A1624","v":0},{"$f":"Macro!B1624","v":0},{"$f":"Macro!E1624","v":{"$error":"#DIV/0!"}}]
[null,{"$f":"Macro!A1625","v":0},{"$f":"Macro!B1625","v":0},{"$f":"Macro!E1625","v":{"$error":"#DIV/0!"}}]
[null,{"$f":"Macro!A1626","v":0},{"$f":"Macro!B1626","v":0},{"$f":"Macro!E1626","v":{"$error":"#DIV/0!"}}]
[null,{"$f":"Macro!A1627","v":0},{"$f":"Macro!B1627","v":0},{"$f":"Macro!E1627","v":{"$error":"#DIV/0!"}}]
[null,{"$f":"Macro!A1628","v":0},{"$f":"Macro!B1628","v":0},{"$f":"Macro!E1628","v":{"$error":"#DIV/0!"}}]
[null,{"$f":"Macro!A1629","v":0},{"$f":"Macro!B1629","v":0},{"$f":"Macro!E1629","v":{"$error":"#DIV/0!"}}]
[null,{"$f":"Macro!A1630","v":0},{"$f":"Macro!B1630","v":0},{"$f":"Macro!E1630","v":{"$error":"#DIV/0!"}}]
[null,{"$f":"Macro!A1631","v":0},{"$f":"Macro!B1631","v":0},{"$f":"Macro!E1631","v":{"$error":"#DIV/0!"}}]
[null,{"$f":"Macro!A1632","v":0},{"$f":"Macro!B1632","v":0},{"$f":"Macro!E1632","v":{"$error":"#DIV/0!"}}]
[null,{"$f":"Macro!A1633","v":0},{"$f":"Macro!B1633","v":0},{"$f":"Macro!E1633","v":{"$error":"#DIV/0!"}}]
[null,{"$f":"Macro!A1634","v":0},{"$f":"Macro!B1634","v":0},{"$f":"Macro!E1634","v":{"$error":"#DIV/0!"}}]
[null,{"$f":"Macro!A1635","v":0},{"$f":"Macro!B1635","v":0},{"$f":"Macro!E1635","v":{"$error":"#DIV/0!"}}]
[null,{"$f":"Macro!A1636","v":0},{"$f":"Macro!B1636","v":0},{"$f":"Macro!E1636","v":{"$error":"#DIV/0!"}}]
[null,{"$f":"Macro!A1637","v":0},{"$f":"Macro!B1637","v":0},{"$f":"Macro!E1637","v":{"$error":"#DIV/0!"}}]
[null,{"$f":"Macro!A1638","v":0},{"$f":"Macro!B1638","v":0},{"$f":"Macro!E1638","v":{"$error":"#DIV/0!"}}]
[null,{"$f":"Macro!A1639","v":0},{"$f":"Macro!B1639","v":0},{"$f":"Macro!E1639","v":{"$error":"#DIV/0!"}}]
[null,{"$f":"Macro!A1640","v":0},{"$f":"Macro!B1640","v":0},{"$f":"Macro!E1640","v":{"$error":"#DIV/0!"}}]
[null,{"$f":"Macro!A1641","v":0},{"$f":"Macro!B1641","v":0},{"$f":"Macro!E1641","v":{"$error":"#DIV/0!"}}]
[null,{"$f":"Macro!A1642","v":0},{"$f":"Macro!B1642","v":0},{"$f":"Macro!E1642","v":{"$error":"#DIV/0!"}}]
[null,{"$f":"Macro!A1643","v":0},{"$f":"Macro!B1643","v":0},{"$f":"Macro!E1643","v":{"$error":"#DIV/0!"}}]
[null,{"$f":"Macro!A1644","v":0},{"$f":"Macro!B1644","v":0},{"$f":"Macro!E1644","v":{"$error":"#DIV/0!"}}]
[null,{"$f":"Macro!A1645","v":0},{"$f":"Macro!B1645","v":0},{"$f":"Macro!E1645","v":{"$error":"#DIV/0!"}}]
[null,{"$f":"Macro!A1646","v":0},{"$f":"Macro!B1646","v":0},{"$f":"Macro!E1646","v":{"$error":"#DIV/0!"}}]
[null,{"$f":"Macro!A1647","v":0},{"$f":"Macro!B1647","v":0},{"$f":"Macro!E1647","v":{"$error":"#DIV/0!"}}]
[null,{"$f":"Macro!A1648","v":0},{"$f":"Macro!B1648","v":0},{"$f":"Macro!E1648","v":{"$error":"#DIV/0!"}}]
[null,{"$f":"Macro!A1649","v":0},{"$f":"Macro!B1649","v":0},{"$f":"Macro!E1649","v":{"$error":"#DIV/0!"}}]
[null,{"$f":"Macro!A1650","v":0},{"$f":"Macro!B1650","v":0},{"$f":"Macro!E1650","v":{"$error":"#DIV/0!"}}]
[null,{"$f":"Macro!A1651","v":0},{"$f":"Macro!B1651","v":0},{"$f":"Macro!E1651","v":{"$error":"#DIV/0!"}}]
[null,{"$f":"Macro!A1652","v":0},{"$f":"Macro!B1652","v":0},{"$f":"Macro!E1652","v":{"$error":"#DIV/0!"}}]
[null,{"$f":"Macro!A1653","v":0},{"$f":"Macro!B1653","v":0},{"$f":"Macro!E1653","v":{"$error":"#DIV/0!"}}]
[null,{"$f":"Macro!A1654","v":0},{"$f":"Macro!B1654","v":0},{"$f":"Macro!E1654","v":{"$error":"#DIV/0!"}}]
[null,{"$f":"Macro!A1655","v":0},{"$f":"Macro!B1655","v":0},{"$f":"Macro!E1655","v":{"$error":"#DIV/0!"}}]
[null,{"$f":"Macro!A1656","v":0},{"$f":"Macro!B1656","v":0},{"$f":"Macro!E1656","v":{"$error":"#DIV/0!"}}]
[null,{"$f":"Macro!A1657","v":0},{"$f":"Macro!B1657","v":0},{"$f":"Macro!E1657","v":{"$error":"#DIV/0!"}}]
[null,{"$f":"Macro!A1658","v":0},{"$f":"Macro!B1658","v":0},{"$f":"Macro!E1658","v":{"$error":"#DIV/0!"}}]
[null,{"$f":"Macro!A1659","v":0},{"$f":"Macro!B1659","v":0},{"$f":"Macro!E1659","v":{"$error":"#DIV/0!"}}]
[null,{"$f":"Macro!A1660","v":0},{"$f":"Macro!B1660","v":0},{"$f":"Macro!E1660","v":{"$error":"#DIV/0!"}}]
[null,{"$f":"Macro!A1661","v":0},{"$f":"Macro!B1661","v":0},{"$f":"Macro!E1661","v":{"$error":"#DIV/0!"}}]
[null,{"$f":"Macro!A1662","v":0},{"$f":"Macro!B1662","v":0},{"$f":"Macro!E1662","v":{"$error":"#DIV/0!"}}]
[null,{"$f":"Macro!A1663","v":0},{"$f":"Macro!B1663","v":0},{"$f":"Macro!E1663","v":{"$error":"#DIV/0!"}}]
[null,{"$f":"Macro!A1664","v":0},{"$f":"Macro!B1664","v":0},{"$f":"Macro!E1664","v":{"$error":"#DIV/0!"}}]
[null,{"$f":"Macro!A1665","v":0},{"$f":"Macro!B1665","v":0},{"$f":"Macro!E1665","v":{"$error":"#DIV/0!"}}]
[null,{"$f":"Macro!A1666","v":0},{"$f":"Macro!B1666","v":0},{"$f":"Macro!E1666","v":{"$error":"#DIV/0!"}}]
[null,{"$f":"Macro!A1667","v":0},{"$f":"Macro!B1667","v":0},{"$f":"Macro!E1667","v":{"$error":"#DIV/0!"}}]
[null,{"$f":"Macro!A1668","v":0},{"$f":"Macro!B1668","v":0},{"$f":"Macro!E1668","v":{"$error":"#DIV/0!"}}]
[null,{"$f":"Macro!A1669","v":0},{"$f":"Macro!B1669","v":0},{"$f":"Macro!E1669","v":{"$error":"#DIV/0!"}}]
[null,{"$f":"Macro!A1670","v":0},{"$f":"Macro!B1670","v":0},{"$f":"Macro!E1670","v":{"$error":"#DIV/0!"}}]
[null,{"$f":"Macro!A1671","v":0},{"$f":"Macro!B1671","v":0},{"$f":"Macro!E1671","v":{"$error":"#DIV/0!"}}]
[null,{"$f":"Macro!A1672","v":0},{"$f":"Macro!B1672","v":0},{"$f":"Macro!E1672","v":{"$error":"#DIV/0!"}}]
[null,{"$f":"Macro!A1673","v":0},{"$f":"Macro!B1673","v":0},{"$f":"Macro!E1673","v":{"$error":"#DIV/0!"}}]
[null,{"$f":"Macro!A1674","v":0},{"$f":"Macro!B1674","v":0},{"$f":"Macro!E1674","v":{"$error":"#DIV/0!"}}]
[null,{"$f":"Macro!A1675","v":0},{"$f":"Macro!B1675","v":0},{"$f":"Macro!E1675","v":{"$error":"#DIV/0!"}}]
[null,{"$f":"Macro!A1676","v":0},{"$f":"Macro!B1676","v":0},{"$f":"Macro!E1676","v":{"$error":"#DIV/0!"}}]
[null,{"$f":"Macro!A1677","v":0},{"$f":"Macro!B1677","v":0},{"$f":"Macro!E1677","v":{"$error":"#DIV/0!"}}]
[null,{"$f":"Macro!A1678","v":0},{"$f":"Macro!B1678","v":0},{"$f":"Macro!E1678","v":{"$error":"#DIV/0!"}}]
[null,{"$f":"Macro!A1679","v":0},{"$f":"Macro!B1679","v":0},{"$f":"Macro!E1679","v":{"$error":"#DIV/0!"}}]
[null,{"$f":"Macro!A1680","v":0},{"$f":"Macro!B1680","v":0},{"$f":"Macro!E1680","v":{"$error":"#DIV/0!"}}]
[null,{"$f":"Macro!A1681","v":0},{"$f":"Macro!B1681","v":0},{"$f":"Macro!E1681","v":{"$error":"#DIV/0!"}}]
[null,{"$f":"Macro!A1682","v":0},{"$f":"Macro!B1682","v":0},{"$f":"Macro!E1682","v":{"$error":"#DIV/0!"}}]
[null,{"$f":"Macro!A1683","v":0},{"$f":"Macro!B1683","v":0},{"$f":"Macro!E1683","v":{"$error":"#DIV/0!"}}]
[null,{"$f":"Macro!A1684","v":0},{"$f":"Macro!B1684","v":0},{"$f":"Macro!E1684","v":{"$error":"#DIV/0!"}}]
[null,{"$f":"Macro!A1685","v":0},{"$f":"Macro!B1685","v":0},{"$f":"Macro!E1685","v":{"$error":"#DIV/0!"}}]
[null,{"$f":"Macro!A1686","v":0},{"$f":"Macro!B1686","v":0},{"$f":"Macro!E1686","v":{"$error":"#DIV/0!"}}]
[null,{"$f":"Macro!A1687","v":0},{"$f":"Macro!B1687","v":0},{"$f":"Macro!E1687","v":{"$error":"#DIV/0!"}}]
[null,{"$f":"Macro!A1688","v":0},{"$f":"Macro!B1688","v":0},{"$f":"Macro!E1688","v":{"$error":"#DIV/0!"}}]
[null,{"$f":"Macro!A1689","v":0},{"$f":"Macro!B1689","v":0},{"$f":"Macro!E1689","v":{"$error":"#DIV/0!"}}]
[null,{"$f":"Macro!A1690","v":0},{"$f":"Macro!B1690","v":0},{"$f":"Macro!E1690","v":{"$error":"#DIV/0!"}}]
[null,{"$f":"Macro!A1691","v":0},{"$f":"Macro!B1691","v":0},{"$f":"Macro!E1691","v":{"$error":"#DIV/0!"}}]
[null,{"$f":"Macro!A1692","v":0},{"$f":"Macro!B1692","v":0},{"$f":"Macro!E1692","v":{"$error":"#DIV/0!"}}]
[null,{"$f":"Macro!A1693","v":0},{"$f":"Macro!B1693","v":0},{"$f":"Macro!E1693","v":{"$error":"#DIV/0!"}}]
[null,{"$f":"Macro!A1694","v":0},{"$f":"Macro!B1694","v":0},{"$f":"Macro!E1694","v":{"$error":"#DIV/0!"}}]
[null,{"$f":"Macro!A1695","v":0},{"$f":"Macro!B1695","v":0},{"$f":"Macro!E1695","v":{"$error":"#DIV/0!"}}]
[null,{"$f":"Macro!A1696","v":0},{"$f":"Macro!B1696","v":0},{"$f":"Macro!E1696","v":{"$error":"#DIV/0!"}}]
[null,{"$f":"Macro!A1697","v":0},{"$f":"Macro!B1697","v":0},{"$f":"Macro!E1697","v":{"$error":"#DIV/0!"}}]
[null,{"$f":"Macro!A1698","v":0},{"$f":"Macro!B1698","v":0},{"$f":"Macro!E1698","v":{"$error":"#DIV/0!"}}]
[null,{"$f":"Macro!A1699","v":0},{"$f":"Macro!B1699","v":0},{"$f":"Macro!E1699","v":{"$error":"#DIV/0!"}}]
[null,{"$f":"Macro!A1700","v":0},{"$f":"Macro!B1700","v":0},{"$f":"Macro!E1700","v":{"$error":"#DIV/0!"}}]
[null,{"$f":"Macro!A1701","v":0},{"$f":"Macro!B1701","v":0},{"$f":"Macro!E1701","v":{"$error":"#DIV/0!"}}]
[null,{"$f":"Macro!A1702","v":0},{"$f":"Macro!B1702","v":0},{"$f":"Macro!E1702","v":{"$error":"#DIV/0!"}}]
[null,{"$f":"Macro!A1703","v":0},{"$f":"Macro!B1703","v":0},{"$f":"Macro!E1703","v":{"$error":"#DIV/0!"}}]
[null,{"$f":"Macro!A1704","v":0},{"$f":"Macro!B1704","v":0},{"$f":"Macro!E1704","v":{"$error":"#DIV/0!"}}]
[null,{"$f":"Macro!A1705","v":0},{"$f":"Macro!B1705","v":0},{"$f":"Macro!E1705","v":{"$error":"#DIV/0!"}}]
[null,{"$f":"Macro!A1706","v":0},{"$f":"Macro!B1706","v":0},{"$f":"Macro!E1706","v":{"$error":"#DIV/0!"}}]
[null,{"$f":"Macro!A1707","v":0},{"$f":"Macro!B1707","v":0},{"$f":"Macro!E1707","v":{"$error":"#DIV/0!"}}]
[null,{"$f":"Macro!A1708","v":0},{"$f":"Macro!B1708","v":0},{"$f":"Macro!E1708","v":{"$error":"#DIV/0!"}}]
[null,{"$f":"Macro!A1709","v":0},{"$f":"Macro!B1709","v":0},{"$f":"Macro!E1709","v":{"$error":"#DIV/0!"}}]
[null,{"$f":"Macro!A1710","v":0},{"$f":"Macro!B1710","v":0},{"$f":"Macro!E1710","v":{"$error":"#DIV/0!"}}]
[null,{"$f":"Macro!A1711","v":0},{"$f":"Macro!B1711","v":0},{"$f":"Macro!E1711","v":{"$error":"#DIV/0!"}}]
[null,{"$f":"Macro!A1712","v":0},{"$f":"Macro!B1712","v":0},{"$f":"Macro!E1712","v":{"$error":"#DIV/0!"}}]
[null,{"$f":"Macro!A1713","v":0},{"$f":"Macro!B1713","v":0},{"$f":"Macro!E1713","v":{"$error":"#DIV/0!"}}]
[null,{"$f":"Macro!A1714","v":0},{"$f":"Macro!B1714","v":0},{"$f":"Macro!E1714","v":{"$error":"#DIV/0!"}}]
[null,{"$f":"Macro!A1715","v":0},{"$f":"Macro!B1715","v":0},{"$f":"Macro!E1715","v":{"$error":"#DIV/0!"}}]
[null,{"$f":"Macro!A1716","v":0},{"$f":"Macro!B1716","v":0},{"$f":"Macro!E1716","v":{"$error":"#DIV/0!"}}]
[null,{"$f":"Macro!A1717","v":0},{"$f":"Macro!B1717","v":0},{"$f":"Macro!E1717","v":{"$error":"#DIV/0!"}}]
[null,{"$f":"Macro!A1718","v":0},{"$f":"Macro!B1718","v":0},{"$f":"Macro!E1718","v":{"$error":"#DIV/0!"}}]
[null,{"$f":"Macro!A1719","v":0},{"$f":"Macro!B1719","v":0},{"$f":"Macro!E1719","v":{"$error":"#DIV/0!"}}]
[null,{"$f":"Macro!A1720","v":0},{"$f":"Macro!B1720","v":0},{"$f":"Macro!E1720","v":{"$error":"#DIV/0!"}}]
[null,{"$f":"Macro!A1721","v":0},{"$f":"Macro!B1721","v":0},{"$f":"Macro!E1721","v":{"$error":"#DIV/0!"}}]
[null,{"$f":"Macro!A1722","v":0},{"$f":"Macro!B1722","v":0},{"$f":"Macro!E1722","v":{"$error":"#DIV/0!"}}]
[null,{"$f":"Macro!A1723","v":0},{"$f":"Macro!B1723","v":0},{"$f":"Macro!E1723","v":{"$error":"#DIV/0!"}}]
[null,{"$f":"Macro!A1724","v":0},{"$f":"Macro!B1724","v":0},{"$f":"Macro!E1724","v":{"$error":"#DIV/0!"}}]
[null,{"$f":"Macro!A1725","v":0},{"$f":"Macro!B1725","v":0},{"$f":"Macro!E1725","v":{"$error":"#DIV/0!"}}]
[null,{"$f":"Macro!A1726","v":0},{"$f":"Macro!B1726","v":0},{"$f":"Macro!E1726","v":{"$error":"#DIV/0!"}}]
[null,{"$f":"Macro!A1727","v":0},{"$f":"Macro!B1727","v":0},{"$f":"Macro!E1727","v":{"$error":"#DIV/0!"}}]
[null,{"$f":"Macro!A1728","v":0},{"$f":"Macro!B1728","v":0},{"$f":"Macro!E1728","v":{"$error":"#DIV/0!"}}]
[null,{"$f":"Macro!A1729","v":0},{"$f":"Macro!B1729","v":0},{"$f":"Macro!E1729","v":{"$error":"#DIV/0!"}}]
[null,{"$f":"Macro!A1730","v":0},{"$f":"Macro!B1730","v":0},{"$f":"Macro!E1730","v":{"$error":"#DIV/0!"}}]
[null,{"$f":"Macro!A1731","v":0},{"$f":"Macro!B1731","v":0},{"$f":"Macro!E1731","v":{"$error":"#DIV/0!"}}]
[null,{"$f":"Macro!A1732","v":0},{"$f":"Macro!B1732","v":0},{"$f":"Macro!E1732","v":{"$error":"#DIV/0!"}}]
[null,{"$f":"Macro!A1733","v":0},{"$f":"Macro!B1733","v":0},{"$f":"Macro!E1733","v":{"$error":"#DIV/0!"}}]
[null,{"$f":"Macro!A1734","v":0},{"$f":"Macro!B1734","v":0},{"$f":"Macro!E1734","v":{"$error":"#DIV/0!"}}]
[null,{"$f":"Macro!A1735","v":0},{"$f":"Macro!B1735","v":0},{"$f":"Macro!E1735","v":{"$error":"#DIV/0!"}}]
[null,{"$f":"Macro!A1736","v":0},{"$f":"Macro!B1736","v":0},{"$f":"Macro!E1736","v":{"$error":"#DIV/0!"}}]
[null,{"$f":"Macro!A1737","v":0},{"$f":"Macro!B1737","v":0},{"$f":"Macro!E1737","v":{"$error":"#DIV/0!"}}]
[null,{"$f":"Macro!A1738","v":0},{"$f":"Macro!B1738","v":0},{"$f":"Macro!E1738","v":{"$error":"#DIV/0!"}}]
[null,{"$f":"Macro!A1739","v":0},{"$f":"Macro!B1739","v":0},{"$f":"Macro!E1739","v":{"$error":"#DIV/0!"}}]
[null,{"$f":"Macro!A1740","v":0},{"$f":"Macro!B1740","v":0},{"$f":"Macro!E1740","v":{"$error":"#DIV/0!"}}]
[null,{"$f":"Macro!A1741","v":0},{"$f":"Macro!B1741","v":0},{"$f":"Macro!E1741","v":{"$error":"#DIV/0!"}}]
[null,{"$f":"Macro!A1742","v":0},{"$f":"Macro!B1742","v":0},{"$f":"Macro!E1742","v":{"$error":"#DIV/0!"}}]
[null,{"$f":"Macro!A1743","v":0},{"$f":"Macro!B1743","v":0},{"$f":"Macro!E1743","v":{"$error":"#DIV/0!"}}]
[null,{"$f":"Macro!A1744","v":0},{"$f":"Macro!B1744","v":0},{"$f":"Macro!E1744","v":{"$error":"#DIV/0!"}}]
[null,{"$f":"Macro!A1745","v":0},{"$f":"Macro!B1745","v":0},{"$f":"Macro!E1745","v":{"$error":"#DIV/0!"}}]
[null,{"$f":"Macro!A1746","v":0},{"$f":"Macro!B1746","v":0},{"$f":"Macro!E1746","v":{"$error":"#DIV/0!"}}]
[null,{"$f":"Macro!A1747","v":0},{"$f":"Macro!B1747","v":0},{"$f":"Macro!E1747","v":{"$error":"#DIV/0!"}}]
[null,{"$f":"Macro!A1748","v":0},{"$f":"Macro!B1748","v":0},{"$f":"Macro!E1748","v":{"$error":"#DIV/0!"}}]
[null,{"$f":"Macro!A1749","v":0},{"$f":"Macro!B1749","v":0},{"$f":"Macro!E1749","v":{"$error":"#DIV/0!"}}]
[null,{"$f":"Macro!A1750","v":0},{"$f":"Macro!B1750","v":0},{"$f":"Macro!E1750","v":{"$error":"#DIV/0!"}}]
[null,{"$f":"Macro!A1751","v":0},{"$f":"Macro!B1751","v":0},{"$f":"Macro!E1751","v":{"$error":"#DIV/0!"}}]
[null,{"$f":"Macro!A1752","v":0},{"$f":"Macro!B1752","v":0},{"$f":"Macro!E1752","v":{"$error":"#DIV/0!"}}]
[null,{"$f":"Macro!A1753","v":0},{"$f":"Macro!B1753","v":0},{"$f":"Macro!E1753","v":{"$error":"#DIV/0!"}}]
[null,{"$f":"Macro!A1754","v":0},{"$f":"Macro!B1754","v":0},{"$f":"Macro!E1754","v":{"$error":"#DIV/0!"}}]
[null,{"$f":"Macro!A1755","v":0},{"$f":"Macro!B1755","v":0},{"$f":"Macro!E1755","v":{"$error":"#DIV/0!"}}]
[null,{"$f":"Macro!A1756","v":0},{"$f":"Macro!B1756","v":0},{"$f":"Macro!E1756","v":{"$error":"#DIV/0!"}}]
[null,{"$f":"Macro!A1757","v":0},{"$f":"Macro!B1757","v":0},{"$f":"Macro!E1757","v":{"$error":"#DIV/0!"}}]
[null,{"$f":"Macro!A1758","v":0},{"$f":"Macro!B1758","v":0},{"$f":"Macro!E1758","v":{"$error":"#DIV/0!"}}]
[null,{"$f":"Macro!A1759","v":0},{"$f":"Macro!B1759","v":0},{"$f":"Macro!E1759","v":{"$error":"#DIV/0!"}}]
[null,{"$f":"Macro!A1760","v":0},{"$f":"Macro!B1760","v":0},{"$f":"Macro!E1760","v":{"$error":"#DIV/0!"}}]
[null,{"$f":"Macro!A1761","v":0},{"$f":"Macro!B1761","v":0},{"$f":"Macro!E1761","v":{"$error":"#DIV/0!"}}]
[null,{"$f":"Macro!A1762","v":0},{"$f":"Macro!B1762","v":0},{"$f":"Macro!E1762","v":{"$error":"#DIV/0!"}}]
[null,{"$f":"Macro!A1763","v":0},{"$f":"Macro!B1763","v":0},{"$f":"Macro!E1763","v":{"$error":"#DIV/0!"}}]
[null,{"$f":"Macro!A1764","v":0},{"$f":"Macro!B1764","v":0},{"$f":"Macro!E1764","v":{"$error":"#DIV/0!"}}]
[null,{"$f":"Macro!A1765","v":0},{"$f":"Macro!B1765","v":0},{"$f":"Macro!E1765","v":{"$error":"#DIV/0!"}}]
[null,{"$f":"Macro!A1766","v":0},{"$f":"Macro!B1766","v":0},{"$f":"Macro!E1766","v":{"$error":"#DIV/0!"}}]
[null,{"$f":"Macro!A1767","v":0},{"$f":"Macro!B1767","v":0},{"$f":"Macro!E1767","v":{"$error":"#DIV/0!"}}]
[null,{"$f":"Macro!A1768","v":0},{"$f":"Macro!B1768","v":0},{"$f":"Macro!E1768","v":{"$error":"#DIV/0!"}}]
[null,{"$f":"Macro!A1769","v":0},{"$f":"Macro!B1769","v":0},{"$f":"Macro!E1769","v":{"$error":"#DIV/0!"}}]
[null,{"$f":"Macro!A1770","v":0},{"$f":"Macro!B1770","v":0},{"$f":"Macro!E1770","v":{"$error":"#DIV/0!"}}]
[null,{"$f":"Macro!A1771","v":0},{"$f":"Macro!B1771","v":0},{"$f":"Macro!E1771","v":{"$error":"#DIV/0!"}}]
[null,{"$f":"Macro!A1772","v":0},{"$f":"Macro!B1772","v":0},{"$f":"Macro!E1772","v":{"$error":"#DIV/0!"}}]
[null,{"$f":"Macro!A1773","v":0},{"$f":"Macro!B1773","v":0},{"$f":"Macro!E1773","v":{"$error":"#DIV/0!"}}]
[null,{"$f":"Macro!A1774","v":0},{"$f":"Macro!B1774","v":0},{"$f":"Macro!E1774","v":{"$error":"#DIV/0!"}}]
[null,{"$f":"Macro!A1775","v":0},{"$f":"Macro!B1775","v":0},{"$f":"Macro!E1775","v":{"$error":"#DIV/0!"}}]
[null,{"$f":"Macro!A1776","v":0},{"$f":"Macro!B1776","v":0},{"$f":"Macro!E1776","v":{"$error":"#DIV/0!"}}]
[null,{"$f":"Macro!A1777","v":0},{"$f":"Macro!B1777","v":0},{"$f":"Macro!E1777","v":{"$error":"#DIV/0!"}}]
[null,{"$f":"Macro!A1778","v":0},{"$f":"Macro!B1778","v":0},{"$f":"Macro!E1778","v":{"$error":"#DIV/0!"}}]
[null,{"$f":"Macro!A1779","v":0},{"$f":"Macro!B1779","v":0},{"$f":"Macro!E1779","v":{"$error":"#DIV/0!"}}]
[null,{"$f":"Macro!A1780","v":0},{"$f":"Macro!B1780","v":0},{"$f":"Macro!E1780","v":{"$error":"#DIV/0!"}}]
[null,{"$f":"Macro!A1781","v":0},{"$f":"Macro!B1781","v":0},{"$f":"Macro!E1781","v":{"$error":"#DIV/0!"}}]
[null,{"$f":"Macro!A1782","v":0},{"$f":"Macro!B1782","v":0},{"$f":"Macro!E1782","v":{"$error":"#DIV/0!"}}]
[null,{"$f":"Macro!A1783","v":0},{"$f":"Macro!B1783","v":0},{"$f":"Macro!E1783","v":{"$error":"#DIV/0!"}}]
[null,{"$f":"Macro!A1784","v":0},{"$f":"Macro!B1784","v":0},{"$f":"Macro!E1784","v":{"$error":"#DIV/0!"}}]
[null,{"$f":"Macro!A1785","v":0},{"$f":"Macro!B1785","v":0},{"$f":"Macro!E1785","v":{"$error":"#DIV/0!"}}]
[null,{"$f":"Macro!A1786","v":0},{"$f":"Macro!B1786","v":0},{"$f":"Macro!E1786","v":{"$error":"#DIV/0!"}}]
[null,{"$f":"Macro!A1787","v":0},{"$f":"Macro!B1787","v":0},{"$f":"Macro!E1787","v":{"$error":"#DIV/0!"}}]
[null,{"$f":"Macro!A1788","v":0},{"$f":"Macro!B1788","v":0},{"$f":"Macro!E1788","v":{"$error":"#DIV/0!"}}]
[null,{"$f":"Macro!A1789","v":0},{"$f":"Macro!B1789","v":0},{"$f":"Macro!E1789","v":{"$error":"#DIV/0!"}}]
[null,{"$f":"Macro!A1790","v":0},{"$f":"Macro!B1790","v":0},{"$f":"Macro!E1790","v":{"$error":"#DIV/0!"}}]
[null,{"$f":"Macro!A1791","v":0},{"$f":"Macro!B1791","v":0},{"$f":"Macro!E1791","v":{"$error":"#DIV/0!"}}]
[null,{"$f":"Macro!A1792","v":0},{"$f":"Macro!B1792","v":0},{"$f":"Macro!E1792","v":{"$error":"#DIV/0!"}}]
[null,{"$f":"Macro!A1793","v":0},{"$f":"Macro!B1793","v":0},{"$f":"Macro!E1793","v":{"$error":"#DIV/0!"}}]
[null,{"$f":"Macro!A1794","v":0},{"$f":"Macro!B1794","v":0},{"$f":"Macro!E1794","v":{"$error":"#DIV/0!"}}]
[null,{"$f":"Macro!A1795","v":0},{"$f":"Macro!B1795","v":0},{"$f":"Macro!E1795","v":{"$error":"#DIV/0!"}}]
[null,{"$f":"Macro!A1796","v":0},{"$f":"Macro!B1796","v":0},{"$f":"Macro!E1796","v":{"$error":"#DIV/0!"}}]
[null,{"$f":"Macro!A1797","v":0},{"$f":"Macro!B1797","v":0},{"$f":"Macro!E1797","v":{"$error":"#DIV/0!"}}]
[null,{"$f":"Macro!A1798","v":0},{"$f":"Macro!B1798","v":0},{"$f":"Macro!E1798","v":{"$error":"#DIV/0!"}}]
[null,{"$f":"Macro!A1799","v":0},{"$f":"Macro!B1799","v":0},{"$f":"Macro!E1799","v":{"$error":"#DIV/0!"}}]
[null,{"$f":"Macro!A1800","v":0},{"$f":"Macro!B1800","v":0},{"$f":"Macro!E1800","v":{"$error":"#DIV/0!"}}]
[null,{"$f":"Macro!A1801","v":0},{"$f":"Macro!B1801","v":0},{"$f":"Macro!E1801","v":{"$error":"#DIV/0!"}}]
[null,{"$f":"Macro!A1802","v":0},{"$f":"Macro!B1802","v":0},{"$f":"Macro!E1802","v":{"$error":"#DIV/0!"}}]
[null,{"$f":"Macro!A1803","v":0},{"$f":"Macro!B1803","v":0},{"$f":"Macro!E1803","v":{"$error":"#DIV/0!"}}]
[null,{"$f":"Macro!A1804","v":0},{"$f":"Macro!B1804","v":0},{"$f":"Macro!E1804","v":{"$error":"#DIV/0!"}}]
[null,{"$f":"Macro!A1805","v":0},{"$f":"Macro!B1805","v":0},{"$f":"Macro!E1805","v":{"$error":"#DIV/0!"}}]
[null,{"$f":"Macro!A1806","v":0},{"$f":"Macro!B1806","v":0},{"$f":"Macro!E1806","v":{"$error":"#DIV/0!"}}]
[null,{"$f":"Macro!A1807","v":0},{"$f":"Macro!B1807","v":0},{"$f":"Macro!E1807","v":{"$error":"#DIV/0!"}}]
[null,{"$f":"Macro!A1808","v":0},{"$f":"Macro!B1808","v":0},{"$f":"Macro!E1808","v":{"$error":"#DIV/0!"}}]
[null,{"$f":"Macro!A1809","v":0},{"$f":"Macro!B1809","v":0},{"$f":"Macro!E1809","v":{"$error":"#DIV/0!"}}]
[null,{"$f":"Macro!A1810","v":0},{"$f":"Macro!B1810","v":0},{"$f":"Macro!E1810","v":{"$error":"#DIV/0!"}}]
[null,{"$f":"Macro!A1811","v":0},{"$f":"Macro!B1811","v":0},{"$f":"Macro!E1811","v":{"$error":"#DIV/0!"}}]
[null,{"$f":"Macro!A1812","v":0},{"$f":"Macro!B1812","v":0},{"$f":"Macro!E1812","v":{"$error":"#DIV/0!"}}]
[null,{"$f":"Macro!A1813","v":0},{"$f":"Macro!B1813","v":0},{"$f":"Macro!E1813","v":{"$error":"#DIV/0!"}}]
[null,{"$f":"Macro!A1814","v":0},{"$f":"Macro!B1814","v":0},{"$f":"Macro!E1814","v":{"$error":"#DIV/0!"}}]
[null,{"$f":"Macro!A1815","v":0},{"$f":"Macro!B1815","v":0},{"$f":"Macro!E1815","v":{"$error":"#DIV/0!"}}]
[null,{"$f":"Macro!A1816","v":0},{"$f":"Macro!B1816","v":0},{"$f":"Macro!E1816","v":{"$error":"#DIV/0!"}}]
[null,{"$f":"Macro!A1817","v":0},{"$f":"Macro!B1817","v":0},{"$f":"Macro!E1817","v":{"$error":"#DIV/0!"}}]
[null,{"$f":"Macro!A1818","v":0},{"$f":"Macro!B1818","v":0},{"$f":"Macro!E1818","v":{"$error":"#DIV/0!"}}]
[null,{"$f":"Macro!A1819","v":0},{"$f":"Macro!B1819","v":0},{"$f":"Macro!E1819","v":{"$error":"#DIV/0!"}}]
[null,{"$f":"Macro!A1820","v":0},{"$f":"Macro!B1820","v":0},{"$f":"Macro!E1820","v":{"$error":"#DIV/0!"}}]
[null,{"$f":"Macro!A1821","v":0},{"$f":"Macro!B1821","v":0},{"$f":"Macro!E1821","v":{"$error":"#DIV/0!"}}]
[null,{"$f":"Macro!A1822","v":0},{"$f":"Macro!B1822","v":0},{"$f":"Macro!E1822","v":{"$error":"#DIV/0!"}}]
[null,{"$f":"Macro!A1823","v":0},{"$f":"Macro!B1823","v":0},{"$f":"Macro!E1823","v":{"$error":"#DIV/0!"}}]
[null,{"$f":"Macro!A1824","v":0},{"$f":"Macro!B1824","v":0},{"$f":"Macro!E1824","v":{"$error":"#DIV/0!"}}]
[null,{"$f":"Macro!A1825","v":0},{"$f":"Macro!B1825","v":0},{"$f":"Macro!E1825","v":{"$error":"#DIV/0!"}}]
[null,{"$f":"Macro!A1826","v":0},{"$f":"Macro!B1826","v":0},{"$f":"Macro!E1826","v":{"$error":"#DIV/0!"}}]
[null,{"$f":"Macro!A1827","v":0},{"$f":"Macro!B1827","v":0},{"$f":"Macro!E1827","v":{"$error":"#DIV/0!"}}]
[null,{"$f":"Macro!A1828","v":0},{"$f":"Macro!B1828","v":0},{"$f":"Macro!E1828","v":{"$error":"#DIV/0!"}}]
[null,{"$f":"Macro!A1829","v":0},{"$f":"Macro!B1829","v":0},{"$f":"Macro!E1829","v":{"$error":"#DIV/0!"}}]
[null,{"$f":"Macro!A1830","v":0},{"$f":"Macro!B1830","v":0},{"$f":"Macro!E1830","v":{"$error":"#DIV/0!"}}]
[null,{"$f":"Macro!A1831","v":0},{"$f":"Macro!B1831","v":0},{"$f":"Macro!E1831","v":{"$error":"#DIV/0!"}}]
[null,{"$f":"Macro!A1832","v":0},{"$f":"Macro!B1832","v":0},{"$f":"Macro!E1832","v":{"$error":"#DIV/0!"}}]
[null,{"$f":"Macro!A1833","v":0},{"$f":"Macro!B1833","v":0},{"$f":"Macro!E1833","v":{"$error":"#DIV/0!"}}]
[null,{"$f":"Macro!A1834","v":0},{"$f":"Macro!B1834","v":0},{"$f":"Macro!E1834","v":{"$error":"#DIV/0!"}}]
[null,{"$f":"Macro!A1835","v":0},{"$f":"Macro!B1835","v":0},{"$f":"Macro!E1835","v":{"$error":"#DIV/0!"}}]
[null,{"$f":"Macro!A1836","v":0},{"$f":"Macro!B1836","v":0},{"$f":"Macro!E1836","v":{"$error":"#DIV/0!"}}]
[null,{"$f":"Macro!A1837","v":0},{"$f":"Macro!B1837","v":0},{"$f":"Macro!E1837","v":{"$error":"#DIV/0!"}}]
[null,{"$f":"Macro!A1838","v":0},{"$f":"Macro!B1838","v":0},{"$f":"Macro!E1838","v":{"$error":"#DIV/0!"}}]
[null,{"$f":"Macro!A1839","v":0},{"$f":"Macro!B1839","v":0},{"$f":"Macro!E1839","v":{"$error":"#DIV/0!"}}]
[null,{"$f":"Macro!A1840","v":0},{"$f":"Macro!B1840","v":0},{"$f":"Macro!E1840","v":{"$error":"#DIV/0!"}}]
[null,{"$f":"Macro!A1841","v":0},{"$f":"Macro!B1841","v":0},{"$f":"Macro!E1841","v":{"$error":"#DIV/0!"}}]
[null,{"$f":"Macro!A1842","v":0},{"$f":"Macro!B1842","v":0},{"$f":"Macro!E1842","v":{"$error":"#DIV/0!"}}]
[null,{"$f":"Macro!A1843","v":0},{"$f":"Macro!B1843","v":0},{"$f":"Macro!E1843","v":{"$error":"#DIV/0!"}}]
[null,{"$f":"Macro!A1844","v":0},{"$f":"Macro!B1844","v":0},{"$f":"Macro!E1844","v":{"$error":"#DIV/0!"}}]
[null,{"$f":"Macro!A1845","v":0},{"$f":"Macro!B1845","v":0},{"$f":"Macro!E1845","v":{"$error":"#DIV/0!"}}]
[null,{"$f":"Macro!A1846","v":0},{"$f":"Macro!B1846","v":0},{"$f":"Macro!E1846","v":{"$error":"#DIV/0!"}}]
[null,{"$f":"Macro!A1847","v":0},{"$f":"Macro!B1847","v":0},{"$f":"Macro!E1847","v":{"$error":"#DIV/0!"}}]
[null,{"$f":"Macro!A1848","v":0},{"$f":"Macro!B1848","v":0},{"$f":"Macro!E1848","v":{"$error":"#DIV/0!"}}]
[null,{"$f":"Macro!A1849","v":0},{"$f":"Macro!B1849","v":0},{"$f":"Macro!E1849","v":{"$error":"#DIV/0!"}}]
[null,{"$f":"Macro!A1850","v":0},{"$f":"Macro!B1850","v":0},{"$f":"Macro!E1850","v":{"$error":"#DIV/0!"}}]
[null,{"$f":"Macro!A1851","v":0},{"$f":"Macro!B1851","v":0},{"$f":"Macro!E1851","v":{"$error":"#DIV/0!"}}]
[null,{"$f":"Macro!A1852","v":0},{"$f":"Macro!B1852","v":0},{"$f":"Macro!E1852","v":{"$error":"#DIV/0!"}}]
[null,{"$f":"Macro!A1853","v":0},{"$f":"Macro!B1853","v":0},{"$f":"Macro!E1853","v":{"$error":"#DIV/0!"}}]
[null,{"$f":"Macro!A1854","v":0},{"$f":"Macro!B1854","v":0},{"$f":"Macro!E1854","v":{"$error":"#DIV/0!"}}]
[null,{"$f":"Macro!A1855","v":0},{"$f":"Macro!B1855","v":0},{"$f":"Macro!E1855","v":{"$error":"#DIV/0!"}}]
[null,{"$f":"Macro!A1856","v":0},{"$f":"Macro!B1856","v":0},{"$f":"Macro!E1856","v":{"$error":"#DIV/0!"}}]
[null,{"$f":"Macro!A1857","v":0},{"$f":"Macro!B1857","v":0},{"$f":"Macro!E1857","v":{"$error":"#DIV/0!"}}]
[null,{"$f":"Macro!A1858","v":0},{"$f":"Macro!B1858","v":0},{"$f":"Macro!E1858","v":{"$error":"#DIV/0!"}}]
[null,{"$f":"Macro!A1859","v":0},{"$f":"Macro!B1859","v":0},{"$f":"Macro!E1859","v":{"$error":"#DIV/0!"}}]
[null,{"$f":"Macro!A1860","v":0},{"$f":"Macro!B1860","v":0},{"$f":"Macro!E1860","v":{"$error":"#DIV/0!"}}]
[null,{"$f":"Macro!A1861","v":0},{"$f":"Macro!B1861","v":0},{"$f":"Macro!E1861","v":{"$error":"#DIV/0!"}}]
[null,{"$f":"Macro!A1862","v":0},{"$f":"Macro!B1862","v":0},{"$f":"Macro!E1862","v":{"$error":"#DIV/0!"}}]
[null,{"$f":"Macro!A1863","v":0},{"$f":"Macro!B1863","v":0},{"$f":"Macro!E1863","v":{"$error":"#DIV/0!"}}]
[null,{"$f":"Macro!A1864","v":0},{"$f":"Macro!B1864","v":0},{"$f":"Macro!E1864","v":{"$error":"#DIV/0!"}}]
[null,{"$f":"Macro!A1865","v":0},{"$f":"Macro!B1865","v":0},{"$f":"Macro!E1865","v":{"$error":"#DIV/0!"}}]
[null,{"$f":"Macro!A1866","v":0},{"$f":"Macro!B1866","v":0},{"$f":"Macro!E1866","v":{"$error":"#DIV/0!"}}]
[null,{"$f":"Macro!A1867","v":0},{"$f":"Macro!B1867","v":0},{"$f":"Macro!E1867","v":{"$error":"#DIV/0!"}}]
[null,{"$f":"Macro!A1868","v":0},{"$f":"Macro!B1868","v":0},{"$f":"Macro!E1868","v":{"$error":"#DIV/0!"}}]
[null,{"$f":"Macro!A1869","v":0},{"$f":"Macro!B1869","v":0},{"$f":"Macro!E1869","v":{"$error":"#DIV/0!"}}]
[null,{"$f":"Macro!A1870","v":0},{"$f":"Macro!B1870","v":0},{"$f":"Macro!E1870","v":{"$error":"#DIV/0!"}}]
[null,{"$f":"Macro!A1871","v":0},{"$f":"Macro!B1871","v":0},{"$f":"Macro!E1871","v":{"$error":"#DIV/0!"}}]
[null,{"$f":"Macro!A1872","v":0},{"$f":"Macro!B1872","v":0},{"$f":"Macro!E1872","v":{"$error":"#DIV/0!"}}]
[null,{"$f":"Macro!A1873","v":0},{"$f":"Macro!B1873","v":0},{"$f":"Macro!E1873","v":{"$error":"#DIV/0!"}}]
[null,{"$f":"Macro!A1874","v":0},{"$f":"Macro!B1874","v":0},{"$f":"Macro!E1874","v":{"$error":"#DIV/0!"}}]
[null,{"$f":"Macro!A1875","v":0},{"$f":"Macro!B1875","v":0},{"$f":"Macro!E1875","v":{"$error":"#DIV/0!"}}]
[null,{"$f":"Macro!A1876","v":0},{"$f":"Macro!B1876","v":0},{"$f":"Macro!E1876","v":{"$error":"#DIV/0!"}}]
[null,{"$f":"Macro!A1877","v":0},{"$f":"Macro!B1877","v":0},{"$f":"Macro!E1877","v":{"$error":"#DIV/0!"}}]
[null,{"$f":"Macro!A1878","v":0},{"$f":"Macro!B1878","v":0},{"$f":"Macro!E1878","v":{"$error":"#DIV/0!"}}]
[null,{"$f":"Macro!A1879","v":0},{"$f":"Macro!B1879","v":0},{"$f":"Macro!E1879","v":{"$error":"#DIV/0!"}}]
[null,{"$f":"Macro!A1880","v":0},{"$f":"Macro!B1880","v":0},{"$f":"Macro!E1880","v":{"$error":"#DIV/0!"}}]
[null,{"$f":"Macro!A1881","v":0},{"$f":"Macro!B1881","v":0},{"$f":"Macro!E1881","v":{"$error":"#DIV/0!"}}]
[null,{"$f":"Macro!A1882","v":0},{"$f":"Macro!B1882","v":0},{"$f":"Macro!E1882","v":{"$error":"#DIV/0!"}}]
[null,{"$f":"Macro!A1883","v":0},{"$f":"Macro!B1883","v":0},{"$f":"Macro!E1883","v":{"$error":"#DIV/0!"}}]
[null,{"$f":"Macro!A1884","v":0},{"$f":"Macro!B1884","v":0},{"$f":"Macro!E1884","v":{"$error":"#DIV/0!"}}]
[null,{"$f":"Macro!A1885","v":0},{"$f":"Macro!B1885","v":0},{"$f":"Macro!E1885","v":{"$error":"#DIV/0!"}}]
[null,{"$f":"Macro!A1886","v":0},{"$f":"Macro!B1886","v":0},{"$f":"Macro!E1886","v":{"$error":"#DIV/0!"}}]
[null,{"$f":"Macro!A1887","v":0},{"$f":"Macro!B1887","v":0},{"$f":"Macro!E1887","v":{"$error":"#DIV/0!"}}]
[null,{"$f":"Macro!A1888","v":0},{"$f":"Macro!B1888","v":0},{"$f":"Macro!E1888","v":{"$error":"#DIV/0!"}}]
[null,{"$f":"Macro!A1889","v":0},{"$f":"Macro!B1889","v":0},{"$f":"Macro!E1889","v":{"$error":"#DIV/0!"}}]
[null,{"$f":"Macro!A1890","v":0},{"$f":"Macro!B1890","v":0},{"$f":"Macro!E1890","v":{"$error":"#DIV/0!"}}]
[null,{"$f":"Macro!A1891","v":0},{"$f":"Macro!B1891","v":0},{"$f":"Macro!E1891","v":{"$error":"#DIV/0!"}}]
[null,{"$f":"Macro!A1892","v":0},{"$f":"Macro!B1892","v":0},{"$f":"Macro!E1892","v":{"$error":"#DIV/0!"}}]
[null,{"$f":"Macro!A1893","v":0},{"$f":"Macro!B1893","v":0},{"$f":"Macro!E1893","v":{"$error":"#DIV/0!"}}]
[null,{"$f":"Macro!A1894","v":0},{"$f":"Macro!B1894","v":0},{"$f":"Macro!E1894","v":{"$error":"#DIV/0!"}}]
[null,{"$f":"Macro!A1895","v":0},{"$f":"Macro!B1895","v":0},{"$f":"Macro!E1895","v":{"$error":"#DIV/0!"}}]
[null,{"$f":"Macro!A1896","v":0},{"$f":"Macro!B1896","v":0},{"$f":"Macro!E1896","v":{"$error":"#DIV/0!"}}]
[null,{"$f":"Macro!A1897","v":0},{"$f":"Macro!B1897","v":0},{"$f":"Macro!E1897","v":{"$error":"#DIV/0!"}}]
[null,{"$f":"Macro!A1898","v":0},{"$f":"Macro!B1898","v":0},{"$f":"Macro!E1898","v":{"$error":"#DIV/0!"}}]
[null,{"$f":"Macro!A1899","v":0},{"$f":"Macro!B1899","v":0},{"$f":"Macro!E1899","v":{"$error":"#DIV/0!"}}]
[null,{"$f":"Macro!A1900","v":0},{"$f":"Macro!B1900","v":0},{"$f":"Macro!E1900","v":{"$error":"#DIV/0!"}}]
[null,{"$f":"Macro!A1901","v":0},{"$f":"Macro!B1901","v":0},{"$f":"Macro!E1901","v":{"$error":"#DIV/0!"}}]
[null,{"$f":"Macro!A1902","v":0},{"$f":"Macro!B1902","v":0},{"$f":"Macro!E1902","v":{"$error":"#DIV/0!"}}]
[null,{"$f":"Macro!A1903","v":0},{"$f":"Macro!B1903","v":0},{"$f":"Macro!E1903","v":{"$error":"#DIV/0!"}}]
[null,{"$f":"Macro!A1904","v":0},{"$f":"Macro!B1904","v":0},{"$f":"Macro!E1904","v":{"$error":"#DIV/0!"}}]
[null,{"$f":"Macro!A1905","v":0},{"$f":"Macro!B1905","v":0},{"$f":"Macro!E1905","v":{"$error":"#DIV/0!"}}]
[null,{"$f":"Macro!A1906","v":0},{"$f":"Macro!B1906","v":0},{"$f":"Macro!E1906","v":{"$error":"#DIV/0!"}}]
[null,{"$f":"Macro!A1907","v":0},{"$f":"Macro!B1907","v":0},{"$f":"Macro!E1907","v":{"$error":"#DIV/0!"}}]
[null,{"$f":"Macro!A1908","v":0},{"$f":"Macro!B1908","v":0},{"$f":"Macro!E1908","v":{"$error":"#DIV/0!"}}]
[null,{"$f":"Macro!A1909","v":0},{"$f":"Macro!B1909","v":0},{"$f":"Macro!E1909","v":{"$error":"#DIV/0!"}}]
[null,{"$f":"Macro!A1910","v":0},{"$f":"Macro!B1910","v":0},{"$f":"Macro!E1910","v":{"$error":"#DIV/0!"}}]
[null,{"$f":"Macro!A1911","v":0},{"$f":"Macro!B1911","v":0},{"$f":"Macro!E1911","v":{"$error":"#DIV/0!"}}]
[null,{"$f":"Macro!A1912","v":0},{"$f":"Macro!B1912","v":0},{"$f":"Macro!E1912","v":{"$error":"#DIV/0!"}}]
[null,{"$f":"Macro!A1913","v":0},{"$f":"Macro!B1913","v":0},{"$f":"Macro!E1913","v":{"$error":"#DIV/0!"}}]
[null,{"$f":"Macro!A1914","v":0},{"$f":"Macro!B1914","v":0},{"$f":"Macro!E1914","v":{"$error":"#DIV/0!"}}]
[null,{"$f":"Macro!A1915","v":0},{"$f":"Macro!B1915","v":0},{"$f":"Macro!E1915","v":{"$error":"#DIV/0!"}}]
[null,{"$f":"Macro!A1916","v":0},{"$f":"Macro!B1916","v":0},{"$f":"Macro!E1916","v":{"$error":"#DIV/0!"}}]
[null,{"$f":"Macro!A1917","v":0},{"$f":"Macro!B1917","v":0},{"$f":"Macro!E1917","v":{"$error":"#DIV/0!"}}]
[null,{"$f":"Macro!A1918","v":0},{"$f":"Macro!B1918","v":0},{"$f":"Macro!E1918","v":{"$error":"#DIV/0!"}}]
[null,{"$f":"Macro!A1919","v":0},{"$f":"Macro!B1919","v":0},{"$f":"Macro!E1919","v":{"$error":"#DIV/0!"}}]
[null,{"$f":"Macro!A1920","v":0},{"$f":"Macro!B1920","v":0},{"$f":"Macro!E1920","v":{"$error":"#DIV/0!"}}]
[null,{"$f":"Macro!A1921","v":0},{"$f":"Macro!B1921","v":0},{"$f":"Macro!E1921","v":{"$error":"#DIV/0!"}}]
[null,{"$f":"Macro!A1922","v":0},{"$f":"Macro!B1922","v":0},{"$f":"Macro!E1922","v":{"$error":"#DIV/0!"}}]
[null,{"$f":"Macro!A1923","v":0},{"$f":"Macro!B1923","v":0},{"$f":"Macro!E1923","v":{"$error":"#DIV/0!"}}]
[null,{"$f":"Macro!A1924","v":0},{"$f":"Macro!B1924","v":0},{"$f":"Macro!E1924","v":{"$error":"#DIV/0!"}}]
[null,{"$f":"Macro!A1925","v":0},{"$f":"Macro!B1925","v":0},{"$f":"Macro!E1925","v":{"$error":"#DIV/0!"}}]
[null,{"$f":"Macro!A1926","v":0},{"$f":"Macro!B1926","v":0},{"$f":"Macro!E1926","v":{"$error":"#DIV/0!"}}]
[null,{"$f":"Macro!A1927","v":0},{"$f":"Macro!B1927","v":0},{"$f":"Macro!E1927","v":{"$error":"#DIV/0!"}}]
[null,{"$f":"Macro!A1928","v":0},{"$f":"Macro!B1928","v":0},{"$f":"Macro!E1928","v":{"$error":"#DIV/0!"}}]
[null,{"$f":"Macro!A1929","v":0},{"$f":"Macro!B1929","v":0},{"$f":"Macro!E1929","v":{"$error":"#DIV/0!"}}]
[null,{"$f":"Macro!A1930","v":0},{"$f":"Macro!B1930","v":0},{"$f":"Macro!E1930","v":{"$error":"#DIV/0!"}}]
[null,{"$f":"Macro!A1931","v":0},{"$f":"Macro!B1931","v":0},{"$f":"Macro!E1931","v":{"$error":"#DIV/0!"}}]
[null,{"$f":"Macro!A1932","v":0},{"$f":"Macro!B1932","v":0},{"$f":"Macro!E1932","v":{"$error":"#DIV/0!"}}]
[null,{"$f":"Macro!A1933","v":0},{"$f":"Macro!B1933","v":0},{"$f":"Macro!E1933","v":{"$error":"#DIV/0!"}}]
[null,{"$f":"Macro!A1934","v":0},{"$f":"Macro!B1934","v":0},{"$f":"Macro!E1934","v":{"$error":"#DIV/0!"}}]
[null,{"$f":"Macro!A1935","v":0},{"$f":"Macro!B1935","v":0},{"$f":"Macro!E1935","v":{"$error":"#DIV/0!"}}]
[null,{"$f":"Macro!A1936","v":0},{"$f":"Macro!B1936","v":0},{"$f":"Macro!E1936","v":{"$error":"#DIV/0!"}}]
[null,{"$f":"Macro!A1937","v":0},{"$f":"Macro!B1937","v":0},{"$f":"Macro!E1937","v":{"$error":"#DIV/0!"}}]
[null,{"$f":"Macro!A1938","v":0},{"$f":"Macro!B1938","v":0},{"$f":"Macro!E1938","v":{"$error":"#DIV/0!"}}]
[null,{"$f":"Macro!A1939","v":0},{"$f":"Macro!B1939","v":0},{"$f":"Macro!E1939","v":{"$error":"#DIV/0!"}}]
[null,{"$f":"Macro!A1940","v":0},{"$f":"Macro!B1940","v":0},{"$f":"Macro!E1940","v":{"$error":"#DIV/0!"}}]
[null,{"$f":"Macro!A1941","v":0},{"$f":"Macro!B1941","v":0},{"$f":"Macro!E1941","v":{"$error":"#DIV/0!"}}]
[null,{"$f":"Macro!A1942","v":0},{"$f":"Macro!B1942","v":0},{"$f":"Macro!E1942","v":{"$error":"#DIV/0!"}}]
[null,{"$f":"Macro!A1943","v":0},{"$f":"Macro!B1943","v":0},{"$f":"Macro!E1943","v":{"$error":"#DIV/0!"}}]
[null,{"$f":"Macro!A1944","v":0},{"$f":"Macro!B1944","v":0},{"$f":"Macro!E1944","v":{"$error":"#DIV/0!"}}]
[null,{"$f":"Macro!A1945","v":0},{"$f":"Macro!B1945","v":0},{"$f":"Macro!E1945","v":{"$error":"#DIV/0!"}}]
[null,{"$f":"Macro!A1946","v":0},{"$f":"Macro!B1946","v":0},{"$f":"Macro!E1946","v":{"$error":"#DIV/0!"}}]
[null,{"$f":"Macro!A1947","v":0},{"$f":"Macro!B1947","v":0},{"$f":"Macro!E1947","v":{"$error":"#DIV/0!"}}]
[null,{"$f":"Macro!A1948","v":0},{"$f":"Macro!B1948","v":0},{"$f":"Macro!E1948","v":{"$error":"#DIV/0!"}}]
[null,{"$f":"Macro!A1949","v":0},{"$f":"Macro!B1949","v":0},{"$f":"Macro!E1949","v":{"$error":"#DIV/0!"}}]
[null,{"$f":"Macro!A1950","v":0},{"$f":"Macro!B1950","v":0},{"$f":"Macro!E1950","v":{"$error":"#DIV/0!"}}]
[null,{"$f":"Macro!A1951","v":0},{"$f":"Macro!B1951","v":0},{"$f":"Macro!E1951","v":{"$error":"#DIV/0!"}}]
[null,{"$f":"Macro!A1952","v":0},{"$f":"Macro!B1952","v":0},{"$f":"Macro!E1952","v":{"$error":"#DIV/0!"}}]
[null,{"$f":"Macro!A1953","v":0},{"$f":"Macro!B1953","v":0},{"$f":"Macro!E1953","v":{"$error":"#DIV/0!"}}]
[null,{"$f":"Macro!A1954","v":0},{"$f":"Macro!B1954","v":0},{"$f":"Macro!E1954","v":{"$error":"#DIV/0!"}}]
[null,{"$f":"Macro!A1955","v":0},{"$f":"Macro!B1955","v":0},{"$f":"Macro!E1955","v":{"$error":"#DIV/0!"}}]
[null,{"$f":"Macro!A1956","v":0},{"$f":"Macro!B1956","v":0},{"$f":"Macro!E1956","v":{"$error":"#DIV/0!"}}]
[null,{"$f":"Macro!A1957","v":0},{"$f":"Macro!B1957","v":0},{"$f":"Macro!E1957","v":{"$error":"#DIV/0!"}}]
[null,{"$f":"Macro!A1958","v":0},{"$f":"Macro!B1958","v":0},{"$f":"Macro!E1958","v":{"$error":"#DIV/0!"}}]
[null,{"$f":"Macro!A1959","v":0},{"$f":"Macro!B1959","v":0},{"$f":"Macro!E1959","v":{"$error":"#DIV/0!"}}]
[null,{"$f":"Macro!A1960","v":0},{"$f":"Macro!B1960","v":0},{"$f":"Macro!E1960","v":{"$error":"#DIV/0!"}}]
[null,{"$f":"Macro!A1961","v":0},{"$f":"Macro!B1961","v":0},{"$f":"Macro!E1961","v":{"$error":"#DIV/0!"}}]
[null,{"$f":"Macro!A1962","v":0},{"$f":"Macro!B1962","v":0},{"$f":"Macro!E1962","v":{"$error":"#DIV/0!"}}]
[null,{"$f":"Macro!A1963","v":0},{"$f":"Macro!B1963","v":0},{"$f":"Macro!E1963","v":{"$error":"#DIV/0!"}}]
[null,{"$f":"Macro!A1964","v":0},{"$f":"Macro!B1964","v":0},{"$f":"Macro!E1964","v":{"$error":"#DIV/0!"}}]
[null,{"$f":"Macro!A1965","v":0},{"$f":"Macro!B1965","v":0},{"$f":"Macro!E1965","v":{"$error":"#DIV/0!"}}]
[null,{"$f":"Macro!A1966","v":0},{"$f":"Macro!B1966","v":0},{"$f":"Macro!E1966","v":{"$error":"#DIV/0!"}}]
[null,{"$f":"Macro!A1967","v":0},{"$f":"Macro!B1967","v":0},{"$f":"Macro!E1967","v":{"$error":"#DIV/0!"}}]
[null,{"$f":"Macro!A1968","v":0},{"$f":"Macro!B1968","v":0},{"$f":"Macro!E1968","v":{"$error":"#DIV/0!"}}]
[null,{"$f":"Macro!A1969","v":0},{"$f":"Macro!B1969","v":0},{"$f":"Macro!E1969","v":{"$error":"#DIV/0!"}}]
[null,{"$f":"Macro!A1970","v":0},{"$f":"Macro!B1970","v":0},{"$f":"Macro!E1970","v":{"$error":"#DIV/0!"}}]
[null,{"$f":"Macro!A1971","v":0},{"$f":"Macro!B1971","v":0},{"$f":"Macro!E1971","v":{"$error":"#DIV/0!"}}]
[null,{"$f":"Macro!A1972","v":0},{"$f":"Macro!B1972","v":0},{"$f":"Macro!E1972","v":{"$error":"#DIV/0!"}}]
[null,{"$f":"Macro!A1973","v":0},{"$f":"Macro!B1973","v":0},{"$f":"Macro!E1973","v":{"$error":"#DIV/0!"}}]
[null,{"$f":"Macro!A1974","v":0},{"$f":"Macro!B1974","v":0},{"$f":"Macro!E1974","v":{"$error":"#DIV/0!"}}]
[null,{"$f":"Macro!A1975","v":0},{"$f":"Macro!B1975","v":0},{"$f":"Macro!E1975","v":{"$error":"#DIV/0!"}}]
[null,{"$f":"Macro!A1976","v":0},{"$f":"Macro!B1976","v":0},{"$f":"Macro!E1976","v":{"$error":"#DIV/0!"}}]
[null,{"$f":"Macro!A1977","v":0},{"$f":"Macro!B1977","v":0},{"$f":"Macro!E1977","v":{"$error":"#DIV/0!"}}]
[null,{"$f":"Macro!A1978","v":0},{"$f":"Macro!B1978","v":0},{"$f":"Macro!E1978","v":{"$error":"#DIV/0!"}}]
[null,{"$f":"Macro!A1979","v":0},{"$f":"Macro!B1979","v":0},{"$f":"Macro!E1979","v":{"$error":"#DIV/0!"}}]
[null,{"$f":"Macro!A1980","v":0},{"$f":"Macro!B1980","v":0},{"$f":"Macro!E1980","v":{"$error":"#DIV/0!"}}]
[null,{"$f":"Macro!A1981","v":0},{"$f":"Macro!B1981","v":0},{"$f":"Macro!E1981","v":{"$error":"#DIV/0!"}}]
[null,{"$f":"Macro!A1982","v":0},{"$f":"Macro!B1982","v":0},{"$f":"Macro!E1982","v":{"$error":"#DIV/0!"}}]
[null,{"$f":"Macro!A1983","v":0},{"$f":"Macro!B1983","v":0},{"$f":"Macro!E1983","v":{"$error":"#DIV/0!"}}]
[null,{"$f":"Macro!A1984","v":0},{"$f":"Macro!B1984","v":0},{"$f":"Macro!E1984","v":{"$error":"#DIV/0!"}}]
[null,{"$f":"Macro!A1985","v":0},{"$f":"Macro!B1985","v":0},{"$f":"Macro!E1985","v":{"$error":"#DIV/0!"}}]
[null,{"$f":"Macro!A1986","v":0},{"$f":"Macro!B1986","v":0},{"$f":"Macro!E1986","v":{"$error":"#DIV/0!"}}]
[null,{"$f":"Macro!A1987","v":0},{"$f":"Macro!B1987","v":0},{"$f":"Macro!E1987","v":{"$error":"#DIV/0!"}}]
[null,{"$f":"Macro!A1988","v":0},{"$f":"Macro!B1988","v":0},{"$f":"Macro!E1988","v":{"$error":"#DIV/0!"}}]
[null,{"$f":"Macro!A1989","v":0},{"$f":"Macro!B1989","v":0},{"$f":"Macro!E1989","v":{"$error":"#DIV/0!"}}]
[null,{"$f":"Macro!A1990","v":0},{"$f":"Macro!B1990","v":0},{"$f":"Macro!E1990","v":{"$error":"#DIV/0!"}}]
[null,{"$f":"Macro!A1991","v":0},{"$f":"Macro!B1991","v":0},{"$f":"Macro!E1991","v":{"$error":"#DIV/0!"}}]
[null,{"$f":"Macro!A1992","v":0},{"$f":"Macro!B1992","v":0},{"$f":"Macro!E1992","v":{"$error":"#DIV/0!"}}]
[null,{"$f":"Macro!A1993","v":0},{"$f":"Macro!B1993","v":0},{"$f":"Macro!E1993","v":{"$error":"#DIV/0!"}}]
[null,{"$f":"Macro!A1994","v":0},{"$f":"Macro!B1994","v":0},{"$f":"Macro!E1994","v":{"$error":"#DIV/0!"}}]
[null,{"$f":"Macro!A1995","v":0},{"$f":"Macro!B1995","v":0},{"$f":"Macro!E1995","v":{"$error":"#DIV/0!"}}]
[null,{"$f":"Macro!A1996","v":0},{"$f":"Macro!B1996","v":0},{"$f":"Macro!E1996","v":{"$error":"#DIV/0!"}}]
[null,{"$f":"Macro!A1997","v":0},{"$f":"Macro!B1997","v":0},{"$f":"Macro!E1997","v":{"$error":"#DIV/0!"}}]
[null,{"$f":"Macro!A1998","v":0},{"$f":"Macro!B1998","v":0},{"$f":"Macro!E1998","v":{"$error":"#DIV/0!"}}]
[null,{"$f":"Macro!A1999","v":0},{"$f":"Macro!B1999","v":0},{"$f":"Macro!E1999","v":{"$error":"#DIV/0!"}}]
[null,{"$f":"Macro!A2000","v":0},{"$f":"Macro!B2000","v":0},{"$f":"Macro!E2000","v":{"$error":"#DIV/0!"}}]
[null,{"$f":"Macro!A2001","v":0},{"$f":"Macro!B2001","v":0},{"$f":"Macro!E2001","v":{"$error":"#DIV/0!"}}]
[null,{"$f":"Macro!A2002","v":0},{"$f":"Macro!B2002","v":0},{"$f":"Macro!E2002","v":{"$error":"#DIV/0!"}}]
[null,{"$f":"Macro!A2003","v":0},{"$f":"Macro!B2003","v":0},{"$f":"Macro!E2003","v":{"$error":"#DIV/0!"}}]
[null,{"$f":"Macro!A2004","v":0},{"$f":"Macro!B2004","v":0},{"$f":"Macro!E2004","v":{"$error":"#DIV/0!"}}]
[null,{"$f":"Macro!A2005","v":0},{"$f":"Macro!B2005","v":0},{"$f":"Macro!E2005","v":{"$error":"#DIV/0!"}}]
[null,{"$f":"Macro!A2006","v":0},{"$f":"Macro!B2006","v":0},{"$f":"Macro!E2006","v":{"$error":"#DIV/0!"}}]
[null,{"$f":"Macro!A2007","v":0},{"$f":"Macro!B2007","v":0},{"$f":"Macro!E2007","v":{"$error":"#DIV/0!"}}]
[null,{"$f":"Macro!A2008","v":0},{"$f":"Macro!B2008","v":0},{"$f":"Macro!E2008","v":{"$error":"#DIV/0!"}}]
[null,{"$f":"Macro!A2009","v":0},{"$f":"Macro!B2009","v":0},{"$f":"Macro!E2009","v":{"$error":"#DIV/0!"}}]
[null,{"$f":"Macro!A2010","v":0},{"$f":"Macro!B2010","v":0},{"$f":"Macro!E2010","v":{"$error":"#DIV/0!"}}]
[null,{"$f":"Macro!A2011","v":0},{"$f":"Macro!B2011","v":0},{"$f":"Macro!E2011","v":{"$error":"#DIV/0!"}}]
[null,{"$f":"Macro!A2012","v":0},{"$f":"Macro!B2012","v":0},{"$f":"Macro!E2012","v":{"$error":"#DIV/0!"}}]
[null,{"$f":"Macro!A2013","v":0},{"$f":"Macro!B2013","v":0},{"$f":"Macro!E2013","v":{"$error":"#DIV/0!"}}]
[null,{"$f":"Macro!A2014","v":0},{"$f":"Macro!B2014","v":0},{"$f":"Macro!E2014","v":{"$error":"#DIV/0!"}}]
[null,{"$f":"Macro!A2015","v":0},{"$f":"Macro!B2015","v":0},{"$f":"Macro!E2015","v":{"$error":"#DIV/0!"}}]
[null,{"$f":"Macro!A2016","v":0},{"$f":"Macro!B2016","v":0},{"$f":"Macro!E2016","v":{"$error":"#DIV/0!"}}]
[null,{"$f":"Macro!A2017","v":0},{"$f":"Macro!B2017","v":0},{"$f":"Macro!E2017","v":{"$error":"#DIV/0!"}}]
[null,{"$f":"Macro!A2018","v":0},{"$f":"Macro!B2018","v":0},{"$f":"Macro!E2018","v":{"$error":"#DIV/0!"}}]
[null,{"$f":"Macro!A2019","v":0},{"$f":"Macro!B2019","v":0},{"$f":"Macro!E2019","v":{"$error":"#DIV/0!"}}]
[null,{"$f":"Macro!A2020","v":0},{"$f":"Macro!B2020","v":0},{"$f":"Macro!E2020","v":{"$error":"#DIV/0!"}}]
[null,{"$f":"Macro!A2021","v":0},{"$f":"Macro!B2021","v":0},{"$f":"Macro!E2021","v":{"$error":"#DIV/0!"}}]
[null,{"$f":"Macro!A2022","v":0},{"$f":"Macro!B2022","v":0},{"$f":"Macro!E2022","v":{"$error":"#DIV/0!"}}]
[null,{"$f":"Macro!A2023","v":0},{"$f":"Macro!B2023","v":0},{"$f":"Macro!E2023","v":{"$error":"#DIV/0!"}}]
[null,{"$f":"Macro!A2024","v":0},{"$f":"Macro!B2024","v":0},{"$f":"Macro!E2024","v":{"$error":"#DIV/0!"}}]
[null,{"$f":"Macro!A2025","v":0},{"$f":"Macro!B2025","v":0},{"$f":"Macro!E2025","v":{"$error":"#DIV/0!"}}]
[null,{"$f":"Macro!A2026","v":0},{"$f":"Macro!B2026","v":0},{"$f":"Macro!E2026","v":{"$error":"#DIV/0!"}}]
[null,{"$f":"Macro!A2027","v":0},{"$f":"Macro!B2027","v":0},{"$f":"Macro!E2027","v":{"$error":"#DIV/0!"}}]
[null,{"$f":"Macro!A2028","v":0},{"$f":"Macro!B2028","v":0},{"$f":"Macro!E2028","v":{"$error":"#DIV/0!"}}]
[null,{"$f":"Macro!A2029","v":0},{"$f":"Macro!B2029","v":0},{"$f":"Macro!E2029","v":{"$error":"#DIV/0!"}}]
[null,{"$f":"Macro!A2030","v":0},{"$f":"Macro!B2030","v":0},{"$f":"Macro!E2030","v":{"$error":"#DIV/0!"}}]
[null,{"$f":"Macro!A2031","v":0},{"$f":"Macro!B2031","v":0},{"$f":"Macro!E2031","v":{"$error":"#DIV/0!"}}]
[null,{"$f":"Macro!A2032","v":0},{"$f":"Macro!B2032","v":0},{"$f":"Macro!E2032","v":{"$error":"#DIV/0!"}}]
[null,{"$f":"Macro!A2033","v":0},{"$f":"Macro!B2033","v":0},{"$f":"Macro!E2033","v":{"$error":"#DIV/0!"}}]
[null,{"$f":"Macro!A2034","v":0},{"$f":"Macro!B2034","v":0},{"$f":"Macro!E2034","v":{"$error":"#DIV/0!"}}]
[null,{"$f":"Macro!A2035","v":0},{"$f":"Macro!B2035","v":0},{"$f":"Macro!E2035","v":{"$error":"#DIV/0!"}}]
[null,{"$f":"Macro!A2036","v":0},{"$f":"Macro!B2036","v":0},{"$f":"Macro!E2036","v":{"$error":"#DIV/0!"}}]
[null,{"$f":"Macro!A2037","v":0},{"$f":"Macro!B2037","v":0},{"$f":"Macro!E2037","v":{"$error":"#DIV/0!"}}]
[null,{"$f":"Macro!A2038","v":0},{"$f":"Macro!B2038","v":0},{"$f":"Macro!E2038","v":{"$error":"#DIV/0!"}}]
[null,{"$f":"Macro!A2039","v":0},{"$f":"Macro!B2039","v":0},{"$f":"Macro!E2039","v":{"$error":"#DIV/0!"}}]
[null,{"$f":"Macro!A2040","v":0},{"$f":"Macro!B2040","v":0},{"$f":"Macro!E2040","v":{"$error":"#DIV/0!"}}]
[null,{"$f":"Macro!A2041","v":0},{"$f":"Macro!B2041","v":0},{"$f":"Macro!E2041","v":{"$error":"#DIV/0!"}}]
[null,{"$f":"Macro!A2042","v":0},{"$f":"Macro!B2042","v":0},{"$f":"Macro!E2042","v":{"$error":"#DIV/0!"}}]
[null,{"$f":"Macro!A2043","v":0},{"$f":"Macro!B2043","v":0},{"$f":"Macro!E2043","v":{"$error":"#DIV/0!"}}]
[null,{"$f":"Macro!A2044","v":0},{"$f":"Macro!B2044","v":0},{"$f":"Macro!E2044","v":{"$error":"#DIV/0!"}}]
[null,{"$f":"Macro!A2045","v":0},{"$f":"Macro!B2045","v":0},{"$f":"Macro!E2045","v":{"$error":"#DIV/0!"}}]
[null,{"$f":"Macro!A2046","v":0},{"$f":"Macro!B2046","v":0},{"$f":"Macro!E2046","v":{"$error":"#DIV/0!"}}]
[null,{"$f":"Macro!A2047","v":0},{"$f":"Macro!B2047","v":0},{"$f":"Macro!E2047","v":{"$error":"#DIV/0!"}}]
[null,{"$f":"Macro!A2048","v":0},{"$f":"Macro!B2048","v":0},{"$f":"Macro!E2048","v":{"$error":"#DIV/0!"}}]
[null,{"$f":"Macro!A2049","v":0},{"$f":"Macro!B2049","v":0},{"$f":"Macro!E2049","v":{"$error":"#DIV/0!"}}]
[null,{"$f":"Macro!A2050","v":0},{"$f":"Macro!B2050","v":0},{"$f":"Macro!E2050","v":{"$error":"#DIV/0!"}}]
[null,{"$f":"Macro!A2051","v":0},{"$f":"Macro!B2051","v":0},{"$f":"Macro!E2051","v":{"$error":"#DIV/0!"}}]
[null,{"$f":"Macro!A2052","v":0},{"$f":"Macro!B2052","v":0},{"$f":"Macro!E2052","v":{"$error":"#DIV/0!"}}]
[null,{"$f":"Macro!A2053","v":0},{"$f":"Macro!B2053","v":0},{"$f":"Macro!E2053","v":{"$error":"#DIV/0!"}}]
[null,{"$f":"Macro!A2054","v":0},{"$f":"Macro!B2054","v":0},{"$f":"Macro!E2054","v":{"$error":"#DIV/0!"}}]
[null,{"$f":"Macro!A2055","v":0},{"$f":"Macro!B2055","v":0},{"$f":"Macro!E2055","v":{"$error":"#DIV/0!"}}]
[null,{"$f":"Macro!A2056","v":0},{"$f":"Macro!B2056","v":0},{"$f":"Macro!E2056","v":{"$error":"#DIV/0!"}}]
[null,{"$f":"Macro!A2057","v":0},{"$f":"Macro!B2057","v":0},{"$f":"Macro!E2057","v":{"$error":"#DIV/0!"}}]
[null,{"$f":"Macro!A2058","v":0},{"$f":"Macro!B2058","v":0},{"$f":"Macro!E2058","v":{"$error":"#DIV/0!"}}]
[null,{"$f":"Macro!A2059","v":0},{"$f":"Macro!B2059","v":0},{"$f":"Macro!E2059","v":{"$error":"#DIV/0!"}}]
[null,{"$f":"Macro!A2060","v":0},{"$f":"Macro!B2060","v":0},{"$f":"Macro!E2060","v":{"$error":"#DIV/0!"}}]
[null,{"$f":"Macro!A2061","v":0},{"$f":"Macro!B2061","v":0},{"$f":"Macro!E2061","v":{"$error":"#DIV/0!"}}]
[null,{"$f":"Macro!A2062","v":0},{"$f":"Macro!B2062","v":0},{"$f":"Macro!E2062","v":{"$error":"#DIV/0!"}}]
[null,{"$f":"Macro!A2063","v":0},{"$f":"Macro!B2063","v":0},{"$f":"Macro!E2063","v":{"$error":"#DIV/0!"}}]
[null,{"$f":"Macro!A2064","v":0},{"$f":"Macro!B2064","v":0},{"$f":"Macro!E2064","v":{"$error":"#DIV/0!"}}]
[null,{"$f":"Macro!A2065","v":0},{"$f":"Macro!B2065","v":0},{"$f":"Macro!E2065","v":{"$error":"#DIV/0!"}}]
[null,{"$f":"Macro!A2066","v":0},{"$f":"Macro!B2066","v":0},{"$f":"Macro!E2066","v":{"$error":"#DIV/0!"}}]
[null,{"$f":"Macro!A2067","v":0},{"$f":"Macro!B2067","v":0},{"$f":"Macro!E2067","v":{"$error":"#DIV/0!"}}]
[null,{"$f":"Macro!A2068","v":0},{"$f":"Macro!B2068","v":0},{"$f":"Macro!E2068","v":{"$error":"#DIV/0!"}}]
[null,{"$f":"Macro!A2069","v":0},{"$f":"Macro!B2069","v":0},{"$f":"Macro!E2069","v":{"$error":"#DIV/0!"}}]
[null,{"$f":"Macro!A2070","v":0},{"$f":"Macro!B2070","v":0},{"$f":"Macro!E2070","v":{"$error":"#DIV/0!"}}]
[null,{"$f":"Macro!A2071","v":0},{"$f":"Macro!B2071","v":0},{"$f":"Macro!E2071","v":{"$error":"#DIV/0!"}}]
[null,{"$f":"Macro!A2072","v":0},{"$f":"Macro!B2072","v":0},{"$f":"Macro!E2072","v":{"$error":"#DIV/0!"}}]
[null,{"$f":"Macro!A2073","v":0},{"$f":"Macro!B2073","v":0},{"$f":"Macro!E2073","v":{"$error":"#DIV/0!"}}]
[null,{"$f":"Macro!A2074","v":0},{"$f":"Macro!B2074","v":0},{"$f":"Macro!E2074","v":{"$error":"#DIV/0!"}}]
[null,{"$f":"Macro!A2075","v":0},{"$f":"Macro!B2075","v":0},{"$f":"Macro!E2075","v":{"$error":"#DIV/0!"}}]
[null,{"$f":"Macro!A2076","v":0},{"$f":"Macro!B2076","v":0},{"$f":"Macro!E2076","v":{"$error":"#DIV/0!"}}]
[null,{"$f":"Macro!A2077","v":0},{"$f":"Macro!B2077","v":0},{"$f":"Macro!E2077","v":{"$error":"#DIV/0!"}}]
[null,{"$f":"Macro!A2078","v":0},{"$f":"Macro!B2078","v":0},{"$f":"Macro!E2078","v":{"$error":"#DIV/0!"}}]
[null,{"$f":"Macro!A2079","v":0},{"$f":"Macro!B2079","v":0},{"$f":"Macro!E2079","v":{"$error":"#DIV/0!"}}]
[null,{"$f":"Macro!A2080","v":0},{"$f":"Macro!B2080","v":0},{"$f":"Macro!E2080","v":{"$error":"#DIV/0!"}}]
[null,{"$f":"Macro!A2081","v":0},{"$f":"Macro!B2081","v":0},{"$f":"Macro!E2081","v":{"$error":"#DIV/0!"}}]
[null,{"$f":"Macro!A2082","v":0},{"$f":"Macro!B2082","v":0},{"$f":"Macro!E2082","v":{"$error":"#DIV/0!"}}]
[null,{"$f":"Macro!A2083","v":0},{"$f":"Macro!B2083","v":0},{"$f":"Macro!E2083","v":{"$error":"#DIV/0!"}}]
[null,{"$f":"Macro!A2084","v":0},{"$f":"Macro!B2084","v":0},{"$f":"Macro!E2084","v":{"$error":"#DIV/0!"}}]
[null,{"$f":"Macro!A2085","v":0},{"$f":"Macro!B2085","v":0},{"$f":"Macro!E2085","v":{"$error":"#DIV/0!"}}]
[null,{"$f":"Macro!A2086","v":0},{"$f":"Macro!B2086","v":0},{"$f":"Macro!E2086","v":{"$error":"#DIV/0!"}}]
[null,{"$f":"Macro!A2087","v":0},{"$f":"Macro!B2087","v":0},{"$f":"Macro!E2087","v":{"$error":"#DIV/0!"}}]
[null,{"$f":"Macro!A2088","v":0},{"$f":"Macro!B2088","v":0},{"$f":"Macro!E2088","v":{"$error":"#DIV/0!"}}]
[null,{"$f":"Macro!A2089","v":0},{"$f":"Macro!B2089","v":0},{"$f":"Macro!E2089","v":{"$error":"#DIV/0!"}}]
[null,{"$f":"Macro!A2090","v":0},{"$f":"Macro!B2090","v":0},{"$f":"Macro!E2090","v":{"$error":"#DIV/0!"}}]
[null,{"$f":"Macro!A2091","v":0},{"$f":"Macro!B2091","v":0},{"$f":"Macro!E2091","v":{"$error":"#DIV/0!"}}]
[null,{"$f":"Macro!A2092","v":0},{"$f":"Macro!B2092","v":0},{"$f":"Macro!E2092","v":{"$error":"#DIV/0!"}}]
[null,{"$f":"Macro!A2093","v":0},{"$f":"Macro!B2093","v":0},{"$f":"Macro!E2093","v":{"$error":"#DIV/0!"}}]
[null,{"$f":"Macro!A2094","v":0},{"$f":"Macro!B2094","v":0},{"$f":"Macro!E2094","v":{"$error":"#DIV/0!"}}]
[null,{"$f":"Macro!A2095","v":0},{"$f":"Macro!B2095","v":0},{"$f":"Macro!E2095","v":{"$error":"#DIV/0!"}}]
[null,{"$f":"Macro!A2096","v":0},{"$f":"Macro!B2096","v":0},{"$f":"Macro!E2096","v":{"$error":"#DIV/0!"}}]
[null,{"$f":"Macro!A2097","v":0},{"$f":"Macro!B2097","v":0},{"$f":"Macro!E2097","v":{"$error":"#DIV/0!"}}]
[null,{"$f":"Macro!A2098","v":0},{"$f":"Macro!B2098","v":0},{"$f":"Macro!E2098","v":{"$error":"#DIV/0!"}}]
[null,{"$f":"Macro!A2099","v":0},{"$f":"Macro!B2099","v":0},{"$f":"Macro!E2099","v":{"$error":"#DIV/0!"}}]
[null,{"$f":"Macro!A2100","v":0},{"$f":"Macro!B2100","v":0},{"$f":"Macro!E2100","v":{"$error":"#DIV/0!"}}]
[null,{"$f":"Macro!A2101","v":0},{"$f":"Macro!B2101","v":0},{"$f":"Macro!E2101","v":{"$error":"#DIV/0!"}}]
[null,{"$f":"Macro!A2102","v":0},{"$f":"Macro!B2102","v":0},{"$f":"Macro!E2102","v":{"$error":"#DIV/0!"}}]
[null,{"$f":"Macro!A2103","v":0},{"$f":"Macro!B2103","v":0},{"$f":"Macro!E2103","v":{"$error":"#DIV/0!"}}]
[null,{"$f":"Macro!A2104","v":0},{"$f":"Macro!B2104","v":0},{"$f":"Macro!E2104","v":{"$error":"#DIV/0!"}}]
[null,{"$f":"Macro!A2105","v":0},{"$f":"Macro!B2105","v":0},{"$f":"Macro!E2105","v":{"$error":"#DIV/0!"}}]
[null,{"$f":"Macro!A2106","v":0},{"$f":"Macro!B2106","v":0},{"$f":"Macro!E2106","v":{"$error":"#DIV/0!"}}]
[null,{"$f":"Macro!A2107","v":0},{"$f":"Macro!B2107","v":0},{"$f":"Macro!E2107","v":{"$error":"#DIV/0!"}}]
[null,{"$f":"Macro!A2108","v":0},{"$f":"Macro!B2108","v":0},{"$f":"Macro!E2108","v":{"$error":"#DIV/0!"}}]
[null,{"$f":"Macro!A2109","v":0},{"$f":"Macro!B2109","v":0},{"$f":"Macro!E2109","v":{"$error":"#DIV/0!"}}]
[null,{"$f":"Macro!A2110","v":0},{"$f":"Macro!B2110","v":0},{"$f":"Macro!E2110","v":{"$error":"#DIV/0!"}}]
[null,{"$f":"Macro!A2111","v":0},{"$f":"Macro!B2111","v":0},{"$f":"Macro!E2111","v":{"$error":"#DIV/0!"}}]
[null,{"$f":"Macro!A2112","v":0},{"$f":"Macro!B2112","v":0},{"$f":"Macro!E2112","v":{"$error":"#DIV/0!"}}]
[null,{"$f":"Macro!A2113","v":0},{"$f":"Macro!B2113","v":0},{"$f":"Macro!E2113","v":{"$error":"#DIV/0!"}}]
[null,{"$f":"Macro!A2114","v":0},{"$f":"Macro!B2114","v":0},{"$f":"Macro!E2114","v":{"$error":"#DIV/0!"}}]
[null,{"$f":"Macro!A2115","v":0},{"$f":"Macro!B2115","v":0},{"$f":"Macro!E2115","v":{"$error":"#DIV/0!"}}]
[null,{"$f":"Macro!A2116","v":0},{"$f":"Macro!B2116","v":0},{"$f":"Macro!E2116","v":{"$error":"#DIV/0!"}}]
[null,{"$f":"Macro!A2117","v":0},{"$f":"Macro!B2117","v":0},{"$f":"Macro!E2117","v":{"$error":"#DIV/0!"}}]
[null,{"$f":"Macro!A2118","v":0},{"$f":"Macro!B2118","v":0},{"$f":"Macro!E2118","v":{"$error":"#DIV/0!"}}]
[null,{"$f":"Macro!A2119","v":0},{"$f":"Macro!B2119","v":0},{"$f":"Macro!E2119","v":{"$error":"#DIV/0!"}}]
[null,{"$f":"Macro!A2120","v":0},{"$f":"Macro!B2120","v":0},{"$f":"Macro!E2120","v":{"$error":"#DIV/0!"}}]
[null,{"$f":"Macro!A2121","v":0},{"$f":"Macro!B2121","v":0},{"$f":"Macro!E2121","v":{"$error":"#DIV/0!"}}]
[null,{"$f":"Macro!A2122","v":0},{"$f":"Macro!B2122","v":0},{"$f":"Macro!E2122","v":{"$error":"#DIV/0!"}}]
[null,{"$f":"Macro!A2123","v":0},{"$f":"Macro!B2123","v":0},{"$f":"Macro!E2123","v":{"$error":"#DIV/0!"}}]
[null,{"$f":"Macro!A2124","v":0},{"$f":"Macro!B2124","v":0},{"$f":"Macro!E2124","v":{"$error":"#DIV/0!"}}]
[null,{"$f":"Macro!A2125","v":0},{"$f":"Macro!B2125","v":0},{"$f":"Macro!E2125","v":{"$error":"#DIV/0!"}}]
[null,{"$f":"Macro!A2126","v":0},{"$f":"Macro!B2126","v":0},{"$f":"Macro!E2126","v":{"$error":"#DIV/0!"}}]
[null,{"$f":"Macro!A2127","v":0},{"$f":"Macro!B2127","v":0},{"$f":"Macro!E2127","v":{"$error":"#DIV/0!"}}]
[null,{"$f":"Macro!A2128","v":0},{"$f":"Macro!B2128","v":0},{"$f":"Macro!E2128","v":{"$error":"#DIV/0!"}}]
[null,{"$f":"Macro!A2129","v":0},{"$f":"Macro!B2129","v":0},{"$f":"Macro!E2129","v":{"$error":"#DIV/0!"}}]
[null,{"$f":"Macro!A2130","v":0},{"$f":"Macro!B2130","v":0},{"$f":"Macro!E2130","v":{"$error":"#DIV/0!"}}]
[null,{"$f":"Macro!A2131","v":0},{"$f":"Macro!B2131","v":0},{"$f":"Macro!E2131","v":{"$error":"#DIV/0!"}}]
[null,{"$f":"Macro!A2132","v":0},{"$f":"Macro!B2132","v":0},{"$f":"Macro!E2132","v":{"$error":"#DIV/0!"}}]
[null,{"$f":"Macro!A2133","v":0},{"$f":"Macro!B2133","v":0},{"$f":"Macro!E2133","v":{"$error":"#DIV/0!"}}]
[null,{"$f":"Macro!A2134","v":0},{"$f":"Macro!B2134","v":0},{"$f":"Macro!E2134","v":{"$error":"#DIV/0!"}}]
[null,{"$f":"Macro!A2135","v":0},{"$f":"Macro!B2135","v":0},{"$f":"Macro!E2135","v":{"$error":"#DIV/0!"}}]
[null,{"$f":"Macro!A2136","v":0},{"$f":"Macro!B2136","v":0},{"$f":"Macro!E2136","v":{"$error":"#DIV/0!"}}]
[null,{"$f":"Macro!A2137","v":0},{"$f":"Macro!B2137","v":0},{"$f":"Macro!E2137","v":{"$error":"#DIV/0!"}}]
[null,{"$f":"Macro!A2138","v":0},{"$f":"Macro!B2138","v":0},{"$f":"Macro!E2138","v":{"$error":"#DIV/0!"}}]
[null,{"$f":"Macro!A2139","v":0},{"$f":"Macro!B2139","v":0},{"$f":"Macro!E2139","v":{"$error":"#DIV/0!"}}]
[null,{"$f":"Macro!A2140","v":0},{"$f":"Macro!B2140","v":0},{"$f":"Macro!E2140","v":{"$error":"#DIV/0!"}}]
[null,{"$f":"Macro!A2141","v":0},{"$f":"Macro!B2141","v":0},{"$f":"Macro!E2141","v":{"$error":"#DIV/0!"}}]
[null,{"$f":"Macro!A2142","v":0},{"$f":"Macro!B2142","v":0},{"$f":"Macro!E2142","v":{"$error":"#DIV/0!"}}]
[null,{"$f":"Macro!A2143","v":0},{"$f":"Macro!B2143","v":0},{"$f":"Macro!E2143","v":{"$error":"#DIV/0!"}}]
[null,{"$f":"Macro!A2144","v":0},{"$f":"Macro!B2144","v":0},{"$f":"Macro!E2144","v":{"$error":"#DIV/0!"}}]
[null,{"$f":"Macro!A2145","v":0},{"$f":"Macro!B2145","v":0},{"$f":"Macro!E2145","v":{"$error":"#DIV/0!"}}]
[null,{"$f":"Macro!A2146","v":0},{"$f":"Macro!B2146","v":0},{"$f":"Macro!E2146","v":{"$error":"#DIV/0!"}}]
[null,{"$f":"Macro!A2147","v":0},{"$f":"Macro!B2147","v":0},{"$f":"Macro!E2147","v":{"$error":"#DIV/0!"}}]
[null,{"$f":"Macro!A2148","v":0},{"$f":"Macro!B2148","v":0},{"$f":"Macro!E2148","v":{"$error":"#DIV/0!"}}]
[null,{"$f":"Macro!A2149","v":0},{"$f":"Macro!B2149","v":0},{"$f":"Macro!E2149","v":{"$error":"#DIV/0!"}}]
[null,{"$f":"Macro!A2150","v":0},{"$f":"Macro!B2150","v":0},{"$f":"Macro!E2150","v":{"$error":"#DIV/0!"}}]
[null,{"$f":"Macro!A2151","v":0},{"$f":"Macro!B2151","v":0},{"$f":"Macro!E2151","v":{"$error":"#DIV/0!"}}]
[null,{"$f":"Macro!A2152","v":0},{"$f":"Macro!B2152","v":0},{"$f":"Macro!E2152","v":{"$error":"#DIV/0!"}}]
[null,{"$f":"Macro!A2153","v":0},{"$f":"Macro!B2153","v":0},{"$f":"Macro!E2153","v":{"$error":"#DIV/0!"}}]
[null,{"$f":"Macro!A2154","v":0},{"$f":"Macro!B2154","v":0},{"$f":"Macro!E2154","v":{"$error":"#DIV/0!"}}]
[null,{"$f":"Macro!A2155","v":0},{"$f":"Macro!B2155","v":0},{"$f":"Macro!E2155","v":{"$error":"#DIV/0!"}}]
[null,{"$f":"Macro!A2156","v":0},{"$f":"Macro!B2156","v":0},{"$f":"Macro!E2156","v":{"$error":"#DIV/0!"}}]
[null,{"$f":"Macro!A2157","v":0},{"$f":"Macro!B2157","v":0},{"$f":"Macro!E2157","v":{"$error":"#DIV/0!"}}]
[null,{"$f":"Macro!A2158","v":0},{"$f":"Macro!B2158","v":0},{"$f":"Macro!E2158","v":{"$error":"#DIV/0!"}}]
[null,{"$f":"Macro!A2159","v":0},{"$f":"Macro!B2159","v":0},{"$f":"Macro!E2159","v":{"$error":"#DIV/0!"}}]
[null,{"$f":"Macro!A2160","v":0},{"$f":"Macro!B2160","v":0},{"$f":"Macro!E2160","v":{"$error":"#DIV/0!"}}]
[null,{"$f":"Macro!A2161","v":0},{"$f":"Macro!B2161","v":0},{"$f":"Macro!E2161","v":{"$error":"#DIV/0!"}}]
[null,{"$f":"Macro!A2162","v":0},{"$f":"Macro!B2162","v":0},{"$f":"Macro!E2162","v":{"$error":"#DIV/0!"}}]
[null,{"$f":"Macro!A2163","v":0},{"$f":"Macro!B2163","v":0},{"$f":"Macro!E2163","v":{"$error":"#DIV/0!"}}]
[null,{"$f":"Macro!A2164","v":0},{"$f":"Macro!B2164","v":0},{"$f":"Macro!E2164","v":{"$error":"#DIV/0!"}}]
[null,{"$f":"Macro!A2165","v":0},{"$f":"Macro!B2165","v":0},{"$f":"Macro!E2165","v":{"$error":"#DIV/0!"}}]
[null,{"$f":"Macro!A2166","v":0},{"$f":"Macro!B2166","v":0},{"$f":"Macro!E2166","v":{"$error":"#DIV/0!"}}]
[null,{"$f":"Macro!A2167","v":0},{"$f":"Macro!B2167","v":0},{"$f":"Macro!E2167","v":{"$error":"#DIV/0!"}}]
[null,{"$f":"Macro!A2168","v":0},{"$f":"Macro!B2168","v":0},{"$f":"Macro!E2168","v":{"$error":"#DIV/0!"}}]
[null,{"$f":"Macro!A2169","v":0},{"$f":"Macro!B2169","v":0},{"$f":"Macro!E2169","v":{"$error":"#DIV/0!"}}]
[null,{"$f":"Macro!A2170","v":0},{"$f":"Macro!B2170","v":0},{"$f":"Macro!E2170","v":{"$error":"#DIV/0!"}}]
[null,{"$f":"Macro!A2171","v":0},{"$f":"Macro!B2171","v":0},{"$f":"Macro!E2171","v":{"$error":"#DIV/0!"}}]
[null,{"$f":"Macro!A2172","v":0},{"$f":"Macro!B2172","v":0},{"$f":"Macro!E2172","v":{"$error":"#DIV/0!"}}]
[null,{"$f":"Macro!A2173","v":0},{"$f":"Macro!B2173","v":0},{"$f":"Macro!E2173","v":{"$error":"#DIV/0!"}}]
[null,{"$f":"Macro!A2174","v":0},{"$f":"Macro!B2174","v":0},{"$f":"Macro!E2174","v":{"$error":"#DIV/0!"}}]
[null,{"$f":"Macro!A2175","v":0},{"$f":"Macro!B2175","v":0},{"$f":"Macro!E2175","v":{"$error":"#DIV/0!"}}]
[null,{"$f":"Macro!A2176","v":0},{"$f":"Macro!B2176","v":0},{"$f":"Macro!E2176","v":{"$error":"#DIV/0!"}}]
[null,{"$f":"Macro!A2177","v":0},{"$f":"Macro!B2177","v":0},{"$f":"Macro!E2177","v":{"$error":"#DIV/0!"}}]
[null,{"$f":"Macro!A2178","v":0},{"$f":"Macro!B2178","v":0},{"$f":"Macro!E2178","v":{"$error":"#DIV/0!"}}]
[null,{"$f":"Macro!A2179","v":0},{"$f":"Macro!B2179","v":0},{"$f":"Macro!E2179","v":{"$error":"#DIV/0!"}}]
[null,{"$f":"Macro!A2180","v":0},{"$f":"Macro!B2180","v":0},{"$f":"Macro!E2180","v":{"$error":"#DIV/0!"}}]
[null,{"$f":"Macro!A2181","v":0},{"$f":"Macro!B2181","v":0},{"$f":"Macro!E2181","v":{"$error":"#DIV/0!"}}]
[null,{"$f":"Macro!A2182","v":0},{"$f":"Macro!B2182","v":0},{"$f":"Macro!E2182","v":{"$error":"#DIV/0!"}}]
[null,{"$f":"Macro!A2183","v":0},{"$f":"Macro!B2183","v":0},{"$f":"Macro!E2183","v":{"$error":"#DIV/0!"}}]
[null,{"$f":"Macro!A2184","v":0},{"$f":"Macro!B2184","v":0},{"$f":"Macro!E2184","v":{"$error":"#DIV/0!"}}]
[null,{"$f":"Macro!A2185","v":0},{"$f":"Macro!B2185","v":0},{"$f":"Macro!E2185","v":{"$error":"#DIV/0!"}}]
[null,{"$f":"Macro!A2186","v":0},{"$f":"Macro!B2186","v":0},{"$f":"Macro!E2186","v":{"$error":"#DIV/0!"}}]
[null,{"$f":"Macro!A2187","v":0},{"$f":"Macro!B2187","v":0},{"$f":"Macro!E2187","v":{"$error":"#DIV/0!"}}]
[null,{"$f":"Macro!A2188","v":0},{"$f":"Macro!B2188","v":0},{"$f":"Macro!E2188","v":{"$error":"#DIV/0!"}}]
[null,{"$f":"Macro!A2189","v":0},{"$f":"Macro!B2189","v":0},{"$f":"Macro!E2189","v":{"$error":"#DIV/0!"}}]
[null,{"$f":"Macro!A2190","v":0},{"$f":"Macro!B2190","v":0},{"$f":"Macro!E2190","v":{"$error":"#DIV/0!"}}]
[null,{"$f":"Macro!A2191","v":0},{"$f":"Macro!B2191","v":0},{"$f":"Macro!E2191","v":{"$error":"#DIV/0!"}}]
[null,{"$f":"Macro!A2192","v":0},{"$f":"Macro!B2192","v":0},{"$f":"Macro!E2192","v":{"$error":"#DIV/0!"}}]
[null,{"$f":"Macro!A2193","v":0},{"$f":"Macro!B2193","v":0},{"$f":"Macro!E2193","v":{"$error":"#DIV/0!"}}]
[null,{"$f":"Macro!A2194","v":0},{"$f":"Macro!B2194","v":0},{"$f":"Macro!E2194","v":{"$error":"#DIV/0!"}}]
[null,{"$f":"Macro!A2195","v":0},{"$f":"Macro!B2195","v":0},{"$f":"Macro!E2195","v":{"$error":"#DIV/0!"}}]
[null,{"$f":"Macro!A2196","v":0},{"$f":"Macro!B2196","v":0},{"$f":"Macro!E2196","v":{"$error":"#DIV/0!"}}]
[null,{"$f":"Macro!A2197","v":0},{"$f":"Macro!B2197","v":0},{"$f":"Macro!E2197","v":{"$error":"#DIV/0!"}}]
[null,{"$f":"Macro!A2198","v":0},{"$f":"Macro!B2198","v":0},{"$f":"Macro!E2198","v":{"$error":"#DIV/0!"}}]
[null,{"$f":"Macro!A2199","v":0},{"$f":"Macro!B2199","v":0},{"$f":"Macro!E2199","v":{"$error":"#DIV/0!"}}]
[null,{"$f":"Macro!A2200","v":0},{"$f":"Macro!B2200","v":0},{"$f":"Macro!E2200","v":{"$error":"#DIV/0!"}}]
[null,{"$f":"Macro!A2201","v":0},{"$f":"Macro!B2201","v":0},{"$f":"Macro!E2201","v":{"$error":"#DIV/0!"}}]
[null,{"$f":"Macro!A2202","v":0},{"$f":"Macro!B2202","v":0},{"$f":"Macro!E2202","v":{"$error":"#DIV/0!"}}]
[null,{"$f":"Macro!A2203","v":0},{"$f":"Macro!B2203","v":0},{"$f":"Macro!E2203","v":{"$error":"#DIV/0!"}}]
[null,{"$f":"Macro!A2204","v":0},{"$f":"Macro!B2204","v":0},{"$f":"Macro!E2204","v":{"$error":"#DIV/0!"}}]
[null,{"$f":"Macro!A2205","v":0},{"$f":"Macro!B2205","v":0},{"$f":"Macro!E2205","v":{"$error":"#DIV/0!"}}]
[null,{"$f":"Macro!A2206","v":0},{"$f":"Macro!B2206","v":0},{"$f":"Macro!E2206","v":{"$error":"#DIV/0!"}}]
[null,{"$f":"Macro!A2207","v":0},{"$f":"Macro!B2207","v":0},{"$f":"Macro!E2207","v":{"$error":"#DIV/0!"}}]
[null,{"$f":"Macro!A2208","v":0},{"$f":"Macro!B2208","v":0},{"$f":"Macro!E2208","v":{"$error":"#DIV/0!"}}]
[null,{"$f":"Macro!A2209","v":0},{"$f":"Macro!B2209","v":0},{"$f":"Macro!E2209","v":{"$error":"#DIV/0!"}}]
[null,{"$f":"Macro!A2210","v":0},{"$f":"Macro!B2210","v":0},{"$f":"Macro!E2210","v":{"$error":"#DIV/0!"}}]
[null,{"$f":"Macro!A2211","v":0},{"$f":"Macro!B2211","v":0},{"$f":"Macro!E2211","v":{"$error":"#DIV/0!"}}]
[null,{"$f":"Macro!A2212","v":0},{"$f":"Macro!B2212","v":0},{"$f":"Macro!E2212","v":{"$error":"#DIV/0!"}}]
[null,{"$f":"Macro!A2213","v":0},{"$f":"Macro!B2213","v":0},{"$f":"Macro!E2213","v":{"$error":"#DIV/0!"}}]
[null,{"$f":"Macro!A2214","v":0},{"$f":"Macro!B2214","v":0},{"$f":"Macro!E2214","v":{"$error":"#DIV/0!"}}]
[null,{"$f":"Macro!A2215","v":0},{"$f":"Macro!B2215","v":0},{"$f":"Macro!E2215","v":{"$error":"#DIV/0!"}}]
[null,{"$f":"Macro!A2216","v":0},{"$f":"Macro!B2216","v":0},{"$f":"Macro!E2216","v":{"$error":"#DIV/0!"}}]
[null,{"$f":"Macro!A2217","v":0},{"$f":"Macro!B2217","v":0},{"$f":"Macro!E2217","v":{"$error":"#DIV/0!"}}]
[null,{"$f":"Macro!A2218","v":0},{"$f":"Macro!B2218","v":0},{"$f":"Macro!E2218","v":{"$error":"#DIV/0!"}}]
[null,{"$f":"Macro!A2219","v":0},{"$f":"Macro!B2219","v":0},{"$f":"Macro!E2219","v":{"$error":"#DIV/0!"}}]
[null,{"$f":"Macro!A2220","v":0},{"$f":"Macro!B2220","v":0},{"$f":"Macro!E2220","v":{"$error":"#DIV/0!"}}]
[null,{"$f":"Macro!A2221","v":0},{"$f":"Macro!B2221","v":0},{"$f":"Macro!E2221","v":{"$error":"#DIV/0!"}}]
[null,{"$f":"Macro!A2222","v":0},{"$f":"Macro!B2222","v":0},{"$f":"Macro!E2222","v":{"$error":"#DIV/0!"}}]
[null,{"$f":"Macro!A2223","v":0},{"$f":"Macro!B2223","v":0},{"$f":"Macro!E2223","v":{"$error":"#DIV/0!"}}]
[null,{"$f":"Macro!A2224","v":0},{"$f":"Macro!B2224","v":0},{"$f":"Macro!E2224","v":{"$error":"#DIV/0!"}}]
[null,{"$f":"Macro!A2225","v":0},{"$f":"Macro!B2225","v":0},{"$f":"Macro!E2225","v":{"$error":"#DIV/0!"}}]
[null,{"$f":"Macro!A2226","v":0},{"$f":"Macro!B2226","v":0},{"$f":"Macro!E2226","v":{"$error":"#DIV/0!"}}]
[null,{"$f":"Macro!A2227","v":0},{"$f":"Macro!B2227","v":0},{"$f":"Macro!E2227","v":{"$error":"#DIV/0!"}}]
[null,{"$f":"Macro!A2228","v":0},{"$f":"Macro!B2228","v":0},{"$f":"Macro!E2228","v":{"$error":"#DIV/0!"}}]
[null,{"$f":"Macro!A2229","v":0},{"$f":"Macro!B2229","v":0},{"$f":"Macro!E2229","v":{"$error":"#DIV/0!"}}]
[null,{"$f":"Macro!A2230","v":0},{"$f":"Macro!B2230","v":0},{"$f":"Macro!E2230","v":{"$error":"#DIV/0!"}}]
[null,{"$f":"Macro!A2231","v":0},{"$f":"Macro!B2231","v":0},{"$f":"Macro!E2231","v":{"$error":"#DIV/0!"}}]
[null,{"$f":"Macro!A2232","v":0},{"$f":"Macro!B2232","v":0},{"$f":"Macro!E2232","v":{"$error":"#DIV/0!"}}]
[null,{"$f":"Macro!A2233","v":0},{"$f":"Macro!B2233","v":0},{"$f":"Macro!E2233","v":{"$error":"#DIV/0!"}}]
[null,{"$f":"Macro!A2234","v":0},{"$f":"Macro!B2234","v":0},{"$f":"Macro!E2234","v":{"$error":"#DIV/0!"}}]
[null,{"$f":"Macro!A2235","v":0},{"$f":"Macro!B2235","v":0},{"$f":"Macro!E2235","v":{"$error":"#DIV/0!"}}]
[null,{"$f":"Macro!A2236","v":0},{"$f":"Macro!B2236","v":0},{"$f":"Macro!E2236","v":{"$error":"#DIV/0!"}}]
[null,{"$f":"Macro!A2237","v":0},{"$f":"Macro!B2237","v":0},{"$f":"Macro!E2237","v":{"$error":"#DIV/0!"}}]
[null,{"$f":"Macro!A2238","v":0},{"$f":"Macro!B2238","v":0},{"$f":"Macro!E2238","v":{"$error":"#DIV/0!"}}]
[null,{"$f":"Macro!A2239","v":0},{"$f":"Macro!B2239","v":0},{"$f":"Macro!E2239","v":{"$error":"#DIV/0!"}}]
[null,{"$f":"Macro!A2240","v":0},{"$f":"Macro!B2240","v":0},{"$f":"Macro!E2240","v":{"$error":"#DIV/0!"}}]
[null,{"$f":"Macro!A2241","v":0},{"$f":"Macro!B2241","v":0},{"$f":"Macro!E2241","v":{"$error":"#DIV/0!"}}]
[null,{"$f":"Macro!A2242","v":0},{"$f":"Macro!B2242","v":0},{"$f":"Macro!E2242","v":{"$error":"#DIV/0!"}}]
[null,{"$f":"Macro!A2243","v":0},{"$f":"Macro!B2243","v":0},{"$f":"Macro!E2243","v":{"$error":"#DIV/0!"}}]
[null,{"$f":"Macro!A2244","v":0},{"$f":"Macro!B2244","v":0},{"$f":"Macro!E2244","v":{"$error":"#DIV/0!"}}]
[null,{"$f":"Macro!A2245","v":0},{"$f":"Macro!B2245","v":0},{"$f":"Macro!E2245","v":{"$error":"#DIV/0!"}}]
[null,{"$f":"Macro!A2246","v":0},{"$f":"Macro!B2246","v":0},{"$f":"Macro!E2246","v":{"$error":"#DIV/0!"}}]
[null,{"$f":"Macro!A2247","v":0},{"$f":"Macro!B2247","v":0},{"$f":"Macro!E2247","v":{"$error":"#DIV/0!"}}]
[null,{"$f":"Macro!A2248","v":0},{"$f":"Macro!B2248","v":0},{"$f":"Macro!E2248","v":{"$error":"#DIV/0!"}}]
[null,{"$f":"Macro!A2249","v":0},{"$f":"Macro!B2249","v":0},{"$f":"Macro!E2249","v":{"$error":"#DIV/0!"}}]
[null,{"$f":"Macro!A2250","v":0},{"$f":"Macro!B2250","v":0},{"$f":"Macro!E2250","v":{"$error":"#DIV/0!"}}]
[null,{"$f":"Macro!A2251","v":0},{"$f":"Macro!B2251","v":0},{"$f":"Macro!E2251","v":{"$error":"#DIV/0!"}}]
[null,{"$f":"Macro!A2252","v":0},{"$f":"Macro!B2252","v":0},{"$f":"Macro!E2252","v":{"$error":"#DIV/0!"}}]
[null,{"$f":"Macro!A2253","v":0},{"$f":"Macro!B2253","v":0},{"$f":"Macro!E2253","v":{"$error":"#DIV/0!"}}]
[null,{"$f":"Macro!A2254","v":0},{"$f":"Macro!B2254","v":0},{"$f":"Macro!E2254","v":{"$error":"#DIV/0!"}}]
[null,{"$f":"Macro!A2255","v":0},{"$f":"Macro!B2255","v":0},{"$f":"Macro!E2255","v":{"$error":"#DIV/0!"}}]
[null,{"$f":"Macro!A2256","v":0},{"$f":"Macro!B2256","v":0},{"$f":"Macro!E2256","v":{"$error":"#DIV/0!"}}]
[null,{"$f":"Macro!A2257","v":0},{"$f":"Macro!B2257","v":0},{"$f":"Macro!E2257","v":{"$error":"#DIV/0!"}}]
[null,{"$f":"Macro!A2258","v":0},{"$f":"Macro!B2258","v":0},{"$f":"Macro!E2258","v":{"$error":"#DIV/0!"}}]
[null,{"$f":"Macro!A2259","v":0},{"$f":"Macro!B2259","v":0},{"$f":"Macro!E2259","v":{"$error":"#DIV/0!"}}]
[null,{"$f":"Macro!A2260","v":0},{"$f":"Macro!B2260","v":0},{"$f":"Macro!E2260","v":{"$error":"#DIV/0!"}}]
[null,{"$f":"Macro!A2261","v":0},{"$f":"Macro!B2261","v":0},{"$f":"Macro!E2261","v":{"$error":"#DIV/0!"}}]
[null,{"$f":"Macro!A2262","v":0},{"$f":"Macro!B2262","v":0},{"$f":"Macro!E2262","v":{"$error":"#DIV/0!"}}]
[null,{"$f":"Macro!A2263","v":0},{"$f":"Macro!B2263","v":0},{"$f":"Macro!E2263","v":{"$error":"#DIV/0!"}}]
[null,{"$f":"Macro!A2264","v":0},{"$f":"Macro!B2264","v":0},{"$f":"Macro!E2264","v":{"$error":"#DIV/0!"}}]
[null,{"$f":"Macro!A2265","v":0},{"$f":"Macro!B2265","v":0},{"$f":"Macro!E2265","v":{"$error":"#DIV/0!"}}]
[null,{"$f":"Macro!A2266","v":0},{"$f":"Macro!B2266","v":0},{"$f":"Macro!E2266","v":{"$error":"#DIV/0!"}}]
[null,{"$f":"Macro!A2267","v":0},{"$f":"Macro!B2267","v":0},{"$f":"Macro!E2267","v":{"$error":"#DIV/0!"}}]
[null,{"$f":"Macro!A2268","v":0},{"$f":"Macro!B2268","v":0},{"$f":"Macro!E2268","v":{"$error":"#DIV/0!"}}]
[null,{"$f":"Macro!A2269","v":0},{"$f":"Macro!B2269","v":0},{"$f":"Macro!E2269","v":{"$error":"#DIV/0!"}}]
[null,{"$f":"Macro!A2270","v":0},{"$f":"Macro!B2270","v":0},{"$f":"Macro!E2270","v":{"$error":"#DIV/0!"}}]
[null,{"$f":"Macro!A2271","v":0},{"$f":"Macro!B2271","v":0},{"$f":"Macro!E2271","v":{"$error":"#DIV/0!"}}]
[null,{"$f":"Macro!A2272","v":0},{"$f":"Macro!B2272","v":0},{"$f":"Macro!E2272","v":{"$error":"#DIV/0!"}}]
[null,{"$f":"Macro!A2273","v":0},{"$f":"Macro!B2273","v":0},{"$f":"Macro!E2273","v":{"$error":"#DIV/0!"}}]
[null,{"$f":"Macro!A2274","v":0},{"$f":"Macro!B2274","v":0},{"$f":"Macro!E2274","v":{"$error":"#DIV/0!"}}]
[null,{"$f":"Macro!A2275","v":0},{"$f":"Macro!B2275","v":0},{"$f":"Macro!E2275","v":{"$error":"#DIV/0!"}}]
[null,{"$f":"Macro!A2276","v":0},{"$f":"Macro!B2276","v":0},{"$f":"Macro!E2276","v":{"$error":"#DIV/0!"}}]
[null,{"$f":"Macro!A2277","v":0},{"$f":"Macro!B2277","v":0},{"$f":"Macro!E2277","v":{"$error":"#DIV/0!"}}]
[null,{"$f":"Macro!A2278","v":0},{"$f":"Macro!B2278","v":0},{"$f":"Macro!E2278","v":{"$error":"#DIV/0!"}}]
[null,{"$f":"Macro!A2279","v":0},{"$f":"Macro!B2279","v":0},{"$f":"Macro!E2279","v":{"$error":"#DIV/0!"}}]
[null,{"$f":"Macro!A2280","v":0},{"$f":"Macro!B2280","v":0},{"$f":"Macro!E2280","v":{"$error":"#DIV/0!"}}]
[null,{"$f":"Macro!A2281","v":0},{"$f":"Macro!B2281","v":0},{"$f":"Macro!E2281","v":{"$error":"#DIV/0!"}}]
[null,{"$f":"Macro!A2282","v":0},{"$f":"Macro!B2282","v":0},{"$f":"Macro!E2282","v":{"$error":"#DIV/0!"}}]
[null,{"$f":"Macro!A2283","v":0},{"$f":"Macro!B2283","v":0},{"$f":"Macro!E2283","v":{"$error":"#DIV/0!"}}]
[null,{"$f":"Macro!A2284","v":0},{"$f":"Macro!B2284","v":0},{"$f":"Macro!E2284","v":{"$error":"#DIV/0!"}}]
[null,{"$f":"Macro!A2285","v":0},{"$f":"Macro!B2285","v":0},{"$f":"Macro!E2285","v":{"$error":"#DIV/0!"}}]
[null,{"$f":"Macro!A2286","v":0},{"$f":"Macro!B2286","v":0},{"$f":"Macro!E2286","v":{"$error":"#DIV/0!"}}]
[null,{"$f":"Macro!A2287","v":0},{"$f":"Macro!B2287","v":0},{"$f":"Macro!E2287","v":{"$error":"#DIV/0!"}}]
[null,{"$f":"Macro!A2288","v":0},{"$f":"Macro!B2288","v":0},{"$f":"Macro!E2288","v":{"$error":"#DIV/0!"}}]
[null,{"$f":"Macro!A2289","v":0},{"$f":"Macro!B2289","v":0},{"$f":"Macro!E2289","v":{"$error":"#DIV/0!"}}]
[null,{"$f":"Macro!A2290","v":0},{"$f":"Macro!B2290","v":0},{"$f":"Macro!E2290","v":{"$error":"#DIV/0!"}}]
[null,{"$f":"Macro!A2291","v":0},{"$f":"Macro!B2291","v":0},{"$f":"Macro!E2291","v":{"$error":"#DIV/0!"}}]
[null,{"$f":"Macro!A2292","v":0},{"$f":"Macro!B2292","v":0},{"$f":"Macro!E2292","v":{"$error":"#DIV/0!"}}]
[null,{"$f":"Macro!A2293","v":0},{"$f":"Macro!B2293","v":0},{"$f":"Macro!E2293","v":{"$error":"#DIV/0!"}}]
[null,{"$f":"Macro!A2294","v":0},{"$f":"Macro!B2294","v":0},{"$f":"Macro!E2294","v":{"$error":"#DIV/0!"}}]
[null,{"$f":"Macro!A2295","v":0},{"$f":"Macro!B2295","v":0},{"$f":"Macro!E2295","v":{"$error":"#DIV/0!"}}]
[null,{"$f":"Macro!A2296","v":0},{"$f":"Macro!B2296","v":0},{"$f":"Macro!E2296","v":{"$error":"#DIV/0!"}}]
[null,{"$f":"Macro!A2297","v":0},{"$f":"Macro!B2297","v":0},{"$f":"Macro!E2297","v":{"$error":"#DIV/0!"}}]
[null,{"$f":"Macro!A2298","v":0},{"$f":"Macro!B2298","v":0},{"$f":"Macro!E2298","v":{"$error":"#DIV/0!"}}]
[null,{"$f":"Macro!A2299","v":0},{"$f":"Macro!B2299","v":0},{"$f":"Macro!E2299","v":{"$error":"#DIV/0!"}}]
[null,{"$f":"Macro!A2300","v":0},{"$f":"Macro!B2300","v":0},{"$f":"Macro!E2300","v":{"$error":"#DIV/0!"}}]
[null,{"$f":"Macro!A2301","v":0},{"$f":"Macro!B2301","v":0},{"$f":"Macro!E2301","v":{"$error":"#DIV/0!"}}]
[null,{"$f":"Macro!A2302","v":0},{"$f":"Macro!B2302","v":0},{"$f":"Macro!E2302","v":{"$error":"#DIV/0!"}}]
[null,{"$f":"Macro!A2303","v":0},{"$f":"Macro!B2303","v":0},{"$f":"Macro!E2303","v":{"$error":"#DIV/0!"}}]
[null,{"$f":"Macro!A2304","v":0},{"$f":"Macro!B2304","v":0},{"$f":"Macro!E2304","v":{"$error":"#DIV/0!"}}]
[null,{"$f":"Macro!A2305","v":0},{"$f":"Macro!B2305","v":0},{"$f":"Macro!E2305","v":{"$error":"#DIV/0!"}}]
[null,{"$f":"Macro!A2306","v":0},{"$f":"Macro!B2306","v":0},{"$f":"Macro!E2306","v":{"$error":"#DIV/0!"}}]
[null,{"$f":"Macro!A2307","v":0},{"$f":"Macro!B2307","v":0},{"$f":"Macro!E2307","v":{"$error":"#DIV/0!"}}]
[null,{"$f":"Macro!A2308","v":0},{"$f":"Macro!B2308","v":0},{"$f":"Macro!E2308","v":{"$error":"#DIV/0!"}}]
[null,{"$f":"Macro!A2309","v":0},{"$f":"Macro!B2309","v":0},{"$f":"Macro!E2309","v":{"$error":"#DIV/0!"}}]
[null,{"$f":"Macro!A2310","v":0},{"$f":"Macro!B2310","v":0},{"$f":"Macro!E2310","v":{"$error":"#DIV/0!"}}]
[null,{"$f":"Macro!A2311","v":0},{"$f":"Macro!B2311","v":0},{"$f":"Macro!E2311","v":{"$error":"#DIV/0!"}}]
[null,{"$f":"Macro!A2312","v":0},{"$f":"Macro!B2312","v":0},{"$f":"Macro!E2312","v":{"$error":"#DIV/0!"}}]
[null,{"$f":"Macro!A2313","v":0},{"$f":"Macro!B2313","v":0},{"$f":"Macro!E2313","v":{"$error":"#DIV/0!"}}]
[null,{"$f":"Macro!A2314","v":0},{"$f":"Macro!B2314","v":0},{"$f":"Macro!E2314","v":{"$error":"#DIV/0!"}}]
[null,{"$f":"Macro!A2315","v":0},{"$f":"Macro!B2315","v":0},{"$f":"Macro!E2315","v":{"$error":"#DIV/0!"}}]
[null,{"$f":"Macro!A2316","v":0},{"$f":"Macro!B2316","v":0},{"$f":"Macro!E2316","v":{"$error":"#DIV/0!"}}]
[null,{"$f":"Macro!A2317","v":0},{"$f":"Macro!B2317","v":0},{"$f":"Macro!E2317","v":{"$error":"#DIV/0!"}}]
[null,{"$f":"Macro!A2318","v":0},{"$f":"Macro!B2318","v":0},{"$f":"Macro!E2318","v":{"$error":"#DIV/0!"}}]
[null,{"$f":"Macro!A2319","v":0},{"$f":"Macro!B2319","v":0},{"$f":"Macro!E2319","v":{"$error":"#DIV/0!"}}]
[null,{"$f":"Macro!A2320","v":0},{"$f":"Macro!B2320","v":0},{"$f":"Macro!E2320","v":{"$error":"#DIV/0!"}}]
[null,{"$f":"Macro!A2321","v":0},{"$f":"Macro!B2321","v":0},{"$f":"Macro!E2321","v":{"$error":"#DIV/0!"}}]
[null,{"$f":"Macro!A2322","v":0},{"$f":"Macro!B2322","v":0},{"$f":"Macro!E2322","v":{"$error":"#DIV/0!"}}]
[null,{"$f":"Macro!A2323","v":0},{"$f":"Macro!B2323","v":0},{"$f":"Macro!E2323","v":{"$error":"#DIV/0!"}}]
[null,{"$f":"Macro!A2324","v":0},{"$f":"Macro!B2324","v":0},{"$f":"Macro!E2324","v":{"$error":"#DIV/0!"}}]
[null,{"$f":"Macro!A2325","v":0},{"$f":"Macro!B2325","v":0},{"$f":"Macro!E2325","v":{"$error":"#DIV/0!"}}]
[null,{"$f":"Macro!A2326","v":0},{"$f":"Macro!B2326","v":0},{"$f":"Macro!E2326","v":{"$error":"#DIV/0!"}}]
[null,{"$f":"Macro!A2327","v":0},{"$f":"Macro!B2327","v":0},{"$f":"Macro!E2327","v":{"$error":"#DIV/0!"}}]
[null,{"$f":"Macro!A2328","v":0},{"$f":"Macro!B2328","v":0},{"$f":"Macro!E2328","v":{"$error":"#DIV/0!"}}]
[null,{"$f":"Macro!A2329","v":0},{"$f":"Macro!B2329","v":0},{"$f":"Macro!E2329","v":{"$error":"#DIV/0!"}}]
[null,{"$f":"Macro!A2330","v":0},{"$f":"Macro!B2330","v":0},{"$f":"Macro!E2330","v":{"$error":"#DIV/0!"}}]
[null,{"$f":"Macro!A2331","v":0},{"$f":"Macro!B2331","v":0},{"$f":"Macro!E2331","v":{"$error":"#DIV/0!"}}]
[null,{"$f":"Macro!A2332","v":0},{"$f":"Macro!B2332","v":0},{"$f":"Macro!E2332","v":{"$error":"#DIV/0!"}}]
[null,{"$f":"Macro!A2333","v":0},{"$f":"Macro!B2333","v":0},{"$f":"Macro!E2333","v":{"$error":"#DIV/0!"}}]
[null,{"$f":"Macro!A2334","v":0},{"$f":"Macro!B2334","v":0},{"$f":"Macro!E2334","v":{"$error":"#DIV/0!"}}]
[null,{"$f":"Macro!A2335","v":0},{"$f":"Macro!B2335","v":0},{"$f":"Macro!E2335","v":{"$error":"#DIV/0!"}}]
[null,{"$f":"Macro!A2336","v":0},{"$f":"Macro!B2336","v":0},{"$f":"Macro!E2336","v":{"$error":"#DIV/0!"}}]
[null,{"$f":"Macro!A2337","v":0},{"$f":"Macro!B2337","v":0},{"$f":"Macro!E2337","v":{"$error":"#DIV/0!"}}]
[null,{"$f":"Macro!A2338","v":0},{"$f":"Macro!B2338","v":0},{"$f":"Macro!E2338","v":{"$error":"#DIV/0!"}}]
[null,{"$f":"Macro!A2339","v":0},{"$f":"Macro!B2339","v":0},{"$f":"Macro!E2339","v":{"$error":"#DIV/0!"}}]
[null,{"$f":"Macro!A2340","v":0},{"$f":"Macro!B2340","v":0},{"$f":"Macro!E2340","v":{"$error":"#DIV/0!"}}]
[null,{"$f":"Macro!A2341","v":0},{"$f":"Macro!B2341","v":0},{"$f":"Macro!E2341","v":{"$error":"#DIV/0!"}}]
[null,{"$f":"Macro!A2342","v":0},{"$f":"Macro!B2342","v":0},{"$f":"Macro!E2342","v":{"$error":"#DIV/0!"}}]
[null,{"$f":"Macro!A2343","v":0},{"$f":"Macro!B2343","v":0},{"$f":"Macro!E2343","v":{"$error":"#DIV/0!"}}]
[null,{"$f":"Macro!A2344","v":0},{"$f":"Macro!B2344","v":0},{"$f":"Macro!E2344","v":{"$error":"#DIV/0!"}}]
[null,{"$f":"Macro!A2345","v":0},{"$f":"Macro!B2345","v":0},{"$f":"Macro!E2345","v":{"$error":"#DIV/0!"}}]
[null,{"$f":"Macro!A2346","v":0},{"$f":"Macro!B2346","v":0},{"$f":"Macro!E2346","v":{"$error":"#DIV/0!"}}]
[null,{"$f":"Macro!A2347","v":0},{"$f":"Macro!B2347","v":0},{"$f":"Macro!E2347","v":{"$error":"#DIV/0!"}}]
[null,{"$f":"Macro!A2348","v":0},{"$f":"Macro!B2348","v":0},{"$f":"Macro!E2348","v":{"$error":"#DIV/0!"}}]
[null,{"$f":"Macro!A2349","v":0},{"$f":"Macro!B2349","v":0},{"$f":"Macro!E2349","v":{"$error":"#DIV/0!"}}]
[null,{"$f":"Macro!A2350","v":0},{"$f":"Macro!B2350","v":0},{"$f":"Macro!E2350","v":{"$error":"#DIV/0!"}}]
[null,{"$f":"Macro!A2351","v":0},{"$f":"Macro!B2351","v":0},{"$f":"Macro!E2351","v":{"$error":"#DIV/0!"}}]
[null,{"$f":"Macro!A2352","v":0},{"$f":"Macro!B2352","v":0},{"$f":"Macro!E2352","v":{"$error":"#DIV/0!"}}]
[null,{"$f":"Macro!A2353","v":0},{"$f":"Macro!B2353","v":0},{"$f":"Macro!E2353","v":{"$error":"#DIV/0!"}}]
[null,{"$f":"Macro!A2354","v":0},{"$f":"Macro!B2354","v":0},{"$f":"Macro!E2354","v":{"$error":"#DIV/0!"}}]
[null,{"$f":"Macro!A2355","v":0},{"$f":"Macro!B2355","v":0},{"$f":"Macro!E2355","v":{"$error":"#DIV/0!"}}]
[null,{"$f":"Macro!A2356","v":0},{"$f":"Macro!B2356","v":0},{"$f":"Macro!E2356","v":{"$error":"#DIV/0!"}}]
[null,{"$f":"Macro!A2357","v":0},{"$f":"Macro!B2357","v":0},{"$f":"Macro!E2357","v":{"$error":"#DIV/0!"}}]
[null,{"$f":"Macro!A2358","v":0},{"$f":"Macro!B2358","v":0},{"$f":"Macro!E2358","v":{"$error":"#DIV/0!"}}]
[null,{"$f":"Macro!A2359","v":0},{"$f":"Macro!B2359","v":0},{"$f":"Macro!E2359","v":{"$error":"#DIV/0!"}}]
[null,{"$f":"Macro!A2360","v":0},{"$f":"Macro!B2360","v":0},{"$f":"Macro!E2360","v":{"$error":"#DIV/0!"}}]
[null,{"$f":"Macro!A2361","v":0},{"$f":"Macro!B2361","v":0},{"$f":"Macro!E2361","v":{"$error":"#DIV/0!"}}]
[null,{"$f":"Macro!A2362","v":0},{"$f":"Macro!B2362","v":0},{"$f":"Macro!E2362","v":{"$error":"#DIV/0!"}}]
[null,{"$f":"Macro!A2363","v":0},{"$f":"Macro!B2363","v":0},{"$f":"Macro!E2363","v":{"$error":"#DIV/0!"}}]
[null,{"$f":"Macro!A2364","v":0},{"$f":"Macro!B2364","v":0},{"$f":"Macro!E2364","v":{"$error":"#DIV/0!"}}]
[null,{"$f":"Macro!A2365","v":0},{"$f":"Macro!B2365","v":0},{"$f":"Macro!E2365","v":{"$error":"#DIV/0!"}}]
[null,{"$f":"Macro!A2366","v":0},{"$f":"Macro!B2366","v":0},{"$f":"Macro!E2366","v":{"$error":"#DIV/0!"}}]
[null,{"$f":"Macro!A2367","v":0},{"$f":"Macro!B2367","v":0},{"$f":"Macro!E2367","v":{"$error":"#DIV/0!"}}]
[null,{"$f":"Macro!A2368","v":0},{"$f":"Macro!B2368","v":0},{"$f":"Macro!E2368","v":{"$error":"#DIV/0!"}}]
[null,{"$f":"Macro!A2369","v":0},{"$f":"Macro!B2369","v":0},{"$f":"Macro!E2369","v":{"$error":"#DIV/0!"}}]
[null,{"$f":"Macro!A2370","v":0},{"$f":"Macro!B2370","v":0},{"$f":"Macro!E2370","v":{"$error":"#DIV/0!"}}]
[null,{"$f":"Macro!A2371","v":0},{"$f":"Macro!B2371","v":0},{"$f":"Macro!E2371","v":{"$error":"#DIV/0!"}}]
[null,{"$f":"Macro!A2372","v":0},{"$f":"Macro!B2372","v":0},{"$f":"Macro!E2372","v":{"$error":"#DIV/0!"}}]
[null,{"$f":"Macro!A2373","v":0},{"$f":"Macro!B2373","v":0},{"$f":"Macro!E2373","v":{"$error":"#DIV/0!"}}]
[null,{"$f":"Macro!A2374","v":0},{"$f":"Macro!B2374","v":0},{"$f":"Macro!E2374","v":{"$error":"#DIV/0!"}}]
[null,{"$f":"Macro!A2375","v":0},{"$f":"Macro!B2375","v":0},{"$f":"Macro!E2375","v":{"$error":"#DIV/0!"}}]
[null,{"$f":"Macro!A2376","v":0},{"$f":"Macro!B2376","v":0},{"$f":"Macro!E2376","v":{"$error":"#DIV/0!"}}]
[null,{"$f":"Macro!A2377","v":0},{"$f":"Macro!B2377","v":0},{"$f":"Macro!E2377","v":{"$error":"#DIV/0!"}}]
[null,{"$f":"Macro!A2378","v":0},{"$f":"Macro!B2378","v":0},{"$f":"Macro!E2378","v":{"$error":"#DIV/0!"}}]
[null,{"$f":"Macro!A2379","v":0},{"$f":"Macro!B2379","v":0},{"$f":"Macro!E2379","v":{"$error":"#DIV/0!"}}]
[null,{"$f":"Macro!A2380","v":0},{"$f":"Macro!B2380","v":0},{"$f":"Macro!E2380","v":{"$error":"#DIV/0!"}}]
[null,{"$f":"Macro!A2381","v":0},{"$f":"Macro!B2381","v":0},{"$f":"Macro!E2381","v":{"$error":"#DIV/0!"}}]
[null,{"$f":"Macro!A2382","v":0},{"$f":"Macro!B2382","v":0},{"$f":"Macro!E2382","v":{"$error":"#DIV/0!"}}]
[null,{"$f":"Macro!A2383","v":0},{"$f":"Macro!B2383","v":0},{"$f":"Macro!E2383","v":{"$error":"#DIV/0!"}}]
[null,{"$f":"Macro!A2384","v":0},{"$f":"Macro!B2384","v":0},{"$f":"Macro!E2384","v":{"$error":"#DIV/0!"}}]
[null,{"$f":"Macro!A2385","v":0},{"$f":"Macro!B2385","v":0},{"$f":"Macro!E2385","v":{"$error":"#DIV/0!"}}]
[null,{"$f":"Macro!A2386","v":0},{"$f":"Macro!B2386","v":0},{"$f":"Macro!E2386","v":{"$error":"#DIV/0!"}}]
[null,{"$f":"Macro!A2387","v":0},{"$f":"Macro!B2387","v":0},{"$f":"Macro!E2387","v":{"$error":"#DIV/0!"}}]
[null,{"$f":"Macro!A2388","v":0},{"$f":"Macro!B2388","v":0},{"$f":"Macro!E2388","v":{"$error":"#DIV/0!"}}]
[null,{"$f":"Macro!A2389","v":0},{"$f":"Macro!B2389","v":0},{"$f":"Macro!E2389","v":{"$error":"#DIV/0!"}}]
[null,{"$f":"Macro!A2390","v":0},{"$f":"Macro!B2390","v":0},{"$f":"Macro!E2390","v":{"$error":"#DIV/0!"}}]
[null,{"$f":"Macro!A2391","v":0},{"$f":"Macro!B2391","v":0},{"$f":"Macro!E2391","v":{"$error":"#DIV/0!"}}]
[null,{"$f":"Macro!A2392","v":0},{"$f":"Macro!B2392","v":0},{"$f":"Macro!E2392","v":{"$error":"#DIV/0!"}}]
[null,{"$f":"Macro!A2393","v":0},{"$f":"Macro!B2393","v":0},{"$f":"Macro!E2393","v":{"$error":"#DIV/0!"}}]
[null,{"$f":"Macro!A2394","v":0},{"$f":"Macro!B2394","v":0},{"$f":"Macro!E2394","v":{"$error":"#DIV/0!"}}]
[null,{"$f":"Macro!A2395","v":0},{"$f":"Macro!B2395","v":0},{"$f":"Macro!E2395","v":{"$error":"#DIV/0!"}}]
[null,{"$f":"Macro!A2396","v":0},{"$f":"Macro!B2396","v":0},{"$f":"Macro!E2396","v":{"$error":"#DIV/0!"}}]
[null,{"$f":"Macro!A2397","v":0},{"$f":"Macro!B2397","v":0},{"$f":"Macro!E2397","v":{"$error":"#DIV/0!"}}]
[null,{"$f":"Macro!A2398","v":0},{"$f":"Macro!B2398","v":0},{"$f":"Macro!E2398","v":{"$error":"#DIV/0!"}}]
[null,{"$f":"Macro!A2399","v":0},{"$f":"Macro!B2399","v":0},{"$f":"Macro!E2399","v":{"$error":"#DIV/0!"}}]
[null,{"$f":"Macro!A2400","v":0},{"$f":"Macro!B2400","v":0},{"$f":"Macro!E2400","v":{"$error":"#DIV/0!"}}]
[null,{"$f":"Macro!A2401","v":0},{"$f":"Macro!B2401","v":0},{"$f":"Macro!E2401","v":{"$error":"#DIV/0!"}}]
[null,{"$f":"Macro!A2402","v":0},{"$f":"Macro!B2402","v":0},{"$f":"Macro!E2402","v":{"$error":"#DIV/0!"}}]
[null,{"$f":"Macro!A2403","v":0},{"$f":"Macro!B2403","v":0},{"$f":"Macro!E2403","v":{"$error":"#DIV/0!"}}]
[null,{"$f":"Macro!A2404","v":0},{"$f":"Macro!B2404","v":0},{"$f":"Macro!E2404","v":{"$error":"#DIV/0!"}}]
[null,{"$f":"Macro!A2405","v":0},{"$f":"Macro!B2405","v":0},{"$f":"Macro!E2405","v":{"$error":"#DIV/0!"}}]
[null,{"$f":"Macro!A2406","v":0},{"$f":"Macro!B2406","v":0},{"$f":"Macro!E2406","v":{"$error":"#DIV/0!"}}]
[null,{"$f":"Macro!A2407","v":0},{"$f":"Macro!B2407","v":0},{"$f":"Macro!E2407","v":{"$error":"#DIV/0!"}}]
[null,{"$f":"Macro!A2408","v":0},{"$f":"Macro!B2408","v":0},{"$f":"Macro!E2408","v":{"$error":"#DIV/0!"}}]
[null,{"$f":"Macro!A2409","v":0},{"$f":"Macro!B2409","v":0},{"$f":"Macro!E2409","v":{"$error":"#DIV/0!"}}]
[null,{"$f":"Macro!A2410","v":0},{"$f":"Macro!B2410","v":0},{"$f":"Macro!E2410","v":{"$error":"#DIV/0!"}}]
[null,{"$f":"Macro!A2411","v":0},{"$f":"Macro!B2411","v":0},{"$f":"Macro!E2411","v":{"$error":"#DIV/0!"}}]
[null,{"$f":"Macro!A2412","v":0},{"$f":"Macro!B2412","v":0},{"$f":"Macro!E2412","v":{"$error":"#DIV/0!"}}]
[null,{"$f":"Macro!A2413","v":0},{"$f":"Macro!B2413","v":0},{"$f":"Macro!E2413","v":{"$error":"#DIV/0!"}}]
[null,{"$f":"Macro!A2414","v":0},{"$f":"Macro!B2414","v":0},{"$f":"Macro!E2414","v":{"$error":"#DIV/0!"}}]
[null,{"$f":"Macro!A2415","v":0},{"$f":"Macro!B2415","v":0},{"$f":"Macro!E2415","v":{"$error":"#DIV/0!"}}]
[null,{"$f":"Macro!A2416","v":0},{"$f":"Macro!B2416","v":0},{"$f":"Macro!E2416","v":{"$error":"#DIV/0!"}}]
[null,{"$f":"Macro!A2417","v":0},{"$f":"Macro!B2417","v":0},{"$f":"Macro!E2417","v":{"$error":"#DIV/0!"}}]
[null,{"$f":"Macro!A2418","v":0},{"$f":"Macro!B2418","v":0},{"$f":"Macro!E2418","v":{"$error":"#DIV/0!"}}]
[null,{"$f":"Macro!A2419","v":0},{"$f":"Macro!B2419","v":0},{"$f":"Macro!E2419","v":{"$error":"#DIV/0!"}}]
[null,{"$f":"Macro!A2420","v":0},{"$f":"Macro!B2420","v":0},{"$f":"Macro!E2420","v":{"$error":"#DIV/0!"}}]
[null,{"$f":"Macro!A2421","v":0},{"$f":"Macro!B2421","v":0},{"$f":"Macro!E2421","v":{"$error":"#DIV/0!"}}]
[null,{"$f":"Macro!A2422","v":0},{"$f":"Macro!B2422","v":0},{"$f":"Macro!E2422","v":{"$error":"#DIV/0!"}}]
[null,{"$f":"Macro!A2423","v":0},{"$f":"Macro!B2423","v":0},{"$f":"Macro!E2423","v":{"$error":"#DIV/0!"}}]
[null,{"$f":"Macro!A2424","v":0},{"$f":"Macro!B2424","v":0},{"$f":"Macro!E2424","v":{"$error":"#DIV/0!"}}]
[null,{"$f":"Macro!A2425","v":0},{"$f":"Macro!B2425","v":0},{"$f":"Macro!E2425","v":{"$error":"#DIV/0!"}}]
[null,{"$f":"Macro!A2426","v":0},{"$f":"Macro!B2426","v":0},{"$f":"Macro!E2426","v":{"$error":"#DIV/0!"}}]
[null,{"$f":"Macro!A2427","v":0},{"$f":"Macro!B2427","v":0},{"$f":"Macro!E2427","v":{"$error":"#DIV/0!"}}]
[null,{"$f":"Macro!A2428","v":0},{"$f":"Macro!B2428","v":0},{"$f":"Macro!E2428","v":{"$error":"#DIV/0!"}}]
[null,{"$f":"Macro!A2429","v":0},{"$f":"Macro!B2429","v":0},{"$f":"Macro!E2429","v":{"$error":"#DIV/0!"}}]
[null,{"$f":"Macro!A2430","v":0},{"$f":"Macro!B2430","v":0},{"$f":"Macro!E2430","v":{"$error":"#DIV/0!"}}]
[null,{"$f":"Macro!A2431","v":0},{"$f":"Macro!B2431","v":0},{"$f":"Macro!E2431","v":{"$error":"#DIV/0!"}}]
[null,{"$f":"Macro!A2432","v":0},{"$f":"Macro!B2432","v":0},{"$f":"Macro!E2432","v":{"$error":"#DIV/0!"}}]
[null,{"$f":"Macro!A2433","v":0},{"$f":"Macro!B2433","v":0},{"$f":"Macro!E2433","v":{"$error":"#DIV/0!"}}]
[null,{"$f":"Macro!A2434","v":0},{"$f":"Macro!B2434","v":0},{"$f":"Macro!E2434","v":{"$error":"#DIV/0!"}}]
[null,{"$f":"Macro!A2435","v":0},{"$f":"Macro!B2435","v":0},{"$f":"Macro!E2435","v":{"$error":"#DIV/0!"}}]
[null,{"$f":"Macro!A2436","v":0},{"$f":"Macro!B2436","v":0},{"$f":"Macro!E2436","v":{"$error":"#DIV/0!"}}]
[null,{"$f":"Macro!A2437","v":0},{"$f":"Macro!B2437","v":0},{"$f":"Macro!E2437","v":{"$error":"#DIV/0!"}}]
[null,{"$f":"Macro!A2438","v":0},{"$f":"Macro!B2438","v":0},{"$f":"Macro!E2438","v":{"$error":"#DIV/0!"}}]
[null,{"$f":"Macro!A2439","v":0},{"$f":"Macro!B2439","v":0},{"$f":"Macro!E2439","v":{"$error":"#DIV/0!"}}]
[null,{"$f":"Macro!A2440","v":0},{"$f":"Macro!B2440","v":0},{"$f":"Macro!E2440","v":{"$error":"#DIV/0!"}}]
[null,{"$f":"Macro!A2441","v":0},{"$f":"Macro!B2441","v":0},{"$f":"Macro!E2441","v":{"$error":"#DIV/0!"}}]
[null,{"$f":"Macro!A2442","v":0},{"$f":"Macro!B2442","v":0},{"$f":"Macro!E2442","v":{"$error":"#DIV/0!"}}]
[null,{"$f":"Macro!A2443","v":0},{"$f":"Macro!B2443","v":0},{"$f":"Macro!E2443","v":{"$error":"#DIV/0!"}}]
[null,{"$f":"Macro!A2444","v":0},{"$f":"Macro!B2444","v":0},{"$f":"Macro!E2444","v":{"$error":"#DIV/0!"}}]
[null,{"$f":"Macro!A2445","v":0},{"$f":"Macro!B2445","v":0},{"$f":"Macro!E2445","v":{"$error":"#DIV/0!"}}]
[null,{"$f":"Macro!A2446","v":0},{"$f":"Macro!B2446","v":0},{"$f":"Macro!E2446","v":{"$error":"#DIV/0!"}}]
[null,{"$f":"Macro!A2447","v":0},{"$f":"Macro!B2447","v":0},{"$f":"Macro!E2447","v":{"$error":"#DIV/0!"}}]
[null,{"$f":"Macro!A2448","v":0},{"$f":"Macro!B2448","v":0},{"$f":"Macro!E2448","v":{"$error":"#DIV/0!"}}]
[null,{"$f":"Macro!A2449","v":0},{"$f":"Macro!B2449","v":0},{"$f":"Macro!E2449","v":{"$error":"#DIV/0!"}}]
[null,{"$f":"Macro!A2450","v":0},{"$f":"Macro!B2450","v":0},{"$f":"Macro!E2450","v":{"$error":"#DIV/0!"}}]
[null,{"$f":"Macro!A2451","v":0},{"$f":"Macro!B2451","v":0},{"$f":"Macro!E2451","v":{"$error":"#DIV/0!"}}]
[null,{"$f":"Macro!A2452","v":0},{"$f":"Macro!B2452","v":0},{"$f":"Macro!E2452","v":{"$error":"#DIV/0!"}}]
[null,{"$f":"Macro!A2453","v":0},{"$f":"Macro!B2453","v":0},{"$f":"Macro!E2453","v":{"$error":"#DIV/0!"}}]
[null,{"$f":"Macro!A2454","v":0},{"$f":"Macro!B2454","v":0},{"$f":"Macro!E2454","v":{"$error":"#DIV/0!"}}]
[null,{"$f":"Macro!A2455","v":0},{"$f":"Macro!B2455","v":0},{"$f":"Macro!E2455","v":{"$error":"#DIV/0!"}}]
[null,{"$f":"Macro!A2456","v":0},{"$f":"Macro!B2456","v":0},{"$f":"Macro!E2456","v":{"$error":"#DIV/0!"}}]
[null,{"$f":"Macro!A2457","v":0},{"$f":"Macro!B2457","v":0},{"$f":"Macro!E2457","v":{"$error":"#DIV/0!"}}]
[null,{"$f":"Macro!A2458","v":0},{"$f":"Macro!B2458","v":0},{"$f":"Macro!E2458","v":{"$error":"#DIV/0!"}}]
[null,{"$f":"Macro!A2459","v":0},{"$f":"Macro!B2459","v":0},{"$f":"Macro!E2459","v":{"$error":"#DIV/0!"}}]
[null,{"$f":"Macro!A2460","v":0},{"$f":"Macro!B2460","v":0},{"$f":"Macro!E2460","v":{"$error":"#DIV/0!"}}]
[null,{"$f":"Macro!A2461","v":0},{"$f":"Macro!B2461","v":0},{"$f":"Macro!E2461","v":{"$error":"#DIV/0!"}}]
[null,{"$f":"Macro!A2462","v":0},{"$f":"Macro!B2462","v":0},{"$f":"Macro!E2462","v":{"$error":"#DIV/0!"}}]
[null,{"$f":"Macro!A2463","v":0},{"$f":"Macro!B2463","v":0},{"$f":"Macro!E2463","v":{"$error":"#DIV/0!"}}]
[null,{"$f":"Macro!A2464","v":0},{"$f":"Macro!B2464","v":0},{"$f":"Macro!E2464","v":{"$error":"#DIV/0!"}}]
[null,{"$f":"Macro!A2465","v":0},{"$f":"Macro!B2465","v":0},{"$f":"Macro!E2465","v":{"$error":"#DIV/0!"}}]
[null,{"$f":"Macro!A2466","v":0},{"$f":"Macro!B2466","v":0},{"$f":"Macro!E2466","v":{"$error":"#DIV/0!"}}]
[null,{"$f":"Macro!A2467","v":0},{"$f":"Macro!B2467","v":0},{"$f":"Macro!E2467","v":{"$error":"#DIV/0!"}}]
[null,{"$f":"Macro!A2468","v":0},{"$f":"Macro!B2468","v":0},{"$f":"Macro!E2468","v":{"$error":"#DIV/0!"}}]
[null,{"$f":"Macro!A2469","v":0},{"$f":"Macro!B2469","v":0},{"$f":"Macro!E2469","v":{"$error":"#DIV/0!"}}]
[null,{"$f":"Macro!A2470","v":0},{"$f":"Macro!B2470","v":0},{"$f":"Macro!E2470","v":{"$error":"#DIV/0!"}}]
[null,{"$f":"Macro!A2471","v":0},{"$f":"Macro!B2471","v":0},{"$f":"Macro!E2471","v":{"$error":"#DIV/0!"}}]
[null,{"$f":"Macro!A2472","v":0},{"$f":"Macro!B2472","v":0},{"$f":"Macro!E2472","v":{"$error":"#DIV/0!"}}]
[null,{"$f":"Macro!A2473","v":0},{"$f":"Macro!B2473","v":0},{"$f":"Macro!E2473","v":{"$error":"#DIV/0!"}}]
[null,{"$f":"Macro!A2474","v":0},{"$f":"Macro!B2474","v":0},{"$f":"Macro!E2474","v":{"$error":"#DIV/0!"}}]
[null,{"$f":"Macro!A2475","v":0},{"$f":"Macro!B2475","v":0},{"$f":"Macro!E2475","v":{"$error":"#DIV/0!"}}]
[null,{"$f":"Macro!A2476","v":0},{"$f":"Macro!B2476","v":0},{"$f":"Macro!E2476","v":{"$error":"#DIV/0!"}}]
[null,{"$f":"Macro!A2477","v":0},{"$f":"Macro!B2477","v":0},{"$f":"Macro!E2477","v":{"$error":"#DIV/0!"}}]
[null,{"$f":"Macro!A2478","v":0},{"$f":"Macro!B2478","v":0},{"$f":"Macro!E2478","v":{"$error":"#DIV/0!"}}]
[null,{"$f":"Macro!A2479","v":0},{"$f":"Macro!B2479","v":0},{"$f":"Macro!E2479","v":{"$error":"#DIV/0!"}}]
[null,{"$f":"Macro!A2480","v":0},{"$f":"Macro!B2480","v":0},{"$f":"Macro!E2480","v":{"$error":"#DIV/0!"}}]
[null,{"$f":"Macro!A2481","v":0},{"$f":"Macro!B2481","v":0},{"$f":"Macro!E2481","v":{"$error":"#DIV/0!"}}]
[null,{"$f":"Macro!A2482","v":0},{"$f":"Macro!B2482","v":0},{"$f":"Macro!E2482","v":{"$error":"#DIV/0!"}}]
[null,{"$f":"Macro!A2483","v":0},{"$f":"Macro!B2483","v":0},{"$f":"Macro!E2483","v":{"$error":"#DIV/0!"}}]
[null,{"$f":"Macro!A2484","v":0},{"$f":"Macro!B2484","v":0},{"$f":"Macro!E2484","v":{"$error":"#DIV/0!"}}]
[null,{"$f":"Macro!A2485","v":0},{"$f":"Macro!B2485","v":0},{"$f":"Macro!E2485","v":{"$error":"#DIV/0!"}}]
[null,{"$f":"Macro!A2486","v":0},{"$f":"Macro!B2486","v":0},{"$f":"Macro!E2486","v":{"$error":"#DIV/0!"}}]
[null,{"$f":"Macro!A2487","v":0},{"$f":"Macro!B2487","v":0},{"$f":"Macro!E2487","v":{"$error":"#DIV/0!"}}]
[null,{"$f":"Macro!A2488","v":0},{"$f":"Macro!B2488","v":0},{"$f":"Macro!E2488","v":{"$error":"#DIV/0!"}}]
[null,{"$f":"Macro!A2489","v":0},{"$f":"Macro!B2489","v":0},{"$f":"Macro!E2489","v":{"$error":"#DIV/0!"}}]
[null,{"$f":"Macro!A2490","v":0},{"$f":"Macro!B2490","v":0},{"$f":"Macro!E2490","v":{"$error":"#DIV/0!"}}]
[null,{"$f":"Macro!A2491","v":0},{"$f":"Macro!B2491","v":0},{"$f":"Macro!E2491","v":{"$error":"#DIV/0!"}}]
[null,{"$f":"Macro!A2492","v":0},{"$f":"Macro!B2492","v":0},{"$f":"Macro!E2492","v":{"$error":"#DIV/0!"}}]
[null,{"$f":"Macro!A2493","v":0},{"$f":"Macro!B2493","v":0},{"$f":"Macro!E2493","v":{"$error":"#DIV/0!"}}]
[null,{"$f":"Macro!A2494","v":0},{"$f":"Macro!B2494","v":0},{"$f":"Macro!E2494","v":{"$error":"#DIV/0!"}}]
[null,{"$f":"Macro!A2495","v":0},{"$f":"Macro!B2495","v":0},{"$f":"Macro!E2495","v":{"$error":"#DIV/0!"}}]
[null,{"$f":"Macro!A2496","v":0},{"$f":"Macro!B2496","v":0},{"$f":"Macro!E2496","v":{"$error":"#DIV/0!"}}]
[null,{"$f":"Macro!A2497","v":0},{"$f":"Macro!B2497","v":0},{"$f":"Macro!E2497","v":{"$error":"#DIV/0!"}}]
[null,{"$f":"Macro!A2498","v":0},{"$f":"Macro!B2498","v":0},{"$f":"Macro!E2498","v":{"$error":"#DIV/0!"}}]
[null,{"$f":"Macro!A2499","v":0},{"$f":"Macro!B2499","v":0},{"$f":"Macro!E2499","v":{"$error":"#DIV/0!"}}]
[null,{"$f":"Macro!A2500","v":0},{"$f":"Macro!B2500","v":0},{"$f":"Macro!E2500","v":{"$error":"#DIV/0!"}}]
[null,{"$f":"Macro!A2501","v":0},{"$f":"Macro!B2501","v":0},{"$f":"Macro!E2501","v":{"$error":"#DIV/0!"}}]
[null,{"$f":"Macro!A2502","v":0},{"$f":"Macro!B2502","v":0},{"$f":"Macro!E2502","v":{"$error":"#DIV/0!"}}]
[null,{"$f":"Macro!A2503","v":0},{"$f":"Macro!B2503","v":0},{"$f":"Macro!E2503","v":{"$error":"#DIV/0!"}}]
[null,{"$f":"Macro!A2504","v":0},{"$f":"Macro!B2504","v":0},{"$f":"Macro!E2504","v":{"$error":"#DIV/0!"}}]
[null,{"$f":"Macro!A2505","v":0},{"$f":"Macro!B2505","v":0},{"$f":"Macro!E2505","v":{"$error":"#DIV/0!"}}]
[null,{"$f":"Macro!A2506","v":0},{"$f":"Macro!B2506","v":0},{"$f":"Macro!E2506","v":{"$error":"#DIV/0!"}}]
[null,{"$f":"Macro!A2507","v":0},{"$f":"Macro!B2507","v":0},{"$f":"Macro!E2507","v":{"$error":"#DIV/0!"}}]
[null,{"$f":"Macro!A2508","v":0},{"$f":"Macro!B2508","v":0},{"$f":"Macro!E2508","v":{"$error":"#DIV/0!"}}]
[null,{"$f":"Macro!A2509","v":0},{"$f":"Macro!B2509","v":0},{"$f":"Macro!E2509","v":{"$error":"#DIV/0!"}}]
[null,{"$f":"Macro!A2510","v":0},{"$f":"Macro!B2510","v":0},{"$f":"Macro!E2510","v":{"$error":"#DIV/0!"}}]
[null,{"$f":"Macro!A2511","v":0},{"$f":"Macro!B2511","v":0},{"$f":"Macro!E2511","v":{"$error":"#DIV/0!"}}]
[null,{"$f":"Macro!A2512","v":0},{"$f":"Macro!B2512","v":0},{"$f":"Macro!E2512","v":{"$error":"#DIV/0!"}}]
[null,{"$f":"Macro!A2513","v":0},{"$f":"Macro!B2513","v":0},{"$f":"Macro!E2513","v":{"$error":"#DIV/0!"}}]
[null,{"$f":"Macro!A2514","v":0},{"$f":"Macro!B2514","v":0},{"$f":"Macro!E2514","v":{"$error":"#DIV/0!"}}]
[null,{"$f":"Macro!A2515","v":0},{"$f":"Macro!B2515","v":0},{"$f":"Macro!E2515","v":{"$error":"#DIV/0!"}}]
[null,{"$f":"Macro!A2516","v":0},{"$f":"Macro!B2516","v":0},{"$f":"Macro!E2516","v":{"$error":"#DIV/0!"}}]
[null,{"$f":"Macro!A2517","v":0},{"$f":"Macro!B2517","v":0},{"$f":"Macro!E2517","v":{"$error":"#DIV/0!"}}]
[null,{"$f":"Macro!A2518","v":0},{"$f":"Macro!B2518","v":0},{"$f":"Macro!E2518","v":{"$error":"#DIV/0!"}}]
[null,{"$f":"Macro!A2519","v":0},{"$f":"Macro!B2519","v":0},{"$f":"Macro!E2519","v":{"$error":"#DIV/0!"}}]
[null,{"$f":"Macro!A2520","v":0},{"$f":"Macro!B2520","v":0},{"$f":"Macro!E2520","v":{"$error":"#DIV/0!"}}]
[null,{"$f":"Macro!A2521","v":0},{"$f":"Macro!B2521","v":0},{"$f":"Macro!E2521","v":{"$error":"#DIV/0!"}}]
[null,{"$f":"Macro!A2522","v":0},{"$f":"Macro!B2522","v":0},{"$f":"Macro!E2522","v":{"$error":"#DIV/0!"}}]
[null,{"$f":"Macro!A2523","v":0},{"$f":"Macro!B2523","v":0},{"$f":"Macro!E2523","v":{"$error":"#DIV/0!"}}]
[null,{"$f":"Macro!A2524","v":0},{"$f":"Macro!B2524","v":0},{"$f":"Macro!E2524","v":{"$error":"#DIV/0!"}}]
[null,{"$f":"Macro!A2525","v":0},{"$f":"Macro!B2525","v":0},{"$f":"Macro!E2525","v":{"$error":"#DIV/0!"}}]
[null,{"$f":"Macro!A2526","v":0},{"$f":"Macro!B2526","v":0},{"$f":"Macro!E2526","v":{"$error":"#DIV/0!"}}]
[null,{"$f":"Macro!A2527","v":0},{"$f":"Macro!B2527","v":0},{"$f":"Macro!E2527","v":{"$error":"#DIV/0!"}}]
[null,{"$f":"Macro!A2528","v":0},{"$f":"Macro!B2528","v":0},{"$f":"Macro!E2528","v":{"$error":"#DIV/0!"}}]
[null,{"$f":"Macro!A2529","v":0},{"$f":"Macro!B2529","v":0},{"$f":"Macro!E2529","v":{"$error":"#DIV/0!"}}]
[null,{"$f":"Macro!A2530","v":0},{"$f":"Macro!B2530","v":0},{"$f":"Macro!E2530","v":{"$error":"#DIV/0!"}}]
[null,{"$f":"Macro!A2531","v":0},{"$f":"Macro!B2531","v":0},{"$f":"Macro!E2531","v":{"$error":"#DIV/0!"}}]
[null,{"$f":"Macro!A2532","v":0},{"$f":"Macro!B2532","v":0},{"$f":"Macro!E2532","v":{"$error":"#DIV/0!"}}]
[null,{"$f":"Macro!A2533","v":0},{"$f":"Macro!B2533","v":0},{"$f":"Macro!E2533","v":{"$error":"#DIV/0!"}}]
[null,{"$f":"Macro!A2534","v":0},{"$f":"Macro!B2534","v":0},{"$f":"Macro!E2534","v":{"$error":"#DIV/0!"}}]
[null,{"$f":"Macro!A2535","v":0},{"$f":"Macro!B2535","v":0},{"$f":"Macro!E2535","v":{"$error":"#DIV/0!"}}]
[null,{"$f":"Macro!A2536","v":0},{"$f":"Macro!B2536","v":0},{"$f":"Macro!E2536","v":{"$error":"#DIV/0!"}}]
[null,{"$f":"Macro!A2537","v":0},{"$f":"Macro!B2537","v":0},{"$f":"Macro!E2537","v":{"$error":"#DIV/0!"}}]
[null,{"$f":"Macro!A2538","v":0},{"$f":"Macro!B2538","v":0},{"$f":"Macro!E2538","v":{"$error":"#DIV/0!"}}]
[null,{"$f":"Macro!A2539","v":0},{"$f":"Macro!B2539","v":0},{"$f":"Macro!E2539","v":{"$error":"#DIV/0!"}}]
[null,{"$f":"Macro!A2540","v":0},{"$f":"Macro!B2540","v":0},{"$f":"Macro!E2540","v":{"$error":"#DIV/0!"}}]
[null,{"$f":"Macro!A2541","v":0},{"$f":"Macro!B2541","v":0},{"$f":"Macro!E2541","v":{"$error":"#DIV/0!"}}]
[null,{"$f":"Macro!A2542","v":0},{"$f":"Macro!B2542","v":0},{"$f":"Macro!E2542","v":{"$error":"#DIV/0!"}}]
[null,{"$f":"Macro!A2543","v":0},{"$f":"Macro!B2543","v":0},{"$f":"Macro!E2543","v":{"$error":"#DIV/0!"}}]
[null,{"$f":"Macro!A2544","v":0},{"$f":"Macro!B2544","v":0},{"$f":"Macro!E2544","v":{"$error":"#DIV/0!"}}]
[null,{"$f":"Macro!A2545","v":0},{"$f":"Macro!B2545","v":0},{"$f":"Macro!E2545","v":{"$error":"#DIV/0!"}}]
[null,{"$f":"Macro!A2546","v":0},{"$f":"Macro!B2546","v":0},{"$f":"Macro!E2546","v":{"$error":"#DIV/0!"}}]
[null,{"$f":"Macro!A2547","v":0},{"$f":"Macro!B2547","v":0},{"$f":"Macro!E2547","v":{"$error":"#DIV/0!"}}]
[null,{"$f":"Macro!A2548","v":0},{"$f":"Macro!B2548","v":0},{"$f":"Macro!E2548","v":{"$error":"#DIV/0!"}}]
[null,{"$f":"Macro!A2549","v":0},{"$f":"Macro!B2549","v":0},{"$f":"Macro!E2549","v":{"$error":"#DIV/0!"}}]
[null,{"$f":"Macro!A2550","v":0},{"$f":"Macro!B2550","v":0},{"$f":"Macro!E2550","v":{"$error":"#DIV/0!"}}]
[null,{"$f":"Macro!A2551","v":0},{"$f":"Macro!B2551","v":0},{"$f":"Macro!E2551","v":{"$error":"#DIV/0!"}}]
[null,{"$f":"Macro!A2552","v":0},{"$f":"Macro!B2552","v":0},{"$f":"Macro!E2552","v":{"$error":"#DIV/0!"}}]
[null,{"$f":"Macro!A2553","v":0},{"$f":"Macro!B2553","v":0},{"$f":"Macro!E2553","v":{"$error":"#DIV/0!"}}]
[null,{"$f":"Macro!A2554","v":0},{"$f":"Macro!B2554","v":0},{"$f":"Macro!E2554","v":{"$error":"#DIV/0!"}}]
[null,{"$f":"Macro!A2555","v":0},{"$f":"Macro!B2555","v":0},{"$f":"Macro!E2555","v":{"$error":"#DIV/0!"}}]
[null,{"$f":"Macro!A2556","v":0},{"$f":"Macro!B2556","v":0},{"$f":"Macro!E2556","v":{"$error":"#DIV/0!"}}]
[null,{"$f":"Macro!A2557","v":0},{"$f":"Macro!B2557","v":0},{"$f":"Macro!E2557","v":{"$error":"#DIV/0!"}}]
[null,{"$f":"Macro!A2558","v":0},{"$f":"Macro!B2558","v":0},{"$f":"Macro!E2558","v":{"$error":"#DIV/0!"}}]
[null,{"$f":"Macro!A2559","v":0},{"$f":"Macro!B2559","v":0},{"$f":"Macro!E2559","v":{"$error":"#DIV/0!"}}]
[null,{"$f":"Macro!A2560","v":0},{"$f":"Macro!B2560","v":0},{"$f":"Macro!E2560","v":{"$error":"#DIV/0!"}}]
[null,{"$f":"Macro!A2561","v":0},{"$f":"Macro!B2561","v":0},{"$f":"Macro!E2561","v":{"$error":"#DIV/0!"}}]
[null,{"$f":"Macro!A2562","v":0},{"$f":"Macro!B2562","v":0},{"$f":"Macro!E2562","v":{"$error":"#DIV/0!"}}]
[null,{"$f":"Macro!A2563","v":0},{"$f":"Macro!B2563","v":0},{"$f":"Macro!E2563","v":{"$error":"#DIV/0!"}}]
[null,{"$f":"Macro!A2564","v":0},{"$f":"Macro!B2564","v":0},{"$f":"Macro!E2564","v":{"$error":"#DIV/0!"}}]
[null,{"$f":"Macro!A2565","v":0},{"$f":"Macro!B2565","v":0},{"$f":"Macro!E2565","v":{"$error":"#DIV/0!"}}]
[null,{"$f":"Macro!A2566","v":0},{"$f":"Macro!B2566","v":0},{"$f":"Macro!E2566","v":{"$error":"#DIV/0!"}}]
[null,{"$f":"Macro!A2567","v":0},{"$f":"Macro!B2567","v":0},{"$f":"Macro!E2567","v":{"$error":"#DIV/0!"}}]
[null,{"$f":"Macro!A2568","v":0},{"$f":"Macro!B2568","v":0},{"$f":"Macro!E2568","v":{"$error":"#DIV/0!"}}]
[null,{"$f":"Macro!A2569","v":0},{"$f":"Macro!B2569","v":0},{"$f":"Macro!E2569","v":{"$error":"#DIV/0!"}}]
[null,{"$f":"Macro!A2570","v":0},{"$f":"Macro!B2570","v":0},{"$f":"Macro!E2570","v":{"$error":"#DIV/0!"}}]
[null,{"$f":"Macro!A2571","v":0},{"$f":"Macro!B2571","v":0},{"$f":"Macro!E2571","v":{"$error":"#DIV/0!"}}]
[null,{"$f":"Macro!A2572","v":0},{"$f":"Macro!B2572","v":0},{"$f":"Macro!E2572","v":{"$error":"#DIV/0!"}}]
[null,{"$f":"Macro!A2573","v":0},{"$f":"Macro!B2573","v":0},{"$f":"Macro!E2573","v":{"$error":"#DIV/0!"}}]
[null,{"$f":"Macro!A2574","v":0},{"$f":"Macro!B2574","v":0},{"$f":"Macro!E2574","v":{"$error":"#DIV/0!"}}]
[null,{"$f":"Macro!A2575","v":0},{"$f":"Macro!B2575","v":0},{"$f":"Macro!E2575","v":{"$error":"#DIV/0!"}}]
[null,{"$f":"Macro!A2576","v":0},{"$f":"Macro!B2576","v":0},{"$f":"Macro!E2576","v":{"$error":"#DIV/0!"}}]
[null,{"$f":"Macro!A2577","v":0},{"$f":"Macro!B2577","v":0},{"$f":"Macro!E2577","v":{"$error":"#DIV/0!"}}]
[null,{"$f":"Macro!A2578","v":0},{"$f":"Macro!B2578","v":0},{"$f":"Macro!E2578","v":{"$error":"#DIV/0!"}}]
[null,{"$f":"Macro!A2579","v":0},{"$f":"Macro!B2579","v":0},{"$f":"Macro!E2579","v":{"$error":"#DIV/0!"}}]
[null,{"$f":"Macro!A2580","v":0},{"$f":"Macro!B2580","v":0},{"$f":"Macro!E2580","v":{"$error":"#DIV/0!"}}]
[null,{"$f":"Macro!A2581","v":0},{"$f":"Macro!B2581","v":0},{"$f":"Macro!E2581","v":{"$error":"#DIV/0!"}}]
[null,{"$f":"Macro!A2582","v":0},{"$f":"Macro!B2582","v":0},{"$f":"Macro!E2582","v":{"$error":"#DIV/0!"}}]
[null,{"$f":"Macro!A2583","v":0},{"$f":"Macro!B2583","v":0},{"$f":"Macro!E2583","v":{"$error":"#DIV/0!"}}]
[null,{"$f":"Macro!A2584","v":0},{"$f":"Macro!B2584","v":0},{"$f":"Macro!E2584","v":{"$error":"#DIV/0!"}}]
[null,{"$f":"Macro!A2585","v":0},{"$f":"Macro!B2585","v":0},{"$f":"Macro!E2585","v":{"$error":"#DIV/0!"}}]
[null,{"$f":"Macro!A2586","v":0},{"$f":"Macro!B2586","v":0},{"$f":"Macro!E2586","v":{"$error":"#DIV/0!"}}]
[null,{"$f":"Macro!A2587","v":0},{"$f":"Macro!B2587","v":0},{"$f":"Macro!E2587","v":{"$error":"#DIV/0!"}}]
[null,{"$f":"Macro!A2588","v":0},{"$f":"Macro!B2588","v":0},{"$f":"Macro!E2588","v":{"$error":"#DIV/0!"}}]
[null,{"$f":"Macro!A2589","v":0},{"$f":"Macro!B2589","v":0},{"$f":"Macro!E2589","v":{"$error":"#DIV/0!"}}]
[null,{"$f":"Macro!A2590","v":0},{"$f":"Macro!B2590","v":0},{"$f":"Macro!E2590","v":{"$error":"#DIV/0!"}}]
[null,{"$f":"Macro!A2591","v":0},{"$f":"Macro!B2591","v":0},{"$f":"Macro!E2591","v":{"$error":"#DIV/0!"}}]
[null,{"$f":"Macro!A2592","v":0},{"$f":"Macro!B2592","v":0},{"$f":"Macro!E2592","v":{"$error":"#DIV/0!"}}]
[null,{"$f":"Macro!A2593","v":0},{"$f":"Macro!B2593","v":0},{"$f":"Macro!E2593","v":{"$error":"#DIV/0!"}}]
[null,{"$f":"Macro!A2594","v":0},{"$f":"Macro!B2594","v":0},{"$f":"Macro!E2594","v":{"$error":"#DIV/0!"}}]
[null,{"$f":"Macro!A2595","v":0},{"$f":"Macro!B2595","v":0},{"$f":"Macro!E2595","v":{"$error":"#DIV/0!"}}]
[null,{"$f":"Macro!A2596","v":0},{"$f":"Macro!B2596","v":0},{"$f":"Macro!E2596","v":{"$error":"#DIV/0!"}}]
[null,{"$f":"Macro!A2597","v":0},{"$f":"Macro!B2597","v":0},{"$f":"Macro!E2597","v":{"$error":"#DIV/0!"}}]
[null,{"$f":"Macro!A2598","v":0},{"$f":"Macro!B2598","v":0},{"$f":"Macro!E2598","v":{"$error":"#DIV/0!"}}]
[null,{"$f":"Macro!A2599","v":0},{"$f":"Macro!B2599","v":0},{"$f":"Macro!E2599","v":{"$error":"#DIV/0!"}}]
[null,{"$f":"Macro!A2600","v":0},{"$f":"Macro!B2600","v":0},{"$f":"Macro!E2600","v":{"$error":"#DIV/0!"}}]
[null,{"$f":"Macro!A2601","v":0},{"$f":"Macro!B2601","v":0},{"$f":"Macro!E2601","v":{"$error":"#DIV/0!"}}]
[null,{"$f":"Macro!A2602","v":0},{"$f":"Macro!B2602","v":0},{"$f":"Macro!E2602","v":{"$error":"#DIV/0!"}}]
[null,{"$f":"Macro!A2603","v":0},{"$f":"Macro!B2603","v":0},{"$f":"Macro!E2603","v":{"$error":"#DIV/0!"}}]
[null,{"$f":"Macro!A2604","v":0},{"$f":"Macro!B2604","v":0},{"$f":"Macro!E2604","v":{"$error":"#DIV/0!"}}]
[null,{"$f":"Macro!A2605","v":0},{"$f":"Macro!B2605","v":0},{"$f":"Macro!E2605","v":{"$error":"#DIV/0!"}}]
[null,{"$f":"Macro!A2606","v":0},{"$f":"Macro!B2606","v":0},{"$f":"Macro!E2606","v":{"$error":"#DIV/0!"}}]
[null,{"$f":"Macro!A2607","v":0},{"$f":"Macro!B2607","v":0},{"$f":"Macro!E2607","v":{"$error":"#DIV/0!"}}]
[null,{"$f":"Macro!A2608","v":0},{"$f":"Macro!B2608","v":0},{"$f":"Macro!E2608","v":{"$error":"#DIV/0!"}}]
[null,{"$f":"Macro!A2609","v":0},{"$f":"Macro!B2609","v":0},{"$f":"Macro!E2609","v":{"$error":"#DIV/0!"}}]
[null,{"$f":"Macro!A2610","v":0},{"$f":"Macro!B2610","v":0},{"$f":"Macro!E2610","v":{"$error":"#DIV/0!"}}]
[null,{"$f":"Macro!A2611","v":0},{"$f":"Macro!B2611","v":0},{"$f":"Macro!E2611","v":{"$error":"#DIV/0!"}}]
[null,{"$f":"Macro!A2612","v":0},{"$f":"Macro!B2612","v":0},{"$f":"Macro!E2612","v":{"$error":"#DIV/0!"}}]
[null,{"$f":"Macro!A2613","v":0},{"$f":"Macro!B2613","v":0},{"$f":"Macro!E2613","v":{"$error":"#DIV/0!"}}]
[null,{"$f":"Macro!A2614","v":0},{"$f":"Macro!B2614","v":0},{"$f":"Macro!E2614","v":{"$error":"#DIV/0!"}}]
[null,{"$f":"Macro!A2615","v":0},{"$f":"Macro!B2615","v":0},{"$f":"Macro!E2615","v":{"$error":"#DIV/0!"}}]
[null,{"$f":"Macro!A2616","v":0},{"$f":"Macro!B2616","v":0},{"$f":"Macro!E2616","v":{"$error":"#DIV/0!"}}]
[null,{"$f":"Macro!A2617","v":0},{"$f":"Macro!B2617","v":0},{"$f":"Macro!E2617","v":{"$error":"#DIV/0!"}}]
[null,{"$f":"Macro!A2618","v":0},{"$f":"Macro!B2618","v":0},{"$f":"Macro!E2618","v":{"$error":"#DIV/0!"}}]
[null,{"$f":"Macro!A2619","v":0},{"$f":"Macro!B2619","v":0},{"$f":"Macro!E2619","v":{"$error":"#DIV/0!"}}]
[null,{"$f":"Macro!A2620","v":0},{"$f":"Macro!B2620","v":0},{"$f":"Macro!E2620","v":{"$error":"#DIV/0!"}}]
[null,{"$f":"Macro!A2621","v":0},{"$f":"Macro!B2621","v":0},{"$f":"Macro!E2621","v":{"$error":"#DIV/0!"}}]
[null,{"$f":"Macro!A2622","v":0},{"$f":"Macro!B2622","v":0},{"$f":"Macro!E2622","v":{"$error":"#DIV/0!"}}]
[null,{"$f":"Macro!A2623","v":0},{"$f":"Macro!B2623","v":0},{"$f":"Macro!E2623","v":{"$error":"#DIV/0!"}}]
[null,{"$f":"Macro!A2624","v":0},{"$f":"Macro!B2624","v":0},{"$f":"Macro!E2624","v":{"$error":"#DIV/0!"}}]
[null,{"$f":"Macro!A2625","v":0},{"$f":"Macro!B2625","v":0},{"$f":"Macro!E2625","v":{"$error":"#DIV/0!"}}]
[null,{"$f":"Macro!A2626","v":0},{"$f":"Macro!B2626","v":0},{"$f":"Macro!E2626","v":{"$error":"#DIV/0!"}}]
[null,{"$f":"Macro!A2627","v":0},{"$f":"Macro!B2627","v":0},{"$f":"Macro!E2627","v":{"$error":"#DIV/0!"}}]
[null,{"$f":"Macro!A2628","v":0},{"$f":"Macro!B2628","v":0},{"$f":"Macro!E2628","v":{"$error":"#DIV/0!"}}]
[null,{"$f":"Macro!A2629","v":0},{"$f":"Macro!B2629","v":0},{"$f":"Macro!E2629","v":{"$error":"#DIV/0!"}}]
[null,{"$f":"Macro!A2630","v":0},{"$f":"Macro!B2630","v":0},{"$f":"Macro!E2630","v":{"$error":"#DIV/0!"}}]
[null,{"$f":"Macro!A2631","v":0},{"$f":"Macro!B2631","v":0},{"$f":"Macro!E2631","v":{"$error":"#DIV/0!"}}]
[null,{"$f":"Macro!A2632","v":0},{"$f":"Macro!B2632","v":0},{"$f":"Macro!E2632","v":{"$error":"#DIV/0!"}}]
[null,{"$f":"Macro!A2633","v":0},{"$f":"Macro!B2633","v":0},{"$f":"Macro!E2633","v":{"$error":"#DIV/0!"}}]
[null,{"$f":"Macro!A2634","v":0},{"$f":"Macro!B2634","v":0},{"$f":"Macro!E2634","v":{"$error":"#DIV/0!"}}]
[null,{"$f":"Macro!A2635","v":0},{"$f":"Macro!B2635","v":0},{"$f":"Macro!E2635","v":{"$error":"#DIV/0!"}}]
[null,{"$f":"Macro!A2636","v":0},{"$f":"Macro!B2636","v":0},{"$f":"Macro!E2636","v":{"$error":"#DIV/0!"}}]
[null,{"$f":"Macro!A2637","v":0},{"$f":"Macro!B2637","v":0},{"$f":"Macro!E2637","v":{"$error":"#DIV/0!"}}]
[null,{"$f":"Macro!A2638","v":0},{"$f":"Macro!B2638","v":0},{"$f":"Macro!E2638","v":{"$error":"#DIV/0!"}}]
[null,{"$f":"Macro!A2639","v":0},{"$f":"Macro!B2639","v":0},{"$f":"Macro!E2639","v":{"$error":"#DIV/0!"}}]
[null,{"$f":"Macro!A2640","v":0},{"$f":"Macro!B2640","v":0},{"$f":"Macro!E2640","v":{"$error":"#DIV/0!"}}]
[null,{"$f":"Macro!A2641","v":0},{"$f":"Macro!B2641","v":0},{"$f":"Macro!E2641","v":{"$error":"#DIV/0!"}}]
[null,{"$f":"Macro!A2642","v":0},{"$f":"Macro!B2642","v":0},{"$f":"Macro!E2642","v":{"$error":"#DIV/0!"}}]
[null,{"$f":"Macro!A2643","v":0},{"$f":"Macro!B2643","v":0},{"$f":"Macro!E2643","v":{"$error":"#DIV/0!"}}]
[null,{"$f":"Macro!A2644","v":0},{"$f":"Macro!B2644","v":0},{"$f":"Macro!E2644","v":{"$error":"#DIV/0!"}}]
[null,{"$f":"Macro!A2645","v":0},{"$f":"Macro!B2645","v":0},{"$f":"Macro!E2645","v":{"$error":"#DIV/0!"}}]
[null,{"$f":"Macro!A2646","v":0},{"$f":"Macro!B2646","v":0},{"$f":"Macro!E2646","v":{"$error":"#DIV/0!"}}]
[null,{"$f":"Macro!A2647","v":0},{"$f":"Macro!B2647","v":0},{"$f":"Macro!E2647","v":{"$error":"#DIV/0!"}}]
[null,{"$f":"Macro!A2648","v":0},{"$f":"Macro!B2648","v":0},{"$f":"Macro!E2648","v":{"$error":"#DIV/0!"}}]
[null,{"$f":"Macro!A2649","v":0},{"$f":"Macro!B2649","v":0},{"$f":"Macro!E2649","v":{"$error":"#DIV/0!"}}]
[null,{"$f":"Macro!A2650","v":0},{"$f":"Macro!B2650","v":0},{"$f":"Macro!E2650","v":{"$error":"#DIV/0!"}}]
[null,{"$f":"Macro!A2651","v":0},{"$f":"Macro!B2651","v":0},{"$f":"Macro!E2651","v":{"$error":"#DIV/0!"}}]
[null,{"$f":"Macro!A2652","v":0},{"$f":"Macro!B2652","v":0},{"$f":"Macro!E2652","v":{"$error":"#DIV/0!"}}]
[null,{"$f":"Macro!A2653","v":0},{"$f":"Macro!B2653","v":0},{"$f":"Macro!E2653","v":{"$error":"#DIV/0!"}}]
[null,{"$f":"Macro!A2654","v":0},{"$f":"Macro!B2654","v":0},{"$f":"Macro!E2654","v":{"$error":"#DIV/0!"}}]
[null,{"$f":"Macro!A2655","v":0},{"$f":"Macro!B2655","v":0},{"$f":"Macro!E2655","v":{"$error":"#DIV/0!"}}]
[null,{"$f":"Macro!A2656","v":0},{"$f":"Macro!B2656","v":0},{"$f":"Macro!E2656","v":{"$error":"#DIV/0!"}}]
[null,{"$f":"Macro!A2657","v":0},{"$f":"Macro!B2657","v":0},{"$f":"Macro!E2657","v":{"$error":"#DIV/0!"}}]
[null,{"$f":"Macro!A2658","v":0},{"$f":"Macro!B2658","v":0},{"$f":"Macro!E2658","v":{"$error":"#DIV/0!"}}]
[null,{"$f":"Macro!A2659","v":0},{"$f":"Macro!B2659","v":0},{"$f":"Macro!E2659","v":{"$error":"#DIV/0!"}}]
[null,{"$f":"Macro!A2660","v":0},{"$f":"Macro!B2660","v":0},{"$f":"Macro!E2660","v":{"$error":"#DIV/0!"}}]
[null,{"$f":"Macro!A2661","v":0},{"$f":"Macro!B2661","v":0},{"$f":"Macro!E2661","v":{"$error":"#DIV/0!"}}]
[null,{"$f":"Macro!A2662","v":0},{"$f":"Macro!B2662","v":0},{"$f":"Macro!E2662","v":{"$error":"#DIV/0!"}}]
[null,{"$f":"Macro!A2663","v":0},{"$f":"Macro!B2663","v":0},{"$f":"Macro!E2663","v":{"$error":"#DIV/0!"}}]
[null,{"$f":"Macro!A2664","v":0},{"$f":"Macro!B2664","v":0},{"$f":"Macro!E2664","v":{"$error":"#DIV/0!"}}]
[null,{"$f":"Macro!A2665","v":0},{"$f":"Macro!B2665","v":0},{"$f":"Macro!E2665","v":{"$error":"#DIV/0!"}}]
[null,{"$f":"Macro!A2666","v":0},{"$f":"Macro!B2666","v":0},{"$f":"Macro!E2666","v":{"$error":"#DIV/0!"}}]
[null,{"$f":"Macro!A2667","v":0},{"$f":"Macro!B2667","v":0},{"$f":"Macro!E2667","v":{"$error":"#DIV/0!"}}]
[null,{"$f":"Macro!A2668","v":0},{"$f":"Macro!B2668","v":0},{"$f":"Macro!E2668","v":{"$error":"#DIV/0!"}}]
[null,{"$f":"Macro!A2669","v":0},{"$f":"Macro!B2669","v":0},{"$f":"Macro!E2669","v":{"$error":"#DIV/0!"}}]
[null,{"$f":"Macro!A2670","v":0},{"$f":"Macro!B2670","v":0},{"$f":"Macro!E2670","v":{"$error":"#DIV/0!"}}]
[null,{"$f":"Macro!A2671","v":0},{"$f":"Macro!B2671","v":0},{"$f":"Macro!E2671","v":{"$error":"#DIV/0!"}}]
[null,{"$f":"Macro!A2672","v":0},{"$f":"Macro!B2672","v":0},{"$f":"Macro!E2672","v":{"$error":"#DIV/0!"}}]
[null,{"$f":"Macro!A2673","v":0},{"$f":"Macro!B2673","v":0},{"$f":"Macro!E2673","v":{"$error":"#DIV/0!"}}]
[null,{"$f":"Macro!A2674","v":0},{"$f":"Macro!B2674","v":0},{"$f":"Macro!E2674","v":{"$error":"#DIV/0!"}}]
[null,{"$f":"Macro!A2675","v":0},{"$f":"Macro!B2675","v":0},{"$f":"Macro!E2675","v":{"$error":"#DIV/0!"}}]
[null,{"$f":"Macro!A2676","v":0},{"$f":"Macro!B2676","v":0},{"$f":"Macro!E2676","v":{"$error":"#DIV/0!"}}]
[null,{"$f":"Macro!A2677","v":0},{"$f":"Macro!B2677","v":0},{"$f":"Macro!E2677","v":{"$error":"#DIV/0!"}}]
[null,{"$f":"Macro!A2678","v":0},{"$f":"Macro!B2678","v":0},{"$f":"Macro!E2678","v":{"$error":"#DIV/0!"}}]
[null,{"$f":"Macro!A2679","v":0},{"$f":"Macro!B2679","v":0},{"$f":"Macro!E2679","v":{"$error":"#DIV/0!"}}]
[null,{"$f":"Macro!A2680","v":0},{"$f":"Macro!B2680","v":0},{"$f":"Macro!E2680","v":{"$error":"#DIV/0!"}}]
[null,{"$f":"Macro!A2681","v":0},{"$f":"Macro!B2681","v":0},{"$f":"Macro!E2681","v":{"$error":"#DIV/0!"}}]
[null,{"$f":"Macro!A2682","v":0},{"$f":"Macro!B2682","v":0},{"$f":"Macro!E2682","v":{"$error":"#DIV/0!"}}]
[null,{"$f":"Macro!A2683","v":0},{"$f":"Macro!B2683","v":0},{"$f":"Macro!E2683","v":{"$error":"#DIV/0!"}}]
[null,{"$f":"Macro!A2684","v":0},{"$f":"Macro!B2684","v":0},{"$f":"Macro!E2684","v":{"$error":"#DIV/0!"}}]
[null,{"$f":"Macro!A2685","v":0},{"$f":"Macro!B2685","v":0},{"$f":"Macro!E2685","v":{"$error":"#DIV/0!"}}]
[null,{"$f":"Macro!A2686","v":0},{"$f":"Macro!B2686","v":0},{"$f":"Macro!E2686","v":{"$error":"#DIV/0!"}}]
[null,{"$f":"Macro!A2687","v":0},{"$f":"Macro!B2687","v":0},{"$f":"Macro!E2687","v":{"$error":"#DIV/0!"}}]
[null,{"$f":"Macro!A2688","v":0},{"$f":"Macro!B2688","v":0},{"$f":"Macro!E2688","v":{"$error":"#DIV/0!"}}]
[null,{"$f":"Macro!A2689","v":0},{"$f":"Macro!B2689","v":0},{"$f":"Macro!E2689","v":{"$error":"#DIV/0!"}}]
[null,{"$f":"Macro!A2690","v":0},{"$f":"Macro!B2690","v":0},{"$f":"Macro!E2690","v":{"$error":"#DIV/0!"}}]
[null,{"$f":"Macro!A2691","v":0},{"$f":"Macro!B2691","v":0},{"$f":"Macro!E2691","v":{"$error":"#DIV/0!"}}]
[null,{"$f":"Macro!A2692","v":0},{"$f":"Macro!B2692","v":0},{"$f":"Macro!E2692","v":{"$error":"#DIV/0!"}}]
[null,{"$f":"Macro!A2693","v":0},{"$f":"Macro!B2693","v":0},{"$f":"Macro!E2693","v":{"$error":"#DIV/0!"}}]
[null,{"$f":"Macro!A2694","v":0},{"$f":"Macro!B2694","v":0},{"$f":"Macro!E2694","v":{"$error":"#DIV/0!"}}]
[null,{"$f":"Macro!A2695","v":0},{"$f":"Macro!B2695","v":0},{"$f":"Macro!E2695","v":{"$error":"#DIV/0!"}}]
[null,{"$f":"Macro!A2696","v":0},{"$f":"Macro!B2696","v":0},{"$f":"Macro!E2696","v":{"$error":"#DIV/0!"}}]
[null,{"$f":"Macro!A2697","v":0},{"$f":"Macro!B2697","v":0},{"$f":"Macro!E2697","v":{"$error":"#DIV/0!"}}]
[null,{"$f":"Macro!A2698","v":0},{"$f":"Macro!B2698","v":0},{"$f":"Macro!E2698","v":{"$error":"#DIV/0!"}}]
[null,{"$f":"Macro!A2699","v":0},{"$f":"Macro!B2699","v":0},{"$f":"Macro!E2699","v":{"$error":"#DIV/0!"}}]
[null,{"$f":"Macro!A2700","v":0},{"$f":"Macro!B2700","v":0},{"$f":"Macro!E2700","v":{"$error":"#DIV/0!"}}]
[null,{"$f":"Macro!A2701","v":0},{"$f":"Macro!B2701","v":0},{"$f":"Macro!E2701","v":{"$error":"#DIV/0!"}}]
[null,{"$f":"Macro!A2702","v":0},{"$f":"Macro!B2702","v":0},{"$f":"Macro!E2702","v":{"$error":"#DIV/0!"}}]
[null,{"$f":"Macro!A2703","v":0},{"$f":"Macro!B2703","v":0},{"$f":"Macro!E2703","v":{"$error":"#DIV/0!"}}]
[null,{"$f":"Macro!A2704","v":0},{"$f":"Macro!B2704","v":0},{"$f":"Macro!E2704","v":{"$error":"#DIV/0!"}}]
[null,{"$f":"Macro!A2705","v":0},{"$f":"Macro!B2705","v":0},{"$f":"Macro!E2705","v":{"$error":"#DIV/0!"}}]
[null,{"$f":"Macro!A2706","v":0},{"$f":"Macro!B2706","v":0},{"$f":"Macro!E2706","v":{"$error":"#DIV/0!"}}]
[null,{"$f":"Macro!A2707","v":0},{"$f":"Macro!B2707","v":0},{"$f":"Macro!E2707","v":{"$error":"#DIV/0!"}}]
[null,{"$f":"Macro!A2708","v":0},{"$f":"Macro!B2708","v":0},{"$f":"Macro!E2708","v":{"$error":"#DIV/0!"}}]
[null,{"$f":"Macro!A2709","v":0},{"$f":"Macro!B2709","v":0},{"$f":"Macro!E2709","v":{"$error":"#DIV/0!"}}]
[null,{"$f":"Macro!A2710","v":0},{"$f":"Macro!B2710","v":0},{"$f":"Macro!E2710","v":{"$error":"#DIV/0!"}}]
[null,{"$f":"Macro!A2711","v":0},{"$f":"Macro!B2711","v":0},{"$f":"Macro!E2711","v":{"$error":"#DIV/0!"}}]
[null,{"$f":"Macro!A2712","v":0},{"$f":"Macro!B2712","v":0},{"$f":"Macro!E2712","v":{"$error":"#DIV/0!"}}]
[null,{"$f":"Macro!A2713","v":0},{"$f":"Macro!B2713","v":0},{"$f":"Macro!E2713","v":{"$error":"#DIV/0!"}}]
[null,{"$f":"Macro!A2714","v":0},{"$f":"Macro!B2714","v":0},{"$f":"Macro!E2714","v":{"$error":"#DIV/0!"}}]
[null,{"$f":"Macro!A2715","v":0},{"$f":"Macro!B2715","v":0},{"$f":"Macro!E2715","v":{"$error":"#DIV/0!"}}]
[null,{"$f":"Macro!A2716","v":0},{"$f":"Macro!B2716","v":0},{"$f":"Macro!E2716","v":{"$error":"#DIV/0!"}}]
[null,{"$f":"Macro!A2717","v":0},{"$f":"Macro!B2717","v":0},{"$f":"Macro!E2717","v":{"$error":"#DIV/0!"}}]
[null,{"$f":"Macro!A2718","v":0},{"$f":"Macro!B2718","v":0},{"$f":"Macro!E2718","v":{"$error":"#DIV/0!"}}]
[null,{"$f":"Macro!A2719","v":0},{"$f":"Macro!B2719","v":0},{"$f":"Macro!E2719","v":{"$error":"#DIV/0!"}}]
[null,{"$f":"Macro!A2720","v":0},{"$f":"Macro!B2720","v":0},{"$f":"Macro!E2720","v":{"$error":"#DIV/0!"}}]
[null,{"$f":"Macro!A2721","v":0},{"$f":"Macro!B2721","v":0},{"$f":"Macro!E2721","v":{"$error":"#DIV/0!"}}]
[null,{"$f":"Macro!A2722","v":0},{"$f":"Macro!B2722","v":0},{"$f":"Macro!E2722","v":{"$error":"#DIV/0!"}}]
[null,{"$f":"Macro!A2723","v":0},{"$f":"Macro!B2723","v":0},{"$f":"Macro!E2723","v":{"$error":"#DIV/0!"}}]
[null,{"$f":"Macro!A2724","v":0},{"$f":"Macro!B2724","v":0},{"$f":"Macro!E2724","v":{"$error":"#DIV/0!"}}]
[null,{"$f":"Macro!A2725","v":0},{"$f":"Macro!B2725","v":0},{"$f":"Macro!E2725","v":{"$error":"#DIV/0!"}}]
[null,{"$f":"Macro!A2726","v":0},{"$f":"Macro!B2726","v":0},{"$f":"Macro!E2726","v":{"$error":"#DIV/0!"}}]
[null,{"$f":"Macro!A2727","v":0},{"$f":"Macro!B2727","v":0},{"$f":"Macro!E2727","v":{"$error":"#DIV/0!"}}]
[null,{"$f":"Macro!A2728","v":0},{"$f":"Macro!B2728","v":0},{"$f":"Macro!E2728","v":{"$error":"#DIV/0!"}}]
[null,{"$f":"Macro!A2729","v":0},{"$f":"Macro!B2729","v":0},{"$f":"Macro!E2729","v":{"$error":"#DIV/0!"}}]
[null,{"$f":"Macro!A2730","v":0},{"$f":"Macro!B2730","v":0},{"$f":"Macro!E2730","v":{"$error":"#DIV/0!"}}]
[null,{"$f":"Macro!A2731","v":0},{"$f":"Macro!B2731","v":0},{"$f":"Macro!E2731","v":{"$error":"#DIV/0!"}}]
[null,{"$f":"Macro!A2732","v":0},{"$f":"Macro!B2732","v":0},{"$f":"Macro!E2732","v":{"$error":"#DIV/0!"}}]
[null,{"$f":"Macro!A2733","v":0},{"$f":"Macro!B2733","v":0},{"$f":"Macro!E2733","v":{"$error":"#DIV/0!"}}]
[null,{"$f":"Macro!A2734","v":0},{"$f":"Macro!B2734","v":0},{"$f":"Macro!E2734","v":{"$error":"#DIV/0!"}}]
[null,{"$f":"Macro!A2735","v":0},{"$f":"Macro!B2735","v":0},{"$f":"Macro!E2735","v":{"$error":"#DIV/0!"}}]
[null,{"$f":"Macro!A2736","v":0},{"$f":"Macro!B2736","v":0},{"$f":"Macro!E2736","v":{"$error":"#DIV/0!"}}]
[null,{"$f":"Macro!A2737","v":0},{"$f":"Macro!B2737","v":0},{"$f":"Macro!E2737","v":{"$error":"#DIV/0!"}}]
[null,{"$f":"Macro!A2738","v":0},{"$f":"Macro!B2738","v":0},{"$f":"Macro!E2738","v":{"$error":"#DIV/0!"}}]
[null,{"$f":"Macro!A2739","v":0},{"$f":"Macro!B2739","v":0},{"$f":"Macro!E2739","v":{"$error":"#DIV/0!"}}]
[null,{"$f":"Macro!A2740","v":0},{"$f":"Macro!B2740","v":0},{"$f":"Macro!E2740","v":{"$error":"#DIV/0!"}}]
[null,{"$f":"Macro!A2741","v":0},{"$f":"Macro!B2741","v":0},{"$f":"Macro!E2741","v":{"$error":"#DIV/0!"}}]
[null,{"$f":"Macro!A2742","v":0},{"$f":"Macro!B2742","v":0},{"$f":"Macro!E2742","v":{"$error":"#DIV/0!"}}]
[null,{"$f":"Macro!A2743","v":0},{"$f":"Macro!B2743","v":0},{"$f":"Macro!E2743","v":{"$error":"#DIV/0!"}}]
[null,{"$f":"Macro!A2744","v":0},{"$f":"Macro!B2744","v":0},{"$f":"Macro!E2744","v":{"$error":"#DIV/0!"}}]
[null,{"$f":"Macro!A2745","v":0},{"$f":"Macro!B2745","v":0},{"$f":"Macro!E2745","v":{"$error":"#DIV/0!"}}]
[null,{"$f":"Macro!A2746","v":0},{"$f":"Macro!B2746","v":0},{"$f":"Macro!E2746","v":{"$error":"#DIV/0!"}}]
[null,{"$f":"Macro!A2747","v":0},{"$f":"Macro!B2747","v":0},{"$f":"Macro!E2747","v":{"$error":"#DIV/0!"}}]
[null,{"$f":"Macro!A2748","v":0},{"$f":"Macro!B2748","v":0},{"$f":"Macro!E2748","v":{"$error":"#DIV/0!"}}]
[null,{"$f":"Macro!A2749","v":0},{"$f":"Macro!B2749","v":0},{"$f":"Macro!E2749","v":{"$error":"#DIV/0!"}}]
[null,{"$f":"Macro!A2750","v":0},{"$f":"Macro!B2750","v":0},{"$f":"Macro!E2750","v":{"$error":"#DIV/0!"}}]
[null,{"$f":"Macro!A2751","v":0},{"$f":"Macro!B2751","v":0},{"$f":"Macro!E2751","v":{"$error":"#DIV/0!"}}]
[null,{"$f":"Macro!A2752","v":0},{"$f":"Macro!B2752","v":0},{"$f":"Macro!E2752","v":{"$error":"#DIV/0!"}}]
[null,{"$f":"Macro!A2753","v":0},{"$f":"Macro!B2753","v":0},{"$f":"Macro!E2753","v":{"$error":"#DIV/0!"}}]
[null,{"$f":"Macro!A2754","v":0},{"$f":"Macro!B2754","v":0},{"$f":"Macro!E2754","v":{"$error":"#DIV/0!"}}]
[null,{"$f":"Macro!A2755","v":0},{"$f":"Macro!B2755","v":0},{"$f":"Macro!E2755","v":{"$error":"#DIV/0!"}}]
[null,{"$f":"Macro!A2756","v":0},{"$f":"Macro!B2756","v":0},{"$f":"Macro!E2756","v":{"$error":"#DIV/0!"}}]
[null,{"$f":"Macro!A2757","v":0},{"$f":"Macro!B2757","v":0},{"$f":"Macro!E2757","v":{"$error":"#DIV/0!"}}]
[null,{"$f":"Macro!A2758","v":0},{"$f":"Macro!B2758","v":0},{"$f":"Macro!E2758","v":{"$error":"#DIV/0!"}}]
[null,{"$f":"Macro!A2759","v":0},{"$f":"Macro!B2759","v":0},{"$f":"Macro!E2759","v":{"$error":"#DIV/0!"}}]
[null,{"$f":"Macro!A2760","v":0},{"$f":"Macro!B2760","v":0},{"$f":"Macro!E2760","v":{"$error":"#DIV/0!"}}]
[null,{"$f":"Macro!A2761","v":0},{"$f":"Macro!B2761","v":0},{"$f":"Macro!E2761","v":{"$error":"#DIV/0!"}}]
[null,{"$f":"Macro!A2762","v":0},{"$f":"Macro!B2762","v":0},{"$f":"Macro!E2762","v":{"$error":"#DIV/0!"}}]
[null,{"$f":"Macro!A2763","v":0},{"$f":"Macro!B2763","v":0},{"$f":"Macro!E2763","v":{"$error":"#DIV/0!"}}]
[null,{"$f":"Macro!A2764","v":0},{"$f":"Macro!B2764","v":0},{"$f":"Macro!E2764","v":{"$error":"#DIV/0!"}}]
[null,{"$f":"Macro!A2765","v":0},{"$f":"Macro!B2765","v":0},{"$f":"Macro!E2765","v":{"$error":"#DIV/0!"}}]
[null,{"$f":"Macro!A2766","v":0},{"$f":"Macro!B2766","v":0},{"$f":"Macro!E2766","v":{"$error":"#DIV/0!"}}]
[null,{"$f":"Macro!A2767","v":0},{"$f":"Macro!B2767","v":0},{"$f":"Macro!E2767","v":{"$error":"#DIV/0!"}}]
[null,{"$f":"Macro!A2768","v":0},{"$f":"Macro!B2768","v":0},{"$f":"Macro!E2768","v":{"$error":"#DIV/0!"}}]
[null,{"$f":"Macro!A2769","v":0},{"$f":"Macro!B2769","v":0},{"$f":"Macro!E2769","v":{"$error":"#DIV/0!"}}]
[null,{"$f":"Macro!A2770","v":0},{"$f":"Macro!B2770","v":0},{"$f":"Macro!E2770","v":{"$error":"#DIV/0!"}}]
[null,{"$f":"Macro!A2771","v":0},{"$f":"Macro!B2771","v":0},{"$f":"Macro!E2771","v":{"$error":"#DIV/0!"}}]
[null,{"$f":"Macro!A2772","v":0},{"$f":"Macro!B2772","v":0},{"$f":"Macro!E2772","v":{"$error":"#DIV/0!"}}]
[null,{"$f":"Macro!A2773","v":0},{"$f":"Macro!B2773","v":0},{"$f":"Macro!E2773","v":{"$error":"#DIV/0!"}}]
[null,{"$f":"Macro!A2774","v":0},{"$f":"Macro!B2774","v":0},{"$f":"Macro!E2774","v":{"$error":"#DIV/0!"}}]
[null,{"$f":"Macro!A2775","v":0},{"$f":"Macro!B2775","v":0},{"$f":"Macro!E2775","v":{"$error":"#DIV/0!"}}]
[null,{"$f":"Macro!A2776","v":0},{"$f":"Macro!B2776","v":0},{"$f":"Macro!E2776","v":{"$error":"#DIV/0!"}}]
[null,{"$f":"Macro!A2777","v":0},{"$f":"Macro!B2777","v":0},{"$f":"Macro!E2777","v":{"$error":"#DIV/0!"}}]
[null,{"$f":"Macro!A2778","v":0},{"$f":"Macro!B2778","v":0},{"$f":"Macro!E2778","v":{"$error":"#DIV/0!"}}]
[null,{"$f":"Macro!A2779","v":0},{"$f":"Macro!B2779","v":0},{"$f":"Macro!E2779","v":{"$error":"#DIV/0!"}}]
[null,{"$f":"Macro!A2780","v":0},{"$f":"Macro!B2780","v":0},{"$f":"Macro!E2780","v":{"$error":"#DIV/0!"}}]
[null,{"$f":"Macro!A2781","v":0},{"$f":"Macro!B2781","v":0},{"$f":"Macro!E2781","v":{"$error":"#DIV/0!"}}]
[null,{"$f":"Macro!A2782","v":0},{"$f":"Macro!B2782","v":0},{"$f":"Macro!E2782","v":{"$error":"#DIV/0!"}}]
[null,{"$f":"Macro!A2783","v":0},{"$f":"Macro!B2783","v":0},{"$f":"Macro!E2783","v":{"$error":"#DIV/0!"}}]
[null,{"$f":"Macro!A2784","v":0},{"$f":"Macro!B2784","v":0},{"$f":"Macro!E2784","v":{"$error":"#DIV/0!"}}]
[null,{"$f":"Macro!A2785","v":0},{"$f":"Macro!B2785","v":0},{"$f":"Macro!E2785","v":{"$error":"#DIV/0!"}}]
[null,{"$f":"Macro!A2786","v":0},{"$f":"Macro!B2786","v":0},{"$f":"Macro!E2786","v":{"$error":"#DIV/0!"}}]
[null,{"$f":"Macro!A2787","v":0},{"$f":"Macro!B2787","v":0},{"$f":"Macro!E2787","v":{"$error":"#DIV/0!"}}]
[null,{"$f":"Macro!A2788","v":0},{"$f":"Macro!B2788","v":0},{"$f":"Macro!E2788","v":{"$error":"#DIV/0!"}}]
[null,{"$f":"Macro!A2789","v":0},{"$f":"Macro!B2789","v":0},{"$f":"Macro!E2789","v":{"$error":"#DIV/0!"}}]
[null,{"$f":"Macro!A2790","v":0},{"$f":"Macro!B2790","v":0},{"$f":"Macro!E2790","v":{"$error":"#DIV/0!"}}]
[null,{"$f":"Macro!A2791","v":0},{"$f":"Macro!B2791","v":0},{"$f":"Macro!E2791","v":{"$error":"#DIV/0!"}}]
[null,{"$f":"Macro!A2792","v":0},{"$f":"Macro!B2792","v":0},{"$f":"Macro!E2792","v":{"$error":"#DIV/0!"}}]
[null,{"$f":"Macro!A2793","v":0},{"$f":"Macro!B2793","v":0},{"$f":"Macro!E2793","v":{"$error":"#DIV/0!"}}]
[null,{"$f":"Macro!A2794","v":0},{"$f":"Macro!B2794","v":0},{"$f":"Macro!E2794","v":{"$error":"#DIV/0!"}}]
[null,{"$f":"Macro!A2795","v":0},{"$f":"Macro!B2795","v":0},{"$f":"Macro!E2795","v":{"$error":"#DIV/0!"}}]
[null,{"$f":"Macro!A2796","v":0},{"$f":"Macro!B2796","v":0},{"$f":"Macro!E2796","v":{"$error":"#DIV/0!"}}]
[null,{"$f":"Macro!A2797","v":0},{"$f":"Macro!B2797","v":0},{"$f":"Macro!E2797","v":{"$error":"#DIV/0!"}}]
[null,{"$f":"Macro!A2798","v":0},{"$f":"Macro!B2798","v":0},{"$f":"Macro!E2798","v":{"$error":"#DIV/0!"}}]
[null,{"$f":"Macro!A2799","v":0},{"$f":"Macro!B2799","v":0},{"$f":"Macro!E2799","v":{"$error":"#DIV/0!"}}]
[null,{"$f":"Macro!A2800","v":0},{"$f":"Macro!B2800","v":0},{"$f":"Macro!E2800","v":{"$error":"#DIV/0!"}}]
[null,{"$f":"Macro!A2801","v":0},{"$f":"Macro!B2801","v":0},{"$f":"Macro!E2801","v":{"$error":"#DIV/0!"}}]
[null,{"$f":"Macro!A2802","v":0},{"$f":"Macro!B2802","v":0},{"$f":"Macro!E2802","v":{"$error":"#DIV/0!"}}]
[null,{"$f":"Macro!A2803","v":0},{"$f":"Macro!B2803","v":0},{"$f":"Macro!E2803","v":{"$error":"#DIV/0!"}}]
[null,{"$f":"Macro!A2804","v":0},{"$f":"Macro!B2804","v":0},{"$f":"Macro!E2804","v":{"$error":"#DIV/0!"}}]
[null,{"$f":"Macro!A2805","v":0},{"$f":"Macro!B2805","v":0},{"$f":"Macro!E2805","v":{"$error":"#DIV/0!"}}]
[null,{"$f":"Macro!A2806","v":0},{"$f":"Macro!B2806","v":0},{"$f":"Macro!E2806","v":{"$error":"#DIV/0!"}}]
[null,{"$f":"Macro!A2807","v":0},{"$f":"Macro!B2807","v":0},{"$f":"Macro!E2807","v":{"$error":"#DIV/0!"}}]
[null,{"$f":"Macro!A2808","v":0},{"$f":"Macro!B2808","v":0},{"$f":"Macro!E2808","v":{"$error":"#DIV/0!"}}]
[null,{"$f":"Macro!A2809","v":0},{"$f":"Macro!B2809","v":0},{"$f":"Macro!E2809","v":{"$error":"#DIV/0!"}}]
[null,{"$f":"Macro!A2810","v":0},{"$f":"Macro!B2810","v":0},{"$f":"Macro!E2810","v":{"$error":"#DIV/0!"}}]
[null,{"$f":"Macro!A2811","v":0},{"$f":"Macro!B2811","v":0},{"$f":"Macro!E2811","v":{"$error":"#DIV/0!"}}]
[null,{"$f":"Macro!A2812","v":0},{"$f":"Macro!B2812","v":0},{"$f":"Macro!E2812","v":{"$error":"#DIV/0!"}}]
[null,{"$f":"Macro!A2813","v":0},{"$f":"Macro!B2813","v":0},{"$f":"Macro!E2813","v":{"$error":"#DIV/0!"}}]
[null,{"$f":"Macro!A2814","v":0},{"$f":"Macro!B2814","v":0},{"$f":"Macro!E2814","v":{"$error":"#DIV/0!"}}]
[null,{"$f":"Macro!A2815","v":0},{"$f":"Macro!B2815","v":0},{"$f":"Macro!E2815","v":{"$error":"#DIV/0!"}}]
[null,{"$f":"Macro!A2816","v":0},{"$f":"Macro!B2816","v":0},{"$f":"Macro!E2816","v":{"$error":"#DIV/0!"}}]
[null,{"$f":"Macro!A2817","v":0},{"$f":"Macro!B2817","v":0},{"$f":"Macro!E2817","v":{"$error":"#DIV/0!"}}]
[null,{"$f":"Macro!A2818","v":0},{"$f":"Macro!B2818","v":0},{"$f":"Macro!E2818","v":{"$error":"#DIV/0!"}}]
[null,{"$f":"Macro!A2819","v":0},{"$f":"Macro!B2819","v":0},{"$f":"Macro!E2819","v":{"$error":"#DIV/0!"}}]
[null,{"$f":"Macro!A2820","v":0},{"$f":"Macro!B2820","v":0},{"$f":"Macro!E2820","v":{"$error":"#DIV/0!"}}]
[null,{"$f":"Macro!A2821","v":0},{"$f":"Macro!B2821","v":0},{"$f":"Macro!E2821","v":{"$error":"#DIV/0!"}}]
[null,{"$f":"Macro!A2822","v":0},{"$f":"Macro!B2822","v":0},{"$f":"Macro!E2822","v":{"$error":"#DIV/0!"}}]
[null,{"$f":"Macro!A2823","v":0},{"$f":"Macro!B2823","v":0},{"$f":"Macro!E2823","v":{"$error":"#DIV/0!"}}]
[null,{"$f":"Macro!A2824","v":0},{"$f":"Macro!B2824","v":0},{"$f":"Macro!E2824","v":{"$error":"#DIV/0!"}}]
[null,{"$f":"Macro!A2825","v":0},{"$f":"Macro!B2825","v":0},{"$f":"Macro!E2825","v":{"$error":"#DIV/0!"}}]
[null,{"$f":"Macro!A2826","v":0},{"$f":"Macro!B2826","v":0},{"$f":"Macro!E2826","v":{"$error":"#DIV/0!"}}]
[null,{"$f":"Macro!A2827","v":0},{"$f":"Macro!B2827","v":0},{"$f":"Macro!E2827","v":{"$error":"#DIV/0!"}}]
[null,{"$f":"Macro!A2828","v":0},{"$f":"Macro!B2828","v":0},{"$f":"Macro!E2828","v":{"$error":"#DIV/0!"}}]
[null,{"$f":"Macro!A2829","v":0},{"$f":"Macro!B2829","v":0},{"$f":"Macro!E2829","v":{"$error":"#DIV/0!"}}]
[null,{"$f":"Macro!A2830","v":0},{"$f":"Macro!B2830","v":0},{"$f":"Macro!E2830","v":{"$error":"#DIV/0!"}}]
[null,{"$f":"Macro!A2831","v":0},{"$f":"Macro!B2831","v":0},{"$f":"Macro!E2831","v":{"$error":"#DIV/0!"}}]
[null,{"$f":"Macro!A2832","v":0},{"$f":"Macro!B2832","v":0},{"$f":"Macro!E2832","v":{"$error":"#DIV/0!"}}]
[null,{"$f":"Macro!A2833","v":0},{"$f":"Macro!B2833","v":0},{"$f":"Macro!E2833","v":{"$error":"#DIV/0!"}}]
[null,{"$f":"Macro!A2834","v":0},{"$f":"Macro!B2834","v":0},{"$f":"Macro!E2834","v":{"$error":"#DIV/0!"}}]
[null,{"$f":"Macro!A2835","v":0},{"$f":"Macro!B2835","v":0},{"$f":"Macro!E2835","v":{"$error":"#DIV/0!"}}]
[null,{"$f":"Macro!A2836","v":0},{"$f":"Macro!B2836","v":0},{"$f":"Macro!E2836","v":{"$error":"#DIV/0!"}}]
[null,{"$f":"Macro!A2837","v":0},{"$f":"Macro!B2837","v":0},{"$f":"Macro!E2837","v":{"$error":"#DIV/0!"}}]
[null,{"$f":"Macro!A2838","v":0},{"$f":"Macro!B2838","v":0},{"$f":"Macro!E2838","v":{"$error":"#DIV/0!"}}]
[null,{"$f":"Macro!A2839","v":0},{"$f":"Macro!B2839","v":0},{"$f":"Macro!E2839","v":{"$error":"#DIV/0!"}}]
[null,{"$f":"Macro!A2840","v":0},{"$f":"Macro!B2840","v":0},{"$f":"Macro!E2840","v":{"$error":"#DIV/0!"}}]
[null,{"$f":"Macro!A2841","v":0},{"$f":"Macro!B2841","v":0},{"$f":"Macro!E2841","v":{"$error":"#DIV/0!"}}]
[null,{"$f":"Macro!A2842","v":0},{"$f":"Macro!B2842","v":0},{"$f":"Macro!E2842","v":{"$error":"#DIV/0!"}}]
[null,{"$f":"Macro!A2843","v":0},{"$f":"Macro!B2843","v":0},{"$f":"Macro!E2843","v":{"$error":"#DIV/0!"}}]
[null,{"$f":"Macro!A2844","v":0},{"$f":"Macro!B2844","v":0},{"$f":"Macro!E2844","v":{"$error":"#DIV/0!"}}]
[null,{"$f":"Macro!A2845","v":0},{"$f":"Macro!B2845","v":0},{"$f":"Macro!E2845","v":{"$error":"#DIV/0!"}}]
[null,{"$f":"Macro!A2846","v":0},{"$f":"Macro!B2846","v":0},{"$f":"Macro!E2846","v":{"$error":"#DIV/0!"}}]
[null,{"$f":"Macro!A2847","v":0},{"$f":"Macro!B2847","v":0},{"$f":"Macro!E2847","v":{"$error":"#DIV/0!"}}]
[null,{"$f":"Macro!A2848","v":0},{"$f":"Macro!B2848","v":0},{"$f":"Macro!E2848","v":{"$error":"#DIV/0!"}}]
[null,{"$f":"Macro!A2849","v":0},{"$f":"Macro!B2849","v":0},{"$f":"Macro!E2849","v":{"$error":"#DIV/0!"}}]
[null,{"$f":"Macro!A2850","v":0},{"$f":"Macro!B2850","v":0},{"$f":"Macro!E2850","v":{"$error":"#DIV/0!"}}]
[null,{"$f":"Macro!A2851","v":0},{"$f":"Macro!B2851","v":0},{"$f":"Macro!E2851","v":{"$error":"#DIV/0!"}}]
[null,{"$f":"Macro!A2852","v":0},{"$f":"Macro!B2852","v":0},{"$f":"Macro!E2852","v":{"$error":"#DIV/0!"}}]
[null,{"$f":"Macro!A2853","v":0},{"$f":"Macro!B2853","v":0},{"$f":"Macro!E2853","v":{"$error":"#DIV/0!"}}]
[null,{"$f":"Macro!A2854","v":0},{"$f":"Macro!B2854","v":0},{"$f":"Macro!E2854","v":{"$error":"#DIV/0!"}}]
[null,{"$f":"Macro!A2855","v":0},{"$f":"Macro!B2855","v":0},{"$f":"Macro!E2855","v":{"$error":"#DIV/0!"}}]
[null,{"$f":"Macro!A2856","v":0},{"$f":"Macro!B2856","v":0},{"$f":"Macro!E2856","v":{"$error":"#DIV/0!"}}]
[null,{"$f":"Macro!A2857","v":0},{"$f":"Macro!B2857","v":0},{"$f":"Macro!E2857","v":{"$error":"#DIV/0!"}}]
[null,{"$f":"Macro!A2858","v":0},{"$f":"Macro!B2858","v":0},{"$f":"Macro!E2858","v":{"$error":"#DIV/0!"}}]
[null,{"$f":"Macro!A2859","v":0},{"$f":"Macro!B2859","v":0},{"$f":"Macro!E2859","v":{"$error":"#DIV/0!"}}]
[null,{"$f":"Macro!A2860","v":0},{"$f":"Macro!B2860","v":0},{"$f":"Macro!E2860","v":{"$error":"#DIV/0!"}}]
[null,{"$f":"Macro!A2861","v":0},{"$f":"Macro!B2861","v":0},{"$f":"Macro!E2861","v":{"$error":"#DIV/0!"}}]
[null,{"$f":"Macro!A2862","v":0},{"$f":"Macro!B2862","v":0},{"$f":"Macro!E2862","v":{"$error":"#DIV/0!"}}]
[null,{"$f":"Macro!A2863","v":0},{"$f":"Macro!B2863","v":0},{"$f":"Macro!E2863","v":{"$error":"#DIV/0!"}}]
[null,{"$f":"Macro!A2864","v":0},{"$f":"Macro!B2864","v":0},{"$f":"Macro!E2864","v":{"$error":"#DIV/0!"}}]
[null,{"$f":"Macro!A2865","v":0},{"$f":"Macro!B2865","v":0},{"$f":"Macro!E2865","v":{"$error":"#DIV/0!"}}]
[null,{"$f":"Macro!A2866","v":0},{"$f":"Macro!B2866","v":0},{"$f":"Macro!E2866","v":{"$error":"#DIV/0!"}}]
[null,{"$f":"Macro!A2867","v":0},{"$f":"Macro!B2867","v":0},{"$f":"Macro!E2867","v":{"$error":"#DIV/0!"}}]
[null,{"$f":"Macro!A2868","v":0},{"$f":"Macro!B2868","v":0},{"$f":"Macro!E2868","v":{"$error":"#DIV/0!"}}]
[null,{"$f":"Macro!A2869","v":0},{"$f":"Macro!B2869","v":0},{"$f":"Macro!E2869","v":{"$error":"#DIV/0!"}}]
[null,{"$f":"Macro!A2870","v":0},{"$f":"Macro!B2870","v":0},{"$f":"Macro!E2870","v":{"$error":"#DIV/0!"}}]
[null,{"$f":"Macro!A2871","v":0},{"$f":"Macro!B2871","v":0},{"$f":"Macro!E2871","v":{"$error":"#DIV/0!"}}]
[null,{"$f":"Macro!A2872","v":0},{"$f":"Macro!B2872","v":0},{"$f":"Macro!E2872","v":{"$error":"#DIV/0!"}}]
[null,{"$f":"Macro!A2873","v":0},{"$f":"Macro!B2873","v":0},{"$f":"Macro!E2873","v":{"$error":"#DIV/0!"}}]
[null,{"$f":"Macro!A2874","v":0},{"$f":"Macro!B2874","v":0},{"$f":"Macro!E2874","v":{"$error":"#DIV/0!"}}]
[null,{"$f":"Macro!A2875","v":0},{"$f":"Macro!B2875","v":0},{"$f":"Macro!E2875","v":{"$error":"#DIV/0!"}}]
[null,{"$f":"Macro!A2876","v":0},{"$f":"Macro!B2876","v":0},{"$f":"Macro!E2876","v":{"$error":"#DIV/0!"}}]
[null,{"$f":"Macro!A2877","v":0},{"$f":"Macro!B2877","v":0},{"$f":"Macro!E2877","v":{"$error":"#DIV/0!"}}]
[null,{"$f":"Macro!A2878","v":0},{"$f":"Macro!B2878","v":0},{"$f":"Macro!E2878","v":{"$error":"#DIV/0!"}}]
[null,{"$f":"Macro!A2879","v":0},{"$f":"Macro!B2879","v":0},{"$f":"Macro!E2879","v":{"$error":"#DIV/0!"}}]
[null,{"$f":"Macro!A2880","v":0},{"$f":"Macro!B2880","v":0},{"$f":"Macro!E2880","v":{"$error":"#DIV/0!"}}]
[null,{"$f":"Macro!A2881","v":0},{"$f":"Macro!B2881","v":0},{"$f":"Macro!E2881","v":{"$error":"#DIV/0!"}}]
[null,{"$f":"Macro!A2882","v":0},{"$f":"Macro!B2882","v":0},{"$f":"Macro!E2882","v":{"$error":"#DIV/0!"}}]
[null,{"$f":"Macro!A2883","v":0},{"$f":"Macro!B2883","v":0},{"$f":"Macro!E2883","v":{"$error":"#DIV/0!"}}]
[null,{"$f":"Macro!A2884","v":0},{"$f":"Macro!B2884","v":0},{"$f":"Macro!E2884","v":{"$error":"#DIV/0!"}}]
[null,{"$f":"Macro!A2885","v":0},{"$f":"Macro!B2885","v":0},{"$f":"Macro!E2885","v":{"$error":"#DIV/0!"}}]
[null,{"$f":"Macro!A2886","v":0},{"$f":"Macro!B2886","v":0},{"$f":"Macro!E2886","v":{"$error":"#DIV/0!"}}]
[null,{"$f":"Macro!A2887","v":0},{"$f":"Macro!B2887","v":0},{"$f":"Macro!E2887","v":{"$error":"#DIV/0!"}}]
[null,{"$f":"Macro!A2888","v":0},{"$f":"Macro!B2888","v":0},{"$f":"Macro!E2888","v":{"$error":"#DIV/0!"}}]
[null,{"$f":"Macro!A2889","v":0},{"$f":"Macro!B2889","v":0},{"$f":"Macro!E2889","v":{"$error":"#DIV/0!"}}]
[null,{"$f":"Macro!A2890","v":0},{"$f":"Macro!B2890","v":0},{"$f":"Macro!E2890","v":{"$error":"#DIV/0!"}}]
[null,{"$f":"Macro!A2891","v":0},{"$f":"Macro!B2891","v":0},{"$f":"Macro!E2891","v":{"$error":"#DIV/0!"}}]
[null,{"$f":"Macro!A2892","v":0},{"$f":"Macro!B2892","v":0},{"$f":"Macro!E2892","v":{"$error":"#DIV/0!"}}]
[null,{"$f":"Macro!A2893","v":0},{"$f":"Macro!B2893","v":0},{"$f":"Macro!E2893","v":{"$error":"#DIV/0!"}}]
[null,{"$f":"Macro!A2894","v":0},{"$f":"Macro!B2894","v":0},{"$f":"Macro!E2894","v":{"$error":"#DIV/0!"}}]
[null,{"$f":"Macro!A2895","v":0},{"$f":"Macro!B2895","v":0},{"$f":"Macro!E2895","v":{"$error":"#DIV/0!"}}]
[null,{"$f":"Macro!A2896","v":0},{"$f":"Macro!B2896","v":0},{"$f":"Macro!E2896","v":{"$error":"#DIV/0!"}}]
[null,{"$f":"Macro!A2897","v":0},{"$f":"Macro!B2897","v":0},{"$f":"Macro!E2897","v":{"$error":"#DIV/0!"}}]
[null,{"$f":"Macro!A2898","v":0},{"$f":"Macro!B2898","v":0},{"$f":"Macro!E2898","v":{"$error":"#DIV/0!"}}]
[null,{"$f":"Macro!A2899","v":0},{"$f":"Macro!B2899","v":0},{"$f":"Macro!E2899","v":{"$error":"#DIV/0!"}}]
[null,{"$f":"Macro!A2900","v":0},{"$f":"Macro!B2900","v":0},{"$f":"Macro!E2900","v":{"$error":"#DIV/0!"}}]
[null,{"$f":"Macro!A2901","v":0},{"$f":"Macro!B2901","v":0},{"$f":"Macro!E2901","v":{"$error":"#DIV/0!"}}]
[null,{"$f":"Macro!A2902","v":0},{"$f":"Macro!B2902","v":0},{"$f":"Macro!E2902","v":{"$error":"#DIV/0!"}}]
[null,{"$f":"Macro!A2903","v":0},{"$f":"Macro!B2903","v":0},{"$f":"Macro!E2903","v":{"$error":"#DIV/0!"}}]
[null,{"$f":"Macro!A2904","v":0},{"$f":"Macro!B2904","v":0},{"$f":"Macro!E2904","v":{"$error":"#DIV/0!"}}]
[null,{"$f":"Macro!A2905","v":0},{"$f":"Macro!B2905","v":0},{"$f":"Macro!E2905","v":{"$error":"#DIV/0!"}}]
[null,{"$f":"Macro!A2906","v":0},{"$f":"Macro!B2906","v":0},{"$f":"Macro!E2906","v":{"$error":"#DIV/0!"}}]
[null,{"$f":"Macro!A2907","v":0},{"$f":"Macro!B2907","v":0},{"$f":"Macro!E2907","v":{"$error":"#DIV/0!"}}]
[null,{"$f":"Macro!A2908","v":0},{"$f":"Macro!B2908","v":0},{"$f":"Macro!E2908","v":{"$error":"#DIV/0!"}}]
[null,{"$f":"Macro!A2909","v":0},{"$f":"Macro!B2909","v":0},{"$f":"Macro!E2909","v":{"$error":"#DIV/0!"}}]
[null,{"$f":"Macro!A2910","v":0},{"$f":"Macro!B2910","v":0},{"$f":"Macro!E2910","v":{"$error":"#DIV/0!"}}]
[null,{"$f":"Macro!A2911","v":0},{"$f":"Macro!B2911","v":0},{"$f":"Macro!E2911","v":{"$error":"#DIV/0!"}}]
[null,{"$f":"Macro!A2912","v":0},{"$f":"Macro!B2912","v":0},{"$f":"Macro!E2912","v":{"$error":"#DIV/0!"}}]
[null,{"$f":"Macro!A2913","v":0},{"$f":"Macro!B2913","v":0},{"$f":"Macro!E2913","v":{"$error":"#DIV/0!"}}]
[null,{"$f":"Macro!A2914","v":0},{"$f":"Macro!B2914","v":0},{"$f":"Macro!E2914","v":{"$error":"#DIV/0!"}}]
[null,{"$f":"Macro!A2915","v":0},{"$f":"Macro!B2915","v":0},{"$f":"Macro!E2915","v":{"$error":"#DIV/0!"}}]
[null,{"$f":"Macro!A2916","v":0},{"$f":"Macro!B2916","v":0},{"$f":"Macro!E2916","v":{"$error":"#DIV/0!"}}]
[null,{"$f":"Macro!A2917","v":0},{"$f":"Macro!B2917","v":0},{"$f":"Macro!E2917","v":{"$error":"#DIV/0!"}}]
[null,{"$f":"Macro!A2918","v":0},{"$f":"Macro!B2918","v":0},{"$f":"Macro!E2918","v":{"$error":"#DIV/0!"}}]
[null,{"$f":"Macro!A2919","v":0},{"$f":"Macro!B2919","v":0},{"$f":"Macro!E2919","v":{"$error":"#DIV/0!"}}]
[null,{"$f":"Macro!A2920","v":0},{"$f":"Macro!B2920","v":0},{"$f":"Macro!E2920","v":{"$error":"#DIV/0!"}}]
[null,{"$f":"Macro!A2921","v":0},{"$f":"Macro!B2921","v":0},{"$f":"Macro!E2921","v":{"$error":"#DIV/0!"}}]
[null,{"$f":"Macro!A2922","v":0},{"$f":"Macro!B2922","v":0},{"$f":"Macro!E2922","v":{"$error":"#DIV/0!"}}]
[null,{"$f":"Macro!A2923","v":0},{"$f":"Macro!B2923","v":0},{"$f":"Macro!E2923","v":{"$error":"#DIV/0!"}}]
[null,{"$f":"Macro!A2924","v":0},{"$f":"Macro!B2924","v":0},{"$f":"Macro!E2924","v":{"$error":"#DIV/0!"}}]
[null,{"$f":"Macro!A2925","v":0},{"$f":"Macro!B2925","v":0},{"$f":"Macro!E2925","v":{"$error":"#DIV/0!"}}]
[null,{"$f":"Macro!A2926","v":0},{"$f":"Macro!B2926","v":0},{"$f":"Macro!E2926","v":{"$error":"#DIV/0!"}}]
[null,{"$f":"Macro!A2927","v":0},{"$f":"Macro!B2927","v":0},{"$f":"Macro!E2927","v":{"$error":"#DIV/0!"}}]
[null,{"$f":"Macro!A2928","v":0},{"$f":"Macro!B2928","v":0},{"$f":"Macro!E2928","v":{"$error":"#DIV/0!"}}]
[null,{"$f":"Macro!A2929","v":0},{"$f":"Macro!B2929","v":0},{"$f":"Macro!E2929","v":{"$error":"#DIV/0!"}}]
[null,{"$f":"Macro!A2930","v":0},{"$f":"Macro!B2930","v":0},{"$f":"Macro!E2930","v":{"$error":"#DIV/0!"}}]
[null,{"$f":"Macro!A2931","v":0},{"$f":"Macro!B2931","v":0},{"$f":"Macro!E2931","v":{"$error":"#DIV/0!"}}]
[null,{"$f":"Macro!A2932","v":0},{"$f":"Macro!B2932","v":0},{"$f":"Macro!E2932","v":{"$error":"#DIV/0!"}}]
[null,{"$f":"Macro!A2933","v":0},{"$f":"Macro!B2933","v":0},{"$f":"Macro!E2933","v":{"$error":"#DIV/0!"}}]
[null,{"$f":"Macro!A2934","v":0},{"$f":"Macro!B2934","v":0},{"$f":"Macro!E2934","v":{"$error":"#DIV/0!"}}]
[null,{"$f":"Macro!A2935","v":0},{"$f":"Macro!B2935","v":0},{"$f":"Macro!E2935","v":{"$error":"#DIV/0!"}}]
[null,{"$f":"Macro!A2936","v":0},{"$f":"Macro!B2936","v":0},{"$f":"Macro!E2936","v":{"$error":"#DIV/0!"}}]
[null,{"$f":"Macro!A2937","v":0},{"$f":"Macro!B2937","v":0},{"$f":"Macro!E2937","v":{"$error":"#DIV/0!"}}]
[null,{"$f":"Macro!A2938","v":0},{"$f":"Macro!B2938","v":0},{"$f":"Macro!E2938","v":{"$error":"#DIV/0!"}}]
[null,{"$f":"Macro!A2939","v":0},{"$f":"Macro!B2939","v":0},{"$f":"Macro!E2939","v":{"$error":"#DIV/0!"}}]
[null,{"$f":"Macro!A2940","v":0},{"$f":"Macro!B2940","v":0},{"$f":"Macro!E2940","v":{"$error":"#DIV/0!"}}]
[null,{"$f":"Macro!A2941","v":0},{"$f":"Macro!B2941","v":0},{"$f":"Macro!E2941","v":{"$error":"#DIV/0!"}}]
[null,{"$f":"Macro!A2942","v":0},{"$f":"Macro!B2942","v":0},{"$f":"Macro!E2942","v":{"$error":"#DIV/0!"}}]
[null,{"$f":"Macro!A2943","v":0},{"$f":"Macro!B2943","v":0},{"$f":"Macro!E2943","v":{"$error":"#DIV/0!"}}]
[null,{"$f":"Macro!A2944","v":0},{"$f":"Macro!B2944","v":0},{"$f":"Macro!E2944","v":{"$error":"#DIV/0!"}}]
[null,{"$f":"Macro!A2945","v":0},{"$f":"Macro!B2945","v":0},{"$f":"Macro!E2945","v":{"$error":"#DIV/0!"}}]
[null,{"$f":"Macro!A2946","v":0},{"$f":"Macro!B2946","v":0},{"$f":"Macro!E2946","v":{"$error":"#DIV/0!"}}]
[null,{"$f":"Macro!A2947","v":0},{"$f":"Macro!B2947","v":0},{"$f":"Macro!E2947","v":{"$error":"#DIV/0!"}}]
[null,{"$f":"Macro!A2948","v":0},{"$f":"Macro!B2948","v":0},{"$f":"Macro!E2948","v":{"$error":"#DIV/0!"}}]
[null,{"$f":"Macro!A2949","v":0},{"$f":"Macro!B2949","v":0},{"$f":"Macro!E2949","v":{"$error":"#DIV/0!"}}]
[null,{"$f":"Macro!A2950","v":0},{"$f":"Macro!B2950","v":0},{"$f":"Macro!E2950","v":{"$error":"#DIV/0!"}}]
[null,{"$f":"Macro!A2951","v":0},{"$f":"Macro!B2951","v":0},{"$f":"Macro!E2951","v":{"$error":"#DIV/0!"}}]
[null,{"$f":"Macro!A2952","v":0},{"$f":"Macro!B2952","v":0},{"$f":"Macro!E2952","v":{"$error":"#DIV/0!"}}]
[null,{"$f":"Macro!A2953","v":0},{"$f":"Macro!B2953","v":0},{"$f":"Macro!E2953","v":{"$error":"#DIV/0!"}}]
[null,{"$f":"Macro!A2954","v":0},{"$f":"Macro!B2954","v":0},{"$f":"Macro!E2954","v":{"$error":"#DIV/0!"}}]
[null,{"$f":"Macro!A2955","v":0},{"$f":"Macro!B2955","v":0},{"$f":"Macro!E2955","v":{"$error":"#DIV/0!"}}]
[null,{"$f":"Macro!A2956","v":0},{"$f":"Macro!B2956","v":0},{"$f":"Macro!E2956","v":{"$error":"#DIV/0!"}}]
[null,{"$f":"Macro!A2957","v":0},{"$f":"Macro!B2957","v":0},{"$f":"Macro!E2957","v":{"$error":"#DIV/0!"}}]
[null,{"$f":"Macro!A2958","v":0},{"$f":"Macro!B2958","v":0},{"$f":"Macro!E2958","v":{"$error":"#DIV/0!"}}]
[null,{"$f":"Macro!A2959","v":0},{"$f":"Macro!B2959","v":0},{"$f":"Macro!E2959","v":{"$error":"#DIV/0!"}}]
[null,{"$f":"Macro!A2960","v":0},{"$f":"Macro!B2960","v":0},{"$f":"Macro!E2960","v":{"$error":"#DIV/0!"}}]
[null,{"$f":"Macro!A2961","v":0},{"$f":"Macro!B2961","v":0},{"$f":"Macro!E2961","v":{"$error":"#DIV/0!"}}]
[null,{"$f":"Macro!A2962","v":0},{"$f":"Macro!B2962","v":0},{"$f":"Macro!E2962","v":{"$error":"#DIV/0!"}}]
[null,{"$f":"Macro!A2963","v":0},{"$f":"Macro!B2963","v":0},{"$f":"Macro!E2963","v":{"$error":"#DIV/0!"}}]
[null,{"$f":"Macro!A2964","v":0},{"$f":"Macro!B2964","v":0},{"$f":"Macro!E2964","v":{"$error":"#DIV/0!"}}]
[null,{"$f":"Macro!A2965","v":0},{"$f":"Macro!B2965","v":0},{"$f":"Macro!E2965","v":{"$error":"#DIV/0!"}}]
[null,{"$f":"Macro!A2966","v":0},{"$f":"Macro!B2966","v":0},{"$f":"Macro!E2966","v":{"$error":"#DIV/0!"}}]
[null,{"$f":"Macro!A2967","v":0},{"$f":"Macro!B2967","v":0},{"$f":"Macro!E2967","v":{"$error":"#DIV/0!"}}]
[null,{"$f":"Macro!A2968","v":0},{"$f":"Macro!B2968","v":0},{"$f":"Macro!E2968","v":{"$error":"#DIV/0!"}}]
[null,{"$f":"Macro!A2969","v":0},{"$f":"Macro!B2969","v":0},{"$f":"Macro!E2969","v":{"$error":"#DIV/0!"}}]
[null,{"$f":"Macro!A2970","v":0},{"$f":"Macro!B2970","v":0},{"$f":"Macro!E2970","v":{"$error":"#DIV/0!"}}]
[null,{"$f":"Macro!A2971","v":0},{"$f":"Macro!B2971","v":0},{"$f":"Macro!E2971","v":{"$error":"#DIV/0!"}}]
[null,{"$f":"Macro!A2972","v":0},{"$f":"Macro!B2972","v":0},{"$f":"Macro!E2972","v":{"$error":"#DIV/0!"}}]
[null,{"$f":"Macro!A2973","v":0},{"$f":"Macro!B2973","v":0},{"$f":"Macro!E2973","v":{"$error":"#DIV/0!"}}]
[null,{"$f":"Macro!A2974","v":0},{"$f":"Macro!B2974","v":0},{"$f":"Macro!E2974","v":{"$error":"#DIV/0!"}}]
[null,{"$f":"Macro!A2975","v":0},{"$f":"Macro!B2975","v":0},{"$f":"Macro!E2975","v":{"$error":"#DIV/0!"}}]
[null,{"$f":"Macro!A2976","v":0},{"$f":"Macro!B2976","v":0},{"$f":"Macro!E2976","v":{"$error":"#DIV/0!"}}]
[null,{"$f":"Macro!A2977","v":0},{"$f":"Macro!B2977","v":0},{"$f":"Macro!E2977","v":{"$error":"#DIV/0!"}}]
[null,{"$f":"Macro!A2978","v":0},{"$f":"Macro!B2978","v":0},{"$f":"Macro!E2978","v":{"$error":"#DIV/0!"}}]
[null,{"$f":"Macro!A2979","v":0},{"$f":"Macro!B2979","v":0},{"$f":"Macro!E2979","v":{"$error":"#DIV/0!"}}]
[null,{"$f":"Macro!A2980","v":0},{"$f":"Macro!B2980","v":0},{"$f":"Macro!E2980","v":{"$error":"#DIV/0!"}}]
[null,{"$f":"Macro!A2981","v":0},{"$f":"Macro!B2981","v":0},{"$f":"Macro!E2981","v":{"$error":"#DIV/0!"}}]
[null,{"$f":"Macro!A2982","v":0},{"$f":"Macro!B2982","v":0},{"$f":"Macro!E2982","v":{"$error":"#DIV/0!"}}]
[null,{"$f":"Macro!A2983","v":0},{"$f":"Macro!B2983","v":0},{"$f":"Macro!E2983","v":{"$error":"#DIV/0!"}}]
[null,{"$f":"Macro!A2984","v":0},{"$f":"Macro!B2984","v":0},{"$f":"Macro!E2984","v":{"$error":"#DIV/0!"}}]
[null,{"$f":"Macro!A2985","v":0},{"$f":"Macro!B2985","v":0},{"$f":"Macro!E2985","v":{"$error":"#DIV/0!"}}]
[null,{"$f":"Macro!A2986","v":0},{"$f":"Macro!B2986","v":0},{"$f":"Macro!E2986","v":{"$error":"#DIV/0!"}}]
[null,{"$f":"Macro!A2987","v":0},{"$f":"Macro!B2987","v":0},{"$f":"Macro!E2987","v":{"$error":"#DIV/0!"}}]
[null,{"$f":"Macro!A2988","v":0},{"$f":"Macro!B2988","v":0},{"$f":"Macro!E2988","v":{"$error":"#DIV/0!"}}]
[null,{"$f":"Macro!A2989","v":0},{"$f":"Macro!B2989","v":0},{"$f":"Macro!E2989","v":{"$error":"#DIV/0!"}}]
[null,{"$f":"Macro!A2990","v":0},{"$f":"Macro!B2990","v":0},{"$f":"Macro!E2990","v":{"$error":"#DIV/0!"}}]
[null,{"$f":"Macro!A2991","v":0},{"$f":"Macro!B2991","v":0},{"$f":"Macro!E2991","v":{"$error":"#DIV/0!"}}]
[null,{"$f":"Macro!A2992","v":0},{"$f":"Macro!B2992","v":0},{"$f":"Macro!E2992","v":{"$error":"#DIV/0!"}}]
[null,{"$f":"Macro!A2993","v":0},{"$f":"Macro!B2993","v":0},{"$f":"Macro!E2993","v":{"$error":"#DIV/0!"}}]
[null,{"$f":"Macro!A2994","v":0},{"$f":"Macro!B2994","v":0},{"$f":"Macro!E2994","v":{"$error":"#DIV/0!"}}]
[null,{"$f":"Macro!A2995","v":0},{"$f":"Macro!B2995","v":0},{"$f":"Macro!E2995","v":{"$error":"#DIV/0!"}}]
[null,{"$f":"Macro!A2996","v":0},{"$f":"Macro!B2996","v":0},{"$f":"Macro!E2996","v":{"$error":"#DIV/0!"}}]
[null,{"$f":"Macro!A2997","v":0},{"$f":"Macro!B2997","v":0},{"$f":"Macro!E2997","v":{"$error":"#DIV/0!"}}]
[null,{"$f":"Macro!A2998","v":0},{"$f":"Macro!B2998","v":0},{"$f":"Macro!E2998","v":{"$error":"#DIV/0!"}}]
[null,{"$f":"Macro!A2999","v":0},{"$f":"Macro!B2999","v":0},{"$f":"Macro!E2999","v":{"$error":"#DIV/0!"}}]
[null,{"$f":"Macro!A3000","v":0},{"$f":"Macro!B3000","v":0},{"$f":"Macro!E3000","v":{"$error":"#DIV/0!"}}]
[null,{"$f":"Macro!A3001","v":0},{"$f":"Macro!B3001","v":0},{"$f":"Macro!E3001","v":{"$error":"#DIV/0!"}}]
[null,{"$f":"Macro!A3002","v":0},{"$f":"Macro!B3002","v":0},{"$f":"Macro!E3002","v":{"$error":"#DIV/0!"}}]
[null,{"$f":"Macro!A3003","v":0},{"$f":"Macro!B3003","v":0},{"$f":"Macro!E3003","v":{"$error":"#DIV/0!"}}]
[null,{"$f":"Macro!A3004","v":0},{"$f":"Macro!B3004","v":0},{"$f":"Macro!E3004","v":{"$error":"#DIV/0!"}}]
[null,{"$f":"Macro!A3005","v":0},{"$f":"Macro!B3005","v":0},{"$f":"Macro!E3005","v":{"$error":"#DIV/0!"}}]
[null,{"$f":"Macro!A3006","v":0},{"$f":"Macro!B3006","v":0},{"$f":"Macro!E3006","v":{"$error":"#DIV/0!"}}]
[null,{"$f":"Macro!A3007","v":0},{"$f":"Macro!B3007","v":0},{"$f":"Macro!E3007","v":{"$error":"#DIV/0!"}}]
[null,{"$f":"Macro!A3008","v":0},{"$f":"Macro!B3008","v":0},{"$f":"Macro!E3008","v":{"$error":"#DIV/0!"}}]
[null,{"$f":"Macro!A3009","v":0},{"$f":"Macro!B3009","v":0},{"$f":"Macro!E3009","v":{"$error":"#DIV/0!"}}]
[null,{"$f":"Macro!A3010","v":0},{"$f":"Macro!B3010","v":0},{"$f":"Macro!E3010","v":{"$error":"#DIV/0!"}}]
[null,{"$f":"Macro!A3011","v":0},{"$f":"Macro!B3011","v":0},{"$f":"Macro!E3011","v":{"$error":"#DIV/0!"}}]
[null,{"$f":"Macro!A3012","v":0},{"$f":"Macro!B3012","v":0},{"$f":"Macro!E3012","v":{"$error":"#DIV/0!"}}]
[null,{"$f":"Macro!A3013","v":0},{"$f":"Macro!B3013","v":0},{"$f":"Macro!E3013","v":{"$error":"#DIV/0!"}}]
[null,{"$f":"Macro!A3014","v":0},{"$f":"Macro!B3014","v":0},{"$f":"Macro!E3014","v":{"$error":"#DIV/0!"}}]
[null,{"$f":"Macro!A3015","v":0},{"$f":"Macro!B3015","v":0},{"$f":"Macro!E3015","v":{"$error":"#DIV/0!"}}]
[null,{"$f":"Macro!A3016","v":0},{"$f":"Macro!B3016","v":0},{"$f":"Macro!E3016","v":{"$error":"#DIV/0!"}}]
[null,{"$f":"Macro!A3017","v":0},{"$f":"Macro!B3017","v":0},{"$f":"Macro!E3017","v":{"$error":"#DIV/0!"}}]
[null,{"$f":"Macro!A3018","v":0},{"$f":"Macro!B3018","v":0},{"$f":"Macro!E3018","v":{"$error":"#DIV/0!"}}]
[null,{"$f":"Macro!A3019","v":0},{"$f":"Macro!B3019","v":0},{"$f":"Macro!E3019","v":{"$error":"#DIV/0!"}}]
[null,{"$f":"Macro!A3020","v":0},{"$f":"Macro!B3020","v":0},{"$f":"Macro!E3020","v":{"$error":"#DIV/0!"}}]
[null,{"$f":"Macro!A3021","v":0},{"$f":"Macro!B3021","v":0},{"$f":"Macro!E3021","v":{"$error":"#DIV/0!"}}]
[null,{"$f":"Macro!A3022","v":0},{"$f":"Macro!B3022","v":0},{"$f":"Macro!E3022","v":{"$error":"#DIV/0!"}}]
[null,{"$f":"Macro!A3023","v":0},{"$f":"Macro!B3023","v":0},{"$f":"Macro!E3023","v":{"$error":"#DIV/0!"}}]
[null,{"$f":"Macro!A3024","v":0},{"$f":"Macro!B3024","v":0},{"$f":"Macro!E3024","v":{"$error":"#DIV/0!"}}]
[null,{"$f":"Macro!A3025","v":0},{"$f":"Macro!B3025","v":0},{"$f":"Macro!E3025","v":{"$error":"#DIV/0!"}}]
[null,{"$f":"Macro!A3026","v":0},{"$f":"Macro!B3026","v":0},{"$f":"Macro!E3026","v":{"$error":"#DIV/0!"}}]
[null,{"$f":"Macro!A3027","v":0},{"$f":"Macro!B3027","v":0},{"$f":"Macro!E3027","v":{"$error":"#DIV/0!"}}]
[null,{"$f":"Macro!A3028","v":0},{"$f":"Macro!B3028","v":0},{"$f":"Macro!E3028","v":{"$error":"#DIV/0!"}}]
[null,{"$f":"Macro!A3029","v":0},{"$f":"Macro!B3029","v":0},{"$f":"Macro!E3029","v":{"$error":"#DIV/0!"}}]
[null,{"$f":"Macro!A3030","v":0},{"$f":"Macro!B3030","v":0},{"$f":"Macro!E3030","v":{"$error":"#DIV/0!"}}]
[null,{"$f":"Macro!A3031","v":0},{"$f":"Macro!B3031","v":0},{"$f":"Macro!E3031","v":{"$error":"#DIV/0!"}}]
[null,{"$f":"Macro!A3032","v":0},{"$f":"Macro!B3032","v":0},{"$f":"Macro!E3032","v":{"$error":"#DIV/0!"}}]
[null,{"$f":"Macro!A3033","v":0},{"$f":"Macro!B3033","v":0},{"$f":"Macro!E3033","v":{"$error":"#DIV/0!"}}]
[null,{"$f":"Macro!A3034","v":0},{"$f":"Macro!B3034","v":0},{"$f":"Macro!E3034","v":{"$error":"#DIV/0!"}}]
[null,{"$f":"Macro!A3035","v":0},{"$f":"Macro!B3035","v":0},{"$f":"Macro!E3035","v":{"$error":"#DIV/0!"}}]
[null,{"$f":"Macro!A3036","v":0},{"$f":"Macro!B3036","v":0},{"$f":"Macro!E3036","v":{"$error":"#DIV/0!"}}]
[null,{"$f":"Macro!A3037","v":0},{"$f":"Macro!B3037","v":0},{"$f":"Macro!E3037","v":{"$error":"#DIV/0!"}}]
[null,{"$f":"Macro!A3038","v":0},{"$f":"Macro!B3038","v":0},{"$f":"Macro!E3038","v":{"$error":"#DIV/0!"}}]
[null,{"$f":"Macro!A3039","v":0},{"$f":"Macro!B3039","v":0},{"$f":"Macro!E3039","v":{"$error":"#DIV/0!"}}]
[null,{"$f":"Macro!A3040","v":0},{"$f":"Macro!B3040","v":0},{"$f":"Macro!E3040","v":{"$error":"#DIV/0!"}}]
[null,{"$f":"Macro!A3041","v":0},{"$f":"Macro!B3041","v":0},{"$f":"Macro!E3041","v":{"$error":"#DIV/0!"}}]
[null,{"$f":"Macro!A3042","v":0},{"$f":"Macro!B3042","v":0},{"$f":"Macro!E3042","v":{"$error":"#DIV/0!"}}]
[null,{"$f":"Macro!A3043","v":0},{"$f":"Macro!B3043","v":0},{"$f":"Macro!E3043","v":{"$error":"#DIV/0!"}}]
[null,{"$f":"Macro!A3044","v":0},{"$f":"Macro!B3044","v":0},{"$f":"Macro!E3044","v":{"$error":"#DIV/0!"}}]
[null,{"$f":"Macro!A3045","v":0},{"$f":"Macro!B3045","v":0},{"$f":"Macro!E3045","v":{"$error":"#DIV/0!"}}]
[null,{"$f":"Macro!A3046","v":0},{"$f":"Macro!B3046","v":0},{"$f":"Macro!E3046","v":{"$error":"#DIV/0!"}}]
[null,{"$f":"Macro!A3047","v":0},{"$f":"Macro!B3047","v":0},{"$f":"Macro!E3047","v":{"$error":"#DIV/0!"}}]
[null,{"$f":"Macro!A3048","v":0},{"$f":"Macro!B3048","v":0},{"$f":"Macro!E3048","v":{"$error":"#DIV/0!"}}]
[null,{"$f":"Macro!A3049","v":0},{"$f":"Macro!B3049","v":0},{"$f":"Macro!E3049","v":{"$error":"#DIV/0!"}}]
[null,{"$f":"Macro!A3050","v":0},{"$f":"Macro!B3050","v":0},{"$f":"Macro!E3050","v":{"$error":"#DIV/0!"}}]
[null,{"$f":"Macro!A3051","v":0},{"$f":"Macro!B3051","v":0},{"$f":"Macro!E3051","v":{"$error":"#DIV/0!"}}]
[null,{"$f":"Macro!A3052","v":0},{"$f":"Macro!B3052","v":0},{"$f":"Macro!E3052","v":{"$error":"#DIV/0!"}}]
[null,{"$f":"Macro!A3053","v":0},{"$f":"Macro!B3053","v":0},{"$f":"Macro!E3053","v":{"$error":"#DIV/0!"}}]
[null,{"$f":"Macro!A3054","v":0},{"$f":"Macro!B3054","v":0},{"$f":"Macro!E3054","v":{"$error":"#DIV/0!"}}]
[null,{"$f":"Macro!A3055","v":0},{"$f":"Macro!B3055","v":0},{"$f":"Macro!E3055","v":{"$error":"#DIV/0!"}}]
[null,{"$f":"Macro!A3056","v":0},{"$f":"Macro!B3056","v":0},{"$f":"Macro!E3056","v":{"$error":"#DIV/0!"}}]
[null,{"$f":"Macro!A3057","v":0},{"$f":"Macro!B3057","v":0},{"$f":"Macro!E3057","v":{"$error":"#DIV/0!"}}]
[null,{"$f":"Macro!A3058","v":0},{"$f":"Macro!B3058","v":0},{"$f":"Macro!E3058","v":{"$error":"#DIV/0!"}}]
[null,{"$f":"Macro!A3059","v":0},{"$f":"Macro!B3059","v":0},{"$f":"Macro!E3059","v":{"$error":"#DIV/0!"}}]
[null,{"$f":"Macro!A3060","v":0},{"$f":"Macro!B3060","v":0},{"$f":"Macro!E3060","v":{"$error":"#DIV/0!"}}]
[null,{"$f":"Macro!A3061","v":0},{"$f":"Macro!B3061","v":0},{"$f":"Macro!E3061","v":{"$error":"#DIV/0!"}}]
[null,{"$f":"Macro!A3062","v":0},{"$f":"Macro!B3062","v":0},{"$f":"Macro!E3062","v":{"$error":"#DIV/0!"}}]
[null,{"$f":"Macro!A3063","v":0},{"$f":"Macro!B3063","v":0},{"$f":"Macro!E3063","v":{"$error":"#DIV/0!"}}]
[null,{"$f":"Macro!A3064","v":0},{"$f":"Macro!B3064","v":0},{"$f":"Macro!E3064","v":{"$error":"#DIV/0!"}}]
[null,{"$f":"Macro!A3065","v":0},{"$f":"Macro!B3065","v":0},{"$f":"Macro!E3065","v":{"$error":"#DIV/0!"}}]
[null,{"$f":"Macro!A3066","v":0},{"$f":"Macro!B3066","v":0},{"$f":"Macro!E3066","v":{"$error":"#DIV/0!"}}]
[null,{"$f":"Macro!A3067","v":0},{"$f":"Macro!B3067","v":0},{"$f":"Macro!E3067","v":{"$error":"#DIV/0!"}}]
[null,{"$f":"Macro!A3068","v":0},{"$f":"Macro!B3068","v":0},{"$f":"Macro!E3068","v":{"$error":"#DIV/0!"}}]
[null,{"$f":"Macro!A3069","v":0},{"$f":"Macro!B3069","v":0},{"$f":"Macro!E3069","v":{"$error":"#DIV/0!"}}]
[null,{"$f":"Macro!A3070","v":0},{"$f":"Macro!B3070","v":0},{"$f":"Macro!E3070","v":{"$error":"#DIV/0!"}}]
[null,{"$f":"Macro!A3071","v":0},{"$f":"Macro!B3071","v":0},{"$f":"Macro!E3071","v":{"$error":"#DIV/0!"}}]
[null,{"$f":"Macro!A3072","v":0},{"$f":"Macro!B3072","v":0},{"$f":"Macro!E3072","v":{"$error":"#DIV/0!"}}]
[null,{"$f":"Macro!A3073","v":0},{"$f":"Macro!B3073","v":0},{"$f":"Macro!E3073","v":{"$error":"#DIV/0!"}}]
[null,{"$f":"Macro!A3074","v":0},{"$f":"Macro!B3074","v":0},{"$f":"Macro!E3074","v":{"$error":"#DIV/0!"}}]
[null,{"$f":"Macro!A3075","v":0},{"$f":"Macro!B3075","v":0},{"$f":"Macro!E3075","v":{"$error":"#DIV/0!"}}]
[null,{"$f":"Macro!A3076","v":0},{"$f":"Macro!B3076","v":0},{"$f":"Macro!E3076","v":{"$error":"#DIV/0!"}}]
[null,{"$f":"Macro!A3077","v":0},{"$f":"Macro!B3077","v":0},{"$f":"Macro!E3077","v":{"$error":"#DIV/0!"}}]
[null,{"$f":"Macro!A3078","v":0},{"$f":"Macro!B3078","v":0},{"$f":"Macro!E3078","v":{"$error":"#DIV/0!"}}]
[null,{"$f":"Macro!A3079","v":0},{"$f":"Macro!B3079","v":0},{"$f":"Macro!E3079","v":{"$error":"#DIV/0!"}}]
[null,{"$f":"Macro!A3080","v":0},{"$f":"Macro!B3080","v":0},{"$f":"Macro!E3080","v":{"$error":"#DIV/0!"}}]
[null,{"$f":"Macro!A3081","v":0},{"$f":"Macro!B3081","v":0},{"$f":"Macro!E3081","v":{"$error":"#DIV/0!"}}]
[null,{"$f":"Macro!A3082","v":0},{"$f":"Macro!B3082","v":0},{"$f":"Macro!E3082","v":{"$error":"#DIV/0!"}}]
[null,{"$f":"Macro!A3083","v":0},{"$f":"Macro!B3083","v":0},{"$f":"Macro!E3083","v":{"$error":"#DIV/0!"}}]
[null,{"$f":"Macro!A3084","v":0},{"$f":"Macro!B3084","v":0},{"$f":"Macro!E3084","v":{"$error":"#DIV/0!"}}]
[null,{"$f":"Macro!A3085","v":0},{"$f":"Macro!B3085","v":0},{"$f":"Macro!E3085","v":{"$error":"#DIV/0!"}}]
[null,{"$f":"Macro!A3086","v":0},{"$f":"Macro!B3086","v":0},{"$f":"Macro!E3086","v":{"$error":"#DIV/0!"}}]
[null,{"$f":"Macro!A3087","v":0},{"$f":"Macro!B3087","v":0},{"$f":"Macro!E3087","v":{"$error":"#DIV/0!"}}]
[null,{"$f":"Macro!A3088","v":0},{"$f":"Macro!B3088","v":0},{"$f":"Macro!E3088","v":{"$error":"#DIV/0!"}}]
[null,{"$f":"Macro!A3089","v":0},{"$f":"Macro!B3089","v":0},{"$f":"Macro!E3089","v":{"$error":"#DIV/0!"}}]
[null,{"$f":"Macro!A3090","v":0},{"$f":"Macro!B3090","v":0},{"$f":"Macro!E3090","v":{"$error":"#DIV/0!"}}]
[null,{"$f":"Macro!A3091","v":0},{"$f":"Macro!B3091","v":0},{"$f":"Macro!E3091","v":{"$error":"#DIV/0!"}}]
[null,{"$f":"Macro!A3092","v":0},{"$f":"Macro!B3092","v":0},{"$f":"Macro!E3092","v":{"$error":"#DIV/0!"}}]
[null,{"$f":"Macro!A3093","v":0},{"$f":"Macro!B3093","v":0},{"$f":"Macro!E3093","v":{"$error":"#DIV/0!"}}]
[null,{"$f":"Macro!A3094","v":0},{"$f":"Macro!B3094","v":0},{"$f":"Macro!E3094","v":{"$error":"#DIV/0!"}}]
[null,{"$f":"Macro!A3095","v":0},{"$f":"Macro!B3095","v":0},{"$f":"Macro!E3095","v":{"$error":"#DIV/0!"}}]
[null,{"$f":"Macro!A3096","v":0},{"$f":"Macro!B3096","v":0},{"$f":"Macro!E3096","v":{"$error":"#DIV/0!"}}]
[null,{"$f":"Macro!A3097","v":0},{"$f":"Macro!B3097","v":0},{"$f":"Macro!E3097","v":{"$error":"#DIV/0!"}}]
[null,{"$f":"Macro!A3098","v":0},{"$f":"Macro!B3098","v":0},{"$f":"Macro!E3098","v":{"$error":"#DIV/0!"}}]
[null,{"$f":"Macro!A3099","v":0},{"$f":"Macro!B3099","v":0},{"$f":"Macro!E3099","v":{"$error":"#DIV/0!"}}]
[null,{"$f":"Macro!A3100","v":0},{"$f":"Macro!B3100","v":0},{"$f":"Macro!E3100","v":{"$error":"#DIV/0!"}}]
[null,{"$f":"Macro!A3101","v":0},{"$f":"Macro!B3101","v":0},{"$f":"Macro!E3101","v":{"$error":"#DIV/0!"}}]
[null,{"$f":"Macro!A3102","v":0},{"$f":"Macro!B3102","v":0},{"$f":"Macro!E3102","v":{"$error":"#DIV/0!"}}]
[null,{"$f":"Macro!A3103","v":0},{"$f":"Macro!B3103","v":0},{"$f":"Macro!E3103","v":{"$error":"#DIV/0!"}}]
[null,{"$f":"Macro!A3104","v":0},{"$f":"Macro!B3104","v":0},{"$f":"Macro!E3104","v":{"$error":"#DIV/0!"}}]
[null,{"$f":"Macro!A3105","v":0},{"$f":"Macro!B3105","v":0},{"$f":"Macro!E3105","v":{"$error":"#DIV/0!"}}]
[null,{"$f":"Macro!A3106","v":0},{"$f":"Macro!B3106","v":0},{"$f":"Macro!E3106","v":{"$error":"#DIV/0!"}}]
[null,{"$f":"Macro!A3107","v":0},{"$f":"Macro!B3107","v":0},{"$f":"Macro!E3107","v":{"$error":"#DIV/0!"}}]
[null,{"$f":"Macro!A3108","v":0},{"$f":"Macro!B3108","v":0},{"$f":"Macro!E3108","v":{"$error":"#DIV/0!"}}]
[null,{"$f":"Macro!A3109","v":0},{"$f":"Macro!B3109","v":0},{"$f":"Macro!E3109","v":{"$error":"#DIV/0!"}}]
[null,{"$f":"Macro!A3110","v":0},{"$f":"Macro!B3110","v":0},{"$f":"Macro!E3110","v":{"$error":"#DIV/0!"}}]
[null,{"$f":"Macro!A3111","v":0},{"$f":"Macro!B3111","v":0},{"$f":"Macro!E3111","v":{"$error":"#DIV/0!"}}]
[null,{"$f":"Macro!A3112","v":0},{"$f":"Macro!B3112","v":0},{"$f":"Macro!E3112","v":{"$error":"#DIV/0!"}}]
[null,{"$f":"Macro!A3113","v":0},{"$f":"Macro!B3113","v":0},{"$f":"Macro!E3113","v":{"$error":"#DIV/0!"}}]
[null,{"$f":"Macro!A3114","v":0},{"$f":"Macro!B3114","v":0},{"$f":"Macro!E3114","v":{"$error":"#DIV/0!"}}]
[null,{"$f":"Macro!A3115","v":0},{"$f":"Macro!B3115","v":0},{"$f":"Macro!E3115","v":{"$error":"#DIV/0!"}}]
[null,{"$f":"Macro!A3116","v":0},{"$f":"Macro!B3116","v":0},{"$f":"Macro!E3116","v":{"$error":"#DIV/0!"}}]
[null,{"$f":"Macro!A3117","v":0},{"$f":"Macro!B3117","v":0},{"$f":"Macro!E3117","v":{"$error":"#DIV/0!"}}]
[null,{"$f":"Macro!A3118","v":0},{"$f":"Macro!B3118","v":0},{"$f":"Macro!E3118","v":{"$error":"#DIV/0!"}}]
[null,{"$f":"Macro!A3119","v":0},{"$f":"Macro!B3119","v":0},{"$f":"Macro!E3119","v":{"$error":"#DIV/0!"}}]
[null,{"$f":"Macro!A3120","v":0},{"$f":"Macro!B3120","v":0},{"$f":"Macro!E3120","v":{"$error":"#DIV/0!"}}]
[null,{"$f":"Macro!A3121","v":0},{"$f":"Macro!B3121","v":0},{"$f":"Macro!E3121","v":{"$error":"#DIV/0!"}}]
[null,{"$f":"Macro!A3122","v":0},{"$f":"Macro!B3122","v":0},{"$f":"Macro!E3122","v":{"$error":"#DIV/0!"}}]
[null,{"$f":"Macro!A3123","v":0},{"$f":"Macro!B3123","v":0},{"$f":"Macro!E3123","v":{"$error":"#DIV/0!"}}]
[null,{"$f":"Macro!A3124","v":0},{"$f":"Macro!B3124","v":0},{"$f":"Macro!E3124","v":{"$error":"#DIV/0!"}}]
[null,{"$f":"Macro!A3125","v":0},{"$f":"Macro!B3125","v":0},{"$f":"Macro!E3125","v":{"$error":"#DIV/0!"}}]
[null,{"$f":"Macro!A3126","v":0},{"$f":"Macro!B3126","v":0},{"$f":"Macro!E3126","v":{"$error":"#DIV/0!"}}]
[null,{"$f":"Macro!A3127","v":0},{"$f":"Macro!B3127","v":0},{"$f":"Macro!E3127","v":{"$error":"#DIV/0!"}}]
[null,{"$f":"Macro!A3128","v":0},{"$f":"Macro!B3128","v":0},{"$f":"Macro!E3128","v":{"$error":"#DIV/0!"}}]
[null,{"$f":"Macro!A3129","v":0},{"$f":"Macro!B3129","v":0},{"$f":"Macro!E3129","v":{"$error":"#DIV/0!"}}]
[null,{"$f":"Macro!A3130","v":0},{"$f":"Macro!B3130","v":0},{"$f":"Macro!E3130","v":{"$error":"#DIV/0!"}}]
[null,{"$f":"Macro!A3131","v":0},{"$f":"Macro!B3131","v":0},{"$f":"Macro!E3131","v":{"$error":"#DIV/0!"}}]
[null,{"$f":"Macro!A3132","v":0},{"$f":"Macro!B3132","v":0},{"$f":"Macro!E3132","v":{"$error":"#DIV/0!"}}]
[null,{"$f":"Macro!A3133","v":0},{"$f":"Macro!B3133","v":0},{"$f":"Macro!E3133","v":{"$error":"#DIV/0!"}}]
[null,{"$f":"Macro!A3134","v":0},{"$f":"Macro!B3134","v":0},{"$f":"Macro!E3134","v":{"$error":"#DIV/0!"}}]
[null,{"$f":"Macro!A3135","v":0},{"$f":"Macro!B3135","v":0},{"$f":"Macro!E3135","v":{"$error":"#DIV/0!"}}]
[null,{"$f":"Macro!A3136","v":0},{"$f":"Macro!B3136","v":0},{"$f":"Macro!E3136","v":{"$error":"#DIV/0!"}}]
[null,{"$f":"Macro!A3137","v":0},{"$f":"Macro!B3137","v":0},{"$f":"Macro!E3137","v":{"$error":"#DIV/0!"}}]
[null,{"$f":"Macro!A3138","v":0},{"$f":"Macro!B3138","v":0},{"$f":"Macro!E3138","v":{"$error":"#DIV/0!"}}]
[null,{"$f":"Macro!A3139","v":0},{"$f":"Macro!B3139","v":0},{"$f":"Macro!E3139","v":{"$error":"#DIV/0!"}}]
[null,{"$f":"Macro!A3140","v":0},{"$f":"Macro!B3140","v":0},{"$f":"Macro!E3140","v":{"$error":"#DIV/0!"}}]
[null,{"$f":"Macro!A3141","v":0},{"$f":"Macro!B3141","v":0},{"$f":"Macro!E3141","v":{"$error":"#DIV/0!"}}]
[null,{"$f":"Macro!A3142","v":0},{"$f":"Macro!B3142","v":0},{"$f":"Macro!E3142","v":{"$error":"#DIV/0!"}}]
[null,{"$f":"Macro!A3143","v":0},{"$f":"Macro!B3143","v":0},{"$f":"Macro!E3143","v":{"$error":"#DIV/0!"}}]
[null,{"$f":"Macro!A3144","v":0},{"$f":"Macro!B3144","v":0},{"$f":"Macro!E3144","v":{"$error":"#DIV/0!"}}]
[null,{"$f":"Macro!A3145","v":0},{"$f":"Macro!B3145","v":0},{"$f":"Macro!E3145","v":{"$error":"#DIV/0!"}}]
[null,{"$f":"Macro!A3146","v":0},{"$f":"Macro!B3146","v":0},{"$f":"Macro!E3146","v":{"$error":"#DIV/0!"}}]
[null,{"$f":"Macro!A3147","v":0},{"$f":"Macro!B3147","v":0},{"$f":"Macro!E3147","v":{"$error":"#DIV/0!"}}]
[null,{"$f":"Macro!A3148","v":0},{"$f":"Macro!B3148","v":0},{"$f":"Macro!E3148","v":{"$error":"#DIV/0!"}}]
[null,{"$f":"Macro!A3149","v":0},{"$f":"Macro!B3149","v":0},{"$f":"Macro!E3149","v":{"$error":"#DIV/0!"}}]
[null,{"$f":"Macro!A3150","v":0},{"$f":"Macro!B3150","v":0},{"$f":"Macro!E3150","v":{"$error":"#DIV/0!"}}]
[null,{"$f":"Macro!A3151","v":0},{"$f":"Macro!B3151","v":0},{"$f":"Macro!E3151","v":{"$error":"#DIV/0!"}}]
[null,{"$f":"Macro!A3152","v":0},{"$f":"Macro!B3152","v":0},{"$f":"Macro!E3152","v":{"$error":"#DIV/0!"}}]
[null,{"$f":"Macro!A3153","v":0},{"$f":"Macro!B3153","v":0},{"$f":"Macro!E3153","v":{"$error":"#DIV/0!"}}]
[null,{"$f":"Macro!A3154","v":0},{"$f":"Macro!B3154","v":0},{"$f":"Macro!E3154","v":{"$error":"#DIV/0!"}}]
[null,{"$f":"Macro!A3155","v":0},{"$f":"Macro!B3155","v":0},{"$f":"Macro!E3155","v":{"$error":"#DIV/0!"}}]
[null,{"$f":"Macro!A3156","v":0},{"$f":"Macro!B3156","v":0},{"$f":"Macro!E3156","v":{"$error":"#DIV/0!"}}]
[null,{"$f":"Macro!A3157","v":0},{"$f":"Macro!B3157","v":0},{"$f":"Macro!E3157","v":{"$error":"#DIV/0!"}}]
[null,{"$f":"Macro!A3158","v":0},{"$f":"Macro!B3158","v":0},{"$f":"Macro!E3158","v":{"$error":"#DIV/0!"}}]
[null,{"$f":"Macro!A3159","v":0},{"$f":"Macro!B3159","v":0},{"$f":"Macro!E3159","v":{"$error":"#DIV/0!"}}]
[null,{"$f":"Macro!A3160","v":0},{"$f":"Macro!B3160","v":0},{"$f":"Macro!E3160","v":{"$error":"#DIV/0!"}}]
[null,{"$f":"Macro!A3161","v":0},{"$f":"Macro!B3161","v":0},{"$f":"Macro!E3161","v":{"$error":"#DIV/0!"}}]
[null,{"$f":"Macro!A3162","v":0},{"$f":"Macro!B3162","v":0},{"$f":"Macro!E3162","v":{"$error":"#DIV/0!"}}]
[null,{"$f":"Macro!A3163","v":0},{"$f":"Macro!B3163","v":0},{"$f":"Macro!E3163","v":{"$error":"#DIV/0!"}}]
[null,{"$f":"Macro!A3164","v":0},{"$f":"Macro!B3164","v":0},{"$f":"Macro!E3164","v":{"$error":"#DIV/0!"}}]
[null,{"$f":"Macro!A3165","v":0},{"$f":"Macro!B3165","v":0},{"$f":"Macro!E3165","v":{"$error":"#DIV/0!"}}]
[null,{"$f":"Macro!A3166","v":0},{"$f":"Macro!B3166","v":0},{"$f":"Macro!E3166","v":{"$error":"#DIV/0!"}}]
[null,{"$f":"Macro!A3167","v":0},{"$f":"Macro!B3167","v":0},{"$f":"Macro!E3167","v":{"$error":"#DIV/0!"}}]
[null,{"$f":"Macro!A3168","v":0},{"$f":"Macro!B3168","v":0},{"$f":"Macro!E3168","v":{"$error":"#DIV/0!"}}]
[null,{"$f":"Macro!A3169","v":0},{"$f":"Macro!B3169","v":0},{"$f":"Macro!E3169","v":{"$error":"#DIV/0!"}}]
[null,{"$f":"Macro!A3170","v":0},{"$f":"Macro!B3170","v":0},{"$f":"Macro!E3170","v":{"$error":"#DIV/0!"}}]
[null,{"$f":"Macro!A3171","v":0},{"$f":"Macro!B3171","v":0},{"$f":"Macro!E3171","v":{"$error":"#DIV/0!"}}]
[null,{"$f":"Macro!A3172","v":0},{"$f":"Macro!B3172","v":0},{"$f":"Macro!E3172","v":{"$error":"#DIV/0!"}}]
[null,{"$f":"Macro!A3173","v":0},{"$f":"Macro!B3173","v":0},{"$f":"Macro!E3173","v":{"$error":"#DIV/0!"}}]
[null,{"$f":"Macro!A3174","v":0},{"$f":"Macro!B3174","v":0},{"$f":"Macro!E3174","v":{"$error":"#DIV/0!"}}]
[null,{"$f":"Macro!A3175","v":0},{"$f":"Macro!B3175","v":0},{"$f":"Macro!E3175","v":{"$error":"#DIV/0!"}}]
[null,{"$f":"Macro!A3176","v":0},{"$f":"Macro!B3176","v":0},{"$f":"Macro!E3176","v":{"$error":"#DIV/0!"}}]
[null,{"$f":"Macro!A3177","v":0},{"$f":"Macro!B3177","v":0},{"$f":"Macro!E3177","v":{"$error":"#DIV/0!"}}]
[null,{"$f":"Macro!A3178","v":0},{"$f":"Macro!B3178","v":0},{"$f":"Macro!E3178","v":{"$error":"#DIV/0!"}}]
[null,{"$f":"Macro!A3179","v":0},{"$f":"Macro!B3179","v":0},{"$f":"Macro!E3179","v":{"$error":"#DIV/0!"}}]
[null,{"$f":"Macro!A3180","v":0},{"$f":"Macro!B3180","v":0},{"$f":"Macro!E3180","v":{"$error":"#DIV/0!"}}]
[null,{"$f":"Macro!A3181","v":0},{"$f":"Macro!B3181","v":0},{"$f":"Macro!E3181","v":{"$error":"#DIV/0!"}}]
[null,{"$f":"Macro!A3182","v":0},{"$f":"Macro!B3182","v":0},{"$f":"Macro!E3182","v":{"$error":"#DIV/0!"}}]
[null,{"$f":"Macro!A3183","v":0},{"$f":"Macro!B3183","v":0},{"$f":"Macro!E3183","v":{"$error":"#DIV/0!"}}]
[null,{"$f":"Macro!A3184","v":0},{"$f":"Macro!B3184","v":0},{"$f":"Macro!E3184","v":{"$error":"#DIV/0!"}}]
[null,{"$f":"Macro!A3185","v":0},{"$f":"Macro!B3185","v":0},{"$f":"Macro!E3185","v":{"$error":"#DIV/0!"}}]
[null,{"$f":"Macro!A3186","v":0},{"$f":"Macro!B3186","v":0},{"$f":"Macro!E3186","v":{"$error":"#DIV/0!"}}]
[null,{"$f":"Macro!A3187","v":0},{"$f":"Macro!B3187","v":0},{"$f":"Macro!E3187","v":{"$error":"#DIV/0!"}}]
[null,{"$f":"Macro!A3188","v":0},{"$f":"Macro!B3188","v":0},{"$f":"Macro!E3188","v":{"$error":"#DIV/0!"}}]
[null,{"$f":"Macro!A3189","v":0},{"$f":"Macro!B3189","v":0},{"$f":"Macro!E3189","v":{"$error":"#DIV/0!"}}]
[null,{"$f":"Macro!A3190","v":0},{"$f":"Macro!B3190","v":0},{"$f":"Macro!E3190","v":{"$error":"#DIV/0!"}}]
[null,{"$f":"Macro!A3191","v":0},{"$f":"Macro!B3191","v":0},{"$f":"Macro!E3191","v":{"$error":"#DIV/0!"}}]
[null,{"$f":"Macro!A3192","v":0},{"$f":"Macro!B3192","v":0},{"$f":"Macro!E3192","v":{"$error":"#DIV/0!"}}]
[null,{"$f":"Macro!A3193","v":0},{"$f":"Macro!B3193","v":0},{"$f":"Macro!E3193","v":{"$error":"#DIV/0!"}}]
[null,{"$f":"Macro!A3194","v":0},{"$f":"Macro!B3194","v":0},{"$f":"Macro!E3194","v":{"$error":"#DIV/0!"}}]
[null,{"$f":"Macro!A3195","v":0},{"$f":"Macro!B3195","v":0},{"$f":"Macro!E3195","v":{"$error":"#DIV/0!"}}]
[null,{"$f":"Macro!A3196","v":0},{"$f":"Macro!B3196","v":0},{"$f":"Macro!E3196","v":{"$error":"#DIV/0!"}}]
[null,{"$f":"Macro!A3197","v":0},{"$f":"Macro!B3197","v":0},{"$f":"Macro!E3197","v":{"$error":"#DIV/0!"}}]
[null,{"$f":"Macro!A3198","v":0},{"$f":"Macro!B3198","v":0},{"$f":"Macro!E3198","v":{"$error":"#DIV/0!"}}]
[null,{"$f":"Macro!A3199","v":0},{"$f":"Macro!B3199","v":0},{"$f":"Macro!E3199","v":{"$error":"#DIV/0!"}}]
[null,{"$f":"Macro!A3200","v":0},{"$f":"Macro!B3200","v":0},{"$f":"Macro!E3200","v":{"$error":"#DIV/0!"}}]
[null,{"$f":"Macro!A3201","v":0},{"$f":"Macro!B3201","v":0},{"$f":"Macro!E3201","v":{"$error":"#DIV/0!"}}]
[null,{"$f":"Macro!A3202","v":0},{"$f":"Macro!B3202","v":0},{"$f":"Macro!E3202","v":{"$error":"#DIV/0!"}}]
[null,{"$f":"Macro!A3203","v":0},{"$f":"Macro!B3203","v":0},{"$f":"Macro!E3203","v":{"$error":"#DIV/0!"}}]
[null,{"$f":"Macro!A3204","v":0},{"$f":"Macro!B3204","v":0},{"$f":"Macro!E3204","v":{"$error":"#DIV/0!"}}]
[null,{"$f":"Macro!A3205","v":0},{"$f":"Macro!B3205","v":0},{"$f":"Macro!E3205","v":{"$error":"#DIV/0!"}}]
[null,{"$f":"Macro!A3206","v":0},{"$f":"Macro!B3206","v":0},{"$f":"Macro!E3206","v":{"$error":"#DIV/0!"}}]
[null,{"$f":"Macro!A3207","v":0},{"$f":"Macro!B3207","v":0},{"$f":"Macro!E3207","v":{"$error":"#DIV/0!"}}]
[null,{"$f":"Macro!A3208","v":0},{"$f":"Macro!B3208","v":0},{"$f":"Macro!E3208","v":{"$error":"#DIV/0!"}}]
[null,{"$f":"Macro!A3209","v":0},{"$f":"Macro!B3209","v":0},{"$f":"Macro!E3209","v":{"$error":"#DIV/0!"}}]
[null,{"$f":"Macro!A3210","v":0},{"$f":"Macro!B3210","v":0},{"$f":"Macro!E3210","v":{"$error":"#DIV/0!"}}]
[null,{"$f":"Macro!A3211","v":0},{"$f":"Macro!B3211","v":0},{"$f":"Macro!E3211","v":{"$error":"#DIV/0!"}}]
[null,{"$f":"Macro!A3212","v":0},{"$f":"Macro!B3212","v":0},{"$f":"Macro!E3212","v":{"$error":"#DIV/0!"}}]
[null,{"$f":"Macro!A3213","v":0},{"$f":"Macro!B3213","v":0},{"$f":"Macro!E3213","v":{"$error":"#DIV/0!"}}]
[null,{"$f":"Macro!A3214","v":0},{"$f":"Macro!B3214","v":0},{"$f":"Macro!E3214","v":{"$error":"#DIV/0!"}}]
[null,{"$f":"Macro!A3215","v":0},{"$f":"Macro!B3215","v":0},{"$f":"Macro!E3215","v":{"$error":"#DIV/0!"}}]
[null,{"$f":"Macro!A3216","v":0},{"$f":"Macro!B3216","v":0},{"$f":"Macro!E3216","v":{"$error":"#DIV/0!"}}]
[null,{"$f":"Macro!A3217","v":0},{"$f":"Macro!B3217","v":0},{"$f":"Macro!E3217","v":{"$error":"#DIV/0!"}}]
[null,{"$f":"Macro!A3218","v":0},{"$f":"Macro!B3218","v":0},{"$f":"Macro!E3218","v":{"$error":"#DIV/0!"}}]
[null,{"$f":"Macro!A3219","v":0},{"$f":"Macro!B3219","v":0},{"$f":"Macro!E3219","v":{"$error":"#DIV/0!"}}]
[null,{"$f":"Macro!A3220","v":0},{"$f":"Macro!B3220","v":0},{"$f":"Macro!E3220","v":{"$error":"#DIV/0!"}}]
[null,{"$f":"Macro!A3221","v":0},{"$f":"Macro!B3221","v":0},{"$f":"Macro!E3221","v":{"$error":"#DIV/0!"}}]
[null,{"$f":"Macro!A3222","v":0},{"$f":"Macro!B3222","v":0},{"$f":"Macro!E3222","v":{"$error":"#DIV/0!"}}]
[null,{"$f":"Macro!A3223","v":0},{"$f":"Macro!B3223","v":0},{"$f":"Macro!E3223","v":{"$error":"#DIV/0!"}}]
[null,{"$f":"Macro!A3224","v":0},{"$f":"Macro!B3224","v":0},{"$f":"Macro!E3224","v":{"$error":"#DIV/0!"}}]
[null,{"$f":"Macro!A3225","v":0},{"$f":"Macro!B3225","v":0},{"$f":"Macro!E3225","v":{"$error":"#DIV/0!"}}]
[null,{"$f":"Macro!A3226","v":0},{"$f":"Macro!B3226","v":0},{"$f":"Macro!E3226","v":{"$error":"#DIV/0!"}}]
[null,{"$f":"Macro!A3227","v":0},{"$f":"Macro!B3227","v":0},{"$f":"Macro!E3227","v":{"$error":"#DIV/0!"}}]
[null,{"$f":"Macro!A3228","v":0},{"$f":"Macro!B3228","v":0},{"$f":"Macro!E3228","v":{"$error":"#DIV/0!"}}]
[null,{"$f":"Macro!A3229","v":0},{"$f":"Macro!B3229","v":0},{"$f":"Macro!E3229","v":{"$error":"#DIV/0!"}}]
[null,{"$f":"Macro!A3230","v":0},{"$f":"Macro!B3230","v":0},{"$f":"Macro!E3230","v":{"$error":"#DIV/0!"}}]
[null,{"$f":"Macro!A3231","v":0},{"$f":"Macro!B3231","v":0},{"$f":"Macro!E3231","v":{"$error":"#DIV/0!"}}]
[null,{"$f":"Macro!A3232","v":0},{"$f":"Macro!B3232","v":0},{"$f":"Macro!E3232","v":{"$error":"#DIV/0!"}}]
[null,{"$f":"Macro!A3233","v":0},{"$f":"Macro!B3233","v":0},{"$f":"Macro!E3233","v":{"$error":"#DIV/0!"}}]
[null,{"$f":"Macro!A3234","v":0},{"$f":"Macro!B3234","v":0},{"$f":"Macro!E3234","v":{"$error":"#DIV/0!"}}]
[null,{"$f":"Macro!A3235","v":0},{"$f":"Macro!B3235","v":0},{"$f":"Macro!E3235","v":{"$error":"#DIV/0!"}}]
[null,{"$f":"Macro!A3236","v":0},{"$f":"Macro!B3236","v":0},{"$f":"Macro!E3236","v":{"$error":"#DIV/0!"}}]
[null,{"$f":"Macro!A3237","v":0},{"$f":"Macro!B3237","v":0},{"$f":"Macro!E3237","v":{"$error":"#DIV/0!"}}]
[null,{"$f":"Macro!A3238","v":0},{"$f":"Macro!B3238","v":0},{"$f":"Macro!E3238","v":{"$error":"#DIV/0!"}}]
[null,{"$f":"Macro!A3239","v":0},{"$f":"Macro!B3239","v":0},{"$f":"Macro!E3239","v":{"$error":"#DIV/0!"}}]
[null,{"$f":"Macro!A3240","v":0},{"$f":"Macro!B3240","v":0},{"$f":"Macro!E3240","v":{"$error":"#DIV/0!"}}]
[null,{"$f":"Macro!A3241","v":0},{"$f":"Macro!B3241","v":0},{"$f":"Macro!E3241","v":{"$error":"#DIV/0!"}}]
[null,{"$f":"Macro!A3242","v":0},{"$f":"Macro!B3242","v":0},{"$f":"Macro!E3242","v":{"$error":"#DIV/0!"}}]
[null,{"$f":"Macro!A3243","v":0},{"$f":"Macro!B3243","v":0},{"$f":"Macro!E3243","v":{"$error":"#DIV/0!"}}]
[null,{"$f":"Macro!A3244","v":0},{"$f":"Macro!B3244","v":0},{"$f":"Macro!E3244","v":{"$error":"#DIV/0!"}}]
[null,{"$f":"Macro!A3245","v":0},{"$f":"Macro!B3245","v":0},{"$f":"Macro!E3245","v":{"$error":"#DIV/0!"}}]
[null,{"$f":"Macro!A3246","v":0},{"$f":"Macro!B3246","v":0},{"$f":"Macro!E3246","v":{"$error":"#DIV/0!"}}]
[null,{"$f":"Macro!A3247","v":0},{"$f":"Macro!B3247","v":0},{"$f":"Macro!E3247","v":{"$error":"#DIV/0!"}}]
[null,{"$f":"Macro!A3248","v":0},{"$f":"Macro!B3248","v":0},{"$f":"Macro!E3248","v":{"$error":"#DIV/0!"}}]
[null,{"$f":"Macro!A3249","v":0},{"$f":"Macro!B3249","v":0},{"$f":"Macro!E3249","v":{"$error":"#DIV/0!"}}]
[null,{"$f":"Macro!A3250","v":0},{"$f":"Macro!B3250","v":0},{"$f":"Macro!E3250","v":{"$error":"#DIV/0!"}}]
[null,{"$f":"Macro!A3251","v":0},{"$f":"Macro!B3251","v":0},{"$f":"Macro!E3251","v":{"$error":"#DIV/0!"}}]
[null,{"$f":"Macro!A3252","v":0},{"$f":"Macro!B3252","v":0},{"$f":"Macro!E3252","v":{"$error":"#DIV/0!"}}]
[null,{"$f":"Macro!A3253","v":0},{"$f":"Macro!B3253","v":0},{"$f":"Macro!E3253","v":{"$error":"#DIV/0!"}}]
[null,{"$f":"Macro!A3254","v":0},{"$f":"Macro!B3254","v":0},{"$f":"Macro!E3254","v":{"$error":"#DIV/0!"}}]
[null,{"$f":"Macro!A3255","v":0},{"$f":"Macro!B3255","v":0},{"$f":"Macro!E3255","v":{"$error":"#DIV/0!"}}]
[null,{"$f":"Macro!A3256","v":0},{"$f":"Macro!B3256","v":0},{"$f":"Macro!E3256","v":{"$error":"#DIV/0!"}}]
[null,{"$f":"Macro!A3257","v":0},{"$f":"Macro!B3257","v":0},{"$f":"Macro!E3257","v":{"$error":"#DIV/0!"}}]
[null,{"$f":"Macro!A3258","v":0},{"$f":"Macro!B3258","v":0},{"$f":"Macro!E3258","v":{"$error":"#DIV/0!"}}]
[null,{"$f":"Macro!A3259","v":0},{"$f":"Macro!B3259","v":0},{"$f":"Macro!E3259","v":{"$error":"#DIV/0!"}}]
[null,{"$f":"Macro!A3260","v":0},{"$f":"Macro!B3260","v":0},{"$f":"Macro!E3260","v":{"$error":"#DIV/0!"}}]
[null,{"$f":"Macro!A3261","v":0},{"$f":"Macro!B3261","v":0},{"$f":"Macro!E3261","v":{"$error":"#DIV/0!"}}]
[null,{"$f":"Macro!A3262","v":0},{"$f":"Macro!B3262","v":0},{"$f":"Macro!E3262","v":{"$error":"#DIV/0!"}}]
[null,{"$f":"Macro!A3263","v":0},{"$f":"Macro!B3263","v":0},{"$f":"Macro!E3263","v":{"$error":"#DIV/0!"}}]
[null,{"$f":"Macro!A3264","v":0},{"$f":"Macro!B3264","v":0},{"$f":"Macro!E3264","v":{"$error":"#DIV/0!"}}]
[null,{"$f":"Macro!A3265","v":0},{"$f":"Macro!B3265","v":0},{"$f":"Macro!E3265","v":{"$error":"#DIV/0!"}}]
[null,{"$f":"Macro!A3266","v":0},{"$f":"Macro!B3266","v":0},{"$f":"Macro!E3266","v":{"$error":"#DIV/0!"}}]
[null,{"$f":"Macro!A3267","v":0},{"$f":"Macro!B3267","v":0},{"$f":"Macro!E3267","v":{"$error":"#DIV/0!"}}]
[null,{"$f":"Macro!A3268","v":0},{"$f":"Macro!B3268","v":0},{"$f":"Macro!E3268","v":{"$error":"#DIV/0!"}}]
[null,{"$f":"Macro!A3269","v":0},{"$f":"Macro!B3269","v":0},{"$f":"Macro!E3269","v":{"$error":"#DIV/0!"}}]
[null,{"$f":"Macro!A3270","v":0},{"$f":"Macro!B3270","v":0},{"$f":"Macro!E3270","v":{"$error":"#DIV/0!"}}]
[null,{"$f":"Macro!A3271","v":0},{"$f":"Macro!B3271","v":0},{"$f":"Macro!E3271","v":{"$error":"#DIV/0!"}}]
[null,{"$f":"Macro!A3272","v":0},{"$f":"Macro!B3272","v":0},{"$f":"Macro!E3272","v":{"$error":"#DIV/0!"}}]
[null,{"$f":"Macro!A3273","v":0},{"$f":"Macro!B3273","v":0},{"$f":"Macro!E3273","v":{"$error":"#DIV/0!"}}]
[null,{"$f":"Macro!A3274","v":0},{"$f":"Macro!B3274","v":0},{"$f":"Macro!E3274","v":{"$error":"#DIV/0!"}}]
[null,{"$f":"Macro!A3275","v":0},{"$f":"Macro!B3275","v":0},{"$f":"Macro!E3275","v":{"$error":"#DIV/0!"}}]
[null,{"$f":"Macro!A3276","v":0},{"$f":"Macro!B3276","v":0},{"$f":"Macro!E3276","v":{"$error":"#DIV/0!"}}]
[null,{"$f":"Macro!A3277","v":0},{"$f":"Macro!B3277","v":0},{"$f":"Macro!E3277","v":{"$error":"#DIV/0!"}}]
[null,{"$f":"Macro!A3278","v":0},{"$f":"Macro!B3278","v":0},{"$f":"Macro!E3278","v":{"$error":"#DIV/0!"}}]
[null,{"$f":"Macro!A3279","v":0},{"$f":"Macro!B3279","v":0},{"$f":"Macro!E3279","v":{"$error":"#DIV/0!"}}]
[null,{"$f":"Macro!A3280","v":0},{"$f":"Macro!B3280","v":0},{"$f":"Macro!E3280","v":{"$error":"#DIV/0!"}}]
[null,{"$f":"Macro!A3281","v":0},{"$f":"Macro!B3281","v":0},{"$f":"Macro!E3281","v":{"$error":"#DIV/0!"}}]
[null,{"$f":"Macro!A3282","v":0},{"$f":"Macro!B3282","v":0},{"$f":"Macro!E3282","v":{"$error":"#DIV/0!"}}]
[null,{"$f":"Macro!A3283","v":0},{"$f":"Macro!B3283","v":0},{"$f":"Macro!E3283","v":{"$error":"#DIV/0!"}}]
[null,{"$f":"Macro!A3284","v":0},{"$f":"Macro!B3284","v":0},{"$f":"Macro!E3284","v":{"$error":"#DIV/0!"}}]
[null,{"$f":"Macro!A3285","v":0},{"$f":"Macro!B3285","v":0},{"$f":"Macro!E3285","v":{"$error":"#DIV/0!"}}]
[null,{"$f":"Macro!A3286","v":0},{"$f":"Macro!B3286","v":0},{"$f":"Macro!E3286","v":{"$error":"#DIV/0!"}}]
[null,{"$f":"Macro!A3287","v":0},{"$f":"Macro!B3287","v":0},{"$f":"Macro!E3287","v":{"$error":"#DIV/0!"}}]
[null,{"$f":"Macro!A3288","v":0},{"$f":"Macro!B3288","v":0},{"$f":"Macro!E3288","v":{"$error":"#DIV/0!"}}]
[null,{"$f":"Macro!A3289","v":0},{"$f":"Macro!B3289","v":0},{"$f":"Macro!E3289","v":{"$error":"#DIV/0!"}}]
[null,{"$f":"Macro!A3290","v":0},{"$f":"Macro!B3290","v":0},{"$f":"Macro!E3290","v":{"$error":"#DIV/0!"}}]
[null,{"$f":"Macro!A3291","v":0},{"$f":"Macro!B3291","v":0},{"$f":"Macro!E3291","v":{"$error":"#DIV/0!"}}]
[null,{"$f":"Macro!A3292","v":0},{"$f":"Macro!B3292","v":0},{"$f":"Macro!E3292","v":{"$error":"#DIV/0!"}}]
[null,{"$f":"Macro!A3293","v":0},{"$f":"Macro!B3293","v":0},{"$f":"Macro!E3293","v":{"$error":"#DIV/0!"}}]
[null,{"$f":"Macro!A3294","v":0},{"$f":"Macro!B3294","v":0},{"$f":"Macro!E3294","v":{"$error":"#DIV/0!"}}]
[null,{"$f":"Macro!A3295","v":0},{"$f":"Macro!B3295","v":0},{"$f":"Macro!E3295","v":{"$error":"#DIV/0!"}}]
[null,{"$f":"Macro!A3296","v":0},{"$f":"Macro!B3296","v":0},{"$f":"Macro!E3296","v":{"$error":"#DIV/0!"}}]
[null,{"$f":"Macro!A3297","v":0},{"$f":"Macro!B3297","v":0},{"$f":"Macro!E3297","v":{"$error":"#DIV/0!"}}]
[null,{"$f":"Macro!A3298","v":0},{"$f":"Macro!B3298","v":0},{"$f":"Macro!E3298","v":{"$error":"#DIV/0!"}}]
[null,{"$f":"Macro!A3299","v":0},{"$f":"Macro!B3299","v":0},{"$f":"Macro!E3299","v":{"$error":"#DIV/0!"}}]
[null,{"$f":"Macro!A3300","v":0},{"$f":"Macro!B3300","v":0},{"$f":"Macro!E3300","v":{"$error":"#DIV/0!"}}]
[null,{"$f":"Macro!A3301","v":0},{"$f":"Macro!B3301","v":0},{"$f":"Macro!E3301","v":{"$error":"#DIV/0!"}}]
[null,{"$f":"Macro!A3302","v":0},{"$f":"Macro!B3302","v":0},{"$f":"Macro!E3302","v":{"$error":"#DIV/0!"}}]
[null,{"$f":"Macro!A3303","v":0},{"$f":"Macro!B3303","v":0},{"$f":"Macro!E3303","v":{"$error":"#DIV/0!"}}]
[null,{"$f":"Macro!A3304","v":0},{"$f":"Macro!B3304","v":0},{"$f":"Macro!E3304","v":{"$error":"#DIV/0!"}}]
[null,{"$f":"Macro!A3305","v":0},{"$f":"Macro!B3305","v":0},{"$f":"Macro!E3305","v":{"$error":"#DIV/0!"}}]
[null,{"$f":"Macro!A3306","v":0},{"$f":"Macro!B3306","v":0},{"$f":"Macro!E3306","v":{"$error":"#DIV/0!"}}]
[null,{"$f":"Macro!A3307","v":0},{"$f":"Macro!B3307","v":0},{"$f":"Macro!E3307","v":{"$error":"#DIV/0!"}}]
[null,{"$f":"Macro!A3308","v":0},{"$f":"Macro!B3308","v":0},{"$f":"Macro!E3308","v":{"$error":"#DIV/0!"}}]
[null,{"$f":"Macro!A3309","v":0},{"$f":"Macro!B3309","v":0},{"$f":"Macro!E3309","v":{"$error":"#DIV/0!"}}]
[null,{"$f":"Macro!A3310","v":0},{"$f":"Macro!B3310","v":0},{"$f":"Macro!E3310","v":{"$error":"#DIV/0!"}}]
[null,{"$f":"Macro!A3311","v":0},{"$f":"Macro!B3311","v":0},{"$f":"Macro!E3311","v":{"$error":"#DIV/0!"}}]
[null,{"$f":"Macro!A3312","v":0},{"$f":"Macro!B3312","v":0},{"$f":"Macro!E3312","v":{"$error":"#DIV/0!"}}]
[null,{"$f":"Macro!A3313","v":0},{"$f":"Macro!B3313","v":0},{"$f":"Macro!E3313","v":{"$error":"#DIV/0!"}}]
[null,{"$f":"Macro!A3314","v":0},{"$f":"Macro!B3314","v":0},{"$f":"Macro!E3314","v":{"$error":"#DIV/0!"}}]
[null,{"$f":"Macro!A3315","v":0},{"$f":"Macro!B3315","v":0},{"$f":"Macro!E3315","v":{"$error":"#DIV/0!"}}]
[null,{"$f":"Macro!A3316","v":0},{"$f":"Macro!B3316","v":0},{"$f":"Macro!E3316","v":{"$error":"#DIV/0!"}}]
[null,{"$f":"Macro!A3317","v":0},{"$f":"Macro!B3317","v":0},{"$f":"Macro!E3317","v":{"$error":"#DIV/0!"}}]
[null,{"$f":"Macro!A3318","v":0},{"$f":"Macro!B3318","v":0},{"$f":"Macro!E3318","v":{"$error":"#DIV/0!"}}]
[null,{"$f":"Macro!A3319","v":0},{"$f":"Macro!B3319","v":0},{"$f":"Macro!E3319","v":{"$error":"#DIV/0!"}}]
[null,{"$f":"Macro!A3320","v":0},{"$f":"Macro!B3320","v":0},{"$f":"Macro!E3320","v":{"$error":"#DIV/0!"}}]
[null,{"$f":"Macro!A3321","v":0},{"$f":"Macro!B3321","v":0},{"$f":"Macro!E3321","v":{"$error":"#DIV/0!"}}]
[null,{"$f":"Macro!A3322","v":0},{"$f":"Macro!B3322","v":0},{"$f":"Macro!E3322","v":{"$error":"#DIV/0!"}}]
[null,{"$f":"Macro!A3323","v":0},{"$f":"Macro!B3323","v":0},{"$f":"Macro!E3323","v":{"$error":"#DIV/0!"}}]
[null,{"$f":"Macro!A3324","v":0},{"$f":"Macro!B3324","v":0},{"$f":"Macro!E3324","v":{"$error":"#DIV/0!"}}]
[null,{"$f":"Macro!A3325","v":0},{"$f":"Macro!B3325","v":0},{"$f":"Macro!E3325","v":{"$error":"#DIV/0!"}}]
[null,{"$f":"Macro!A3326","v":0},{"$f":"Macro!B3326","v":0},{"$f":"Macro!E3326","v":{"$error":"#DIV/0!"}}]
[null,{"$f":"Macro!A3327","v":0},{"$f":"Macro!B3327","v":0},{"$f":"Macro!E3327","v":{"$error":"#DIV/0!"}}]
[null,{"$f":"Macro!A3328","v":0},{"$f":"Macro!B3328","v":0},{"$f":"Macro!E3328","v":{"$error":"#DIV/0!"}}]
[null,{"$f":"Macro!A3329","v":0},{"$f":"Macro!B3329","v":0},{"$f":"Macro!E3329","v":{"$error":"#DIV/0!"}}]
[null,{"$f":"Macro!A3330","v":0},{"$f":"Macro!B3330","v":0},{"$f":"Macro!E3330","v":{"$error":"#DIV/0!"}}]
[null,{"$f":"Macro!A3331","v":0},{"$f":"Macro!B3331","v":0},{"$f":"Macro!E3331","v":{"$error":"#DIV/0!"}}]
[null,{"$f":"Macro!A3332","v":0},{"$f":"Macro!B3332","v":0},{"$f":"Macro!E3332","v":{"$error":"#DIV/0!"}}]
[null,{"$f":"Macro!A3333","v":0},{"$f":"Macro!B3333","v":0},{"$f":"Macro!E3333","v":{"$error":"#DIV/0!"}}]
[null,{"$f":"Macro!A3334","v":0},{"$f":"Macro!B3334","v":0},{"$f":"Macro!E3334","v":{"$error":"#DIV/0!"}}]
[null,{"$f":"Macro!A3335","v":0},{"$f":"Macro!B3335","v":0},{"$f":"Macro!E3335","v":{"$error":"#DIV/0!"}}]
[null,{"$f":"Macro!A3336","v":0},{"$f":"Macro!B3336","v":0},{"$f":"Macro!E3336","v":{"$error":"#DIV/0!"}}]
[null,{"$f":"Macro!A3337","v":0},{"$f":"Macro!B3337","v":0},{"$f":"Macro!E3337","v":{"$error":"#DIV/0!"}}]
[null,{"$f":"Macro!A3338","v":0},{"$f":"Macro!B3338","v":0},{"$f":"Macro!E3338","v":{"$error":"#DIV/0!"}}]
[null,{"$f":"Macro!A3339","v":0},{"$f":"Macro!B3339","v":0},{"$f":"Macro!E3339","v":{"$error":"#DIV/0!"}}]
[null,{"$f":"Macro!A3340","v":0},{"$f":"Macro!B3340","v":0},{"$f":"Macro!E3340","v":{"$error":"#DIV/0!"}}]
[null,{"$f":"Macro!A3341","v":0},{"$f":"Macro!B3341","v":0},{"$f":"Macro!E3341","v":{"$error":"#DIV/0!"}}]
[null,{"$f":"Macro!A3342","v":0},{"$f":"Macro!B3342","v":0},{"$f":"Macro!E3342","v":{"$error":"#DIV/0!"}}]
[null,{"$f":"Macro!A3343","v":0},{"$f":"Macro!B3343","v":0},{"$f":"Macro!E3343","v":{"$error":"#DIV/0!"}}]
[null,{"$f":"Macro!A3344","v":0},{"$f":"Macro!B3344","v":0},{"$f":"Macro!E3344","v":{"$error":"#DIV/0!"}}]
[null,{"$f":"Macro!A3345","v":0},{"$f":"Macro!B3345","v":0},{"$f":"Macro!E3345","v":{"$error":"#DIV/0!"}}]
[null,{"$f":"Macro!A3346","v":0},{"$f":"Macro!B3346","v":0},{"$f":"Macro!E3346","v":{"$error":"#DIV/0!"}}]
[null,{"$f":"Macro!A3347","v":0},{"$f":"Macro!B3347","v":0},{"$f":"Macro!E3347","v":{"$error":"#DIV/0!"}}]
[null,{"$f":"Macro!A3348","v":0},{"$f":"Macro!B3348","v":0},{"$f":"Macro!E3348","v":{"$error":"#DIV/0!"}}]
[null,{"$f":"Macro!A3349","v":0},{"$f":"Macro!B3349","v":0},{"$f":"Macro!E3349","v":{"$error":"#DIV/0!"}}]
[null,{"$f":"Macro!A3350","v":0},{"$f":"Macro!B3350","v":0},{"$f":"Macro!E3350","v":{"$error":"#DIV/0!"}}]
[null,{"$f":"Macro!A3351","v":0},{"$f":"Macro!B3351","v":0},{"$f":"Macro!E3351","v":{"$error":"#DIV/0!"}}]
[null,{"$f":"Macro!A3352","v":0},{"$f":"Macro!B3352","v":0},{"$f":"Macro!E3352","v":{"$error":"#DIV/0!"}}]
[null,{"$f":"Macro!A3353","v":0},{"$f":"Macro!B3353","v":0},{"$f":"Macro!E3353","v":{"$error":"#DIV/0!"}}]
[null,{"$f":"Macro!A3354","v":0},{"$f":"Macro!B3354","v":0},{"$f":"Macro!E3354","v":{"$error":"#DIV/0!"}}]
[null,{"$f":"Macro!A3355","v":0},{"$f":"Macro!B3355","v":0},{"$f":"Macro!E3355","v":{"$error":"#DIV/0!"}}]
[null,{"$f":"Macro!A3356","v":0},{"$f":"Macro!B3356","v":0},{"$f":"Macro!E3356","v":{"$error":"#DIV/0!"}}]
[null,{"$f":"Macro!A3357","v":0},{"$f":"Macro!B3357","v":0},{"$f":"Macro!E3357","v":{"$error":"#DIV/0!"}}]
[null,{"$f":"Macro!A3358","v":0},{"$f":"Macro!B3358","v":0},{"$f":"Macro!E3358","v":{"$error":"#DIV/0!"}}]
[null,{"$f":"Macro!A3359","v":0},{"$f":"Macro!B3359","v":0},{"$f":"Macro!E3359","v":{"$error":"#DIV/0!"}}]
[null,{"$f":"Macro!A3360","v":0},{"$f":"Macro!B3360","v":0},{"$f":"Macro!E3360","v":{"$error":"#DIV/0!"}}]
[null,{"$f":"Macro!A3361","v":0},{"$f":"Macro!B3361","v":0},{"$f":"Macro!E3361","v":{"$error":"#DIV/0!"}}]
[null,{"$f":"Macro!A3362","v":0},{"$f":"Macro!B3362","v":0},{"$f":"Macro!E3362","v":{"$error":"#DIV/0!"}}]
[null,{"$f":"Macro!A3363","v":0},{"$f":"Macro!B3363","v":0},{"$f":"Macro!E3363","v":{"$error":"#DIV/0!"}}]
[null,{"$f":"Macro!A3364","v":0},{"$f":"Macro!B3364","v":0},{"$f":"Macro!E3364","v":{"$error":"#DIV/0!"}}]
[null,{"$f":"Macro!A3365","v":0},{"$f":"Macro!B3365","v":0},{"$f":"Macro!E3365","v":{"$error":"#DIV/0!"}}]
[null,{"$f":"Macro!A3366","v":0},{"$f":"Macro!B3366","v":0},{"$f":"Macro!E3366","v":{"$error":"#DIV/0!"}}]
[null,{"$f":"Macro!A3367","v":0},{"$f":"Macro!B3367","v":0},{"$f":"Macro!E3367","v":{"$error":"#DIV/0!"}}]
[null,{"$f":"Macro!A3368","v":0},{"$f":"Macro!B3368","v":0},{"$f":"Macro!E3368","v":{"$error":"#DIV/0!"}}]
[null,{"$f":"Macro!A3369","v":0},{"$f":"Macro!B3369","v":0},{"$f":"Macro!E3369","v":{"$error":"#DIV/0!"}}]
[null,{"$f":"Macro!A3370","v":0},{"$f":"Macro!B3370","v":0},{"$f":"Macro!E3370","v":{"$error":"#DIV/0!"}}]
[null,{"$f":"Macro!A3371","v":0},{"$f":"Macro!B3371","v":0},{"$f":"Macro!E3371","v":{"$error":"#DIV/0!"}}]
[null,{"$f":"Macro!A3372","v":0},{"$f":"Macro!B3372","v":0},{"$f":"Macro!E3372","v":{"$error":"#DIV/0!"}}]
[null,{"$f":"Macro!A3373","v":0},{"$f":"Macro!B3373","v":0},{"$f":"Macro!E3373","v":{"$error":"#DIV/0!"}}]
[null,{"$f":"Macro!A3374","v":0},{"$f":"Macro!B3374","v":0},{"$f":"Macro!E3374","v":{"$error":"#DIV/0!"}}]
[null,{"$f":"Macro!A3375","v":0},{"$f":"Macro!B3375","v":0},{"$f":"Macro!E3375","v":{"$error":"#DIV/0!"}}]
[null,{"$f":"Macro!A3376","v":0},{"$f":"Macro!B3376","v":0},{"$f":"Macro!E3376","v":{"$error":"#DIV/0!"}}]
[null,{"$f":"Macro!A3377","v":0},{"$f":"Macro!B3377","v":0},{"$f":"Macro!E3377","v":{"$error":"#DIV/0!"}}]
[null,{"$f":"Macro!A3378","v":0},{"$f":"Macro!B3378","v":0},{"$f":"Macro!E3378","v":{"$error":"#DIV/0!"}}]
[null,{"$f":"Macro!A3379","v":0},{"$f":"Macro!B3379","v":0},{"$f":"Macro!E3379","v":{"$error":"#DIV/0!"}}]
[null,{"$f":"Macro!A3380","v":0},{"$f":"Macro!B3380","v":0},{"$f":"Macro!E3380","v":{"$error":"#DIV/0!"}}]
[null,{"$f":"Macro!A3381","v":0},{"$f":"Macro!B3381","v":0},{"$f":"Macro!E3381","v":{"$error":"#DIV/0!"}}]
[null,{"$f":"Macro!A3382","v":0},{"$f":"Macro!B3382","v":0},{"$f":"Macro!E3382","v":{"$error":"#DIV/0!"}}]
[null,{"$f":"Macro!A3383","v":0},{"$f":"Macro!B3383","v":0},{"$f":"Macro!E3383","v":{"$error":"#DIV/0!"}}]
[null,{"$f":"Macro!A3384","v":0},{"$f":"Macro!B3384","v":0},{"$f":"Macro!E3384","v":{"$error":"#DIV/0!"}}]
[null,{"$f":"Macro!A3385","v":0},{"$f":"Macro!B3385","v":0},{"$f":"Macro!E3385","v":{"$error":"#DIV/0!"}}]
[null,{"$f":"Macro!A3386","v":0},{"$f":"Macro!B3386","v":0},{"$f":"Macro!E3386","v":{"$error":"#DIV/0!"}}]
[null,{"$f":"Macro!A3387","v":0},{"$f":"Macro!B3387","v":0},{"$f":"Macro!E3387","v":{"$error":"#DIV/0!"}}]
[null,{"$f":"Macro!A3388","v":0},{"$f":"Macro!B3388","v":0},{"$f":"Macro!E3388","v":{"$error":"#DIV/0!"}}]
[null,{"$f":"Macro!A3389","v":0},{"$f":"Macro!B3389","v":0},{"$f":"Macro!E3389","v":{"$error":"#DIV/0!"}}]
[null,{"$f":"Macro!A3390","v":0},{"$f":"Macro!B3390","v":0},{"$f":"Macro!E3390","v":{"$error":"#DIV/0!"}}]
[null,{"$f":"Macro!A3391","v":0},{"$f":"Macro!B3391","v":0},{"$f":"Macro!E3391","v":{"$error":"#DIV/0!"}}]
[null,{"$f":"Macro!A3392","v":0},{"$f":"Macro!B3392","v":0},{"$f":"Macro!E3392","v":{"$error":"#DIV/0!"}}]
[null,{"$f":"Macro!A3393","v":0},{"$f":"Macro!B3393","v":0},{"$f":"Macro!E3393","v":{"$error":"#DIV/0!"}}]
[null,{"$f":"Macro!A3394","v":0},{"$f":"Macro!B3394","v":0},{"$f":"Macro!E3394","v":{"$error":"#DIV/0!"}}]
[null,{"$f":"Macro!A3395","v":0},{"$f":"Macro!B3395","v":0},{"$f":"Macro!E3395","v":{"$error":"#DIV/0!"}}]
[null,{"$f":"Macro!A3396","v":0},{"$f":"Macro!B3396","v":0},{"$f":"Macro!E3396","v":{"$error":"#DIV/0!"}}]
[null,{"$f":"Macro!A3397","v":0},{"$f":"Macro!B3397","v":0},{"$f":"Macro!E3397","v":{"$error":"#DIV/0!"}}]
[null,{"$f":"Macro!A3398","v":0},{"$f":"Macro!B3398","v":0},{"$f":"Macro!E3398","v":{"$error":"#DIV/0!"}}]
[null,{"$f":"Macro!A3399","v":0},{"$f":"Macro!B3399","v":0},{"$f":"Macro!E3399","v":{"$error":"#DIV/0!"}}]
[null,{"$f":"Macro!A3400","v":0},{"$f":"Macro!B3400","v":0},{"$f":"Macro!E3400","v":{"$error":"#DIV/0!"}}]
[null,{"$f":"Macro!A3401","v":0},{"$f":"Macro!B3401","v":0},{"$f":"Macro!E3401","v":{"$error":"#DIV/0!"}}]
[null,{"$f":"Macro!A3402","v":0},{"$f":"Macro!B3402","v":0},{"$f":"Macro!E3402","v":{"$error":"#DIV/0!"}}]
[null,{"$f":"Macro!A3403","v":0},{"$f":"Macro!B3403","v":0},{"$f":"Macro!E3403","v":{"$error":"#DIV/0!"}}]
[null,{"$f":"Macro!A3404","v":0},{"$f":"Macro!B3404","v":0},{"$f":"Macro!E3404","v":{"$error":"#DIV/0!"}}]
[null,{"$f":"Macro!A3405","v":0},{"$f":"Macro!B3405","v":0},{"$f":"Macro!E3405","v":{"$error":"#DIV/0!"}}]
[null,{"$f":"Macro!A3406","v":0},{"$f":"Macro!B3406","v":0},{"$f":"Macro!E3406","v":{"$error":"#DIV/0!"}}]
[null,{"$f":"Macro!A3407","v":0},{"$f":"Macro!B3407","v":0},{"$f":"Macro!E3407","v":{"$error":"#DIV/0!"}}]
[null,{"$f":"Macro!A3408","v":0},{"$f":"Macro!B3408","v":0},{"$f":"Macro!E3408","v":{"$error":"#DIV/0!"}}]
[null,{"$f":"Macro!A3409","v":0},{"$f":"Macro!B3409","v":0},{"$f":"Macro!E3409","v":{"$error":"#DIV/0!"}}]
[null,{"$f":"Macro!A3410","v":0},{"$f":"Macro!B3410","v":0},{"$f":"Macro!E3410","v":{"$error":"#DIV/0!"}}]
[null,{"$f":"Macro!A3411","v":0},{"$f":"Macro!B3411","v":0},{"$f":"Macro!E3411","v":{"$error":"#DIV/0!"}}]
[null,{"$f":"Macro!A3412","v":0},{"$f":"Macro!B3412","v":0},{"$f":"Macro!E3412","v":{"$error":"#DIV/0!"}}]
[null,{"$f":"Macro!A3413","v":0},{"$f":"Macro!B3413","v":0},{"$f":"Macro!E3413","v":{"$error":"#DIV/0!"}}]
[null,{"$f":"Macro!A3414","v":0},{"$f":"Macro!B3414","v":0},{"$f":"Macro!E3414","v":{"$error":"#DIV/0!"}}]
[null,{"$f":"Macro!A3415","v":0},{"$f":"Macro!B3415","v":0},{"$f":"Macro!E3415","v":{"$error":"#DIV/0!"}}]
[null,{"$f":"Macro!A3416","v":0},{"$f":"Macro!B3416","v":0},{"$f":"Macro!E3416","v":{"$error":"#DIV/0!"}}]
[null,{"$f":"Macro!A3417","v":0},{"$f":"Macro!B3417","v":0},{"$f":"Macro!E3417","v":{"$error":"#DIV/0!"}}]
[null,{"$f":"Macro!A3418","v":0},{"$f":"Macro!B3418","v":0},{"$f":"Macro!E3418","v":{"$error":"#DIV/0!"}}]
[null,{"$f":"Macro!A3419","v":0},{"$f":"Macro!B3419","v":0},{"$f":"Macro!E3419","v":{"$error":"#DIV/0!"}}]
[null,{"$f":"Macro!A3420","v":0},{"$f":"Macro!B3420","v":0},{"$f":"Macro!E3420","v":{"$error":"#DIV/0!"}}]
[null,{"$f":"Macro!A3421","v":0},{"$f":"Macro!B3421","v":0},{"$f":"Macro!E3421","v":{"$error":"#DIV/0!"}}]
[null,{"$f":"Macro!A3422","v":0},{"$f":"Macro!B3422","v":0},{"$f":"Macro!E3422","v":{"$error":"#DIV/0!"}}]
[null,{"$f":"Macro!A3423","v":0},{"$f":"Macro!B3423","v":0},{"$f":"Macro!E3423","v":{"$error":"#DIV/0!"}}]
[null,{"$f":"Macro!A3424","v":0},{"$f":"Macro!B3424","v":0},{"$f":"Macro!E3424","v":{"$error":"#DIV/0!"}}]
[null,{"$f":"Macro!A3425","v":0},{"$f":"Macro!B3425","v":0},{"$f":"Macro!E3425","v":{"$error":"#DIV/0!"}}]
[null,{"$f":"Macro!A3426","v":0},{"$f":"Macro!B3426","v":0},{"$f":"Macro!E3426","v":{"$error":"#DIV/0!"}}]
[null,{"$f":"Macro!A3427","v":0},{"$f":"Macro!B3427","v":0},{"$f":"Macro!E3427","v":{"$error":"#DIV/0!"}}]
[null,{"$f":"Macro!A3428","v":0},{"$f":"Macro!B3428","v":0},{"$f":"Macro!E3428","v":{"$error":"#DIV/0!"}}]
[null,{"$f":"Macro!A3429","v":0},{"$f":"Macro!B3429","v":0},{"$f":"Macro!E3429","v":{"$error":"#DIV/0!"}}]
[null,{"$f":"Macro!A3430","v":0},{"$f":"Macro!B3430","v":0},{"$f":"Macro!E3430","v":{"$error":"#DIV/0!"}}]
[null,{"$f":"Macro!A3431","v":0},{"$f":"Macro!B3431","v":0},{"$f":"Macro!E3431","v":{"$error":"#DIV/0!"}}]
[null,{"$f":"Macro!A3432","v":0},{"$f":"Macro!B3432","v":0},{"$f":"Macro!E3432","v":{"$error":"#DIV/0!"}}]
[null,{"$f":"Macro!A3433","v":0},{"$f":"Macro!B3433","v":0},{"$f":"Macro!E3433","v":{"$error":"#DIV/0!"}}]
[null,{"$f":"Macro!A3434","v":0},{"$f":"Macro!B3434","v":0},{"$f":"Macro!E3434","v":{"$error":"#DIV/0!"}}]
[null,{"$f":"Macro!A3435","v":0},{"$f":"Macro!B3435","v":0},{"$f":"Macro!E3435","v":{"$error":"#DIV/0!"}}]
[null,{"$f":"Macro!A3436","v":0},{"$f":"Macro!B3436","v":0},{"$f":"Macro!E3436","v":{"$error":"#DIV/0!"}}]
[null,{"$f":"Macro!A3437","v":0},{"$f":"Macro!B3437","v":0},{"$f":"Macro!E3437","v":{"$error":"#DIV/0!"}}]
[null,{"$f":"Macro!A3438","v":0},{"$f":"Macro!B3438","v":0},{"$f":"Macro!E3438","v":{"$error":"#DIV/0!"}}]
[null,{"$f":"Macro!A3439","v":0},{"$f":"Macro!B3439","v":0},{"$f":"Macro!E3439","v":{"$error":"#DIV/0!"}}]
[null,{"$f":"Macro!A3440","v":0},{"$f":"Macro!B3440","v":0},{"$f":"Macro!E3440","v":{"$error":"#DIV/0!"}}]
[null,{"$f":"Macro!A3441","v":0},{"$f":"Macro!B3441","v":0},{"$f":"Macro!E3441","v":{"$error":"#DIV/0!"}}]
[null,{"$f":"Macro!A3442","v":0},{"$f":"Macro!B3442","v":0},{"$f":"Macro!E3442","v":{"$error":"#DIV/0!"}}]
[null,{"$f":"Macro!A3443","v":0},{"$f":"Macro!B3443","v":0},{"$f":"Macro!E3443","v":{"$error":"#DIV/0!"}}]
[null,{"$f":"Macro!A3444","v":0},{"$f":"Macro!B3444","v":0},{"$f":"Macro!E3444","v":{"$error":"#DIV/0!"}}]
[null,{"$f":"Macro!A3445","v":0},{"$f":"Macro!B3445","v":0},{"$f":"Macro!E3445","v":{"$error":"#DIV/0!"}}]
[null,{"$f":"Macro!A3446","v":0},{"$f":"Macro!B3446","v":0},{"$f":"Macro!E3446","v":{"$error":"#DIV/0!"}}]
[null,{"$f":"Macro!A3447","v":0},{"$f":"Macro!B3447","v":0},{"$f":"Macro!E3447","v":{"$error":"#DIV/0!"}}]
[null,{"$f":"Macro!A3448","v":0},{"$f":"Macro!B3448","v":0},{"$f":"Macro!E3448","v":{"$error":"#DIV/0!"}}]
[null,{"$f":"Macro!A3449","v":0},{"$f":"Macro!B3449","v":0},{"$f":"Macro!E3449","v":{"$error":"#DIV/0!"}}]
[null,{"$f":"Macro!A3450","v":0},{"$f":"Macro!B3450","v":0},{"$f":"Macro!E3450","v":{"$error":"#DIV/0!"}}]
[null,{"$f":"Macro!A3451","v":0},{"$f":"Macro!B3451","v":0},{"$f":"Macro!E3451","v":{"$error":"#DIV/0!"}}]
[null,{"$f":"Macro!A3452","v":0},{"$f":"Macro!B3452","v":0},{"$f":"Macro!E3452","v":{"$error":"#DIV/0!"}}]
[null,{"$f":"Macro!A3453","v":0},{"$f":"Macro!B3453","v":0},{"$f":"Macro!E3453","v":{"$error":"#DIV/0!"}}]
[null,{"$f":"Macro!A3454","v":0},{"$f":"Macro!B3454","v":0},{"$f":"Macro!E3454","v":{"$error":"#DIV/0!"}}]
[null,{"$f":"Macro!A3455","v":0},{"$f":"Macro!B3455","v":0},{"$f":"Macro!E3455","v":{"$error":"#DIV/0!"}}]
[null,{"$f":"Macro!A3456","v":0},{"$f":"Macro!B3456","v":0},{"$f":"Macro!E3456","v":{"$error":"#DIV/0!"}}]
[null,{"$f":"Macro!A3457","v":0},{"$f":"Macro!B3457","v":0},{"$f":"Macro!E3457","v":{"$error":"#DIV/0!"}}]
[null,{"$f":"Macro!A3458","v":0},{"$f":"Macro!B3458","v":0},{"$f":"Macro!E3458","v":{"$error":"#DIV/0!"}}]
[null,{"$f":"Macro!A3459","v":0},{"$f":"Macro!B3459","v":0},{"$f":"Macro!E3459","v":{"$error":"#DIV/0!"}}]
[null,{"$f":"Macro!A3460","v":0},{"$f":"Macro!B3460","v":0},{"$f":"Macro!E3460","v":{"$error":"#DIV/0!"}}]
[null,{"$f":"Macro!A3461","v":0},{"$f":"Macro!B3461","v":0},{"$f":"Macro!E3461","v":{"$error":"#DIV/0!"}}]
[null,{"$f":"Macro!A3462","v":0},{"$f":"Macro!B3462","v":0},{"$f":"Macro!E3462","v":{"$error":"#DIV/0!"}}]
[null,{"$f":"Macro!A3463","v":0},{"$f":"Macro!B3463","v":0},{"$f":"Macro!E3463","v":{"$error":"#DIV/0!"}}]
[null,{"$f":"Macro!A3464","v":0},{"$f":"Macro!B3464","v":0},{"$f":"Macro!E3464","v":{"$error":"#DIV/0!"}}]
[null,{"$f":"Macro!A3465","v":0},{"$f":"Macro!B3465","v":0},{"$f":"Macro!E3465","v":{"$error":"#DIV/0!"}}]
[null,{"$f":"Macro!A3466","v":0},{"$f":"Macro!B3466","v":0},{"$f":"Macro!E3466","v":{"$error":"#DIV/0!"}}]
[null,{"$f":"Macro!A3467","v":0},{"$f":"Macro!B3467","v":0},{"$f":"Macro!E3467","v":{"$error":"#DIV/0!"}}]
[null,{"$f":"Macro!A3468","v":0},{"$f":"Macro!B3468","v":0},{"$f":"Macro!E3468","v":{"$error":"#DIV/0!"}}]
[null,{"$f":"Macro!A3469","v":0},{"$f":"Macro!B3469","v":0},{"$f":"Macro!E3469","v":{"$error":"#DIV/0!"}}]
[null,{"$f":"Macro!A3470","v":0},{"$f":"Macro!B3470","v":0},{"$f":"Macro!E3470","v":{"$error":"#DIV/0!"}}]
[null,{"$f":"Macro!A3471","v":0},{"$f":"Macro!B3471","v":0},{"$f":"Macro!E3471","v":{"$error":"#DIV/0!"}}]
[null,{"$f":"Macro!A3472","v":0},{"$f":"Macro!B3472","v":0},{"$f":"Macro!E3472","v":{"$error":"#DIV/0!"}}]
[null,{"$f":"Macro!A3473","v":0},{"$f":"Macro!B3473","v":0},{"$f":"Macro!E3473","v":{"$error":"#DIV/0!"}}]
[null,{"$f":"Macro!A3474","v":0},{"$f":"Macro!B3474","v":0},{"$f":"Macro!E3474","v":{"$error":"#DIV/0!"}}]
[null,{"$f":"Macro!A3475","v":0},{"$f":"Macro!B3475","v":0},{"$f":"Macro!E3475","v":{"$error":"#DIV/0!"}}]
[null,{"$f":"Macro!A3476","v":0},{"$f":"Macro!B3476","v":0},{"$f":"Macro!E3476","v":{"$error":"#DIV/0!"}}]
[null,{"$f":"Macro!A3477","v":0},{"$f":"Macro!B3477","v":0},{"$f":"Macro!E3477","v":{"$error":"#DIV/0!"}}]
[null,{"$f":"Macro!A3478","v":0},{"$f":"Macro!B3478","v":0},{"$f":"Macro!E3478","v":{"$error":"#DIV/0!"}}]
[null,{"$f":"Macro!A3479","v":0},{"$f":"Macro!B3479","v":0},{"$f":"Macro!E3479","v":{"$error":"#DIV/0!"}}]
[null,{"$f":"Macro!A3480","v":0},{"$f":"Macro!B3480","v":0},{"$f":"Macro!E3480","v":{"$error":"#DIV/0!"}}]
[null,{"$f":"Macro!A3481","v":0},{"$f":"Macro!B3481","v":0},{"$f":"Macro!E3481","v":{"$error":"#DIV/0!"}}]
[null,{"$f":"Macro!A3482","v":0},{"$f":"Macro!B3482","v":0},{"$f":"Macro!E3482","v":{"$error":"#DIV/0!"}}]
[null,{"$f":"Macro!A3483","v":0},{"$f":"Macro!B3483","v":0},{"$f":"Macro!E3483","v":{"$error":"#DIV/0!"}}]
[null,{"$f":"Macro!A3484","v":0},{"$f":"Macro!B3484","v":0},{"$f":"Macro!E3484","v":{"$error":"#DIV/0!"}}]
[null,{"$f":"Macro!A3485","v":0},{"$f":"Macro!B3485","v":0},{"$f":"Macro!E3485","v":{"$error":"#DIV/0!"}}]
[null,{"$f":"Macro!A3486","v":0},{"$f":"Macro!B3486","v":0},{"$f":"Macro!E3486","v":{"$error":"#DIV/0!"}}]
[null,{"$f":"Macro!A3487","v":0},{"$f":"Macro!B3487","v":0},{"$f":"Macro!E3487","v":{"$error":"#DIV/0!"}}]
[null,{"$f":"Macro!A3488","v":0},{"$f":"Macro!B3488","v":0},{"$f":"Macro!E3488","v":{"$error":"#DIV/0!"}}]
[null,{"$f":"Macro!A3489","v":0},{"$f":"Macro!B3489","v":0},{"$f":"Macro!E3489","v":{"$error":"#DIV/0!"}}]
[null,{"$f":"Macro!A3490","v":0},{"$f":"Macro!B3490","v":0},{"$f":"Macro!E3490","v":{"$error":"#DIV/0!"}}]
[null,{"$f":"Macro!A3491","v":0},{"$f":"Macro!B3491","v":0},{"$f":"Macro!E3491","v":{"$error":"#DIV/0!"}}]
[null,{"$f":"Macro!A3492","v":0},{"$f":"Macro!B3492","v":0},{"$f":"Macro!E3492","v":{"$error":"#DIV/0!"}}]
[null,{"$f":"Macro!A3493","v":0},{"$f":"Macro!B3493","v":0},{"$f":"Macro!E3493","v":{"$error":"#DIV/0!"}}]
[null,{"$f":"Macro!A3494","v":0},{"$f":"Macro!B3494","v":0},{"$f":"Macro!E3494","v":{"$error":"#DIV/0!"}}]
[null,{"$f":"Macro!A3495","v":0},{"$f":"Macro!B3495","v":0},{"$f":"Macro!E3495","v":{"$error":"#DIV/0!"}}]
[null,{"$f":"Macro!A3496","v":0},{"$f":"Macro!B3496","v":0},{"$f":"Macro!E3496","v":{"$error":"#DIV/0!"}}]
[null,{"$f":"Macro!A3497","v":0},{"$f":"Macro!B3497","v":0},{"$f":"Macro!E3497","v":{"$error":"#DIV/0!"}}]
[null,{"$f":"Macro!A3498","v":0},{"$f":"Macro!B3498","v":0},{"$f":"Macro!E3498","v":{"$error":"#DIV/0!"}}]
[null,{"$f":"Macro!A3499","v":0},{"$f":"Macro!B3499","v":0},{"$f":"Macro!E3499","v":{"$error":"#DIV/0!"}}]
[null,{"$f":"Macro!A3500","v":0},{"$f":"Macro!B3500","v":0},{"$f":"Macro!E3500","v":{"$error":"#DIV/0!"}}]
[null,{"$f":"Macro!A3501","v":0},{"$f":"Macro!B3501","v":0},{"$f":"Macro!E3501","v":{"$error":"#DIV/0!"}}]
[null,{"$f":"Macro!A3502","v":0},{"$f":"Macro!B3502","v":0},{"$f":"Macro!E3502","v":{"$error":"#DIV/0!"}}]
[null,{"$f":"Macro!A3503","v":0},{"$f":"Macro!B3503","v":0},{"$f":"Macro!E3503","v":{"$error":"#DIV/0!"}}]
[null,{"$f":"Macro!A3504","v":0},{"$f":"Macro!B3504","v":0},{"$f":"Macro!E3504","v":{"$error":"#DIV/0!"}}]
[null,{"$f":"Macro!A3505","v":0},{"$f":"Macro!B3505","v":0},{"$f":"Macro!E3505","v":{"$error":"#DIV/0!"}}]
[null,{"$f":"Macro!A3506","v":0},{"$f":"Macro!B3506","v":0},{"$f":"Macro!E3506","v":{"$error":"#DIV/0!"}}]
[null,{"$f":"Macro!A3507","v":0},{"$f":"Macro!B3507","v":0},{"$f":"Macro!E3507","v":{"$error":"#DIV/0!"}}]
[null,{"$f":"Macro!A3508","v":0},{"$f":"Macro!B3508","v":0},{"$f":"Macro!E3508","v":{"$error":"#DIV/0!"}}]
[null,{"$f":"Macro!A3509","v":0},{"$f":"Macro!B3509","v":0},{"$f":"Macro!E3509","v":{"$error":"#DIV/0!"}}]
[null,{"$f":"Macro!A3510","v":0},{"$f":"Macro!B3510","v":0},{"$f":"Macro!E3510","v":{"$error":"#DIV/0!"}}]
[null,{"$f":"Macro!A3511","v":0},{"$f":"Macro!B3511","v":0},{"$f":"Macro!E3511","v":{"$error":"#DIV/0!"}}]
[null,{"$f":"Macro!A3512","v":0},{"$f":"Macro!B3512","v":0},{"$f":"Macro!E3512","v":{"$error":"#DIV/0!"}}]
[null,{"$f":"Macro!A3513","v":0},{"$f":"Macro!B3513","v":0},{"$f":"Macro!E3513","v":{"$error":"#DIV/0!"}}]
[null,{"$f":"Macro!A3514","v":0},{"$f":"Macro!B3514","v":0},{"$f":"Macro!E3514","v":{"$error":"#DIV/0!"}}]
[null,{"$f":"Macro!A3515","v":0},{"$f":"Macro!B3515","v":0},{"$f":"Macro!E3515","v":{"$error":"#DIV/0!"}}]
[null,{"$f":"Macro!A3516","v":0},{"$f":"Macro!B3516","v":0},{"$f":"Macro!E3516","v":{"$error":"#DIV/0!"}}]
[null,{"$f":"Macro!A3517","v":0},{"$f":"Macro!B3517","v":0},{"$f":"Macro!E3517","v":{"$error":"#DIV/0!"}}]
[null,{"$f":"Macro!A3518","v":0},{"$f":"Macro!B3518","v":0},{"$f":"Macro!E3518","v":{"$error":"#DIV/0!"}}]
[null,{"$f":"Macro!A3519","v":0},{"$f":"Macro!B3519","v":0},{"$f":"Macro!E3519","v":{"$error":"#DIV/0!"}}]
[null,{"$f":"Macro!A3520","v":0},{"$f":"Macro!B3520","v":0},{"$f":"Macro!E3520","v":{"$error":"#DIV/0!"}}]
[null,{"$f":"Macro!A3521","v":0},{"$f":"Macro!B3521","v":0},{"$f":"Macro!E3521","v":{"$error":"#DIV/0!"}}]
[null,{"$f":"Macro!A3522","v":0},{"$f":"Macro!B3522","v":0},{"$f":"Macro!E3522","v":{"$error":"#DIV/0!"}}]
[null,{"$f":"Macro!A3523","v":0},{"$f":"Macro!B3523","v":0},{"$f":"Macro!E3523","v":{"$error":"#DIV/0!"}}]
[null,{"$f":"Macro!A3524","v":0},{"$f":"Macro!B3524","v":0},{"$f":"Macro!E3524","v":{"$error":"#DIV/0!"}}]
[null,{"$f":"Macro!A3525","v":0},{"$f":"Macro!B3525","v":0},{"$f":"Macro!E3525","v":{"$error":"#DIV/0!"}}]
[null,{"$f":"Macro!A3526","v":0},{"$f":"Macro!B3526","v":0},{"$f":"Macro!E3526","v":{"$error":"#DIV/0!"}}]
[null,{"$f":"Macro!A3527","v":0},{"$f":"Macro!B3527","v":0},{"$f":"Macro!E3527","v":{"$error":"#DIV/0!"}}]
[null,{"$f":"Macro!A3528","v":0},{"$f":"Macro!B3528","v":0},{"$f":"Macro!E3528","v":{"$error":"#DIV/0!"}}]
[null,{"$f":"Macro!A3529","v":0},{"$f":"Macro!B3529","v":0},{"$f":"Macro!E3529","v":{"$error":"#DIV/0!"}}]
[null,{"$f":"Macro!A3530","v":0},{"$f":"Macro!B3530","v":0},{"$f":"Macro!E3530","v":{"$error":"#DIV/0!"}}]
[null,{"$f":"Macro!A3531","v":0},{"$f":"Macro!B3531","v":0},{"$f":"Macro!E3531","v":{"$error":"#DIV/0!"}}]
[null,{"$f":"Macro!A3532","v":0},{"$f":"Macro!B3532","v":0},{"$f":"Macro!E3532","v":{"$error":"#DIV/0!"}}]
[null,{"$f":"Macro!A3533","v":0},{"$f":"Macro!B3533","v":0},{"$f":"Macro!E3533","v":{"$error":"#DIV/0!"}}]
[null,{"$f":"Macro!A3534","v":0},{"$f":"Macro!B3534","v":0},{"$f":"Macro!E3534","v":{"$error":"#DIV/0!"}}]
[null,{"$f":"Macro!A3535","v":0},{"$f":"Macro!B3535","v":0},{"$f":"Macro!E3535","v":{"$error":"#DIV/0!"}}]
[null,{"$f":"Macro!A3536","v":0},{"$f":"Macro!B3536","v":0},{"$f":"Macro!E3536","v":{"$error":"#DIV/0!"}}]
[null,{"$f":"Macro!A3537","v":0},{"$f":"Macro!B3537","v":0},{"$f":"Macro!E3537","v":{"$error":"#DIV/0!"}}]
[null,{"$f":"Macro!A3538","v":0},{"$f":"Macro!B3538","v":0},{"$f":"Macro!E3538","v":{"$error":"#DIV/0!"}}]
[null,{"$f":"Macro!A3539","v":0},{"$f":"Macro!B3539","v":0},{"$f":"Macro!E3539","v":{"$error":"#DIV/0!"}}]
[null,{"$f":"Macro!A3540","v":0},{"$f":"Macro!B3540","v":0},{"$f":"Macro!E3540","v":{"$error":"#DIV/0!"}}]
[null,{"$f":"Macro!A3541","v":0},{"$f":"Macro!B3541","v":0},{"$f":"Macro!E3541","v":{"$error":"#DIV/0!"}}]
[null,{"$f":"Macro!A3542","v":0},{"$f":"Macro!B3542","v":0},{"$f":"Macro!E3542","v":{"$error":"#DIV/0!"}}]
[null,{"$f":"Macro!A3543","v":0},{"$f":"Macro!B3543","v":0},{"$f":"Macro!E3543","v":{"$error":"#DIV/0!"}}]
[null,{"$f":"Macro!A3544","v":0},{"$f":"Macro!B3544","v":0},{"$f":"Macro!E3544","v":{"$error":"#DIV/0!"}}]
[null,{"$f":"Macro!A3545","v":0},{"$f":"Macro!B3545","v":0},{"$f":"Macro!E3545","v":{"$error":"#DIV/0!"}}]
[null,{"$f":"Macro!A3546","v":0},{"$f":"Macro!B3546","v":0},{"$f":"Macro!E3546","v":{"$error":"#DIV/0!"}}]
[null,{"$f":"Macro!A3547","v":0},{"$f":"Macro!B3547","v":0},{"$f":"Macro!E3547","v":{"$error":"#DIV/0!"}}]
[null,{"$f":"Macro!A3548","v":0},{"$f":"Macro!B3548","v":0},{"$f":"Macro!E3548","v":{"$error":"#DIV/0!"}}]
[null,{"$f":"Macro!A3549","v":0},{"$f":"Macro!B3549","v":0},{"$f":"Macro!E3549","v":{"$error":"#DIV/0!"}}]
[null,{"$f":"Macro!A3550","v":0},{"$f":"Macro!B3550","v":0},{"$f":"Macro!E3550","v":{"$error":"#DIV/0!"}}]
[null,{"$f":"Macro!A3551","v":0},{"$f":"Macro!B3551","v":0},{"$f":"Macro!E3551","v":{"$error":"#DIV/0!"}}]
[null,{"$f":"Macro!A3552","v":0},{"$f":"Macro!B3552","v":0},{"$f":"Macro!E3552","v":{"$error":"#DIV/0!"}}]
[null,{"$f":"Macro!A3553","v":0},{"$f":"Macro!B3553","v":0},{"$f":"Macro!E3553","v":{"$error":"#DIV/0!"}}]
[null,{"$f":"Macro!A3554","v":0},{"$f":"Macro!B3554","v":0},{"$f":"Macro!E3554","v":{"$error":"#DIV/0!"}}]
[null,{"$f":"Macro!A3555","v":0},{"$f":"Macro!B3555","v":0},{"$f":"Macro!E3555","v":{"$error":"#DIV/0!"}}]
[null,{"$f":"Macro!A3556","v":0},{"$f":"Macro!B3556","v":0},{"$f":"Macro!E3556","v":{"$error":"#DIV/0!"}}]
[null,{"$f":"Macro!A3557","v":0},{"$f":"Macro!B3557","v":0},{"$f":"Macro!E3557","v":{"$error":"#DIV/0!"}}]
[null,{"$f":"Macro!A3558","v":0},{"$f":"Macro!B3558","v":0},{"$f":"Macro!E3558","v":{"$error":"#DIV/0!"}}]
[null,{"$f":"Macro!A3559","v":0},{"$f":"Macro!B3559","v":0},{"$f":"Macro!E3559","v":{"$error":"#DIV/0!"}}]
[null,{"$f":"Macro!A3560","v":0},{"$f":"Macro!B3560","v":0},{"$f":"Macro!E3560","v":{"$error":"#DIV/0!"}}]
[null,{"$f":"Macro!A3561","v":0},{"$f":"Macro!B3561","v":0},{"$f":"Macro!E3561","v":{"$error":"#DIV/0!"}}]
[null,{"$f":"Macro!A3562","v":0},{"$f":"Macro!B3562","v":0},{"$f":"Macro!E3562","v":{"$error":"#DIV/0!"}}]
[null,{"$f":"Macro!A3563","v":0},{"$f":"Macro!B3563","v":0},{"$f":"Macro!E3563","v":{"$error":"#DIV/0!"}}]
[null,{"$f":"Macro!A3564","v":0},{"$f":"Macro!B3564","v":0},{"$f":"Macro!E3564","v":{"$error":"#DIV/0!"}}]
[null,{"$f":"Macro!A3565","v":0},{"$f":"Macro!B3565","v":0},{"$f":"Macro!E3565","v":{"$error":"#DIV/0!"}}]
[null,{"$f":"Macro!A3566","v":0},{"$f":"Macro!B3566","v":0},{"$f":"Macro!E3566","v":{"$error":"#DIV/0!"}}]
[null,{"$f":"Macro!A3567","v":0},{"$f":"Macro!B3567","v":0},{"$f":"Macro!E3567","v":{"$error":"#DIV/0!"}}]
[null,{"$f":"Macro!A3568","v":0},{"$f":"Macro!B3568","v":0},{"$f":"Macro!E3568","v":{"$error":"#DIV/0!"}}]
[null,{"$f":"Macro!A3569","v":0},{"$f":"Macro!B3569","v":0},{"$f":"Macro!E3569","v":{"$error":"#DIV/0!"}}]
[null,{"$f":"Macro!A3570","v":0},{"$f":"Macro!B3570","v":0},{"$f":"Macro!E3570","v":{"$error":"#DIV/0!"}}]
[null,{"$f":"Macro!A3571","v":0},{"$f":"Macro!B3571","v":0},{"$f":"Macro!E3571","v":{"$error":"#DIV/0!"}}]
[null,{"$f":"Macro!A3572","v":0},{"$f":"Macro!B3572","v":0},{"$f":"Macro!E3572","v":{"$error":"#DIV/0!"}}]
[null,{"$f":"Macro!A3573","v":0},{"$f":"Macro!B3573","v":0},{"$f":"Macro!E3573","v":{"$error":"#DIV/0!"}}]
[null,{"$f":"Macro!A3574","v":0},{"$f":"Macro!B3574","v":0},{"$f":"Macro!E3574","v":{"$error":"#DIV/0!"}}]
[null,{"$f":"Macro!A3575","v":0},{"$f":"Macro!B3575","v":0},{"$f":"Macro!E3575","v":{"$error":"#DIV/0!"}}]
[null,{"$f":"Macro!A3576","v":0},{"$f":"Macro!B3576","v":0},{"$f":"Macro!E3576","v":{"$error":"#DIV/0!"}}]
[null,{"$f":"Macro!A3577","v":0},{"$f":"Macro!B3577","v":0},{"$f":"Macro!E3577","v":{"$error":"#DIV/0!"}}]
[null,{"$f":"Macro!A3578","v":0},{"$f":"Macro!B3578","v":0},{"$f":"Macro!E3578","v":{"$error":"#DIV/0!"}}]
[null,{"$f":"Macro!A3579","v":0},{"$f":"Macro!B3579","v":0},{"$f":"Macro!E3579","v":{"$error":"#DIV/0!"}}]
[null,{"$f":"Macro!A3580","v":0},{"$f":"Macro!B3580","v":0},{"$f":"Macro!E3580","v":{"$error":"#DIV/0!"}}]
[null,{"$f":"Macro!A3581","v":0},{"$f":"Macro!B3581","v":0},{"$f":"Macro!E3581","v":{"$error":"#DIV/0!"}}]
[null,{"$f":"Macro!A3582","v":0},{"$f":"Macro!B3582","v":0},{"$f":"Macro!E3582","v":{"$error":"#DIV/0!"}}]
[null,{"$f":"Macro!A3583","v":0},{"$f":"Macro!B3583","v":0},{"$f":"Macro!E3583","v":{"$error":"#DIV/0!"}}]
[null,{"$f":"Macro!A3584","v":0},{"$f":"Macro!B3584","v":0},{"$f":"Macro!E3584","v":{"$error":"#DIV/0!"}}]
[null,{"$f":"Macro!A3585","v":0},{"$f":"Macro!B3585","v":0},{"$f":"Macro!E3585","v":{"$error":"#DIV/0!"}}]
[null,{"$f":"Macro!A3586","v":0},{"$f":"Macro!B3586","v":0},{"$f":"Macro!E3586","v":{"$error":"#DIV/0!"}}]
[null,{"$f":"Macro!A3587","v":0},{"$f":"Macro!B3587","v":0},{"$f":"Macro!E3587","v":{"$error":"#DIV/0!"}}]
[null,{"$f":"Macro!A3588","v":0},{"$f":"Macro!B3588","v":0},{"$f":"Macro!E3588","v":{"$error":"#DIV/0!"}}]
[null,{"$f":"Macro!A3589","v":0},{"$f":"Macro!B3589","v":0},{"$f":"Macro!E3589","v":{"$error":"#DIV/0!"}}]
[null,{"$f":"Macro!A3590","v":0},{"$f":"Macro!B3590","v":0},{"$f":"Macro!E3590","v":{"$error":"#DIV/0!"}}]
[null,{"$f":"Macro!A3591","v":0},{"$f":"Macro!B3591","v":0},{"$f":"Macro!E3591","v":{"$error":"#DIV/0!"}}]
[null,{"$f":"Macro!A3592","v":0},{"$f":"Macro!B3592","v":0},{"$f":"Macro!E3592","v":{"$error":"#DIV/0!"}}]
[null,{"$f":"Macro!A3593","v":0},{"$f":"Macro!B3593","v":0},{"$f":"Macro!E3593","v":{"$error":"#DIV/0!"}}]
[null,{"$f":"Macro!A3594","v":0},{"$f":"Macro!B3594","v":0},{"$f":"Macro!E3594","v":{"$error":"#DIV/0!"}}]
[null,{"$f":"Macro!A3595","v":0},{"$f":"Macro!B3595","v":0},{"$f":"Macro!E3595","v":{"$error":"#DIV/0!"}}]
[null,{"$f":"Macro!A3596","v":0},{"$f":"Macro!B3596","v":0},{"$f":"Macro!E3596","v":{"$error":"#DIV/0!"}}]
[null,{"$f":"Macro!A3597","v":0},{"$f":"Macro!B3597","v":0},{"$f":"Macro!E3597","v":{"$error":"#DIV/0!"}}]
[null,{"$f":"Macro!A3598","v":0},{"$f":"Macro!B3598","v":0},{"$f":"Macro!E3598","v":{"$error":"#DIV/0!"}}]
[null,{"$f":"Macro!A3599","v":0},{"$f":"Macro!B3599","v":0},{"$f":"Macro!E3599","v":{"$error":"#DIV/0!"}}]
[null,{"$f":"Macro!A3600","v":0},{"$f":"Macro!B3600","v":0},{"$f":"Macro!E3600","v":{"$error":"#DIV/0!"}}]
[null,{"$f":"Macro!A3601","v":0},{"$f":"Macro!B3601","v":0},{"$f":"Macro!E3601","v":{"$error":"#DIV/0!"}}]
[null,{"$f":"Macro!A3602","v":0},{"$f":"Macro!B3602","v":0},{"$f":"Macro!E3602","v":{"$error":"#DIV/0!"}}]
[null,{"$f":"Macro!A3603","v":0},{"$f":"Macro!B3603","v":0},{"$f":"Macro!E3603","v":{"$error":"#DIV/0!"}}]
[null,{"$f":"Macro!A3604","v":0},{"$f":"Macro!B3604","v":0},{"$f":"Macro!E3604","v":{"$error":"#DIV/0!"}}]
[null,{"$f":"Macro!A3605","v":0},{"$f":"Macro!B3605","v":0},{"$f":"Macro!E3605","v":{"$error":"#DIV/0!"}}]
[null,{"$f":"Macro!A3606","v":0},{"$f":"Macro!B3606","v":0},{"$f":"Macro!E3606","v":{"$error":"#DIV/0!"}}]
[null,{"$f":"Macro!A3607","v":0},{"$f":"Macro!B3607","v":0},{"$f":"Macro!E3607","v":{"$error":"#DIV/0!"}}]
[null,{"$f":"Macro!A3608","v":0},{"$f":"Macro!B3608","v":0},{"$f":"Macro!E3608","v":{"$error":"#DIV/0!"}}]
[null,{"$f":"Macro!A3609","v":0},{"$f":"Macro!B3609","v":0},{"$f":"Macro!E3609","v":{"$error":"#DIV/0!"}}]
[null,{"$f":"Macro!A3610","v":0},{"$f":"Macro!B3610","v":0},{"$f":"Macro!E3610","v":{"$error":"#DIV/0!"}}]
[null,{"$f":"Macro!A3611","v":0},{"$f":"Macro!B3611","v":0},{"$f":"Macro!E3611","v":{"$error":"#DIV/0!"}}]
[null,{"$f":"Macro!A3612","v":0},{"$f":"Macro!B3612","v":0},{"$f":"Macro!E3612","v":{"$error":"#DIV/0!"}}]
[null,{"$f":"Macro!A3613","v":0},{"$f":"Macro!B3613","v":0},{"$f":"Macro!E3613","v":{"$error":"#DIV/0!"}}]
[null,{"$f":"Macro!A3614","v":0},{"$f":"Macro!B3614","v":0},{"$f":"Macro!E3614","v":{"$error":"#DIV/0!"}}]
[null,{"$f":"Macro!A3615","v":0},{"$f":"Macro!B3615","v":0},{"$f":"Macro!E3615","v":{"$error":"#DIV/0!"}}]
[null,{"$f":"Macro!A3616","v":0},{"$f":"Macro!B3616","v":0},{"$f":"Macro!E3616","v":{"$error":"#DIV/0!"}}]
[null,{"$f":"Macro!A3617","v":0},{"$f":"Macro!B3617","v":0},{"$f":"Macro!E3617","v":{"$error":"#DIV/0!"}}]
[null,{"$f":"Macro!A3618","v":0},{"$f":"Macro!B3618","v":0},{"$f":"Macro!E3618","v":{"$error":"#DIV/0!"}}]
[null,{"$f":"Macro!A3619","v":0},{"$f":"Macro!B3619","v":0},{"$f":"Macro!E3619","v":{"$error":"#DIV/0!"}}]
[null,{"$f":"Macro!A3620","v":0},{"$f":"Macro!B3620","v":0},{"$f":"Macro!E3620","v":{"$error":"#DIV/0!"}}]
[null,{"$f":"Macro!A3621","v":0},{"$f":"Macro!B3621","v":0},{"$f":"Macro!E3621","v":{"$error":"#DIV/0!"}}]
[null,{"$f":"Macro!A3622","v":0},{"$f":"Macro!B3622","v":0},{"$f":"Macro!E3622","v":{"$error":"#DIV/0!"}}]
[null,{"$f":"Macro!A3623","v":0},{"$f":"Macro!B3623","v":0},{"$f":"Macro!E3623","v":{"$error":"#DIV/0!"}}]
[null,{"$f":"Macro!A3624","v":0},{"$f":"Macro!B3624","v":0},{"$f":"Macro!E3624","v":{"$error":"#DIV/0!"}}]
[null,{"$f":"Macro!A3625","v":0},{"$f":"Macro!B3625","v":0},{"$f":"Macro!E3625","v":{"$error":"#DIV/0!"}}]
[null,{"$f":"Macro!A3626","v":0},{"$f":"Macro!B3626","v":0},{"$f":"Macro!E3626","v":{"$error":"#DIV/0!"}}]
[null,{"$f":"Macro!A3627","v":0},{"$f":"Macro!B3627","v":0},{"$f":"Macro!E3627","v":{"$error":"#DIV/0!"}}]
[null,{"$f":"Macro!A3628","v":0},{"$f":"Macro!B3628","v":0},{"$f":"Macro!E3628","v":{"$error":"#DIV/0!"}}]
[null,{"$f":"Macro!A3629","v":0},{"$f":"Macro!B3629","v":0},{"$f":"Macro!E3629","v":{"$error":"#DIV/0!"}}]
[null,{"$f":"Macro!A3630","v":0},{"$f":"Macro!B3630","v":0},{"$f":"Macro!E3630","v":{"$error":"#DIV/0!"}}]
[null,{"$f":"Macro!A3631","v":0},{"$f":"Macro!B3631","v":0},{"$f":"Macro!E3631","v":{"$error":"#DIV/0!"}}]
[null,{"$f":"Macro!A3632","v":0},{"$f":"Macro!B3632","v":0},{"$f":"Macro!E3632","v":{"$error":"#DIV/0!"}}]
[null,{"$f":"Macro!A3633","v":0},{"$f":"Macro!B3633","v":0},{"$f":"Macro!E3633","v":{"$error":"#DIV/0!"}}]
[null,{"$f":"Macro!A3634","v":0},{"$f":"Macro!B3634","v":0},{"$f":"Macro!E3634","v":{"$error":"#DIV/0!"}}]
[null,{"$f":"Macro!A3635","v":0},{"$f":"Macro!B3635","v":0},{"$f":"Macro!E3635","v":{"$error":"#DIV/0!"}}]
[null,{"$f":"Macro!A3636","v":0},{"$f":"Macro!B3636","v":0},{"$f":"Macro!E3636","v":{"$error":"#DIV/0!"}}]
[null,{"$f":"Macro!A3637","v":0},{"$f":"Macro!B3637","v":0},{"$f":"Macro!E3637","v":{"$error":"#DIV/0!"}}]
[null,{"$f":"Macro!A3638","v":0},{"$f":"Macro!B3638","v":0},{"$f":"Macro!E3638","v":{"$error":"#DIV/0!"}}]
[null,{"$f":"Macro!A3639","v":0},{"$f":"Macro!B3639","v":0},{"$f":"Macro!E3639","v":{"$error":"#DIV/0!"}}]
[null,{"$f":"Macro!A3640","v":0},{"$f":"Macro!B3640","v":0},{"$f":"Macro!E3640","v":{"$error":"#DIV/0!"}}]
[null,{"$f":"Macro!A3641","v":0},{"$f":"Macro!B3641","v":0},{"$f":"Macro!E3641","v":{"$error":"#DIV/0!"}}]
[null,{"$f":"Macro!A3642","v":0},{"$f":"Macro!B3642","v":0},{"$f":"Macro!E3642","v":{"$error":"#DIV/0!"}}]
[null,{"$f":"Macro!A3643","v":0},{"$f":"Macro!B3643","v":0},{"$f":"Macro!E3643","v":{"$error":"#DIV/0!"}}]
[null,{"$f":"Macro!A3644","v":0},{"$f":"Macro!B3644","v":0},{"$f":"Macro!E3644","v":{"$error":"#DIV/0!"}}]
[null,{"$f":"Macro!A3645","v":0},{"$f":"Macro!B3645","v":0},{"$f":"Macro!E3645","v":{"$error":"#DIV/0!"}}]
[null,{"$f":"Macro!A3646","v":0},{"$f":"Macro!B3646","v":0},{"$f":"Macro!E3646","v":{"$error":"#DIV/0!"}}]
[null,{"$f":"Macro!A3647","v":0},{"$f":"Macro!B3647","v":0},{"$f":"Macro!E3647","v":{"$error":"#DIV/0!"}}]
[null,{"$f":"Macro!A3648","v":0},{"$f":"Macro!B3648","v":0},{"$f":"Macro!E3648","v":{"$error":"#DIV/0!"}}]
[null,{"$f":"Macro!A3649","v":0},{"$f":"Macro!B3649","v":0},{"$f":"Macro!E3649","v":{"$error":"#DIV/0!"}}]
[null,{"$f":"Macro!A3650","v":0},{"$f":"Macro!B3650","v":0},{"$f":"Macro!E3650","v":{"$error":"#DIV/0!"}}]
[null,{"$f":"Macro!A3651","v":0},{"$f":"Macro!B3651","v":0},{"$f":"Macro!E3651","v":{"$error":"#DIV/0!"}}]
[null,{"$f":"Macro!A3652","v":0},{"$f":"Macro!B3652","v":0},{"$f":"Macro!E3652","v":{"$error":"#DIV/0!"}}]
[null,{"$f":"Macro!A3653","v":0},{"$f":"Macro!B3653","v":0},{"$f":"Macro!E3653","v":{"$error":"#DIV/0!"}}]
[null,{"$f":"Macro!A3654","v":0},{"$f":"Macro!B3654","v":0},{"$f":"Macro!E3654","v":{"$error":"#DIV/0!"}}]
[null,{"$f":"Macro!A3655","v":0},{"$f":"Macro!B3655","v":0},{"$f":"Macro!E3655","v":{"$error":"#DIV/0!"}}]
[null,{"$f":"Macro!A3656","v":0},{"$f":"Macro!B3656","v":0},{"$f":"Macro!E3656","v":{"$error":"#DIV/0!"}}]
[null,{"$f":"Macro!A3657","v":0},{"$f":"Macro!B3657","v":0},{"$f":"Macro!E3657","v":{"$error":"#DIV/0!"}}]
[null,{"$f":"Macro!A3658","v":0},{"$f":"Macro!B3658","v":0},{"$f":"Macro!E3658","v":{"$error":"#DIV/0!"}}]
[null,{"$f":"Macro!A3659","v":0},{"$f":"Macro!B3659","v":0},{"$f":"Macro!E3659","v":{"$error":"#DIV/0!"}}]
[null,{"$f":"Macro!A3660","v":0},{"$f":"Macro!B3660","v":0},{"$f":"Macro!E3660","v":{"$error":"#DIV/0!"}}]
[null,{"$f":"Macro!A3661","v":0},{"$f":"Macro!B3661","v":0},{"$f":"Macro!E3661","v":{"$error":"#DIV/0!"}}]
[null,{"$f":"Macro!A3662","v":0},{"$f":"Macro!B3662","v":0},{"$f":"Macro!E3662","v":{"$error":"#DIV/0!"}}]
[null,{"$f":"Macro!A3663","v":0},{"$f":"Macro!B3663","v":0},{"$f":"Macro!E3663","v":{"$error":"#DIV/0!"}}]
[null,{"$f":"Macro!A3664","v":0},{"$f":"Macro!B3664","v":0},{"$f":"Macro!E3664","v":{"$error":"#DIV/0!"}}]
[null,{"$f":"Macro!A3665","v":0},{"$f":"Macro!B3665","v":0},{"$f":"Macro!E3665","v":{"$error":"#DIV/0!"}}]
[null,{"$f":"Macro!A3666","v":0},{"$f":"Macro!B3666","v":0},{"$f":"Macro!E3666","v":{"$error":"#DIV/0!"}}]
[null,{"$f":"Macro!A3667","v":0},{"$f":"Macro!B3667","v":0},{"$f":"Macro!E3667","v":{"$error":"#DIV/0!"}}]
[null,{"$f":"Macro!A3668","v":0},{"$f":"Macro!B3668","v":0},{"$f":"Macro!E3668","v":{"$error":"#DIV/0!"}}]
[null,{"$f":"Macro!A3669","v":0},{"$f":"Macro!B3669","v":0},{"$f":"Macro!E3669","v":{"$error":"#DIV/0!"}}]
[null,{"$f":"Macro!A3670","v":0},{"$f":"Macro!B3670","v":0},{"$f":"Macro!E3670","v":{"$error":"#DIV/0!"}}]
[null,{"$f":"Macro!A3671","v":0},{"$f":"Macro!B3671","v":0},{"$f":"Macro!E3671","v":{"$error":"#DIV/0!"}}]
[null,{"$f":"Macro!A3672","v":0},{"$f":"Macro!B3672","v":0},{"$f":"Macro!E3672","v":{"$error":"#DIV/0!"}}]
[null,{"$f":"Macro!A3673","v":0},{"$f":"Macro!B3673","v":0},{"$f":"Macro!E3673","v":{"$error":"#DIV/0!"}}]
[null,{"$f":"Macro!A3674","v":0},{"$f":"Macro!B3674","v":0},{"$f":"Macro!E3674","v":{"$error":"#DIV/0!"}}]
[null,{"$f":"Macro!A3675","v":0},{"$f":"Macro!B3675","v":0},{"$f":"Macro!E3675","v":{"$error":"#DIV/0!"}}]
[null,{"$f":"Macro!A3676","v":0},{"$f":"Macro!B3676","v":0},{"$f":"Macro!E3676","v":{"$error":"#DIV/0!"}}]
[null,{"$f":"Macro!A3677","v":0},{"$f":"Macro!B3677","v":0},{"$f":"Macro!E3677","v":{"$error":"#DIV/0!"}}]
[null,{"$f":"Macro!A3678","v":0},{"$f":"Macro!B3678","v":0},{"$f":"Macro!E3678","v":{"$error":"#DIV/0!"}}]
[null,{"$f":"Macro!A3679","v":0},{"$f":"Macro!B3679","v":0},{"$f":"Macro!E3679","v":{"$error":"#DIV/0!"}}]
[null,{"$f":"Macro!A3680","v":0},{"$f":"Macro!B3680","v":0},{"$f":"Macro!E3680","v":{"$error":"#DIV/0!"}}]
[null,{"$f":"Macro!A3681","v":0},{"$f":"Macro!B3681","v":0},{"$f":"Macro!E3681","v":{"$error":"#DIV/0!"}}]
[null,{"$f":"Macro!A3682","v":0},{"$f":"Macro!B3682","v":0},{"$f":"Macro!E3682","v":{"$error":"#DIV/0!"}}]
[null,{"$f":"Macro!A3683","v":0},{"$f":"Macro!B3683","v":0},{"$f":"Macro!E3683","v":{"$error":"#DIV/0!"}}]
[null,{"$f":"Macro!A3684","v":0},{"$f":"Macro!B3684","v":0},{"$f":"Macro!E3684","v":{"$error":"#DIV/0!"}}]
[null,{"$f":"Macro!A3685","v":0},{"$f":"Macro!B3685","v":0},{"$f":"Macro!E3685","v":{"$error":"#DIV/0!"}}]
[null,{"$f":"Macro!A3686","v":0},{"$f":"Macro!B3686","v":0},{"$f":"Macro!E3686","v":{"$error":"#DIV/0!"}}]
[null,{"$f":"Macro!A3687","v":0},{"$f":"Macro!B3687","v":0},{"$f":"Macro!E3687","v":{"$error":"#DIV/0!"}}]
[null,{"$f":"Macro!A3688","v":0},{"$f":"Macro!B3688","v":0},{"$f":"Macro!E3688","v":{"$error":"#DIV/0!"}}]
[null,{"$f":"Macro!A3689","v":0},{"$f":"Macro!B3689","v":0},{"$f":"Macro!E3689","v":{"$error":"#DIV/0!"}}]
[null,{"$f":"Macro!A3690","v":0},{"$f":"Macro!B3690","v":0},{"$f":"Macro!E3690","v":{"$error":"#DIV/0!"}}]
[null,{"$f":"Macro!A3691","v":0},{"$f":"Macro!B3691","v":0},{"$f":"Macro!E3691","v":{"$error":"#DIV/0!"}}]
[null,{"$f":"Macro!A3692","v":0},{"$f":"Macro!B3692","v":0},{"$f":"Macro!E3692","v":{"$error":"#DIV/0!"}}]
[null,{"$f":"Macro!A3693","v":0},{"$f":"Macro!B3693","v":0},{"$f":"Macro!E3693","v":{"$error":"#DIV/0!"}}]
[null,{"$f":"Macro!A3694","v":0},{"$f":"Macro!B3694","v":0},{"$f":"Macro!E3694","v":{"$error":"#DIV/0!"}}]
[null,{"$f":"Macro!A3695","v":0},{"$f":"Macro!B3695","v":0},{"$f":"Macro!E3695","v":{"$error":"#DIV/0!"}}]
[null,{"$f":"Macro!A3696","v":0},{"$f":"Macro!B3696","v":0},{"$f":"Macro!E3696","v":{"$error":"#DIV/0!"}}]
[null,{"$f":"Macro!A3697","v":0},{"$f":"Macro!B3697","v":0},{"$f":"Macro!E3697","v":{"$error":"#DIV/0!"}}]
[null,{"$f":"Macro!A3698","v":0},{"$f":"Macro!B3698","v":0},{"$f":"Macro!E3698","v":{"$error":"#DIV/0!"}}]
[null,{"$f":"Macro!A3699","v":0},{"$f":"Macro!B3699","v":0},{"$f":"Macro!E3699","v":{"$error":"#DIV/0!"}}]
[null,{"$f":"Macro!A3700","v":0},{"$f":"Macro!B3700","v":0},{"$f":"Macro!E3700","v":{"$error":"#DIV/0!"}}]
[null,{"$f":"Macro!A3701","v":0},{"$f":"Macro!B3701","v":0},{"$f":"Macro!E3701","v":{"$error":"#DIV/0!"}}]
[null,{"$f":"Macro!A3702","v":0},{"$f":"Macro!B3702","v":0},{"$f":"Macro!E3702","v":{"$error":"#DIV/0!"}}]
[null,{"$f":"Macro!A3703","v":0},{"$f":"Macro!B3703","v":0},{"$f":"Macro!E3703","v":{"$error":"#DIV/0!"}}]
[null,{"$f":"Macro!A3704","v":0},{"$f":"Macro!B3704","v":0},{"$f":"Macro!E3704","v":{"$error":"#DIV/0!"}}]
[null,{"$f":"Macro!A3705","v":0},{"$f":"Macro!B3705","v":0},{"$f":"Macro!E3705","v":{"$error":"#DIV/0!"}}]
[null,{"$f":"Macro!A3706","v":0},{"$f":"Macro!B3706","v":0},{"$f":"Macro!E3706","v":{"$error":"#DIV/0!"}}]
[null,{"$f":"Macro!A3707","v":0},{"$f":"Macro!B3707","v":0},{"$f":"Macro!E3707","v":{"$error":"#DIV/0!"}}]
[null,{"$f":"Macro!A3708","v":0},{"$f":"Macro!B3708","v":0},{"$f":"Macro!E3708","v":{"$error":"#DIV/0!"}}]
[null,{"$f":"Macro!A3709","v":0},{"$f":"Macro!B3709","v":0},{"$f":"Macro!E3709","v":{"$error":"#DIV/0!"}}]
[null,{"$f":"Macro!A3710","v":0},{"$f":"Macro!B3710","v":0},{"$f":"Macro!E3710","v":{"$error":"#DIV/0!"}}]
[null,{"$f":"Macro!A3711","v":0},{"$f":"Macro!B3711","v":0},{"$f":"Macro!E3711","v":{"$error":"#DIV/0!"}}]
[null,{"$f":"Macro!A3712","v":0},{"$f":"Macro!B3712","v":0},{"$f":"Macro!E3712","v":{"$error":"#DIV/0!"}}]
[null,{"$f":"Macro!A3713","v":0},{"$f":"Macro!B3713","v":0},{"$f":"Macro!E3713","v":{"$error":"#DIV/0!"}}]
[null,{"$f":"Macro!A3714","v":0},{"$f":"Macro!B3714","v":0},{"$f":"Macro!E3714","v":{"$error":"#DIV/0!"}}]
[null,{"$f":"Macro!A3715","v":0},{"$f":"Macro!B3715","v":0},{"$f":"Macro!E3715","v":{"$error":"#DIV/0!"}}]
[null,{"$f":"Macro!A3716","v":0},{"$f":"Macro!B3716","v":0},{"$f":"Macro!E3716","v":{"$error":"#DIV/0!"}}]
[null,{"$f":"Macro!A3717","v":0},{"$f":"Macro!B3717","v":0},{"$f":"Macro!E3717","v":{"$error":"#DIV/0!"}}]
[null,{"$f":"Macro!A3718","v":0},{"$f":"Macro!B3718","v":0},{"$f":"Macro!E3718","v":{"$error":"#DIV/0!"}}]
[null,{"$f":"Macro!A3719","v":0},{"$f":"Macro!B3719","v":0},{"$f":"Macro!E3719","v":{"$error":"#DIV/0!"}}]
[null,{"$f":"Macro!A3720","v":0},{"$f":"Macro!B3720","v":0},{"$f":"Macro!E3720","v":{"$error":"#DIV/0!"}}]
[null,{"$f":"Macro!A3721","v":0},{"$f":"Macro!B3721","v":0},{"$f":"Macro!E3721","v":{"$error":"#DIV/0!"}}]
[null,{"$f":"Macro!A3722","v":0},{"$f":"Macro!B3722","v":0},{"$f":"Macro!E3722","v":{"$error":"#DIV/0!"}}]
[null,{"$f":"Macro!A3723","v":0},{"$f":"Macro!B3723","v":0},{"$f":"Macro!E3723","v":{"$error":"#DIV/0!"}}]
[null,{"$f":"Macro!A3724","v":0},{"$f":"Macro!B3724","v":0},{"$f":"Macro!E3724","v":{"$error":"#DIV/0!"}}]
[null,{"$f":"Macro!A3725","v":0},{"$f":"Macro!B3725","v":0},{"$f":"Macro!E3725","v":{"$error":"#DIV/0!"}}]
[null,{"$f":"Macro!A3726","v":0},{"$f":"Macro!B3726","v":0},{"$f":"Macro!E3726","v":{"$error":"#DIV/0!"}}]
[null,{"$f":"Macro!A3727","v":0},{"$f":"Macro!B3727","v":0},{"$f":"Macro!E3727","v":{"$error":"#DIV/0!"}}]
[null,{"$f":"Macro!A3728","v":0},{"$f":"Macro!B3728","v":0},{"$f":"Macro!E3728","v":{"$error":"#DIV/0!"}}]
[null,{"$f":"Macro!A3729","v":0},{"$f":"Macro!B3729","v":0},{"$f":"Macro!E3729","v":{"$error":"#DIV/0!"}}]
[null,{"$f":"Macro!A3730","v":0},{"$f":"Macro!B3730","v":0},{"$f":"Macro!E3730","v":{"$error":"#DIV/0!"}}]
[null,{"$f":"Macro!A3731","v":0},{"$f":"Macro!B3731","v":0},{"$f":"Macro!E3731","v":{"$error":"#DIV/0!"}}]
[null,{"$f":"Macro!A3732","v":0},{"$f":"Macro!B3732","v":0},{"$f":"Macro!E3732","v":{"$error":"#DIV/0!"}}]
[null,{"$f":"Macro!A3733","v":0},{"$f":"Macro!B3733","v":0},{"$f":"Macro!E3733","v":{"$error":"#DIV/0!"}}]
[null,{"$f":"Macro!A3734","v":0},{"$f":"Macro!B3734","v":0},{"$f":"Macro!E3734","v":{"$error":"#DIV/0!"}}]
[null,{"$f":"Macro!A3735","v":0},{"$f":"Macro!B3735","v":0},{"$f":"Macro!E3735","v":{"$error":"#DIV/0!"}}]
[null,{"$f":"Macro!A3736","v":0},{"$f":"Macro!B3736","v":0},{"$f":"Macro!E3736","v":{"$error":"#DIV/0!"}}]
[null,{"$f":"Macro!A3737","v":0},{"$f":"Macro!B3737","v":0},{"$f":"Macro!E3737","v":{"$error":"#DIV/0!"}}]
[null,{"$f":"Macro!A3738","v":0},{"$f":"Macro!B3738","v":0},{"$f":"Macro!E3738","v":{"$error":"#DIV/0!"}}]
[null,{"$f":"Macro!A3739","v":0},{"$f":"Macro!B3739","v":0},{"$f":"Macro!E3739","v":{"$error":"#DIV/0!"}}]
[null,{"$f":"Macro!A3740","v":0},{"$f":"Macro!B3740","v":0},{"$f":"Macro!E3740","v":{"$error":"#DIV/0!"}}]
[null,{"$f":"Macro!A3741","v":0},{"$f":"Macro!B3741","v":0},{"$f":"Macro!E3741","v":{"$error":"#DIV/0!"}}]
[null,{"$f":"Macro!A3742","v":0},{"$f":"Macro!B3742","v":0},{"$f":"Macro!E3742","v":{"$error":"#DIV/0!"}}]
[null,{"$f":"Macro!A3743","v":0},{"$f":"Macro!B3743","v":0},{"$f":"Macro!E3743","v":{"$error":"#DIV/0!"}}]
[null,{"$f":"Macro!A3744","v":0},{"$f":"Macro!B3744","v":0},{"$f":"Macro!E3744","v":{"$error":"#DIV/0!"}}]
[null,{"$f":"Macro!A3745","v":0},{"$f":"Macro!B3745","v":0},{"$f":"Macro!E3745","v":{"$error":"#DIV/0!"}}]
[null,{"$f":"Macro!A3746","v":0},{"$f":"Macro!B3746","v":0},{"$f":"Macro!E3746","v":{"$error":"#DIV/0!"}}]
[null,{"$f":"Macro!A3747","v":0},{"$f":"Macro!B3747","v":0},{"$f":"Macro!E3747","v":{"$error":"#DIV/0!"}}]
[null,{"$f":"Macro!A3748","v":0},{"$f":"Macro!B3748","v":0},{"$f":"Macro!E3748","v":{"$error":"#DIV/0!"}}]
[null,{"$f":"Macro!A3749","v":0},{"$f":"Macro!B3749","v":0},{"$f":"Macro!E3749","v":{"$error":"#DIV/0!"}}]
[null,{"$f":"Macro!A3750","v":0},{"$f":"Macro!B3750","v":0},{"$f":"Macro!E3750","v":{"$error":"#DIV/0!"}}]
[null,{"$f":"Macro!A3751","v":0},{"$f":"Macro!B3751","v":0},{"$f":"Macro!E3751","v":{"$error":"#DIV/0!"}}]
[null,{"$f":"Macro!A3752","v":0},{"$f":"Macro!B3752","v":0},{"$f":"Macro!E3752","v":{"$error":"#DIV/0!"}}]
[null,{"$f":"Macro!A3753","v":0},{"$f":"Macro!B3753","v":0},{"$f":"Macro!E3753","v":{"$error":"#DIV/0!"}}]
[null,{"$f":"Macro!A3754","v":0},{"$f":"Macro!B3754","v":0},{"$f":"Macro!E3754","v":{"$error":"#DIV/0!"}}]
[null,{"$f":"Macro!A3755","v":0},{"$f":"Macro!B3755","v":0},{"$f":"Macro!E3755","v":{"$error":"#DIV/0!"}}]
[null,{"$f":"Macro!A3756","v":0},{"$f":"Macro!B3756","v":0},{"$f":"Macro!E3756","v":{"$error":"#DIV/0!"}}]
[null,{"$f":"Macro!A3757","v":0},{"$f":"Macro!B3757","v":0},{"$f":"Macro!E3757","v":{"$error":"#DIV/0!"}}]
[null,{"$f":"Macro!A3758","v":0},{"$f":"Macro!B3758","v":0},{"$f":"Macro!E3758","v":{"$error":"#DIV/0!"}}]
[null,{"$f":"Macro!A3759","v":0},{"$f":"Macro!B3759","v":0},{"$f":"Macro!E3759","v":{"$error":"#DIV/0!"}}]
[null,{"$f":"Macro!A3760","v":0},{"$f":"Macro!B3760","v":0},{"$f":"Macro!E3760","v":{"$error":"#DIV/0!"}}]
[null,{"$f":"Macro!A3761","v":0},{"$f":"Macro!B3761","v":0},{"$f":"Macro!E3761","v":{"$error":"#DIV/0!"}}]
[null,{"$f":"Macro!A3762","v":0},{"$f":"Macro!B3762","v":0},{"$f":"Macro!E3762","v":{"$error":"#DIV/0!"}}]
[null,{"$f":"Macro!A3763","v":0},{"$f":"Macro!B3763","v":0},{"$f":"Macro!E3763","v":{"$error":"#DIV/0!"}}]
[null,{"$f":"Macro!A3764","v":0},{"$f":"Macro!B3764","v":0},{"$f":"Macro!E3764","v":{"$error":"#DIV/0!"}}]
[null,{"$f":"Macro!A3765","v":0},{"$f":"Macro!B3765","v":0},{"$f":"Macro!E3765","v":{"$error":"#DIV/0!"}}]
[null,{"$f":"Macro!A3766","v":0},{"$f":"Macro!B3766","v":0},{"$f":"Macro!E3766","v":{"$error":"#DIV/0!"}}]
[null,{"$f":"Macro!A3767","v":0},{"$f":"Macro!B3767","v":0},{"$f":"Macro!E3767","v":{"$error":"#DIV/0!"}}]
[null,{"$f":"Macro!A3768","v":0},{"$f":"Macro!B3768","v":0},{"$f":"Macro!E3768","v":{"$error":"#DIV/0!"}}]
[null,{"$f":"Macro!A3769","v":0},{"$f":"Macro!B3769","v":0},{"$f":"Macro!E3769","v":{"$error":"#DIV/0!"}}]
[null,{"$f":"Macro!A3770","v":0},{"$f":"Macro!B3770","v":0},{"$f":"Macro!E3770","v":{"$error":"#DIV/0!"}}]
[null,{"$f":"Macro!A3771","v":0},{"$f":"Macro!B3771","v":0},{"$f":"Macro!E3771","v":{"$error":"#DIV/0!"}}]
[null,{"$f":"Macro!A3772","v":0},{"$f":"Macro!B3772","v":0},{"$f":"Macro!E3772","v":{"$error":"#DIV/0!"}}]
[null,{"$f":"Macro!A3773","v":0},{"$f":"Macro!B3773","v":0},{"$f":"Macro!E3773","v":{"$error":"#DIV/0!"}}]
[null,{"$f":"Macro!A3774","v":0},{"$f":"Macro!B3774","v":0},{"$f":"Macro!E3774","v":{"$error":"#DIV/0!"}}]
[null,{"$f":"Macro!A3775","v":0},{"$f":"Macro!B3775","v":0},{"$f":"Macro!E3775","v":{"$error":"#DIV/0!"}}]
[null,{"$f":"Macro!A3776","v":0},{"$f":"Macro!B3776","v":0},{"$f":"Macro!E3776","v":{"$error":"#DIV/0!"}}]
[null,{"$f":"Macro!A3777","v":0},{"$f":"Macro!B3777","v":0},{"$f":"Macro!E3777","v":{"$error":"#DIV/0!"}}]
[null,{"$f":"Macro!A3778","v":0},{"$f":"Macro!B3778","v":0},{"$f":"Macro!E3778","v":{"$error":"#DIV/0!"}}]
[null,{"$f":"Macro!A3779","v":0},{"$f":"Macro!B3779","v":0},{"$f":"Macro!E3779","v":{"$error":"#DIV/0!"}}]
[null,{"$f":"Macro!A3780","v":0},{"$f":"Macro!B3780","v":0},{"$f":"Macro!E3780","v":{"$error":"#DIV/0!"}}]
[null,{"$f":"Macro!A3781","v":0},{"$f":"Macro!B3781","v":0},{"$f":"Macro!E3781","v":{"$error":"#DIV/0!"}}]
[null,{"$f":"Macro!A3782","v":0},{"$f":"Macro!B3782","v":0},{"$f":"Macro!E3782","v":{"$error":"#DIV/0!"}}]
[null,{"$f":"Macro!A3783","v":0},{"$f":"Macro!B3783","v":0},{"$f":"Macro!E3783","v":{"$error":"#DIV/0!"}}]
[null,{"$f":"Macro!A3784","v":0},{"$f":"Macro!B3784","v":0},{"$f":"Macro!E3784","v":{"$error":"#DIV/0!"}}]
[null,{"$f":"Macro!A3785","v":0},{"$f":"Macro!B3785","v":0},{"$f":"Macro!E3785","v":{"$error":"#DIV/0!"}}]
[null,{"$f":"Macro!A3786","v":0},{"$f":"Macro!B3786","v":0},{"$f":"Macro!E3786","v":{"$error":"#DIV/0!"}}]
[null,{"$f":"Macro!A3787","v":0},{"$f":"Macro!B3787","v":0},{"$f":"Macro!E3787","v":{"$error":"#DIV/0!"}}]
[null,{"$f":"Macro!A3788","v":0},{"$f":"Macro!B3788","v":0},{"$f":"Macro!E3788","v":{"$error":"#DIV/0!"}}]
[null,{"$f":"Macro!A3789","v":0},{"$f":"Macro!B3789","v":0},{"$f":"Macro!E3789","v":{"$error":"#DIV/0!"}}]
[null,{"$f":"Macro!A3790","v":0},{"$f":"Macro!B3790","v":0},{"$f":"Macro!E3790","v":{"$error":"#DIV/0!"}}]
[null,{"$f":"Macro!A3791","v":0},{"$f":"Macro!B3791","v":0},{"$f":"Macro!E3791","v":{"$error":"#DIV/0!"}}]
[null,{"$f":"Macro!A3792","v":0},{"$f":"Macro!B3792","v":0},{"$f":"Macro!E3792","v":{"$error":"#DIV/0!"}}]
[null,{"$f":"Macro!A3793","v":0},{"$f":"Macro!B3793","v":0},{"$f":"Macro!E3793","v":{"$error":"#DIV/0!"}}]
[null,{"$f":"Macro!A3794","v":0},{"$f":"Macro!B3794","v":0},{"$f":"Macro!E3794","v":{"$error":"#DIV/0!"}}]
[null,{"$f":"Macro!A3795","v":0},{"$f":"Macro!B3795","v":0},{"$f":"Macro!E3795","v":{"$error":"#DIV/0!"}}]
[null,{"$f":"Macro!A3796","v":0},{"$f":"Macro!B3796","v":0},{"$f":"Macro!E3796","v":{"$error":"#DIV/0!"}}]
[null,{"$f":"Macro!A3797","v":0},{"$f":"Macro!B3797","v":0},{"$f":"Macro!E3797","v":{"$error":"#DIV/0!"}}]
[null,{"$f":"Macro!A3798","v":0},{"$f":"Macro!B3798","v":0},{"$f":"Macro!E3798","v":{"$error":"#DIV/0!"}}]
[null,{"$f":"Macro!A3799","v":0},{"$f":"Macro!B3799","v":0},{"$f":"Macro!E3799","v":{"$error":"#DIV/0!"}}]
[null,{"$f":"Macro!A3800","v":0},{"$f":"Macro!B3800","v":0},{"$f":"Macro!E3800","v":{"$error":"#DIV/0!"}}]
[null,{"$f":"Macro!A3801","v":0},{"$f":"Macro!B3801","v":0},{"$f":"Macro!E3801","v":{"$error":"#DIV/0!"}}]
[null,{"$f":"Macro!A3802","v":0},{"$f":"Macro!B3802","v":0},{"$f":"Macro!E3802","v":{"$error":"#DIV/0!"}}]
[null,{"$f":"Macro!A3803","v":0},{"$f":"Macro!B3803","v":0},{"$f":"Macro!E3803","v":{"$error":"#DIV/0!"}}]
[null,{"$f":"Macro!A3804","v":0},{"$f":"Macro!B3804","v":0},{"$f":"Macro!E3804","v":{"$error":"#DIV/0!"}}]
[null,{"$f":"Macro!A3805","v":0},{"$f":"Macro!B3805","v":0},{"$f":"Macro!E3805","v":{"$error":"#DIV/0!"}}]
[null,{"$f":"Macro!A3806","v":0},{"$f":"Macro!B3806","v":0},{"$f":"Macro!E3806","v":{"$error":"#DIV/0!"}}]
[null,{"$f":"Macro!A3807","v":0},{"$f":"Macro!B3807","v":0},{"$f":"Macro!E3807","v":{"$error":"#DIV/0!"}}]
[null,{"$f":"Macro!A3808","v":0},{"$f":"Macro!B3808","v":0},{"$f":"Macro!E3808","v":{"$error":"#DIV/0!"}}]
[null,{"$f":"Macro!A3809","v":0},{"$f":"Macro!B3809","v":0},{"$f":"Macro!E3809","v":{"$error":"#DIV/0!"}}]
[null,{"$f":"Macro!A3810","v":0},{"$f":"Macro!B3810","v":0},{"$f":"Macro!E3810","v":{"$error":"#DIV/0!"}}]
[null,{"$f":"Macro!A3811","v":0},{"$f":"Macro!B3811","v":0},{"$f":"Macro!E3811","v":{"$error":"#DIV/0!"}}]
[null,{"$f":"Macro!A3812","v":0},{"$f":"Macro!B3812","v":0},{"$f":"Macro!E3812","v":{"$error":"#DIV/0!"}}]
[null,{"$f":"Macro!A3813","v":0},{"$f":"Macro!B3813","v":0},{"$f":"Macro!E3813","v":{"$error":"#DIV/0!"}}]
[null,{"$f":"Macro!A3814","v":0},{"$f":"Macro!B3814","v":0},{"$f":"Macro!E3814","v":{"$error":"#DIV/0!"}}]
[null,{"$f":"Macro!A3815","v":0},{"$f":"Macro!B3815","v":0},{"$f":"Macro!E3815","v":{"$error":"#DIV/0!"}}]
[null,{"$f":"Macro!A3816","v":0},{"$f":"Macro!B3816","v":0},{"$f":"Macro!E3816","v":{"$error":"#DIV/0!"}}]
[null,{"$f":"Macro!A3817","v":0},{"$f":"Macro!B3817","v":0},{"$f":"Macro!E3817","v":{"$error":"#DIV/0!"}}]
[null,{"$f":"Macro!A3818","v":0},{"$f":"Macro!B3818","v":0},{"$f":"Macro!E3818","v":{"$error":"#DIV/0!"}}]
[null,{"$f":"Macro!A3819","v":0},{"$f":"Macro!B3819","v":0},{"$f":"Macro!E3819","v":{"$error":"#DIV/0!"}}]
[null,{"$f":"Macro!A3820","v":0},{"$f":"Macro!B3820","v":0},{"$f":"Macro!E3820","v":{"$error":"#DIV/0!"}}]
[null,{"$f":"Macro!A3821","v":0},{"$f":"Macro!B3821","v":0},{"$f":"Macro!E3821","v":{"$error":"#DIV/0!"}}]
[null,{"$f":"Macro!A3822","v":0},{"$f":"Macro!B3822","v":0},{"$f":"Macro!E3822","v":{"$error":"#DIV/0!"}}]
[null,{"$f":"Macro!A3823","v":0},{"$f":"Macro!B3823","v":0},{"$f":"Macro!E3823","v":{"$error":"#DIV/0!"}}]
[null,{"$f":"Macro!A3824","v":0},{"$f":"Macro!B3824","v":0},{"$f":"Macro!E3824","v":{"$error":"#DIV/0!"}}]
[null,{"$f":"Macro!A3825","v":0},{"$f":"Macro!B3825","v":0},{"$f":"Macro!E3825","v":{"$error":"#DIV/0!"}}]
[null,{"$f":"Macro!A3826","v":0},{"$f":"Macro!B3826","v":0},{"$f":"Macro!E3826","v":{"$error":"#DIV/0!"}}]
[null,{"$f":"Macro!A3827","v":0},{"$f":"Macro!B3827","v":0},{"$f":"Macro!E3827","v":{"$error":"#DIV/0!"}}]
[null,{"$f":"Macro!A3828","v":0},{"$f":"Macro!B3828","v":0},{"$f":"Macro!E3828","v":{"$error":"#DIV/0!"}}]
[null,{"$f":"Macro!A3829","v":0},{"$f":"Macro!B3829","v":0},{"$f":"Macro!E3829","v":{"$error":"#DIV/0!"}}]
[null,{"$f":"Macro!A3830","v":0},{"$f":"Macro!B3830","v":0},{"$f":"Macro!E3830","v":{"$error":"#DIV/0!"}}]
[null,{"$f":"Macro!A3831","v":0},{"$f":"Macro!B3831","v":0},{"$f":"Macro!E3831","v":{"$error":"#DIV/0!"}}]
[null,{"$f":"Macro!A3832","v":0},{"$f":"Macro!B3832","v":0},{"$f":"Macro!E3832","v":{"$error":"#DIV/0!"}}]
[null,{"$f":"Macro!A3833","v":0},{"$f":"Macro!B3833","v":0},{"$f":"Macro!E3833","v":{"$error":"#DIV/0!"}}]
[null,{"$f":"Macro!A3834","v":0},{"$f":"Macro!B3834","v":0},{"$f":"Macro!E3834","v":{"$error":"#DIV/0!"}}]
[null,{"$f":"Macro!A3835","v":0},{"$f":"Macro!B3835","v":0},{"$f":"Macro!E3835","v":{"$error":"#DIV/0!"}}]
[null,{"$f":"Macro!A3836","v":0},{"$f":"Macro!B3836","v":0},{"$f":"Macro!E3836","v":{"$error":"#DIV/0!"}}]
[null,{"$f":"Macro!A3837","v":0},{"$f":"Macro!B3837","v":0},{"$f":"Macro!E3837","v":{"$error":"#DIV/0!"}}]
[null,{"$f":"Macro!A3838","v":0},{"$f":"Macro!B3838","v":0},{"$f":"Macro!E3838","v":{"$error":"#DIV/0!"}}]
[null,{"$f":"Macro!A3839","v":0},{"$f":"Macro!B3839","v":0},{"$f":"Macro!E3839","v":{"$error":"#DIV/0!"}}]
[null,{"$f":"Macro!A3840","v":0},{"$f":"Macro!B3840","v":0},{"$f":"Macro!E3840","v":{"$error":"#DIV/0!"}}]
[null,{"$f":"Macro!A3841","v":0},{"$f":"Macro!B3841","v":0},{"$f":"Macro!E3841","v":{"$error":"#DIV/0!"}}]
[null,{"$f":"Macro!A3842","v":0},{"$f":"Macro!B3842","v":0},{"$f":"Macro!E3842","v":{"$error":"#DIV/0!"}}]
[null,{"$f":"Macro!A3843","v":0},{"$f":"Macro!B3843","v":0},{"$f":"Macro!E3843","v":{"$error":"#DIV/0!"}}]
[null,{"$f":"Macro!A3844","v":0},{"$f":"Macro!B3844","v":0},{"$f":"Macro!E3844","v":{"$error":"#DIV/0!"}}]
[null,{"$f":"Macro!A3845","v":0},{"$f":"Macro!B3845","v":0},{"$f":"Macro!E3845","v":{"$error":"#DIV/0!"}}]
[null,{"$f":"Macro!A3846","v":0},{"$f":"Macro!B3846","v":0},{"$f":"Macro!E3846","v":{"$error":"#DIV/0!"}}]
[null,{"$f":"Macro!A3847","v":0},{"$f":"Macro!B3847","v":0},{"$f":"Macro!E3847","v":{"$error":"#DIV/0!"}}]
[null,{"$f":"Macro!A3848","v":0},{"$f":"Macro!B3848","v":0},{"$f":"Macro!E3848","v":{"$error":"#DIV/0!"}}]
[null,{"$f":"Macro!A3849","v":0},{"$f":"Macro!B3849","v":0},{"$f":"Macro!E3849","v":{"$error":"#DIV/0!"}}]
[null,{"$f":"Macro!A3850","v":0},{"$f":"Macro!B3850","v":0},{"$f":"Macro!E3850","v":{"$error":"#DIV/0!"}}]
[null,{"$f":"Macro!A3851","v":0},{"$f":"Macro!B3851","v":0},{"$f":"Macro!E3851","v":{"$error":"#DIV/0!"}}]
[null,{"$f":"Macro!A3852","v":0},{"$f":"Macro!B3852","v":0},{"$f":"Macro!E3852","v":{"$error":"#DIV/0!"}}]
[null,{"$f":"Macro!A3853","v":0},{"$f":"Macro!B3853","v":0},{"$f":"Macro!E3853","v":{"$error":"#DIV/0!"}}]
[null,{"$f":"Macro!A3854","v":0},{"$f":"Macro!B3854","v":0},{"$f":"Macro!E3854","v":{"$error":"#DIV/0!"}}]
[null,{"$f":"Macro!A3855","v":0},{"$f":"Macro!B3855","v":0},{"$f":"Macro!E3855","v":{"$error":"#DIV/0!"}}]
[null,{"$f":"Macro!A3856","v":0},{"$f":"Macro!B3856","v":0},{"$f":"Macro!E3856","v":{"$error":"#DIV/0!"}}]
[null,{"$f":"Macro!A3857","v":0},{"$f":"Macro!B3857","v":0},{"$f":"Macro!E3857","v":{"$error":"#DIV/0!"}}]
[null,{"$f":"Macro!A3858","v":0},{"$f":"Macro!B3858","v":0},{"$f":"Macro!E3858","v":{"$error":"#DIV/0!"}}]
[null,{"$f":"Macro!A3859","v":0},{"$f":"Macro!B3859","v":0},{"$f":"Macro!E3859","v":{"$error":"#DIV/0!"}}]
[null,{"$f":"Macro!A3860","v":0},{"$f":"Macro!B3860","v":0},{"$f":"Macro!E3860","v":{"$error":"#DIV/0!"}}]
[null,{"$f":"Macro!A3861","v":0},{"$f":"Macro!B3861","v":0},{"$f":"Macro!E3861","v":{"$error":"#DIV/0!"}}]
[null,{"$f":"Macro!A3862","v":0},{"$f":"Macro!B3862","v":0},{"$f":"Macro!E3862","v":{"$error":"#DIV/0!"}}]
[null,{"$f":"Macro!A3863","v":0},{"$f":"Macro!B3863","v":0},{"$f":"Macro!E3863","v":{"$error":"#DIV/0!"}}]
[null,{"$f":"Macro!A3864","v":0},{"$f":"Macro!B3864","v":0},{"$f":"Macro!E3864","v":{"$error":"#DIV/0!"}}]
[null,{"$f":"Macro!A3865","v":0},{"$f":"Macro!B3865","v":0},{"$f":"Macro!E3865","v":{"$error":"#DIV/0!"}}]
[null,{"$f":"Macro!A3866","v":0},{"$f":"Macro!B3866","v":0},{"$f":"Macro!E3866","v":{"$error":"#DIV/0!"}}]
[null,{"$f":"Macro!A3867","v":0},{"$f":"Macro!B3867","v":0},{"$f":"Macro!E3867","v":{"$error":"#DIV/0!"}}]
[null,{"$f":"Macro!A3868","v":0},{"$f":"Macro!B3868","v":0},{"$f":"Macro!E3868","v":{"$error":"#DIV/0!"}}]
[null,{"$f":"Macro!A3869","v":0},{"$f":"Macro!B3869","v":0},{"$f":"Macro!E3869","v":{"$error":"#DIV/0!"}}]
[null,{"$f":"Macro!A3870","v":0},{"$f":"Macro!B3870","v":0},{"$f":"Macro!E3870","v":{"$error":"#DIV/0!"}}]
[null,{"$f":"Macro!A3871","v":0},{"$f":"Macro!B3871","v":0},{"$f":"Macro!E3871","v":{"$error":"#DIV/0!"}}]
[null,{"$f":"Macro!A3872","v":0},{"$f":"Macro!B3872","v":0},{"$f":"Macro!E3872","v":{"$error":"#DIV/0!"}}]
[null,{"$f":"Macro!A3873","v":0},{"$f":"Macro!B3873","v":0},{"$f":"Macro!E3873","v":{"$error":"#DIV/0!"}}]
[null,{"$f":"Macro!A3874","v":0},{"$f":"Macro!B3874","v":0},{"$f":"Macro!E3874","v":{"$error":"#DIV/0!"}}]
[null,{"$f":"Macro!A3875","v":0},{"$f":"Macro!B3875","v":0},{"$f":"Macro!E3875","v":{"$error":"#DIV/0!"}}]
[null,{"$f":"Macro!A3876","v":0},{"$f":"Macro!B3876","v":0},{"$f":"Macro!E3876","v":{"$error":"#DIV/0!"}}]
[null,{"$f":"Macro!A3877","v":0},{"$f":"Macro!B3877","v":0},{"$f":"Macro!E3877","v":{"$error":"#DIV/0!"}}]
[null,{"$f":"Macro!A3878","v":0},{"$f":"Macro!B3878","v":0},{"$f":"Macro!E3878","v":{"$error":"#DIV/0!"}}]
[null,{"$f":"Macro!A3879","v":0},{"$f":"Macro!B3879","v":0},{"$f":"Macro!E3879","v":{"$error":"#DIV/0!"}}]
[null,{"$f":"Macro!A3880","v":0},{"$f":"Macro!B3880","v":0},{"$f":"Macro!E3880","v":{"$error":"#DIV/0!"}}]
[null,{"$f":"Macro!A3881","v":0},{"$f":"Macro!B3881","v":0},{"$f":"Macro!E3881","v":{"$error":"#DIV/0!"}}]
[null,{"$f":"Macro!A3882","v":0},{"$f":"Macro!B3882","v":0},{"$f":"Macro!E3882","v":{"$error":"#DIV/0!"}}]
[null,{"$f":"Macro!A3883","v":0},{"$f":"Macro!B3883","v":0},{"$f":"Macro!E3883","v":{"$error":"#DIV/0!"}}]
[null,{"$f":"Macro!A3884","v":0},{"$f":"Macro!B3884","v":0},{"$f":"Macro!E3884","v":{"$error":"#DIV/0!"}}]
[null,{"$f":"Macro!A3885","v":0},{"$f":"Macro!B3885","v":0},{"$f":"Macro!E3885","v":{"$error":"#DIV/0!"}}]
[null,{"$f":"Macro!A3886","v":0},{"$f":"Macro!B3886","v":0},{"$f":"Macro!E3886","v":{"$error":"#DIV/0!"}}]
[null,{"$f":"Macro!A3887","v":0},{"$f":"Macro!B3887","v":0},{"$f":"Macro!E3887","v":{"$error":"#DIV/0!"}}]
[null,{"$f":"Macro!A3888","v":0},{"$f":"Macro!B3888","v":0},{"$f":"Macro!E3888","v":{"$error":"#DIV/0!"}}]
[null,{"$f":"Macro!A3889","v":0},{"$f":"Macro!B3889","v":0},{"$f":"Macro!E3889","v":{"$error":"#DIV/0!"}}]
[null,{"$f":"Macro!A3890","v":0},{"$f":"Macro!B3890","v":0},{"$f":"Macro!E3890","v":{"$error":"#DIV/0!"}}]
[null,{"$f":"Macro!A3891","v":0},{"$f":"Macro!B3891","v":0},{"$f":"Macro!E3891","v":{"$error":"#DIV/0!"}}]
[null,{"$f":"Macro!A3892","v":0},{"$f":"Macro!B3892","v":0},{"$f":"Macro!E3892","v":{"$error":"#DIV/0!"}}]
[null,{"$f":"Macro!A3893","v":0},{"$f":"Macro!B3893","v":0},{"$f":"Macro!E3893","v":{"$error":"#DIV/0!"}}]
[null,{"$f":"Macro!A3894","v":0},{"$f":"Macro!B3894","v":0},{"$f":"Macro!E3894","v":{"$error":"#DIV/0!"}}]
[null,{"$f":"Macro!A3895","v":0},{"$f":"Macro!B3895","v":0},{"$f":"Macro!E3895","v":{"$error":"#DIV/0!"}}]
[null,{"$f":"Macro!A3896","v":0},{"$f":"Macro!B3896","v":0},{"$f":"Macro!E3896","v":{"$error":"#DIV/0!"}}]
[null,{"$f":"Macro!A3897","v":0},{"$f":"Macro!B3897","v":0},{"$f":"Macro!E3897","v":{"$error":"#DIV/0!"}}]
[null,{"$f":"Macro!A3898","v":0},{"$f":"Macro!B3898","v":0},{"$f":"Macro!E3898","v":{"$error":"#DIV/0!"}}]
[null,{"$f":"Macro!A3899","v":0},{"$f":"Macro!B3899","v":0},{"$f":"Macro!E3899","v":{"$error":"#DIV/0!"}}]
[null,{"$f":"Macro!A3900","v":0},{"$f":"Macro!B3900","v":0},{"$f":"Macro!E3900","v":{"$error":"#DIV/0!"}}]
[null,{"$f":"Macro!A3901","v":0},{"$f":"Macro!B3901","v":0},{"$f":"Macro!E3901","v":{"$error":"#DIV/0!"}}]
[null,{"$f":"Macro!A3902","v":0},{"$f":"Macro!B3902","v":0},{"$f":"Macro!E3902","v":{"$error":"#DIV/0!"}}]
[null,{"$f":"Macro!A3903","v":0},{"$f":"Macro!B3903","v":0},{"$f":"Macro!E3903","v":{"$error":"#DIV/0!"}}]
[null,{"$f":"Macro!A3904","v":0},{"$f":"Macro!B3904","v":0},{"$f":"Macro!E3904","v":{"$error":"#DIV/0!"}}]
[null,{"$f":"Macro!A3905","v":0},{"$f":"Macro!B3905","v":0},{"$f":"Macro!E3905","v":{"$error":"#DIV/0!"}}]
[null,{"$f":"Macro!A3906","v":0},{"$f":"Macro!B3906","v":0},{"$f":"Macro!E3906","v":{"$error":"#DIV/0!"}}]
[null,{"$f":"Macro!A3907","v":0},{"$f":"Macro!B3907","v":0},{"$f":"Macro!E3907","v":{"$error":"#DIV/0!"}}]
[null,{"$f":"Macro!A3908","v":0},{"$f":"Macro!B3908","v":0},{"$f":"Macro!E3908","v":{"$error":"#DIV/0!"}}]
[null,{"$f":"Macro!A3909","v":0},{"$f":"Macro!B3909","v":0},{"$f":"Macro!E3909","v":{"$error":"#DIV/0!"}}]
[null,{"$f":"Macro!A3910","v":0},{"$f":"Macro!B3910","v":0},{"$f":"Macro!E3910","v":{"$error":"#DIV/0!"}}]
[null,{"$f":"Macro!A3911","v":0},{"$f":"Macro!B3911","v":0},{"$f":"Macro!E3911","v":{"$error":"#DIV/0!"}}]
[null,{"$f":"Macro!A3912","v":0},{"$f":"Macro!B3912","v":0},{"$f":"Macro!E3912","v":{"$error":"#DIV/0!"}}]
[null,{"$f":"Macro!A3913","v":0},{"$f":"Macro!B3913","v":0},{"$f":"Macro!E3913","v":{"$error":"#DIV/0!"}}]
[null,{"$f":"Macro!A3914","v":0},{"$f":"Macro!B3914","v":0},{"$f":"Macro!E3914","v":{"$error":"#DIV/0!"}}]
[null,{"$f":"Macro!A3915","v":0},{"$f":"Macro!B3915","v":0},{"$f":"Macro!E3915","v":{"$error":"#DIV/0!"}}]
[null,{"$f":"Macro!A3916","v":0},{"$f":"Macro!B3916","v":0},{"$f":"Macro!E3916","v":{"$error":"#DIV/0!"}}]
[null,{"$f":"Macro!A3917","v":0},{"$f":"Macro!B3917","v":0},{"$f":"Macro!E3917","v":{"$error":"#DIV/0!"}}]
[null,{"$f":"Macro!A3918","v":0},{"$f":"Macro!B3918","v":0},{"$f":"Macro!E3918","v":{"$error":"#DIV/0!"}}]
[null,{"$f":"Macro!A3919","v":0},{"$f":"Macro!B3919","v":0},{"$f":"Macro!E3919","v":{"$error":"#DIV/0!"}}]
[null,{"$f":"Macro!A3920","v":0},{"$f":"Macro!B3920","v":0},{"$f":"Macro!E3920","v":{"$error":"#DIV/0!"}}]
[null,{"$f":"Macro!A3921","v":0},{"$f":"Macro!B3921","v":0},{"$f":"Macro!E3921","v":{"$error":"#DIV/0!"}}]
[null,{"$f":"Macro!A3922","v":0},{"$f":"Macro!B3922","v":0},{"$f":"Macro!E3922","v":{"$error":"#DIV/0!"}}]
[null,{"$f":"Macro!A3923","v":0},{"$f":"Macro!B3923","v":0},{"$f":"Macro!E3923","v":{"$error":"#DIV/0!"}}]
[null,{"$f":"Macro!A3924","v":0},{"$f":"Macro!B3924","v":0},{"$f":"Macro!E3924","v":{"$error":"#DIV/0!"}}]
[null,{"$f":"Macro!A3925","v":0},{"$f":"Macro!B3925","v":0},{"$f":"Macro!E3925","v":{"$error":"#DIV/0!"}}]
[null,{"$f":"Macro!A3926","v":0},{"$f":"Macro!B3926","v":0},{"$f":"Macro!E3926","v":{"$error":"#DIV/0!"}}]
[null,{"$f":"Macro!A3927","v":0},{"$f":"Macro!B3927","v":0},{"$f":"Macro!E3927","v":{"$error":"#DIV/0!"}}]
[null,{"$f":"Macro!A3928","v":0},{"$f":"Macro!B3928","v":0},{"$f":"Macro!E3928","v":{"$error":"#DIV/0!"}}]
[null,{"$f":"Macro!A3929","v":0},{"$f":"Macro!B3929","v":0},{"$f":"Macro!E3929","v":{"$error":"#DIV/0!"}}]
[null,{"$f":"Macro!A3930","v":0},{"$f":"Macro!B3930","v":0},{"$f":"Macro!E3930","v":{"$error":"#DIV/0!"}}]
[null,{"$f":"Macro!A3931","v":0},{"$f":"Macro!B3931","v":0},{"$f":"Macro!E3931","v":{"$error":"#DIV/0!"}}]
[null,{"$f":"Macro!A3932","v":0},{"$f":"Macro!B3932","v":0},{"$f":"Macro!E3932","v":{"$error":"#DIV/0!"}}]
[null,{"$f":"Macro!A3933","v":0},{"$f":"Macro!B3933","v":0},{"$f":"Macro!E3933","v":{"$error":"#DIV/0!"}}]
[null,{"$f":"Macro!A3934","v":0},{"$f":"Macro!B3934","v":0},{"$f":"Macro!E3934","v":{"$error":"#DIV/0!"}}]
[null,{"$f":"Macro!A3935","v":0},{"$f":"Macro!B3935","v":0},{"$f":"Macro!E3935","v":{"$error":"#DIV/0!"}}]
[null,{"$f":"Macro!A3936","v":0},{"$f":"Macro!B3936","v":0},{"$f":"Macro!E3936","v":{"$error":"#DIV/0!"}}]
[null,{"$f":"Macro!A3937","v":0},{"$f":"Macro!B3937","v":0},{"$f":"Macro!E3937","v":{"$error":"#DIV/0!"}}]
[null,{"$f":"Macro!A3938","v":0},{"$f":"Macro!B3938","v":0},{"$f":"Macro!E3938","v":{"$error":"#DIV/0!"}}]
[null,{"$f":"Macro!A3939","v":0},{"$f":"Macro!B3939","v":0},{"$f":"Macro!E3939","v":{"$error":"#DIV/0!"}}]
[null,{"$f":"Macro!A3940","v":0},{"$f":"Macro!B3940","v":0},{"$f":"Macro!E3940","v":{"$error":"#DIV/0!"}}]
[null,{"$f":"Macro!A3941","v":0},{"$f":"Macro!B3941","v":0},{"$f":"Macro!E3941","v":{"$error":"#DIV/0!"}}]
[null,{"$f":"Macro!A3942","v":0},{"$f":"Macro!B3942","v":0},{"$f":"Macro!E3942","v":{"$error":"#DIV/0!"}}]
[null,{"$f":"Macro!A3943","v":0},{"$f":"Macro!B3943","v":0},{"$f":"Macro!E3943","v":{"$error":"#DIV/0!"}}]
[null,{"$f":"Macro!A3944","v":0},{"$f":"Macro!B3944","v":0},{"$f":"Macro!E3944","v":{"$error":"#DIV/0!"}}]
[null,{"$f":"Macro!A3945","v":0},{"$f":"Macro!B3945","v":0},{"$f":"Macro!E3945","v":{"$error":"#DIV/0!"}}]
[null,{"$f":"Macro!A3946","v":0},{"$f":"Macro!B3946","v":0},{"$f":"Macro!E3946","v":{"$error":"#DIV/0!"}}]
[null,{"$f":"Macro!A3947","v":0},{"$f":"Macro!B3947","v":0},{"$f":"Macro!E3947","v":{"$error":"#DIV/0!"}}]
[null,{"$f":"Macro!A3948","v":0},{"$f":"Macro!B3948","v":0},{"$f":"Macro!E3948","v":{"$error":"#DIV/0!"}}]
[null,{"$f":"Macro!A3949","v":0},{"$f":"Macro!B3949","v":0},{"$f":"Macro!E3949","v":{"$error":"#DIV/0!"}}]
[null,{"$f":"Macro!A3950","v":0},{"$f":"Macro!B3950","v":0},{"$f":"Macro!E3950","v":{"$error":"#DIV/0!"}}]
[null,{"$f":"Macro!A3951","v":0},{"$f":"Macro!B3951","v":0},{"$f":"Macro!E3951","v":{"$error":"#DIV/0!"}}]
[null,{"$f":"Macro!A3952","v":0},{"$f":"Macro!B3952","v":0},{"$f":"Macro!E3952","v":{"$error":"#DIV/0!"}}]
[null,{"$f":"Macro!A3953","v":0},{"$f":"Macro!B3953","v":0},{"$f":"Macro!E3953","v":{"$error":"#DIV/0!"}}]
[null,{"$f":"Macro!A3954","v":0},{"$f":"Macro!B3954","v":0},{"$f":"Macro!E3954","v":{"$error":"#DIV/0!"}}]
[null,{"$f":"Macro!A3955","v":0},{"$f":"Macro!B3955","v":0},{"$f":"Macro!E3955","v":{"$error":"#DIV/0!"}}]
[null,{"$f":"Macro!A3956","v":0},{"$f":"Macro!B3956","v":0},{"$f":"Macro!E3956","v":{"$error":"#DIV/0!"}}]
[null,{"$f":"Macro!A3957","v":0},{"$f":"Macro!B3957","v":0},{"$f":"Macro!E3957","v":{"$error":"#DIV/0!"}}]
[null,{"$f":"Macro!A3958","v":0},{"$f":"Macro!B3958","v":0},{"$f":"Macro!E3958","v":{"$error":"#DIV/0!"}}]
[null,{"$f":"Macro!A3959","v":0},{"$f":"Macro!B3959","v":0},{"$f":"Macro!E3959","v":{"$error":"#DIV/0!"}}]
[null,{"$f":"Macro!A3960","v":0},{"$f":"Macro!B3960","v":0},{"$f":"Macro!E3960","v":{"$error":"#DIV/0!"}}]
[null,{"$f":"Macro!A3961","v":0},{"$f":"Macro!B3961","v":0},{"$f":"Macro!E3961","v":{"$error":"#DIV/0!"}}]
[null,{"$f":"Macro!A3962","v":0},{"$f":"Macro!B3962","v":0},{"$f":"Macro!E3962","v":{"$error":"#DIV/0!"}}]
[null,{"$f":"Macro!A3963","v":0},{"$f":"Macro!B3963","v":0},{"$f":"Macro!E3963","v":{"$error":"#DIV/0!"}}]
[null,{"$f":"Macro!A3964","v":0},{"$f":"Macro!B3964","v":0},{"$f":"Macro!E3964","v":{"$error":"#DIV/0!"}}]
[null,{"$f":"Macro!A3965","v":0},{"$f":"Macro!B3965","v":0},{"$f":"Macro!E3965","v":{"$error":"#DIV/0!"}}]
[null,{"$f":"Macro!A3966","v":0},{"$f":"Macro!B3966","v":0},{"$f":"Macro!E3966","v":{"$error":"#DIV/0!"}}]
[null,{"$f":"Macro!A3967","v":0},{"$f":"Macro!B3967","v":0},{"$f":"Macro!E3967","v":{"$error":"#DIV/0!"}}]
[null,{"$f":"Macro!A3968","v":0},{"$f":"Macro!B3968","v":0},{"$f":"Macro!E3968","v":{"$error":"#DIV/0!"}}]
[null,{"$f":"Macro!A3969","v":0},{"$f":"Macro!B3969","v":0},{"$f":"Macro!E3969","v":{"$error":"#DIV/0!"}}]
[null,{"$f":"Macro!A3970","v":0},{"$f":"Macro!B3970","v":0},{"$f":"Macro!E3970","v":{"$error":"#DIV/0!"}}]
[null,{"$f":"Macro!A3971","v":0},{"$f":"Macro!B3971","v":0},{"$f":"Macro!E3971","v":{"$error":"#DIV/0!"}}]
[null,{"$f":"Macro!A3972","v":0},{"$f":"Macro!B3972","v":0},{"$f":"Macro!E3972","v":{"$error":"#DIV/0!"}}]
[null,{"$f":"Macro!A3973","v":0},{"$f":"Macro!B3973","v":0},{"$f":"Macro!E3973","v":{"$error":"#DIV/0!"}}]
[null,{"$f":"Macro!A3974","v":0},{"$f":"Macro!B3974","v":0},{"$f":"Macro!E3974","v":{"$error":"#DIV/0!"}}]
[null,{"$f":"Macro!A3975","v":0},{"$f":"Macro!B3975","v":0},{"$f":"Macro!E3975","v":{"$error":"#DIV/0!"}}]
[null,{"$f":"Macro!A3976","v":0},{"$f":"Macro!B3976","v":0},{"$f":"Macro!E3976","v":{"$error":"#DIV/0!"}}]
[null,{"$f":"Macro!A3977","v":0},{"$f":"Macro!B3977","v":0},{"$f":"Macro!E3977","v":{"$error":"#DIV/0!"}}]
[null,{"$f":"Macro!A3978","v":0},{"$f":"Macro!B3978","v":0},{"$f":"Macro!E3978","v":{"$error":"#DIV/0!"}}]
[null,{"$f":"Macro!A3979","v":0},{"$f":"Macro!B3979","v":0},{"$f":"Macro!E3979","v":{"$error":"#DIV/0!"}}]
[null,{"$f":"Macro!A3980","v":0},{"$f":"Macro!B3980","v":0},{"$f":"Macro!E3980","v":{"$error":"#DIV/0!"}}]
[null,{"$f":"Macro!A3981","v":0},{"$f":"Macro!B3981","v":0},{"$f":"Macro!E3981","v":{"$error":"#DIV/0!"}}]
[null,{"$f":"Macro!A3982","v":0},{"$f":"Macro!B3982","v":0},{"$f":"Macro!E3982","v":{"$error":"#DIV/0!"}}]
[null,{"$f":"Macro!A3983","v":0},{"$f":"Macro!B3983","v":0},{"$f":"Macro!E3983","v":{"$error":"#DIV/0!"}}]
[null,{"$f":"Macro!A3984","v":0},{"$f":"Macro!B3984","v":0},{"$f":"Macro!E3984","v":{"$error":"#DIV/0!"}}]
[null,{"$f":"Macro!A3985","v":0},{"$f":"Macro!B3985","v":0},{"$f":"Macro!E3985","v":{"$error":"#DIV/0!"}}]
[null,{"$f":"Macro!A3986","v":0},{"$f":"Macro!B3986","v":0},{"$f":"Macro!E3986","v":{"$error":"#DIV/0!"}}]
[null,{"$f":"Macro!A3987","v":0},{"$f":"Macro!B3987","v":0},{"$f":"Macro!E3987","v":{"$error":"#DIV/0!"}}]
[null,{"$f":"Macro!A3988","v":0},{"$f":"Macro!B3988","v":0},{"$f":"Macro!E3988","v":{"$error":"#DIV/0!"}}]
[null,{"$f":"Macro!A3989","v":0},{"$f":"Macro!B3989","v":0},{"$f":"Macro!E3989","v":{"$error":"#DIV/0!"}}]
[null,{"$f":"Macro!A3990","v":0},{"$f":"Macro!B3990","v":0},{"$f":"Macro!E3990","v":{"$error":"#DIV/0!"}}]
[null,{"$f":"Macro!A3991","v":0},{"$f":"Macro!B3991","v":0},{"$f":"Macro!E3991","v":{"$error":"#DIV/0!"}}]
[null,{"$f":"Macro!A3992","v":0},{"$f":"Macro!B3992","v":0},{"$f":"Macro!E3992","v":{"$error":"#DIV/0!"}}]
[null,{"$f":"Macro!A3993","v":0},{"$f":"Macro!B3993","v":0},{"$f":"Macro!E3993","v":{"$error":"#DIV/0!"}}]
[null,{"$f":"Macro!A3994","v":0},{"$f":"Macro!B3994","v":0},{"$f":"Macro!E3994","v":{"$error":"#DIV/0!"}}]
[null,{"$f":"Macro!A3995","v":0},{"$f":"Macro!B3995","v":0},{"$f":"Macro!E3995","v":{"$error":"#DIV/0!"}}]
[null,{"$f":"Macro!A3996","v":0},{"$f":"Macro!B3996","v":0},{"$f":"Macro!E3996","v":{"$error":"#DIV/0!"}}]
[null,{"$f":"Macro!A3997","v":0},{"$f":"Macro!B3997","v":0},{"$f":"Macro!E3997","v":{"$error":"#DIV/0!"}}]
[null,{"$f":"Macro!A3998","v":0},{"$f":"Macro!B3998","v":0},{"$f":"Macro!E3998","v":{"$error":"#DIV/0!"}}]
[null,{"$f":"Macro!A3999","v":0},{"$f":"Macro!B3999","v":0},{"$f":"Macro!E3999","v":{"$error":"#DIV/0!"}}]
[null,{"$f":"Macro!A4000","v":0},{"$f":"Macro!B4000","v":0},{"$f":"Macro!E4000","v":{"$error":"#DIV/0!"}}]
[null,{"$f":"Macro!A4001","v":0},{"$f":"Macro!B4001","v":0},{"$f":"Macro!E4001","v":{"$error":"#DIV/0!"}}]
[null,{"$f":"Macro!A4002","v":0},{"$f":"Macro!B4002","v":0},{"$f":"Macro!E4002","v":{"$error":"#DIV/0!"}}]
[null,{"$f":"Macro!A4003","v":0},{"$f":"Macro!B4003","v":0},{"$f":"Macro!E4003","v":{"$error":"#DIV/0!"}}]
[null,{"$f":"Macro!A4004","v":0},{"$f":"Macro!B4004","v":0},{"$f":"Macro!E4004","v":{"$error":"#DIV/0!"}}]
[null,{"$f":"Macro!A4005","v":0},{"$f":"Macro!B4005","v":0},{"$f":"Macro!E4005","v":{"$error":"#DIV/0!"}}]
[null,{"$f":"Macro!A4006","v":0},{"$f":"Macro!B4006","v":0},{"$f":"Macro!E4006","v":{"$error":"#DIV/0!"}}]
[null,{"$f":"Macro!A4007","v":0},{"$f":"Macro!B4007","v":0},{"$f":"Macro!E4007","v":{"$error":"#DIV/0!"}}]
[null,{"$f":"Macro!A4008","v":0},{"$f":"Macro!B4008","v":0},{"$f":"Macro!E4008","v":{"$error":"#DIV/0!"}}]
[null,{"$f":"Macro!A4009","v":0},{"$f":"Macro!B4009","v":0},{"$f":"Macro!E4009","v":{"$error":"#DIV/0!"}}]
[null,{"$f":"Macro!A4010","v":0},{"$f":"Macro!B4010","v":0},{"$f":"Macro!E4010","v":{"$error":"#DIV/0!"}}]
[null,{"$f":"Macro!A4011","v":0},{"$f":"Macro!B4011","v":0},{"$f":"Macro!E4011","v":{"$error":"#DIV/0!"}}]
[null,{"$f":"Macro!A4012","v":0},{"$f":"Macro!B4012","v":0},{"$f":"Macro!E4012","v":{"$error":"#DIV/0!"}}]
[null,{"$f":"Macro!A4013","v":0},{"$f":"Macro!B4013","v":0},{"$f":"Macro!E4013","v":{"$error":"#DIV/0!"}}]
[null,{"$f":"Macro!A4014","v":0},{"$f":"Macro!B4014","v":0},{"$f":"Macro!E4014","v":{"$error":"#DIV/0!"}}]
[null,{"$f":"Macro!A4015","v":0},{"$f":"Macro!B4015","v":0},{"$f":"Macro!E4015","v":{"$error":"#DIV/0!"}}]
[null,{"$f":"Macro!A4016","v":0},{"$f":"Macro!B4016","v":0},{"$f":"Macro!E4016","v":{"$error":"#DIV/0!"}}]
[null,{"$f":"Macro!A4017","v":0},{"$f":"Macro!B4017","v":0},{"$f":"Macro!E4017","v":{"$error":"#DIV/0!"}}]
[null,{"$f":"Macro!A4018","v":0},{"$f":"Macro!B4018","v":0},{"$f":"Macro!E4018","v":{"$error":"#DIV/0!"}}]
[null,{"$f":"Macro!A4019","v":0},{"$f":"Macro!B4019","v":0},{"$f":"Macro!E4019","v":{"$error":"#DIV/0!"}}]
[null,{"$f":"Macro!A4020","v":0},{"$f":"Macro!B4020","v":0},{"$f":"Macro!E4020","v":{"$error":"#DIV/0!"}}]
[null,{"$f":"Macro!A4021","v":0},{"$f":"Macro!B4021","v":0},{"$f":"Macro!E4021","v":{"$error":"#DIV/0!"}}]
[null,{"$f":"Macro!A4022","v":0},{"$f":"Macro!B4022","v":0},{"$f":"Macro!E4022","v":{"$error":"#DIV/0!"}}]
[null,{"$f":"Macro!A4023","v":0},{"$f":"Macro!B4023","v":0},{"$f":"Macro!E4023","v":{"$error":"#DIV/0!"}}]
[null,{"$f":"Macro!A4024","v":0},{"$f":"Macro!B4024","v":0},{"$f":"Macro!E4024","v":{"$error":"#DIV/0!"}}]
[null,{"$f":"Macro!A4025","v":0},{"$f":"Macro!B4025","v":0},{"$f":"Macro!E4025","v":{"$error":"#DIV/0!"}}]
[null,{"$f":"Macro!A4026","v":0},{"$f":"Macro!B4026","v":0},{"$f":"Macro!E4026","v":{"$error":"#DIV/0!"}}]
[null,{"$f":"Macro!A4027","v":0},{"$f":"Macro!B4027","v":0},{"$f":"Macro!E4027","v":{"$error":"#DIV/0!"}}]
[null,{"$f":"Macro!A4028","v":0},{"$f":"Macro!B4028","v":0},{"$f":"Macro!E4028","v":{"$error":"#DIV/0!"}}]
[null,{"$f":"Macro!A4029","v":0},{"$f":"Macro!B4029","v":0},{"$f":"Macro!E4029","v":{"$error":"#DIV/0!"}}]
[null,{"$f":"Macro!A4030","v":0},{"$f":"Macro!B4030","v":0},{"$f":"Macro!E4030","v":{"$error":"#DIV/0!"}}]
[null,{"$f":"Macro!A4031","v":0},{"$f":"Macro!B4031","v":0},{"$f":"Macro!E4031","v":{"$error":"#DIV/0!"}}]
[null,{"$f":"Macro!A4032","v":0},{"$f":"Macro!B4032","v":0},{"$f":"Macro!E4032","v":{"$error":"#DIV/0!"}}]
[null,{"$f":"Macro!A4033","v":0},{"$f":"Macro!B4033","v":0},{"$f":"Macro!E4033","v":{"$error":"#DIV/0!"}}]
[null,{"$f":"Macro!A4034","v":0},{"$f":"Macro!B4034","v":0},{"$f":"Macro!E4034","v":{"$error":"#DIV/0!"}}]
[null,{"$f":"Macro!A4035","v":0},{"$f":"Macro!B4035","v":0},{"$f":"Macro!E4035","v":{"$error":"#DIV/0!"}}]
[null,{"$f":"Macro!A4036","v":0},{"$f":"Macro!B4036","v":0},{"$f":"Macro!E4036","v":{"$error":"#DIV/0!"}}]
[null,{"$f":"Macro!A4037","v":0},{"$f":"Macro!B4037","v":0},{"$f":"Macro!E4037","v":{"$error":"#DIV/0!"}}]
[null,{"$f":"Macro!A4038","v":0},{"$f":"Macro!B4038","v":0},{"$f":"Macro!E4038","v":{"$error":"#DIV/0!"}}]
[null,{"$f":"Macro!A4039","v":0},{"$f":"Macro!B4039","v":0},{"$f":"Macro!E4039","v":{"$error":"#DIV/0!"}}]
[null,{"$f":"Macro!A4040","v":0},{"$f":"Macro!B4040","v":0},{"$f":"Macro!E4040","v":{"$error":"#DIV/0!"}}]
[null,{"$f":"Macro!A4041","v":0},{"$f":"Macro!B4041","v":0},{"$f":"Macro!E4041","v":{"$error":"#DIV/0!"}}]
[null,{"$f":"Macro!A4042","v":0},{"$f":"Macro!B4042","v":0},{"$f":"Macro!E4042","v":{"$error":"#DIV/0!"}}]
[null,{"$f":"Macro!A4043","v":0},{"$f":"Macro!B4043","v":0},{"$f":"Macro!E4043","v":{"$error":"#DIV/0!"}}]
[null,{"$f":"Macro!A4044","v":0},{"$f":"Macro!B4044","v":0},{"$f":"Macro!E4044","v":{"$error":"#DIV/0!"}}]
[null,{"$f":"Macro!A4045","v":0},{"$f":"Macro!B4045","v":0},{"$f":"Macro!E4045","v":{"$error":"#DIV/0!"}}]
[null,{"$f":"Macro!A4046","v":0},{"$f":"Macro!B4046","v":0},{"$f":"Macro!E4046","v":{"$error":"#DIV/0!"}}]
[null,{"$f":"Macro!A4047","v":0},{"$f":"Macro!B4047","v":0},{"$f":"Macro!E4047","v":{"$error":"#DIV/0!"}}]
[null,{"$f":"Macro!A4048","v":0},{"$f":"Macro!B4048","v":0},{"$f":"Macro!E4048","v":{"$error":"#DIV/0!"}}]
[null,{"$f":"Macro!A4049","v":0},{"$f":"Macro!B4049","v":0},{"$f":"Macro!E4049","v":{"$error":"#DIV/0!"}}]
[null,{"$f":"Macro!A4050","v":0},{"$f":"Macro!B4050","v":0},{"$f":"Macro!E4050","v":{"$error":"#DIV/0!"}}]
[null,{"$f":"Macro!A4051","v":0},{"$f":"Macro!B4051","v":0},{"$f":"Macro!E4051","v":{"$error":"#DIV/0!"}}]
[null,{"$f":"Macro!A4052","v":0},{"$f":"Macro!B4052","v":0},{"$f":"Macro!E4052","v":{"$error":"#DIV/0!"}}]
[null,{"$f":"Macro!A4053","v":0},{"$f":"Macro!B4053","v":0},{"$f":"Macro!E4053","v":{"$error":"#DIV/0!"}}]
[null,{"$f":"Macro!A4054","v":0},{"$f":"Macro!B4054","v":0},{"$f":"Macro!E4054","v":{"$error":"#DIV/0!"}}]
[null,{"$f":"Macro!A4055","v":0},{"$f":"Macro!B4055","v":0},{"$f":"Macro!E4055","v":{"$error":"#DIV/0!"}}]
[null,{"$f":"Macro!A4056","v":0},{"$f":"Macro!B4056","v":0},{"$f":"Macro!E4056","v":{"$error":"#DIV/0!"}}]
[null,{"$f":"Macro!A4057","v":0},{"$f":"Macro!B4057","v":0},{"$f":"Macro!E4057","v":{"$error":"#DIV/0!"}}]
[null,{"$f":"Macro!A4058","v":0},{"$f":"Macro!B4058","v":0},{"$f":"Macro!E4058","v":{"$error":"#DIV/0!"}}]
[null,{"$f":"Macro!A4059","v":0},{"$f":"Macro!B4059","v":0},{"$f":"Macro!E4059","v":{"$error":"#DIV/0!"}}]
[null,{"$f":"Macro!A4060","v":0},{"$f":"Macro!B4060","v":0},{"$f":"Macro!E4060","v":{"$error":"#DIV/0!"}}]
[null,{"$f":"Macro!A4061","v":0},{"$f":"Macro!B4061","v":0},{"$f":"Macro!E4061","v":{"$error":"#DIV/0!"}}]
[null,{"$f":"Macro!A4062","v":0},{"$f":"Macro!B4062","v":0},{"$f":"Macro!E4062","v":{"$error":"#DIV/0!"}}]
[null,{"$f":"Macro!A4063","v":0},{"$f":"Macro!B4063","v":0},{"$f":"Macro!E4063","v":{"$error":"#DIV/0!"}}]
[null,{"$f":"Macro!A4064","v":0},{"$f":"Macro!B4064","v":0},{"$f":"Macro!E4064","v":{"$error":"#DIV/0!"}}]
[null,{"$f":"Macro!A4065","v":0},{"$f":"Macro!B4065","v":0},{"$f":"Macro!E4065","v":{"$error":"#DIV/0!"}}]
[null,{"$f":"Macro!A4066","v":0},{"$f":"Macro!B4066","v":0},{"$f":"Macro!E4066","v":{"$error":"#DIV/0!"}}]
[null,{"$f":"Macro!A4067","v":0},{"$f":"Macro!B4067","v":0},{"$f":"Macro!E4067","v":{"$error":"#DIV/0!"}}]
[null,{"$f":"Macro!A4068","v":0},{"$f":"Macro!B4068","v":0},{"$f":"Macro!E4068","v":{"$error":"#DIV/0!"}}]
[null,{"$f":"Macro!A4069","v":0},{"$f":"Macro!B4069","v":0},{"$f":"Macro!E4069","v":{"$error":"#DIV/0!"}}]
[null,{"$f":"Macro!A4070","v":0},{"$f":"Macro!B4070","v":0},{"$f":"Macro!E4070","v":{"$error":"#DIV/0!"}}]
[null,{"$f":"Macro!A4071","v":0},{"$f":"Macro!B4071","v":0},{"$f":"Macro!E4071","v":{"$error":"#DIV/0!"}}]
[null,{"$f":"Macro!A4072","v":0},{"$f":"Macro!B4072","v":0},{"$f":"Macro!E4072","v":{"$error":"#DIV/0!"}}]
[null,{"$f":"Macro!A4073","v":0},{"$f":"Macro!B4073","v":0},{"$f":"Macro!E4073","v":{"$error":"#DIV/0!"}}]
[null,{"$f":"Macro!A4074","v":0},{"$f":"Macro!B4074","v":0},{"$f":"Macro!E4074","v":{"$error":"#DIV/0!"}}]
[null,{"$f":"Macro!A4075","v":0},{"$f":"Macro!B4075","v":0},{"$f":"Macro!E4075","v":{"$error":"#DIV/0!"}}]
[null,{"$f":"Macro!A4076","v":0},{"$f":"Macro!B4076","v":0},{"$f":"Macro!E4076","v":{"$error":"#DIV/0!"}}]
[null,{"$f":"Macro!A4077","v":0},{"$f":"Macro!B4077","v":0},{"$f":"Macro!E4077","v":{"$error":"#DIV/0!"}}]
[null,{"$f":"Macro!A4078","v":0},{"$f":"Macro!B4078","v":0},{"$f":"Macro!E4078","v":{"$error":"#DIV/0!"}}]
[null,{"$f":"Macro!A4079","v":0},{"$f":"Macro!B4079","v":0},{"$f":"Macro!E4079","v":{"$error":"#DIV/0!"}}]
[null,{"$f":"Macro!A4080","v":0},{"$f":"Macro!B4080","v":0},{"$f":"Macro!E4080","v":{"$error":"#DIV/0!"}}]
[null,{"$f":"Macro!A4081","v":0},{"$f":"Macro!B4081","v":0},{"$f":"Macro!E4081","v":{"$error":"#DIV/0!"}}]
[null,{"$f":"Macro!A4082","v":0},{"$f":"Macro!B4082","v":0},{"$f":"Macro!E4082","v":{"$error":"#DIV/0!"}}]
[null,{"$f":"Macro!A4083","v":0},{"$f":"Macro!B4083","v":0},{"$f":"Macro!E4083","v":{"$error":"#DIV/0!"}}]
[null,{"$f":"Macro!A4084","v":0},{"$f":"Macro!B4084","v":0},{"$f":"Macro!E4084","v":{"$error":"#DIV/0!"}}]
[null,{"$f":"Macro!A4085","v":0},{"$f":"Macro!B4085","v":0},{"$f":"Macro!E4085","v":{"$error":"#DIV/0!"}}]
[null,{"$f":"Macro!A4086","v":0},{"$f":"Macro!B4086","v":0},{"$f":"Macro!E4086","v":{"$error":"#DIV/0!"}}]
[null,{"$f":"Macro!A4087","v":0},{"$f":"Macro!B4087","v":0},{"$f":"Macro!E4087","v":{"$error":"#DIV/0!"}}]
[null,{"$f":"Macro!A4088","v":0},{"$f":"Macro!B4088","v":0},{"$f":"Macro!E4088","v":{"$error":"#DIV/0!"}}]
[null,{"$f":"Macro!A4089","v":0},{"$f":"Macro!B4089","v":0},{"$f":"Macro!E4089","v":{"$error":"#DIV/0!"}}]
[null,{"$f":"Macro!A4090","v":0},{"$f":"Macro!B4090","v":0},{"$f":"Macro!E4090","v":{"$error":"#DIV/0!"}}]
[null,{"$f":"Macro!A4091","v":0},{"$f":"Macro!B4091","v":0},{"$f":"Macro!E4091","v":{"$error":"#DIV/0!"}}]
[null,{"$f":"Macro!A4092","v":0},{"$f":"Macro!B4092","v":0},{"$f":"Macro!E4092","v":{"$error":"#DIV/0!"}}]
[null,{"$f":"Macro!A4093","v":0},{"$f":"Macro!B4093","v":0},{"$f":"Macro!E4093","v":{"$error":"#DIV/0!"}}]
[null,{"$f":"Macro!A4094","v":0},{"$f":"Macro!B4094","v":0},{"$f":"Macro!E4094","v":{"$error":"#DIV/0!"}}]
[null,{"$f":"Macro!A4095","v":0},{"$f":"Macro!B4095","v":0},{"$f":"Macro!E4095","v":{"$error":"#DIV/0!"}}]
[null,{"$f":"Macro!A4096","v":0},{"$f":"Macro!B4096","v":0},{"$f":"Macro!E4096","v":{"$error":"#DIV/0!"}}]
[null,{"$f":"Macro!A4097","v":0},{"$f":"Macro!B4097","v":0},{"$f":"Macro!E4097","v":{"$error":"#DIV/0!"}}]
[null,{"$f":"Macro!A4098","v":0},{"$f":"Macro!B4098","v":0},{"$f":"Macro!E4098","v":{"$error":"#DIV/0!"}}]
[null,{"$f":"Macro!A4099","v":0},{"$f":"Macro!B4099","v":0},{"$f":"Macro!E4099","v":{"$error":"#DIV/0!"}}]
[null,{"$f":"Macro!A4100","v":0},{"$f":"Macro!B4100","v":0},{"$f":"Macro!E4100","v":{"$error":"#DIV/0!"}}]
[null,{"$f":"Macro!A4101","v":0},{"$f":"Macro!B4101","v":0},{"$f":"Macro!E4101","v":{"$error":"#DIV/0!"}}]
[null,{"$f":"Macro!A4102","v":0},{"$f":"Macro!B4102","v":0},{"$f":"Macro!E4102","v":{"$error":"#DIV/0!"}}]
[null,{"$f":"Macro!A4103","v":0},{"$f":"Macro!B4103","v":0},{"$f":"Macro!E4103","v":{"$error":"#DIV/0!"}}]
[null,{"$f":"Macro!A4104","v":0},{"$f":"Macro!B4104","v":0},{"$f":"Macro!E4104","v":{"$error":"#DIV/0!"}}]
[null,{"$f":"Macro!A4105","v":0},{"$f":"Macro!B4105","v":0},{"$f":"Macro!E4105","v":{"$error":"#DIV/0!"}}]
[null,{"$f":"Macro!A4106","v":0},{"$f":"Macro!B4106","v":0},{"$f":"Macro!E4106","v":{"$error":"#DIV/0!"}}]
[null,{"$f":"Macro!A4107","v":0},{"$f":"Macro!B4107","v":0},{"$f":"Macro!E4107","v":{"$error":"#DIV/0!"}}]
[null,{"$f":"Macro!A4108","v":0},{"$f":"Macro!B4108","v":0},{"$f":"Macro!E4108","v":{"$error":"#DIV/0!"}}]
[null,{"$f":"Macro!A4109","v":0},{"$f":"Macro!B4109","v":0},{"$f":"Macro!E4109","v":{"$error":"#DIV/0!"}}]
[null,{"$f":"Macro!A4110","v":0},{"$f":"Macro!B4110","v":0},{"$f":"Macro!E4110","v":{"$error":"#DIV/0!"}}]
[null,{"$f":"Macro!A4111","v":0},{"$f":"Macro!B4111","v":0},{"$f":"Macro!E4111","v":{"$error":"#DIV/0!"}}]
[null,{"$f":"Macro!A4112","v":0},{"$f":"Macro!B4112","v":0},{"$f":"Macro!E4112","v":{"$error":"#DIV/0!"}}]
[null,{"$f":"Macro!A4113","v":0},{"$f":"Macro!B4113","v":0},{"$f":"Macro!E4113","v":{"$error":"#DIV/0!"}}]
[null,{"$f":"Macro!A4114","v":0},{"$f":"Macro!B4114","v":0},{"$f":"Macro!E4114","v":{"$error":"#DIV/0!"}}]
[null,{"$f":"Macro!A4115","v":0},{"$f":"Macro!B4115","v":0},{"$f":"Macro!E4115","v":{"$error":"#DIV/0!"}}]
[null,{"$f":"Macro!A4116","v":0},{"$f":"Macro!B4116","v":0},{"$f":"Macro!E4116","v":{"$error":"#DIV/0!"}}]
[null,{"$f":"Macro!A4117","v":0},{"$f":"Macro!B4117","v":0},{"$f":"Macro!E4117","v":{"$error":"#DIV/0!"}}]
[null,{"$f":"Macro!A4118","v":0},{"$f":"Macro!B4118","v":0},{"$f":"Macro!E4118","v":{"$error":"#DIV/0!"}}]
[null,{"$f":"Macro!A4119","v":0},{"$f":"Macro!B4119","v":0},{"$f":"Macro!E4119","v":{"$error":"#DIV/0!"}}]
[null,{"$f":"Macro!A4120","v":0},{"$f":"Macro!B4120","v":0},{"$f":"Macro!E4120","v":{"$error":"#DIV/0!"}}]
[null,{"$f":"Macro!A4121","v":0},{"$f":"Macro!B4121","v":0},{"$f":"Macro!E4121","v":{"$error":"#DIV/0!"}}]
[null,{"$f":"Macro!A4122","v":0},{"$f":"Macro!B4122","v":0},{"$f":"Macro!E4122","v":{"$error":"#DIV/0!"}}]
[null,{"$f":"Macro!A4123","v":0},{"$f":"Macro!B4123","v":0},{"$f":"Macro!E4123","v":{"$error":"#DIV/0!"}}]
[null,{"$f":"Macro!A4124","v":0},{"$f":"Macro!B4124","v":0},{"$f":"Macro!E4124","v":{"$error":"#DIV/0!"}}]
[null,{"$f":"Macro!A4125","v":0},{"$f":"Macro!B4125","v":0},{"$f":"Macro!E4125","v":{"$error":"#DIV/0!"}}]
[null,{"$f":"Macro!A4126","v":0},{"$f":"Macro!B4126","v":0},{"$f":"Macro!E4126","v":{"$error":"#DIV/0!"}}]
[null,{"$f":"Macro!A4127","v":0},{"$f":"Macro!B4127","v":0},{"$f":"Macro!E4127","v":{"$error":"#DIV/0!"}}]
[null,{"$f":"Macro!A4128","v":0},{"$f":"Macro!B4128","v":0},{"$f":"Macro!E4128","v":{"$error":"#DIV/0!"}}]
[null,{"$f":"Macro!A4129","v":0},{"$f":"Macro!B4129","v":0},{"$f":"Macro!E4129","v":{"$error":"#DIV/0!"}}]
[null,{"$f":"Macro!A4130","v":0},{"$f":"Macro!B4130","v":0},{"$f":"Macro!E4130","v":{"$error":"#DIV/0!"}}]
[null,{"$f":"Macro!A4131","v":0},{"$f":"Macro!B4131","v":0},{"$f":"Macro!E4131","v":{"$error":"#DIV/0!"}}]
[null,{"$f":"Macro!A4132","v":0},{"$f":"Macro!B4132","v":0},{"$f":"Macro!E4132","v":{"$error":"#DIV/0!"}}]
[null,{"$f":"Macro!A4133","v":0},{"$f":"Macro!B4133","v":0},{"$f":"Macro!E4133","v":{"$error":"#DIV/0!"}}]
[null,{"$f":"Macro!A4134","v":0},{"$f":"Macro!B4134","v":0},{"$f":"Macro!E4134","v":{"$error":"#DIV/0!"}}]
[null,{"$f":"Macro!A4135","v":0},{"$f":"Macro!B4135","v":0},{"$f":"Macro!E4135","v":{"$error":"#DIV/0!"}}]
[null,{"$f":"Macro!A4136","v":0},{"$f":"Macro!B4136","v":0},{"$f":"Macro!E4136","v":{"$error":"#DIV/0!"}}]
[null,{"$f":"Macro!A4137","v":0},{"$f":"Macro!B4137","v":0},{"$f":"Macro!E4137","v":{"$error":"#DIV/0!"}}]
[null,{"$f":"Macro!A4138","v":0},{"$f":"Macro!B4138","v":0},{"$f":"Macro!E4138","v":{"$error":"#DIV/0!"}}]
[null,{"$f":"Macro!A4139","v":0},{"$f":"Macro!B4139","v":0},{"$f":"Macro!E4139","v":{"$error":"#DIV/0!"}}]
[null,{"$f":"Macro!A4140","v":0},{"$f":"Macro!B4140","v":0},{"$f":"Macro!E4140","v":{"$error":"#DIV/0!"}}]
[null,{"$f":"Macro!A4141","v":0},{"$f":"Macro!B4141","v":0},{"$f":"Macro!E4141","v":{"$error":"#DIV/0!"}}]
[null,{"$f":"Macro!A4142","v":0},{"$f":"Macro!B4142","v":0},{"$f":"Macro!E4142","v":{"$error":"#DIV/0!"}}]
[null,{"$f":"Macro!A4143","v":0},{"$f":"Macro!B4143","v":0},{"$f":"Macro!E4143","v":{"$error":"#DIV/0!"}}]
[null,{"$f":"Macro!A4144","v":0},{"$f":"Macro!B4144","v":0},{"$f":"Macro!E4144","v":{"$error":"#DIV/0!"}}]
[null,{"$f":"Macro!A4145","v":0},{"$f":"Macro!B4145","v":0},{"$f":"Macro!E4145","v":{"$error":"#DIV/0!"}}]
[null,{"$f":"Macro!A4146","v":0},{"$f":"Macro!B4146","v":0},{"$f":"Macro!E4146","v":{"$error":"#DIV/0!"}}]
[null,{"$f":"Macro!A4147","v":0},{"$f":"Macro!B4147","v":0},{"$f":"Macro!E4147","v":{"$error":"#DIV/0!"}}]
[null,{"$f":"Macro!A4148","v":0},{"$f":"Macro!B4148","v":0},{"$f":"Macro!E4148","v":{"$error":"#DIV/0!"}}]
[null,{"$f":"Macro!A4149","v":0},{"$f":"Macro!B4149","v":0},{"$f":"Macro!E4149","v":{"$error":"#DIV/0!"}}]
[null,{"$f":"Macro!A4150","v":0},{"$f":"Macro!B4150","v":0},{"$f":"Macro!E4150","v":{"$error":"#DIV/0!"}}]
[null,{"$f":"Macro!A4151","v":0},{"$f":"Macro!B4151","v":0},{"$f":"Macro!E4151","v":{"$error":"#DIV/0!"}}]
[null,{"$f":"Macro!A4152","v":0},{"$f":"Macro!B4152","v":0},{"$f":"Macro!E4152","v":{"$error":"#DIV/0!"}}]
[null,{"$f":"Macro!A4153","v":0},{"$f":"Macro!B4153","v":0},{"$f":"Macro!E4153","v":{"$error":"#DIV/0!"}}]
[null,{"$f":"Macro!A4154","v":0},{"$f":"Macro!B4154","v":0},{"$f":"Macro!E4154","v":{"$error":"#DIV/0!"}}]
[null,{"$f":"Macro!A4155","v":0},{"$f":"Macro!B4155","v":0},{"$f":"Macro!E4155","v":{"$error":"#DIV/0!"}}]
[null,{"$f":"Macro!A4156","v":0},{"$f":"Macro!B4156","v":0},{"$f":"Macro!E4156","v":{"$error":"#DIV/0!"}}]
[null,{"$f":"Macro!A4157","v":0},{"$f":"Macro!B4157","v":0},{"$f":"Macro!E4157","v":{"$error":"#DIV/0!"}}]
[null,{"$f":"Macro!A4158","v":0},{"$f":"Macro!B4158","v":0},{"$f":"Macro!E4158","v":{"$error":"#DIV/0!"}}]
[null,{"$f":"Macro!A4159","v":0},{"$f":"Macro!B4159","v":0},{"$f":"Macro!E4159","v":{"$error":"#DIV/0!"}}]
[null,{"$f":"Macro!A4160","v":0},{"$f":"Macro!B4160","v":0},{"$f":"Macro!E4160","v":{"$error":"#DIV/0!"}}]
[null,{"$f":"Macro!A4161","v":0},{"$f":"Macro!B4161","v":0},{"$f":"Macro!E4161","v":{"$error":"#DIV/0!"}}]
[null,{"$f":"Macro!A4162","v":0},{"$f":"Macro!B4162","v":0},{"$f":"Macro!E4162","v":{"$error":"#DIV/0!"}}]
[null,{"$f":"Macro!A4163","v":0},{"$f":"Macro!B4163","v":0},{"$f":"Macro!E4163","v":{"$error":"#DIV/0!"}}]
[null,{"$f":"Macro!A4164","v":0},{"$f":"Macro!B4164","v":0},{"$f":"Macro!E4164","v":{"$error":"#DIV/0!"}}]
[null,{"$f":"Macro!A4165","v":0},{"$f":"Macro!B4165","v":0},{"$f":"Macro!E4165","v":{"$error":"#DIV/0!"}}]
[null,{"$f":"Macro!A4166","v":0},{"$f":"Macro!B4166","v":0},{"$f":"Macro!E4166","v":{"$error":"#DIV/0!"}}]
[null,{"$f":"Macro!A4167","v":0},{"$f":"Macro!B4167","v":0},{"$f":"Macro!E4167","v":{"$error":"#DIV/0!"}}]
[null,{"$f":"Macro!A4168","v":0},{"$f":"Macro!B4168","v":0},{"$f":"Macro!E4168","v":{"$error":"#DIV/0!"}}]
[null,{"$f":"Macro!A4169","v":0},{"$f":"Macro!B4169","v":0},{"$f":"Macro!E4169","v":{"$error":"#DIV/0!"}}]
[null,{"$f":"Macro!A4170","v":0},{"$f":"Macro!B4170","v":0},{"$f":"Macro!E4170","v":{"$error":"#DIV/0!"}}]
[null,{"$f":"Macro!A4171","v":0},{"$f":"Macro!B4171","v":0},{"$f":"Macro!E4171","v":{"$error":"#DIV/0!"}}]
[null,{"$f":"Macro!A4172","v":0},{"$f":"Macro!B4172","v":0},{"$f":"Macro!E4172","v":{"$error":"#DIV/0!"}}]
[null,{"$f":"Macro!A4173","v":0},{"$f":"Macro!B4173","v":0},{"$f":"Macro!E4173","v":{"$error":"#DIV/0!"}}]
[null,{"$f":"Macro!A4174","v":0},{"$f":"Macro!B4174","v":0},{"$f":"Macro!E4174","v":{"$error":"#DIV/0!"}}]
[null,{"$f":"Macro!A4175","v":0},{"$f":"Macro!B4175","v":0},{"$f":"Macro!E4175","v":{"$error":"#DIV/0!"}}]
[null,{"$f":"Macro!A4176","v":0},{"$f":"Macro!B4176","v":0},{"$f":"Macro!E4176","v":{"$error":"#DIV/0!"}}]
[null,{"$f":"Macro!A4177","v":0},{"$f":"Macro!B4177","v":0},{"$f":"Macro!E4177","v":{"$error":"#DIV/0!"}}]
[null,{"$f":"Macro!A4178","v":0},{"$f":"Macro!B4178","v":0},{"$f":"Macro!E4178","v":{"$error":"#DIV/0!"}}]
[null,{"$f":"Macro!A4179","v":0},{"$f":"Macro!B4179","v":0},{"$f":"Macro!E4179","v":{"$error":"#DIV/0!"}}]
[null,{"$f":"Macro!A4180","v":0},{"$f":"Macro!B4180","v":0},{"$f":"Macro!E4180","v":{"$error":"#DIV/0!"}}]
[null,{"$f":"Macro!A4181","v":0},{"$f":"Macro!B4181","v":0},{"$f":"Macro!E4181","v":{"$error":"#DIV/0!"}}]
[null,{"$f":"Macro!A4182","v":0},{"$f":"Macro!B4182","v":0},{"$f":"Macro!E4182","v":{"$error":"#DIV/0!"}}]
[null,{"$f":"Macro!A4183","v":0},{"$f":"Macro!B4183","v":0},{"$f":"Macro!E4183","v":{"$error":"#DIV/0!"}}]
[null,{"$f":"Macro!A4184","v":0},{"$f":"Macro!B4184","v":0},{"$f":"Macro!E4184","v":{"$error":"#DIV/0!"}}]
[null,{"$f":"Macro!A4185","v":0},{"$f":"Macro!B4185","v":0},{"$f":"Macro!E4185","v":{"$error":"#DIV/0!"}}]
[null,{"$f":"Macro!A4186","v":0},{"$f":"Macro!B4186","v":0},{"$f":"Macro!E4186","v":{"$error":"#DIV/0!"}}]
[null,{"$f":"Macro!A4187","v":0},{"$f":"Macro!B4187","v":0},{"$f":"Macro!E4187","v":{"$error":"#DIV/0!"}}]
[null,{"$f":"Macro!A4188","v":0},{"$f":"Macro!B4188","v":0},{"$f":"Macro!E4188","v":{"$error":"#DIV/0!"}}]
[null,{"$f":"Macro!A4189","v":0},{"$f":"Macro!B4189","v":0},{"$f":"Macro!E4189","v":{"$error":"#DIV/0!"}}]
[null,{"$f":"Macro!A4190","v":0},{"$f":"Macro!B4190","v":0},{"$f":"Macro!E4190","v":{"$error":"#DIV/0!"}}]
[null,{"$f":"Macro!A4191","v":0},{"$f":"Macro!B4191","v":0},{"$f":"Macro!E4191","v":{"$error":"#DIV/0!"}}]
[null,{"$f":"Macro!A4192","v":0},{"$f":"Macro!B4192","v":0},{"$f":"Macro!E4192","v":{"$error":"#DIV/0!"}}]
[null,{"$f":"Macro!A4193","v":0},{"$f":"Macro!B4193","v":0},{"$f":"Macro!E4193","v":{"$error":"#DIV/0!"}}]
[null,{"$f":"Macro!A4194","v":0},{"$f":"Macro!B4194","v":0},{"$f":"Macro!E4194","v":{"$error":"#DIV/0!"}}]
[null,{"$f":"Macro!A4195","v":0},{"$f":"Macro!B4195","v":0},{"$f":"Macro!E4195","v":{"$error":"#DIV/0!"}}]
[null,{"$f":"Macro!A4196","v":0},{"$f":"Macro!B4196","v":0},{"$f":"Macro!E4196","v":{"$error":"#DIV/0!"}}]
[null,{"$f":"Macro!A4197","v":0},{"$f":"Macro!B4197","v":0},{"$f":"Macro!E4197","v":{"$error":"#DIV/0!"}}]
[null,{"$f":"Macro!A4198","v":0},{"$f":"Macro!B4198","v":0},{"$f":"Macro!E4198","v":{"$error":"#DIV/0!"}}]
[null,{"$f":"Macro!A4199","v":0},{"$f":"Macro!B4199","v":0},{"$f":"Macro!E4199","v":{"$error":"#DIV/0!"}}]
[null,{"$f":"Macro!A4200","v":0},{"$f":"Macro!B4200","v":0},{"$f":"Macro!E4200","v":{"$error":"#DIV/0!"}}]
[null,{"$f":"Macro!A4201","v":0},{"$f":"Macro!B4201","v":0},{"$f":"Macro!E4201","v":{"$error":"#DIV/0!"}}]
[null,{"$f":"Macro!A4202","v":0},{"$f":"Macro!B4202","v":0},{"$f":"Macro!E4202","v":{"$error":"#DIV/0!"}}]
[null,{"$f":"Macro!A4203","v":0},{"$f":"Macro!B4203","v":0},{"$f":"Macro!E4203","v":{"$error":"#DIV/0!"}}]
[null,{"$f":"Macro!A4204","v":0},{"$f":"Macro!B4204","v":0},{"$f":"Macro!E4204","v":{"$error":"#DIV/0!"}}]
[null,{"$f":"Macro!A4205","v":0},{"$f":"Macro!B4205","v":0},{"$f":"Macro!E4205","v":{"$error":"#DIV/0!"}}]
[null,{"$f":"Macro!A4206","v":0},{"$f":"Macro!B4206","v":0},{"$f":"Macro!E4206","v":{"$error":"#DIV/0!"}}]
[null,{"$f":"Macro!A4207","v":0},{"$f":"Macro!B4207","v":0},{"$f":"Macro!E4207","v":{"$error":"#DIV/0!"}}]
[null,{"$f":"Macro!A4208","v":0},{"$f":"Macro!B4208","v":0},{"$f":"Macro!E4208","v":{"$error":"#DIV/0!"}}]
[null,{"$f":"Macro!A4209","v":0},{"$f":"Macro!B4209","v":0},{"$f":"Macro!E4209","v":{"$error":"#DIV/0!"}}]
[null,{"$f":"Macro!A4210","v":0},{"$f":"Macro!B4210","v":0},{"$f":"Macro!E4210","v":{"$error":"#DIV/0!"}}]
[null,{"$f":"Macro!A4211","v":0},{"$f":"Macro!B4211","v":0},{"$f":"Macro!E4211","v":{"$error":"#DIV/0!"}}]
[null,{"$f":"Macro!A4212","v":0},{"$f":"Macro!B4212","v":0},{"$f":"Macro!E4212","v":{"$error":"#DIV/0!"}}]
[null,{"$f":"Macro!A4213","v":0},{"$f":"Macro!B4213","v":0},{"$f":"Macro!E4213","v":{"$error":"#DIV/0!"}}]
[null,{"$f":"Macro!A4214","v":0},{"$f":"Macro!B4214","v":0},{"$f":"Macro!E4214","v":{"$error":"#DIV/0!"}}]
[null,{"$f":"Macro!A4215","v":0},{"$f":"Macro!B4215","v":0},{"$f":"Macro!E4215","v":{"$error":"#DIV/0!"}}]
[null,{"$f":"Macro!A4216","v":0},{"$f":"Macro!B4216","v":0},{"$f":"Macro!E4216","v":{"$error":"#DIV/0!"}}]
[null,{"$f":"Macro!A4217","v":0},{"$f":"Macro!B4217","v":0},{"$f":"Macro!E4217","v":{"$error":"#DIV/0!"}}]
[null,{"$f":"Macro!A4218","v":0},{"$f":"Macro!B4218","v":0},{"$f":"Macro!E4218","v":{"$error":"#DIV/0!"}}]
[null,{"$f":"Macro!A4219","v":0},{"$f":"Macro!B4219","v":0},{"$f":"Macro!E4219","v":{"$error":"#DIV/0!"}}]
[null,{"$f":"Macro!A4220","v":0},{"$f":"Macro!B4220","v":0},{"$f":"Macro!E4220","v":{"$error":"#DIV/0!"}}]
[null,{"$f":"Macro!A4221","v":0},{"$f":"Macro!B4221","v":0},{"$f":"Macro!E4221","v":{"$error":"#DIV/0!"}}]
[null,{"$f":"Macro!A4222","v":0},{"$f":"Macro!B4222","v":0},{"$f":"Macro!E4222","v":{"$error":"#DIV/0!"}}]
[null,{"$f":"Macro!A4223","v":0},{"$f":"Macro!B4223","v":0},{"$f":"Macro!E4223","v":{"$error":"#DIV/0!"}}]
[null,{"$f":"Macro!A4224","v":0},{"$f":"Macro!B4224","v":0},{"$f":"Macro!E4224","v":{"$error":"#DIV/0!"}}]
[null,{"$f":"Macro!A4225","v":0},{"$f":"Macro!B4225","v":0},{"$f":"Macro!E4225","v":{"$error":"#DIV/0!"}}]
[null,{"$f":"Macro!A4226","v":0},{"$f":"Macro!B4226","v":0},{"$f":"Macro!E4226","v":{"$error":"#DIV/0!"}}]
[null,{"$f":"Macro!A4227","v":0},{"$f":"Macro!B4227","v":0},{"$f":"Macro!E4227","v":{"$error":"#DIV/0!"}}]
[null,{"$f":"Macro!A4228","v":0},{"$f":"Macro!B4228","v":0},{"$f":"Macro!E4228","v":{"$error":"#DIV/0!"}}]
[null,{"$f":"Macro!A4229","v":0},{"$f":"Macro!B4229","v":0},{"$f":"Macro!E4229","v":{"$error":"#DIV/0!"}}]
[null,{"$f":"Macro!A4230","v":0},{"$f":"Macro!B4230","v":0},{"$f":"Macro!E4230","v":{"$error":"#DIV/0!"}}]
[null,{"$f":"Macro!A4231","v":0},{"$f":"Macro!B4231","v":0},{"$f":"Macro!E4231","v":{"$error":"#DIV/0!"}}]
[null,{"$f":"Macro!A4232","v":0},{"$f":"Macro!B4232","v":0},{"$f":"Macro!E4232","v":{"$error":"#DIV/0!"}}]
[null,{"$f":"Macro!A4233","v":0},{"$f":"Macro!B4233","v":0},{"$f":"Macro!E4233","v":{"$error":"#DIV/0!"}}]
[null,{"$f":"Macro!A4234","v":0},{"$f":"Macro!B4234","v":0},{"$f":"Macro!E4234","v":{"$error":"#DIV/0!"}}]
[null,{"$f":"Macro!A4235","v":0},{"$f":"Macro!B4235","v":0},{"$f":"Macro!E4235","v":{"$error":"#DIV/0!"}}]
[null,{"$f":"Macro!A4236","v":0},{"$f":"Macro!B4236","v":0},{"$f":"Macro!E4236","v":{"$error":"#DIV/0!"}}]
[null,{"$f":"Macro!A4237","v":0},{"$f":"Macro!B4237","v":0},{"$f":"Macro!E4237","v":{"$error":"#DIV/0!"}}]
[null,{"$f":"Macro!A4238","v":0},{"$f":"Macro!B4238","v":0},{"$f":"Macro!E4238","v":{"$error":"#DIV/0!"}}]
[null,{"$f":"Macro!A4239","v":0},{"$f":"Macro!B4239","v":0},{"$f":"Macro!E4239","v":{"$error":"#DIV/0!"}}]
[null,{"$f":"Macro!A4240","v":0},{"$f":"Macro!B4240","v":0},{"$f":"Macro!E4240","v":{"$error":"#DIV/0!"}}]
[null,{"$f":"Macro!A4241","v":0},{"$f":"Macro!B4241","v":0},{"$f":"Macro!E4241","v":{"$error":"#DIV/0!"}}]
[null,{"$f":"Macro!A4242","v":0},{"$f":"Macro!B4242","v":0},{"$f":"Macro!E4242","v":{"$error":"#DIV/0!"}}]
[null,{"$f":"Macro!A4243","v":0},{"$f":"Macro!B4243","v":0},{"$f":"Macro!E4243","v":{"$error":"#DIV/0!"}}]
[null,{"$f":"Macro!A4244","v":0},{"$f":"Macro!B4244","v":0},{"$f":"Macro!E4244","v":{"$error":"#DIV/0!"}}]
[null,{"$f":"Macro!A4245","v":0},{"$f":"Macro!B4245","v":0},{"$f":"Macro!E4245","v":{"$error":"#DIV/0!"}}]
[null,{"$f":"Macro!A4246","v":0},{"$f":"Macro!B4246","v":0},{"$f":"Macro!E4246","v":{"$error":"#DIV/0!"}}]
[null,{"$f":"Macro!A4247","v":0},{"$f":"Macro!B4247","v":0},{"$f":"Macro!E4247","v":{"$error":"#DIV/0!"}}]
[null,{"$f":"Macro!A4248","v":0},{"$f":"Macro!B4248","v":0},{"$f":"Macro!E4248","v":{"$error":"#DIV/0!"}}]
[null,{"$f":"Macro!A4249","v":0},{"$f":"Macro!B4249","v":0},{"$f":"Macro!E4249","v":{"$error":"#DIV/0!"}}]
[null,{"$f":"Macro!A4250","v":0},{"$f":"Macro!B4250","v":0},{"$f":"Macro!E4250","v":{"$error":"#DIV/0!"}}]
[null,{"$f":"Macro!A4251","v":0},{"$f":"Macro!B4251","v":0},{"$f":"Macro!E4251","v":{"$error":"#DIV/0!"}}]
[null,{"$f":"Macro!A4252","v":0},{"$f":"Macro!B4252","v":0},{"$f":"Macro!E4252","v":{"$error":"#DIV/0!"}}]
[null,{"$f":"Macro!A4253","v":0},{"$f":"Macro!B4253","v":0},{"$f":"Macro!E4253","v":{"$error":"#DIV/0!"}}]
[null,{"$f":"Macro!A4254","v":0},{"$f":"Macro!B4254","v":0},{"$f":"Macro!E4254","v":{"$error":"#DIV/0!"}}]
[null,{"$f":"Macro!A4255","v":0},{"$f":"Macro!B4255","v":0},{"$f":"Macro!E4255","v":{"$error":"#DIV/0!"}}]
[null,{"$f":"Macro!A4256","v":0},{"$f":"Macro!B4256","v":0},{"$f":"Macro!E4256","v":{"$error":"#DIV/0!"}}]
[null,{"$f":"Macro!A4257","v":0},{"$f":"Macro!B4257","v":0},{"$f":"Macro!E4257","v":{"$error":"#DIV/0!"}}]
[null,{"$f":"Macro!A4258","v":0},{"$f":"Macro!B4258","v":0},{"$f":"Macro!E4258","v":{"$error":"#DIV/0!"}}]
[null,{"$f":"Macro!A4259","v":0},{"$f":"Macro!B4259","v":0},{"$f":"Macro!E4259","v":{"$error":"#DIV/0!"}}]
[null,{"$f":"Macro!A4260","v":0},{"$f":"Macro!B4260","v":0},{"$f":"Macro!E4260","v":{"$error":"#DIV/0!"}}]
[null,{"$f":"Macro!A4261","v":0},{"$f":"Macro!B4261","v":0},{"$f":"Macro!E4261","v":{"$error":"#DIV/0!"}}]
[null,{"$f":"Macro!A4262","v":0},{"$f":"Macro!B4262","v":0},{"$f":"Macro!E4262","v":{"$error":"#DIV/0!"}}]
[null,{"$f":"Macro!A4263","v":0},{"$f":"Macro!B4263","v":0},{"$f":"Macro!E4263","v":{"$error":"#DIV/0!"}}]
[null,{"$f":"Macro!A4264","v":0},{"$f":"Macro!B4264","v":0},{"$f":"Macro!E4264","v":{"$error":"#DIV/0!"}}]
[null,{"$f":"Macro!A4265","v":0},{"$f":"Macro!B4265","v":0},{"$f":"Macro!E4265","v":{"$error":"#DIV/0!"}}]
[null,{"$f":"Macro!A4266","v":0},{"$f":"Macro!B4266","v":0},{"$f":"Macro!E4266","v":{"$error":"#DIV/0!"}}]
[null,{"$f":"Macro!A4267","v":0},{"$f":"Macro!B4267","v":0},{"$f":"Macro!E4267","v":{"$error":"#DIV/0!"}}]
[null,{"$f":"Macro!A4268","v":0},{"$f":"Macro!B4268","v":0},{"$f":"Macro!E4268","v":{"$error":"#DIV/0!"}}]
[null,{"$f":"Macro!A4269","v":0},{"$f":"Macro!B4269","v":0},{"$f":"Macro!E4269","v":{"$error":"#DIV/0!"}}]
[null,{"$f":"Macro!A4270","v":0},{"$f":"Macro!B4270","v":0},{"$f":"Macro!E4270","v":{"$error":"#DIV/0!"}}]
[null,{"$f":"Macro!A4271","v":0},{"$f":"Macro!B4271","v":0},{"$f":"Macro!E4271","v":{"$error":"#DIV/0!"}}]
[null,{"$f":"Macro!A4272","v":0},{"$f":"Macro!B4272","v":0},{"$f":"Macro!E4272","v":{"$error":"#DIV/0!"}}]
[null,{"$f":"Macro!A4273","v":0},{"$f":"Macro!B4273","v":0},{"$f":"Macro!E4273","v":{"$error":"#DIV/0!"}}]
[null,{"$f":"Macro!A4274","v":0},{"$f":"Macro!B4274","v":0},{"$f":"Macro!E4274","v":{"$error":"#DIV/0!"}}]
[null,{"$f":"Macro!A4275","v":0},{"$f":"Macro!B4275","v":0},{"$f":"Macro!E4275","v":{"$error":"#DIV/0!"}}]
[null,{"$f":"Macro!A4276","v":0},{"$f":"Macro!B4276","v":0},{"$f":"Macro!E4276","v":{"$error":"#DIV/0!"}}]
[null,{"$f":"Macro!A4277","v":0},{"$f":"Macro!B4277","v":0},{"$f":"Macro!E4277","v":{"$error":"#DIV/0!"}}]
[null,{"$f":"Macro!A4278","v":0},{"$f":"Macro!B4278","v":0},{"$f":"Macro!E4278","v":{"$error":"#DIV/0!"}}]
[null,{"$f":"Macro!A4279","v":0},{"$f":"Macro!B4279","v":0},{"$f":"Macro!E4279","v":{"$error":"#DIV/0!"}}]
[null,{"$f":"Macro!A4280","v":0},{"$f":"Macro!B4280","v":0},{"$f":"Macro!E4280","v":{"$error":"#DIV/0!"}}]
[null,{"$f":"Macro!A4281","v":0},{"$f":"Macro!B4281","v":0},{"$f":"Macro!E4281","v":{"$error":"#DIV/0!"}}]
[null,{"$f":"Macro!A4282","v":0},{"$f":"Macro!B4282","v":0},{"$f":"Macro!E4282","v":{"$error":"#DIV/0!"}}]
[null,{"$f":"Macro!A4283","v":0},{"$f":"Macro!B4283","v":0},{"$f":"Macro!E4283","v":{"$error":"#DIV/0!"}}]
[null,{"$f":"Macro!A4284","v":0},{"$f":"Macro!B4284","v":0},{"$f":"Macro!E4284","v":{"$error":"#DIV/0!"}}]
[null,{"$f":"Macro!A4285","v":0},{"$f":"Macro!B4285","v":0},{"$f":"Macro!E4285","v":{"$error":"#DIV/0!"}}]
[null,{"$f":"Macro!A4286","v":0},{"$f":"Macro!B4286","v":0},{"$f":"Macro!E4286","v":{"$error":"#DIV/0!"}}]
[null,{"$f":"Macro!A4287","v":0},{"$f":"Macro!B4287","v":0},{"$f":"Macro!E4287","v":{"$error":"#DIV/0!"}}]
[null,{"$f":"Macro!A4288","v":0},{"$f":"Macro!B4288","v":0},{"$f":"Macro!E4288","v":{"$error":"#DIV/0!"}}]
[null,{"$f":"Macro!A4289","v":0},{"$f":"Macro!B4289","v":0},{"$f":"Macro!E4289","v":{"$error":"#DIV/0!"}}]
[null,{"$f":"Macro!A4290","v":0},{"$f":"Macro!B4290","v":0},{"$f":"Macro!E4290","v":{"$error":"#DIV/0!"}}]
[null,{"$f":"Macro!A4291","v":0},{"$f":"Macro!B4291","v":0},{"$f":"Macro!E4291","v":{"$error":"#DIV/0!"}}]
[null,{"$f":"Macro!A4292","v":0},{"$f":"Macro!B4292","v":0},{"$f":"Macro!E4292","v":{"$error":"#DIV/0!"}}]
[null,{"$f":"Macro!A4293","v":0},{"$f":"Macro!B4293","v":0},{"$f":"Macro!E4293","v":{"$error":"#DIV/0!"}}]
[null,{"$f":"Macro!A4294","v":0},{"$f":"Macro!B4294","v":0},{"$f":"Macro!E4294","v":{"$error":"#DIV/0!"}}]
[null,{"$f":"Macro!A4295","v":0},{"$f":"Macro!B4295","v":0},{"$f":"Macro!E4295","v":{"$error":"#DIV/0!"}}]
[null,{"$f":"Macro!A4296","v":0},{"$f":"Macro!B4296","v":0},{"$f":"Macro!E4296","v":{"$error":"#DIV/0!"}}]
[null,{"$f":"Macro!A4297","v":0},{"$f":"Macro!B4297","v":0},{"$f":"Macro!E4297","v":{"$error":"#DIV/0!"}}]
[null,{"$f":"Macro!A4298","v":0},{"$f":"Macro!B4298","v":0},{"$f":"Macro!E4298","v":{"$error":"#DIV/0!"}}]
[null,{"$f":"Macro!A4299","v":0},{"$f":"Macro!B4299","v":0},{"$f":"Macro!E4299","v":{"$error":"#DIV/0!"}}]
[null,{"$f":"Macro!A4300","v":0},{"$f":"Macro!B4300","v":0},{"$f":"Macro!E4300","v":{"$error":"#DIV/0!"}}]
[null,{"$f":"Macro!A4301","v":0},{"$f":"Macro!B4301","v":0},{"$f":"Macro!E4301","v":{"$error":"#DIV/0!"}}]
[null,{"$f":"Macro!A4302","v":0},{"$f":"Macro!B4302","v":0},{"$f":"Macro!E4302","v":{"$error":"#DIV/0!"}}]
[null,{"$f":"Macro!A4303","v":0},{"$f":"Macro!B4303","v":0},{"$f":"Macro!E4303","v":{"$error":"#DIV/0!"}}]
[null,{"$f":"Macro!A4304","v":0},{"$f":"Macro!B4304","v":0},{"$f":"Macro!E4304","v":{"$error":"#DIV/0!"}}]
[null,{"$f":"Macro!A4305","v":0},{"$f":"Macro!B4305","v":0},{"$f":"Macro!E4305","v":{"$error":"#DIV/0!"}}]
[null,{"$f":"Macro!A4306","v":0},{"$f":"Macro!B4306","v":0},{"$f":"Macro!E4306","v":{"$error":"#DIV/0!"}}]
[null,{"$f":"Macro!A4307","v":0},{"$f":"Macro!B4307","v":0},{"$f":"Macro!E4307","v":{"$error":"#DIV/0!"}}]
[null,{"$f":"Macro!A4308","v":0},{"$f":"Macro!B4308","v":0},{"$f":"Macro!E4308","v":{"$error":"#DIV/0!"}}]
[null,{"$f":"Macro!A4309","v":0},{"$f":"Macro!B4309","v":0},{"$f":"Macro!E4309","v":{"$error":"#DIV/0!"}}]
[null,{"$f":"Macro!A4310","v":0},{"$f":"Macro!B4310","v":0},{"$f":"Macro!E4310","v":{"$error":"#DIV/0!"}}]
[null,{"$f":"Macro!A4311","v":0},{"$f":"Macro!B4311","v":0},{"$f":"Macro!E4311","v":{"$error":"#DIV/0!"}}]
[null,{"$f":"Macro!A4312","v":0},{"$f":"Macro!B4312","v":0},{"$f":"Macro!E4312","v":{"$error":"#DIV/0!"}}]
[null,{"$f":"Macro!A4313","v":0},{"$f":"Macro!B4313","v":0},{"$f":"Macro!E4313","v":{"$error":"#DIV/0!"}}]
[null,{"$f":"Macro!A4314","v":0},{"$f":"Macro!B4314","v":0},{"$f":"Macro!E4314","v":{"$error":"#DIV/0!"}}]
[null,{"$f":"Macro!A4315","v":0},{"$f":"Macro!B4315","v":0},{"$f":"Macro!E4315","v":{"$error":"#DIV/0!"}}]
[null,{"$f":"Macro!A4316","v":0},{"$f":"Macro!B4316","v":0},{"$f":"Macro!E4316","v":{"$error":"#DIV/0!"}}]
[null,{"$f":"Macro!A4317","v":0},{"$f":"Macro!B4317","v":0},{"$f":"Macro!E4317","v":{"$error":"#DIV/0!"}}]
[null,{"$f":"Macro!A4318","v":0},{"$f":"Macro!B4318","v":0},{"$f":"Macro!E4318","v":{"$error":"#DIV/0!"}}]
[null,{"$f":"Macro!A4319","v":0},{"$f":"Macro!B4319","v":0},{"$f":"Macro!E4319","v":{"$error":"#DIV/0!"}}]
[null,{"$f":"Macro!A4320","v":0},{"$f":"Macro!B4320","v":0},{"$f":"Macro!E4320","v":{"$error":"#DIV/0!"}}]
[null,{"$f":"Macro!A4321","v":0},{"$f":"Macro!B4321","v":0},{"$f":"Macro!E4321","v":{"$error":"#DIV/0!"}}]
[null,{"$f":"Macro!A4322","v":0},{"$f":"Macro!B4322","v":0},{"$f":"Macro!E4322","v":{"$error":"#DIV/0!"}}]
[null,{"$f":"Macro!A4323","v":0},{"$f":"Macro!B4323","v":0},{"$f":"Macro!E4323","v":{"$error":"#DIV/0!"}}]
[null,{"$f":"Macro!A4324","v":0},{"$f":"Macro!B4324","v":0},{"$f":"Macro!E4324","v":{"$error":"#DIV/0!"}}]
[null,{"$f":"Macro!A4325","v":0},{"$f":"Macro!B4325","v":0},{"$f":"Macro!E4325","v":{"$error":"#DIV/0!"}}]
[null,{"$f":"Macro!A4326","v":0},{"$f":"Macro!B4326","v":0},{"$f":"Macro!E4326","v":{"$error":"#DIV/0!"}}]
[null,{"$f":"Macro!A4327","v":0},{"$f":"Macro!B4327","v":0},{"$f":"Macro!E4327","v":{"$error":"#DIV/0!"}}]
[null,{"$f":"Macro!A4328","v":0},{"$f":"Macro!B4328","v":0},{"$f":"Macro!E4328","v":{"$error":"#DIV/0!"}}]
[null,{"$f":"Macro!A4329","v":0},{"$f":"Macro!B4329","v":0},{"$f":"Macro!E4329","v":{"$error":"#DIV/0!"}}]
[null,{"$f":"Macro!A4330","v":0},{"$f":"Macro!B4330","v":0},{"$f":"Macro!E4330","v":{"$error":"#DIV/0!"}}]
[null,{"$f":"Macro!A4331","v":0},{"$f":"Macro!B4331","v":0},{"$f":"Macro!E4331","v":{"$error":"#DIV/0!"}}]
[null,{"$f":"Macro!A4332","v":0},{"$f":"Macro!B4332","v":0},{"$f":"Macro!E4332","v":{"$error":"#DIV/0!"}}]
[null,{"$f":"Macro!A4333","v":0},{"$f":"Macro!B4333","v":0},{"$f":"Macro!E4333","v":{"$error":"#DIV/0!"}}]
[null,{"$f":"Macro!A4334","v":0},{"$f":"Macro!B4334","v":0},{"$f":"Macro!E4334","v":{"$error":"#DIV/0!"}}]
[null,{"$f":"Macro!A4335","v":0},{"$f":"Macro!B4335","v":0},{"$f":"Macro!E4335","v":{"$error":"#DIV/0!"}}]
[null,{"$f":"Macro!A4336","v":0},{"$f":"Macro!B4336","v":0},{"$f":"Macro!E4336","v":{"$error":"#DIV/0!"}}]
[null,{"$f":"Macro!A4337","v":0},{"$f":"Macro!B4337","v":0},{"$f":"Macro!E4337","v":{"$error":"#DIV/0!"}}]
[null,{"$f":"Macro!A4338","v":0},{"$f":"Macro!B4338","v":0},{"$f":"Macro!E4338","v":{"$error":"#DIV/0!"}}]
[null,{"$f":"Macro!A4339","v":0},{"$f":"Macro!B4339","v":0},{"$f":"Macro!E4339","v":{"$error":"#DIV/0!"}}]
[null,{"$f":"Macro!A4340","v":0},{"$f":"Macro!B4340","v":0},{"$f":"Macro!E4340","v":{"$error":"#DIV/0!"}}]
[null,{"$f":"Macro!A4341","v":0},{"$f":"Macro!B4341","v":0},{"$f":"Macro!E4341","v":{"$error":"#DIV/0!"}}]
[null,{"$f":"Macro!A4342","v":0},{"$f":"Macro!B4342","v":0},{"$f":"Macro!E4342","v":{"$error":"#DIV/0!"}}]
[null,{"$f":"Macro!A4343","v":0},{"$f":"Macro!B4343","v":0},{"$f":"Macro!E4343","v":{"$error":"#DIV/0!"}}]
[null,{"$f":"Macro!A4344","v":0},{"$f":"Macro!B4344","v":0},{"$f":"Macro!E4344","v":{"$error":"#DIV/0!"}}]
[null,{"$f":"Macro!A4345","v":0},{"$f":"Macro!B4345","v":0},{"$f":"Macro!E4345","v":{"$error":"#DIV/0!"}}]
[null,{"$f":"Macro!A4346","v":0},{"$f":"Macro!B4346","v":0},{"$f":"Macro!E4346","v":{"$error":"#DIV/0!"}}]
[null,{"$f":"Macro!A4347","v":0},{"$f":"Macro!B4347","v":0},{"$f":"Macro!E4347","v":{"$error":"#DIV/0!"}}]
[null,{"$f":"Macro!A4348","v":0},{"$f":"Macro!B4348","v":0},{"$f":"Macro!E4348","v":{"$error":"#DIV/0!"}}]
[null,{"$f":"Macro!A4349","v":0},{"$f":"Macro!B4349","v":0},{"$f":"Macro!E4349","v":{"$error":"#DIV/0!"}}]
[null,{"$f":"Macro!A4350","v":0},{"$f":"Macro!B4350","v":0},{"$f":"Macro!E4350","v":{"$error":"#DIV/0!"}}]
[null,{"$f":"Macro!A4351","v":0},{"$f":"Macro!B4351","v":0},{"$f":"Macro!E4351","v":{"$error":"#DIV/0!"}}]
[null,{"$f":"Macro!A4352","v":0},{"$f":"Macro!B4352","v":0},{"$f":"Macro!E4352","v":{"$error":"#DIV/0!"}}]
[null,{"$f":"Macro!A4353","v":0},{"$f":"Macro!B4353","v":0},{"$f":"Macro!E4353","v":{"$error":"#DIV/0!"}}]
[null,{"$f":"Macro!A4354","v":0},{"$f":"Macro!B4354","v":0},{"$f":"Macro!E4354","v":{"$error":"#DIV/0!"}}]
[null,{"$f":"Macro!A4355","v":0},{"$f":"Macro!B4355","v":0},{"$f":"Macro!E4355","v":{"$error":"#DIV/0!"}}]
[null,{"$f":"Macro!A4356","v":0},{"$f":"Macro!B4356","v":0},{"$f":"Macro!E4356","v":{"$error":"#DIV/0!"}}]
[null,{"$f":"Macro!A4357","v":0},{"$f":"Macro!B4357","v":0},{"$f":"Macro!E4357","v":{"$error":"#DIV/0!"}}]
[null,{"$f":"Macro!A4358","v":0},{"$f":"Macro!B4358","v":0},{"$f":"Macro!E4358","v":{"$error":"#DIV/0!"}}]
[null,{"$f":"Macro!A4359","v":0},{"$f":"Macro!B4359","v":0},{"$f":"Macro!E4359","v":{"$error":"#DIV/0!"}}]
[null,{"$f":"Macro!A4360","v":0},{"$f":"Macro!B4360","v":0},{"$f":"Macro!E4360","v":{"$error":"#DIV/0!"}}]
[null,{"$f":"Macro!A4361","v":0},{"$f":"Macro!B4361","v":0},{"$f":"Macro!E4361","v":{"$error":"#DIV/0!"}}]
[null,{"$f":"Macro!A4362","v":0},{"$f":"Macro!B4362","v":0},{"$f":"Macro!E4362","v":{"$error":"#DIV/0!"}}]
[null,{"$f":"Macro!A4363","v":0},{"$f":"Macro!B4363","v":0},{"$f":"Macro!E4363","v":{"$error":"#DIV/0!"}}]
[null,{"$f":"Macro!A4364","v":0},{"$f":"Macro!B4364","v":0},{"$f":"Macro!E4364","v":{"$error":"#DIV/0!"}}]
[null,{"$f":"Macro!A4365","v":0},{"$f":"Macro!B4365","v":0},{"$f":"Macro!E4365","v":{"$error":"#DIV/0!"}}]
[null,{"$f":"Macro!A4366","v":0},{"$f":"Macro!B4366","v":0},{"$f":"Macro!E4366","v":{"$error":"#DIV/0!"}}]
[null,{"$f":"Macro!A4367","v":0},{"$f":"Macro!B4367","v":0},{"$f":"Macro!E4367","v":{"$error":"#DIV/0!"}}]
[null,{"$f":"Macro!A4368","v":0},{"$f":"Macro!B4368","v":0},{"$f":"Macro!E4368","v":{"$error":"#DIV/0!"}}]
[null,{"$f":"Macro!A4369","v":0},{"$f":"Macro!B4369","v":0},{"$f":"Macro!E4369","v":{"$error":"#DIV/0!"}}]
[null,{"$f":"Macro!A4370","v":0},{"$f":"Macro!B4370","v":0},{"$f":"Macro!E4370","v":{"$error":"#DIV/0!"}}]
[null,{"$f":"Macro!A4371","v":0},{"$f":"Macro!B4371","v":0},{"$f":"Macro!E4371","v":{"$error":"#DIV/0!"}}]
[null,{"$f":"Macro!A4372","v":0},{"$f":"Macro!B4372","v":0},{"$f":"Macro!E4372","v":{"$error":"#DIV/0!"}}]
[null,{"$f":"Macro!A4373","v":0},{"$f":"Macro!B4373","v":0},{"$f":"Macro!E4373","v":{"$error":"#DIV/0!"}}]
[null,{"$f":"Macro!A4374","v":0},{"$f":"Macro!B4374","v":0},{"$f":"Macro!E4374","v":{"$error":"#DIV/0!"}}]
[null,{"$f":"Macro!A4375","v":0},{"$f":"Macro!B4375","v":0},{"$f":"Macro!E4375","v":{"$error":"#DIV/0!"}}]
[null,{"$f":"Macro!A4376","v":0},{"$f":"Macro!B4376","v":0},{"$f":"Macro!E4376","v":{"$error":"#DIV/0!"}}]
[null,{"$f":"Macro!A4377","v":0},{"$f":"Macro!B4377","v":0},{"$f":"Macro!E4377","v":{"$error":"#DIV/0!"}}]
[null,{"$f":"Macro!A4378","v":0},{"$f":"Macro!B4378","v":0},{"$f":"Macro!E4378","v":{"$error":"#DIV/0!"}}]
[null,{"$f":"Macro!A4379","v":0},{"$f":"Macro!B4379","v":0},{"$f":"Macro!E4379","v":{"$error":"#DIV/0!"}}]
[null,{"$f":"Macro!A4380","v":0},{"$f":"Macro!B4380","v":0},{"$f":"Macro!E4380","v":{"$error":"#DIV/0!"}}]
[null,{"$f":"Macro!A4381","v":0},{"$f":"Macro!B4381","v":0},{"$f":"Macro!E4381","v":{"$error":"#DIV/0!"}}]
[null,{"$f":"Macro!A4382","v":0},{"$f":"Macro!B4382","v":0},{"$f":"Macro!E4382","v":{"$error":"#DIV/0!"}}]
[null,{"$f":"Macro!A4383","v":0},{"$f":"Macro!B4383","v":0},{"$f":"Macro!E4383","v":{"$error":"#DIV/0!"}}]
[null,{"$f":"Macro!A4384","v":0},{"$f":"Macro!B4384","v":0},{"$f":"Macro!E4384","v":{"$error":"#DIV/0!"}}]
[null,{"$f":"Macro!A4385","v":0},{"$f":"Macro!B4385","v":0},{"$f":"Macro!E4385","v":{"$error":"#DIV/0!"}}]
[null,{"$f":"Macro!A4386","v":0},{"$f":"Macro!B4386","v":0},{"$f":"Macro!E4386","v":{"$error":"#DIV/0!"}}]
[null,{"$f":"Macro!A4387","v":0},{"$f":"Macro!B4387","v":0},{"$f":"Macro!E4387","v":{"$error":"#DIV/0!"}}]
[null,{"$f":"Macro!A4388","v":0},{"$f":"Macro!B4388","v":0},{"$f":"Macro!E4388","v":{"$error":"#DIV/0!"}}]
[null,{"$f":"Macro!A4389","v":0},{"$f":"Macro!B4389","v":0},{"$f":"Macro!E4389","v":{"$error":"#DIV/0!"}}]
[null,{"$f":"Macro!A4390","v":0},{"$f":"Macro!B4390","v":0},{"$f":"Macro!E4390","v":{"$error":"#DIV/0!"}}]
[null,{"$f":"Macro!A4391","v":0},{"$f":"Macro!B4391","v":0},{"$f":"Macro!E4391","v":{"$error":"#DIV/0!"}}]
[null,{"$f":"Macro!A4392","v":0},{"$f":"Macro!B4392","v":0},{"$f":"Macro!E4392","v":{"$error":"#DIV/0!"}}]
[null,{"$f":"Macro!A4393","v":0},{"$f":"Macro!B4393","v":0},{"$f":"Macro!E4393","v":{"$error":"#DIV/0!"}}]
[null,{"$f":"Macro!A4394","v":0},{"$f":"Macro!B4394","v":0},{"$f":"Macro!E4394","v":{"$error":"#DIV/0!"}}]
[null,{"$f":"Macro!A4395","v":0},{"$f":"Macro!B4395","v":0},{"$f":"Macro!E4395","v":{"$error":"#DIV/0!"}}]
[null,{"$f":"Macro!A4396","v":0},{"$f":"Macro!B4396","v":0},{"$f":"Macro!E4396","v":{"$error":"#DIV/0!"}}]
[null,{"$f":"Macro!A4397","v":0},{"$f":"Macro!B4397","v":0},{"$f":"Macro!E4397","v":{"$error":"#DIV/0!"}}]
[null,{"$f":"Macro!A4398","v":0},{"$f":"Macro!B4398","v":0},{"$f":"Macro!E4398","v":{"$error":"#DIV/0!"}}]
[null,{"$f":"Macro!A4399","v":0},{"$f":"Macro!B4399","v":0},{"$f":"Macro!E4399","v":{"$error":"#DIV/0!"}}]
[null,{"$f":"Macro!A4400","v":0},{"$f":"Macro!B4400","v":0},{"$f":"Macro!E4400","v":{"$error":"#DIV/0!"}}]
[null,{"$f":"Macro!A4401","v":0},{"$f":"Macro!B4401","v":0},{"$f":"Macro!E4401","v":{"$error":"#DIV/0!"}}]
[null,{"$f":"Macro!A4402","v":0},{"$f":"Macro!B4402","v":0},{"$f":"Macro!E4402","v":{"$error":"#DIV/0!"}}]
[null,{"$f":"Macro!A4403","v":0},{"$f":"Macro!B4403","v":0},{"$f":"Macro!E4403","v":{"$error":"#DIV/0!"}}]
[null,{"$f":"Macro!A4404","v":0},{"$f":"Macro!B4404","v":0},{"$f":"Macro!E4404","v":{"$error":"#DIV/0!"}}]
[null,{"$f":"Macro!A4405","v":0},{"$f":"Macro!B4405","v":0},{"$f":"Macro!E4405","v":{"$error":"#DIV/0!"}}]
[null,{"$f":"Macro!A4406","v":0},{"$f":"Macro!B4406","v":0},{"$f":"Macro!E4406","v":{"$error":"#DIV/0!"}}]
[null,{"$f":"Macro!A4407","v":0},{"$f":"Macro!B4407","v":0},{"$f":"Macro!E4407","v":{"$error":"#DIV/0!"}}]
[null,{"$f":"Macro!A4408","v":0},{"$f":"Macro!B4408","v":0},{"$f":"Macro!E4408","v":{"$error":"#DIV/0!"}}]
[null,{"$f":"Macro!A4409","v":0},{"$f":"Macro!B4409","v":0},{"$f":"Macro!E4409","v":{"$error":"#DIV/0!"}}]
[null,{"$f":"Macro!A4410","v":0},{"$f":"Macro!B4410","v":0},{"$f":"Macro!E4410","v":{"$error":"#DIV/0!"}}]
[null,{"$f":"Macro!A4411","v":0},{"$f":"Macro!B4411","v":0},{"$f":"Macro!E4411","v":{"$error":"#DIV/0!"}}]
[null,{"$f":"Macro!A4412","v":0},{"$f":"Macro!B4412","v":0},{"$f":"Macro!E4412","v":{"$error":"#DIV/0!"}}]
[null,{"$f":"Macro!A4413","v":0},{"$f":"Macro!B4413","v":0},{"$f":"Macro!E4413","v":{"$error":"#DIV/0!"}}]
[null,{"$f":"Macro!A4414","v":0},{"$f":"Macro!B4414","v":0},{"$f":"Macro!E4414","v":{"$error":"#DIV/0!"}}]
[null,{"$f":"Macro!A4415","v":0},{"$f":"Macro!B4415","v":0},{"$f":"Macro!E4415","v":{"$error":"#DIV/0!"}}]
[null,{"$f":"Macro!A4416","v":0},{"$f":"Macro!B4416","v":0},{"$f":"Macro!E4416","v":{"$error":"#DIV/0!"}}]
[null,{"$f":"Macro!A4417","v":0},{"$f":"Macro!B4417","v":0},{"$f":"Macro!E4417","v":{"$error":"#DIV/0!"}}]
[null,{"$f":"Macro!A4418","v":0},{"$f":"Macro!B4418","v":0},{"$f":"Macro!E4418","v":{"$error":"#DIV/0!"}}]
[null,{"$f":"Macro!A4419","v":0},{"$f":"Macro!B4419","v":0},{"$f":"Macro!E4419","v":{"$error":"#DIV/0!"}}]
[null,{"$f":"Macro!A4420","v":0},{"$f":"Macro!B4420","v":0},{"$f":"Macro!E4420","v":{"$error":"#DIV/0!"}}]
[null,{"$f":"Macro!A4421","v":0},{"$f":"Macro!B4421","v":0},{"$f":"Macro!E4421","v":{"$error":"#DIV/0!"}}]
[null,{"$f":"Macro!A4422","v":0},{"$f":"Macro!B4422","v":0},{"$f":"Macro!E4422","v":{"$error":"#DIV/0!"}}]
[null,{"$f":"Macro!A4423","v":0},{"$f":"Macro!B4423","v":0},{"$f":"Macro!E4423","v":{"$error":"#DIV/0!"}}]
[null,{"$f":"Macro!A4424","v":0},{"$f":"Macro!B4424","v":0},{"$f":"Macro!E4424","v":{"$error":"#DIV/0!"}}]
[null,{"$f":"Macro!A4425","v":0},{"$f":"Macro!B4425","v":0},{"$f":"Macro!E4425","v":{"$error":"#DIV/0!"}}]
[null,{"$f":"Macro!A4426","v":0},{"$f":"Macro!B4426","v":0},{"$f":"Macro!E4426","v":{"$error":"#DIV/0!"}}]
[null,{"$f":"Macro!A4427","v":0},{"$f":"Macro!B4427","v":0},{"$f":"Macro!E4427","v":{"$error":"#DIV/0!"}}]
[null,{"$f":"Macro!A4428","v":0},{"$f":"Macro!B4428","v":0},{"$f":"Macro!E4428","v":{"$error":"#DIV/0!"}}]
[null,{"$f":"Macro!A4429","v":0},{"$f":"Macro!B4429","v":0},{"$f":"Macro!E4429","v":{"$error":"#DIV/0!"}}]
[null,{"$f":"Macro!A4430","v":0},{"$f":"Macro!B4430","v":0},{"$f":"Macro!E4430","v":{"$error":"#DIV/0!"}}]
[null,{"$f":"Macro!A4431","v":0},{"$f":"Macro!B4431","v":0},{"$f":"Macro!E4431","v":{"$error":"#DIV/0!"}}]
[null,{"$f":"Macro!A4432","v":0},{"$f":"Macro!B4432","v":0},{"$f":"Macro!E4432","v":{"$error":"#DIV/0!"}}]
[null,{"$f":"Macro!A4433","v":0},{"$f":"Macro!B4433","v":0},{"$f":"Macro!E4433","v":{"$error":"#DIV/0!"}}]
[null,{"$f":"Macro!A4434","v":0},{"$f":"Macro!B4434","v":0},{"$f":"Macro!E4434","v":{"$error":"#DIV/0!"}}]
[null,{"$f":"Macro!A4435","v":0},{"$f":"Macro!B4435","v":0},{"$f":"Macro!E4435","v":{"$error":"#DIV/0!"}}]
[null,{"$f":"Macro!A4436","v":0},{"$f":"Macro!B4436","v":0},{"$f":"Macro!E4436","v":{"$error":"#DIV/0!"}}]
[null,{"$f":"Macro!A4437","v":0},{"$f":"Macro!B4437","v":0},{"$f":"Macro!E4437","v":{"$error":"#DIV/0!"}}]
[null,{"$f":"Macro!A4438","v":0},{"$f":"Macro!B4438","v":0},{"$f":"Macro!E4438","v":{"$error":"#DIV/0!"}}]
[null,{"$f":"Macro!A4439","v":0},{"$f":"Macro!B4439","v":0},{"$f":"Macro!E4439","v":{"$error":"#DIV/0!"}}]
[null,{"$f":"Macro!A4440","v":0},{"$f":"Macro!B4440","v":0},{"$f":"Macro!E4440","v":{"$error":"#DIV/0!"}}]
[null,{"$f":"Macro!A4441","v":0},{"$f":"Macro!B4441","v":0},{"$f":"Macro!E4441","v":{"$error":"#DIV/0!"}}]
[null,{"$f":"Macro!A4442","v":0},{"$f":"Macro!B4442","v":0},{"$f":"Macro!E4442","v":{"$error":"#DIV/0!"}}]
[null,{"$f":"Macro!A4443","v":0},{"$f":"Macro!B4443","v":0},{"$f":"Macro!E4443","v":{"$error":"#DIV/0!"}}]
[null,{"$f":"Macro!A4444","v":0},{"$f":"Macro!B4444","v":0},{"$f":"Macro!E4444","v":{"$error":"#DIV/0!"}}]
[null,{"$f":"Macro!A4445","v":0},{"$f":"Macro!B4445","v":0},{"$f":"Macro!E4445","v":{"$error":"#DIV/0!"}}]
[null,{"$f":"Macro!A4446","v":0},{"$f":"Macro!B4446","v":0},{"$f":"Macro!E4446","v":{"$error":"#DIV/0!"}}]
[null,{"$f":"Macro!A4447","v":0},{"$f":"Macro!B4447","v":0},{"$f":"Macro!E4447","v":{"$error":"#DIV/0!"}}]
[null,{"$f":"Macro!A4448","v":0},{"$f":"Macro!B4448","v":0},{"$f":"Macro!E4448","v":{"$error":"#DIV/0!"}}]
[null,{"$f":"Macro!A4449","v":0},{"$f":"Macro!B4449","v":0},{"$f":"Macro!E4449","v":{"$error":"#DIV/0!"}}]
[null,{"$f":"Macro!A4450","v":0},{"$f":"Macro!B4450","v":0},{"$f":"Macro!E4450","v":{"$error":"#DIV/0!"}}]
[null,{"$f":"Macro!A4451","v":0},{"$f":"Macro!B4451","v":0},{"$f":"Macro!E4451","v":{"$error":"#DIV/0!"}}]
[null,{"$f":"Macro!A4452","v":0},{"$f":"Macro!B4452","v":0},{"$f":"Macro!E4452","v":{"$error":"#DIV/0!"}}]
[null,{"$f":"Macro!A4453","v":0},{"$f":"Macro!B4453","v":0},{"$f":"Macro!E4453","v":{"$error":"#DIV/0!"}}]
[null,{"$f":"Macro!A4454","v":0},{"$f":"Macro!B4454","v":0},{"$f":"Macro!E4454","v":{"$error":"#DIV/0!"}}]
[null,{"$f":"Macro!A4455","v":0},{"$f":"Macro!B4455","v":0},{"$f":"Macro!E4455","v":{"$error":"#DIV/0!"}}]
[null,{"$f":"Macro!A4456","v":0},{"$f":"Macro!B4456","v":0},{"$f":"Macro!E4456","v":{"$error":"#DIV/0!"}}]
[null,{"$f":"Macro!A4457","v":0},{"$f":"Macro!B4457","v":0},{"$f":"Macro!E4457","v":{"$error":"#DIV/0!"}}]
[null,{"$f":"Macro!A4458","v":0},{"$f":"Macro!B4458","v":0},{"$f":"Macro!E4458","v":{"$error":"#DIV/0!"}}]
[null,{"$f":"Macro!A4459","v":0},{"$f":"Macro!B4459","v":0},{"$f":"Macro!E4459","v":{"$error":"#DIV/0!"}}]
[null,{"$f":"Macro!A4460","v":0},{"$f":"Macro!B4460","v":0},{"$f":"Macro!E4460","v":{"$error":"#DIV/0!"}}]
[null,{"$f":"Macro!A4461","v":0},{"$f":"Macro!B4461","v":0},{"$f":"Macro!E4461","v":{"$error":"#DIV/0!"}}]
[null,{"$f":"Macro!A4462","v":0},{"$f":"Macro!B4462","v":0},{"$f":"Macro!E4462","v":{"$error":"#DIV/0!"}}]
[null,{"$f":"Macro!A4463","v":0},{"$f":"Macro!B4463","v":0},{"$f":"Macro!E4463","v":{"$error":"#DIV/0!"}}]
[null,{"$f":"Macro!A4464","v":0},{"$f":"Macro!B4464","v":0},{"$f":"Macro!E4464","v":{"$error":"#DIV/0!"}}]
[null,{"$f":"Macro!A4465","v":0},{"$f":"Macro!B4465","v":0},{"$f":"Macro!E4465","v":{"$error":"#DIV/0!"}}]
[null,{"$f":"Macro!A4466","v":0},{"$f":"Macro!B4466","v":0},{"$f":"Macro!E4466","v":{"$error":"#DIV/0!"}}]
[null,{"$f":"Macro!A4467","v":0},{"$f":"Macro!B4467","v":0},{"$f":"Macro!E4467","v":{"$error":"#DIV/0!"}}]
[null,{"$f":"Macro!A4468","v":0},{"$f":"Macro!B4468","v":0},{"$f":"Macro!E4468","v":{"$error":"#DIV/0!"}}]
[null,{"$f":"Macro!A4469","v":0},{"$f":"Macro!B4469","v":0},{"$f":"Macro!E4469","v":{"$error":"#DIV/0!"}}]
[null,{"$f":"Macro!A4470","v":0},{"$f":"Macro!B4470","v":0},{"$f":"Macro!E4470","v":{"$error":"#DIV/0!"}}]
[null,{"$f":"Macro!A4471","v":0},{"$f":"Macro!B4471","v":0},{"$f":"Macro!E4471","v":{"$error":"#DIV/0!"}}]
[null,{"$f":"Macro!A4472","v":0},{"$f":"Macro!B4472","v":0},{"$f":"Macro!E4472","v":{"$error":"#DIV/0!"}}]
[null,{"$f":"Macro!A4473","v":0},{"$f":"Macro!B4473","v":0},{"$f":"Macro!E4473","v":{"$error":"#DIV/0!"}}]
[null,{"$f":"Macro!A4474","v":0},{"$f":"Macro!B4474","v":0},{"$f":"Macro!E4474","v":{"$error":"#DIV/0!"}}]
[null,{"$f":"Macro!A4475","v":0},{"$f":"Macro!B4475","v":0},{"$f":"Macro!E4475","v":{"$error":"#DIV/0!"}}]
[null,{"$f":"Macro!A4476","v":0},{"$f":"Macro!B4476","v":0},{"$f":"Macro!E4476","v":{"$error":"#DIV/0!"}}]
[null,{"$f":"Macro!A4477","v":0},{"$f":"Macro!B4477","v":0},{"$f":"Macro!E4477","v":{"$error":"#DIV/0!"}}]
[null,{"$f":"Macro!A4478","v":0},{"$f":"Macro!B4478","v":0},{"$f":"Macro!E4478","v":{"$error":"#DIV/0!"}}]
[null,{"$f":"Macro!A4479","v":0},{"$f":"Macro!B4479","v":0},{"$f":"Macro!E4479","v":{"$error":"#DIV/0!"}}]
[null,{"$f":"Macro!A4480","v":0},{"$f":"Macro!B4480","v":0},{"$f":"Macro!E4480","v":{"$error":"#DIV/0!"}}]
[null,{"$f":"Macro!A4481","v":0},{"$f":"Macro!B4481","v":0},{"$f":"Macro!E4481","v":{"$error":"#DIV/0!"}}]
[null,{"$f":"Macro!A4482","v":0},{"$f":"Macro!B4482","v":0},{"$f":"Macro!E4482","v":{"$error":"#DIV/0!"}}]
[null,{"$f":"Macro!A4483","v":0},{"$f":"Macro!B4483","v":0},{"$f":"Macro!E4483","v":{"$error":"#DIV/0!"}}]
[null,{"$f":"Macro!A4484","v":0},{"$f":"Macro!B4484","v":0},{"$f":"Macro!E4484","v":{"$error":"#DIV/0!"}}]
[null,{"$f":"Macro!A4485","v":0},{"$f":"Macro!B4485","v":0},{"$f":"Macro!E4485","v":{"$error":"#DIV/0!"}}]
[null,{"$f":"Macro!A4486","v":0},{"$f":"Macro!B4486","v":0},{"$f":"Macro!E4486","v":{"$error":"#DIV/0!"}}]
[null,{"$f":"Macro!A4487","v":0},{"$f":"Macro!B4487","v":0},{"$f":"Macro!E4487","v":{"$error":"#DIV/0!"}}]
[null,{"$f":"Macro!A4488","v":0},{"$f":"Macro!B4488","v":0},{"$f":"Macro!E4488","v":{"$error":"#DIV/0!"}}]
[null,{"$f":"Macro!A4489","v":0},{"$f":"Macro!B4489","v":0},{"$f":"Macro!E4489","v":{"$error":"#DIV/0!"}}]
[null,{"$f":"Macro!A4490","v":0},{"$f":"Macro!B4490","v":0},{"$f":"Macro!E4490","v":{"$error":"#DIV/0!"}}]
[null,{"$f":"Macro!A4491","v":0},{"$f":"Macro!B4491","v":0},{"$f":"Macro!E4491","v":{"$error":"#DIV/0!"}}]
[null,{"$f":"Macro!A4492","v":0},{"$f":"Macro!B4492","v":0},{"$f":"Macro!E4492","v":{"$error":"#DIV/0!"}}]
[null,{"$f":"Macro!A4493","v":0},{"$f":"Macro!B4493","v":0},{"$f":"Macro!E4493","v":{"$error":"#DIV/0!"}}]
[null,{"$f":"Macro!A4494","v":0},{"$f":"Macro!B4494","v":0},{"$f":"Macro!E4494","v":{"$error":"#DIV/0!"}}]
[null,{"$f":"Macro!A4495","v":0},{"$f":"Macro!B4495","v":0},{"$f":"Macro!E4495","v":{"$error":"#DIV/0!"}}]
[null,{"$f":"Macro!A4496","v":0},{"$f":"Macro!B4496","v":0},{"$f":"Macro!E4496","v":{"$error":"#DIV/0!"}}]
[null,{"$f":"Macro!A4497","v":0},{"$f":"Macro!B4497","v":0},{"$f":"Macro!E4497","v":{"$error":"#DIV/0!"}}]
[null,{"$f":"Macro!A4498","v":0},{"$f":"Macro!B4498","v":0},{"$f":"Macro!E4498","v":{"$error":"#DIV/0!"}}]
[null,{"$f":"Macro!A4499","v":0},{"$f":"Macro!B4499","v":0},{"$f":"Macro!E4499","v":{"$error":"#DIV/0!"}}]
[null,{"$f":"Macro!A4500","v":0},{"$f":"Macro!B4500","v":0},{"$f":"Macro!E4500","v":{"$error":"#DIV/0!"}}]
[null,{"$f":"Macro!A4501","v":0},{"$f":"Macro!B4501","v":0},{"$f":"Macro!E4501","v":{"$error":"#DIV/0!"}}]
[null,{"$f":"Macro!A4502","v":0},{"$f":"Macro!B4502","v":0},{"$f":"Macro!E4502","v":{"$error":"#DIV/0!"}}]
[null,{"$f":"Macro!A4503","v":0},{"$f":"Macro!B4503","v":0},{"$f":"Macro!E4503","v":{"$error":"#DIV/0!"}}]
[null,{"$f":"Macro!A4504","v":0},{"$f":"Macro!B4504","v":0},{"$f":"Macro!E4504","v":{"$error":"#DIV/0!"}}]
[null,{"$f":"Macro!A4505","v":0},{"$f":"Macro!B4505","v":0},{"$f":"Macro!E4505","v":{"$error":"#DIV/0!"}}]
[null,{"$f":"Macro!A4506","v":0},{"$f":"Macro!B4506","v":0},{"$f":"Macro!E4506","v":{"$error":"#DIV/0!"}}]
[null,{"$f":"Macro!A4507","v":0},{"$f":"Macro!B4507","v":0},{"$f":"Macro!E4507","v":{"$error":"#DIV/0!"}}]
[null,{"$f":"Macro!A4508","v":0},{"$f":"Macro!B4508","v":0},{"$f":"Macro!E4508","v":{"$error":"#DIV/0!"}}]
[null,{"$f":"Macro!A4509","v":0},{"$f":"Macro!B4509","v":0},{"$f":"Macro!E4509","v":{"$error":"#DIV/0!"}}]
[null,{"$f":"Macro!A4510","v":0},{"$f":"Macro!B4510","v":0},{"$f":"Macro!E4510","v":{"$error":"#DIV/0!"}}]
[null,{"$f":"Macro!A4511","v":0},{"$f":"Macro!B4511","v":0},{"$f":"Macro!E4511","v":{"$error":"#DIV/0!"}}]
[null,{"$f":"Macro!A4512","v":0},{"$f":"Macro!B4512","v":0},{"$f":"Macro!E4512","v":{"$error":"#DIV/0!"}}]
[null,{"$f":"Macro!A4513","v":0},{"$f":"Macro!B4513","v":0},{"$f":"Macro!E4513","v":{"$error":"#DIV/0!"}}]
[null,{"$f":"Macro!A4514","v":0},{"$f":"Macro!B4514","v":0},{"$f":"Macro!E4514","v":{"$error":"#DIV/0!"}}]
[null,{"$f":"Macro!A4515","v":0},{"$f":"Macro!B4515","v":0},{"$f":"Macro!E4515","v":{"$error":"#DIV/0!"}}]
[null,{"$f":"Macro!A4516","v":0},{"$f":"Macro!B4516","v":0},{"$f":"Macro!E4516","v":{"$error":"#DIV/0!"}}]
[null,{"$f":"Macro!A4517","v":0},{"$f":"Macro!B4517","v":0},{"$f":"Macro!E4517","v":{"$error":"#DIV/0!"}}]
[null,{"$f":"Macro!A4518","v":0},{"$f":"Macro!B4518","v":0},{"$f":"Macro!E4518","v":{"$error":"#DIV/0!"}}]
[null,{"$f":"Macro!A4519","v":0},{"$f":"Macro!B4519","v":0},{"$f":"Macro!E4519","v":{"$error":"#DIV/0!"}}]
[null,{"$f":"Macro!A4520","v":0},{"$f":"Macro!B4520","v":0},{"$f":"Macro!E4520","v":{"$error":"#DIV/0!"}}]
[null,{"$f":"Macro!A4521","v":0},{"$f":"Macro!B4521","v":0},{"$f":"Macro!E4521","v":{"$error":"#DIV/0!"}}]
[null,{"$f":"Macro!A4522","v":0},{"$f":"Macro!B4522","v":0},{"$f":"Macro!E4522","v":{"$error":"#DIV/0!"}}]
[null,{"$f":"Macro!A4523","v":0},{"$f":"Macro!B4523","v":0},{"$f":"Macro!E4523","v":{"$error":"#DIV/0!"}}]
[null,{"$f":"Macro!A4524","v":0},{"$f":"Macro!B4524","v":0},{"$f":"Macro!E4524","v":{"$error":"#DIV/0!"}}]
[null,{"$f":"Macro!A4525","v":0},{"$f":"Macro!B4525","v":0},{"$f":"Macro!E4525","v":{"$error":"#DIV/0!"}}]
[null,{"$f":"Macro!A4526","v":0},{"$f":"Macro!B4526","v":0},{"$f":"Macro!E4526","v":{"$error":"#DIV/0!"}}]
[null,{"$f":"Macro!A4527","v":0},{"$f":"Macro!B4527","v":0},{"$f":"Macro!E4527","v":{"$error":"#DIV/0!"}}]
[null,{"$f":"Macro!A4528","v":0},{"$f":"Macro!B4528","v":0},{"$f":"Macro!E4528","v":{"$error":"#DIV/0!"}}]
[null,{"$f":"Macro!A4529","v":0},{"$f":"Macro!B4529","v":0},{"$f":"Macro!E4529","v":{"$error":"#DIV/0!"}}]
[null,{"$f":"Macro!A4530","v":0},{"$f":"Macro!B4530","v":0},{"$f":"Macro!E4530","v":{"$error":"#DIV/0!"}}]
[null,{"$f":"Macro!A4531","v":0},{"$f":"Macro!B4531","v":0},{"$f":"Macro!E4531","v":{"$error":"#DIV/0!"}}]
[null,{"$f":"Macro!A4532","v":0},{"$f":"Macro!B4532","v":0},{"$f":"Macro!E4532","v":{"$error":"#DIV/0!"}}]
[null,{"$f":"Macro!A4533","v":0},{"$f":"Macro!B4533","v":0},{"$f":"Macro!E4533","v":{"$error":"#DIV/0!"}}]
[null,{"$f":"Macro!A4534","v":0},{"$f":"Macro!B4534","v":0},{"$f":"Macro!E4534","v":{"$error":"#DIV/0!"}}]
[null,{"$f":"Macro!A4535","v":0},{"$f":"Macro!B4535","v":0},{"$f":"Macro!E4535","v":{"$error":"#DIV/0!"}}]
[null,{"$f":"Macro!A4536","v":0},{"$f":"Macro!B4536","v":0},{"$f":"Macro!E4536","v":{"$error":"#DIV/0!"}}]
[null,{"$f":"Macro!A4537","v":0},{"$f":"Macro!B4537","v":0},{"$f":"Macro!E4537","v":{"$error":"#DIV/0!"}}]
[null,{"$f":"Macro!A4538","v":0},{"$f":"Macro!B4538","v":0},{"$f":"Macro!E4538","v":{"$error":"#DIV/0!"}}]
[null,{"$f":"Macro!A4539","v":0},{"$f":"Macro!B4539","v":0},{"$f":"Macro!E4539","v":{"$error":"#DIV/0!"}}]
[null,{"$f":"Macro!A4540","v":0},{"$f":"Macro!B4540","v":0},{"$f":"Macro!E4540","v":{"$error":"#DIV/0!"}}]
[null,{"$f":"Macro!A4541","v":0},{"$f":"Macro!B4541","v":0},{"$f":"Macro!E4541","v":{"$error":"#DIV/0!"}}]
[null,{"$f":"Macro!A4542","v":0},{"$f":"Macro!B4542","v":0},{"$f":"Macro!E4542","v":{"$error":"#DIV/0!"}}]
[null,{"$f":"Macro!A4543","v":0},{"$f":"Macro!B4543","v":0},{"$f":"Macro!E4543","v":{"$error":"#DIV/0!"}}]
[null,{"$f":"Macro!A4544","v":0},{"$f":"Macro!B4544","v":0},{"$f":"Macro!E4544","v":{"$error":"#DIV/0!"}}]
[null,{"$f":"Macro!A4545","v":0},{"$f":"Macro!B4545","v":0},{"$f":"Macro!E4545","v":{"$error":"#DIV/0!"}}]
[null,{"$f":"Macro!A4546","v":0},{"$f":"Macro!B4546","v":0},{"$f":"Macro!E4546","v":{"$error":"#DIV/0!"}}]
[null,{"$f":"Macro!A4547","v":0},{"$f":"Macro!B4547","v":0},{"$f":"Macro!E4547","v":{"$error":"#DIV/0!"}}]
[null,{"$f":"Macro!A4548","v":0},{"$f":"Macro!B4548","v":0},{"$f":"Macro!E4548","v":{"$error":"#DIV/0!"}}]
[null,{"$f":"Macro!A4549","v":0},{"$f":"Macro!B4549","v":0},{"$f":"Macro!E4549","v":{"$error":"#DIV/0!"}}]
[null,{"$f":"Macro!A4550","v":0},{"$f":"Macro!B4550","v":0},{"$f":"Macro!E4550","v":{"$error":"#DIV/0!"}}]
[null,{"$f":"Macro!A4551","v":0},{"$f":"Macro!B4551","v":0},{"$f":"Macro!E4551","v":{"$error":"#DIV/0!"}}]
[null,{"$f":"Macro!A4552","v":0},{"$f":"Macro!B4552","v":0},{"$f":"Macro!E4552","v":{"$error":"#DIV/0!"}}]
[null,{"$f":"Macro!A4553","v":0},{"$f":"Macro!B4553","v":0},{"$f":"Macro!E4553","v":{"$error":"#DIV/0!"}}]
[null,{"$f":"Macro!A4554","v":0},{"$f":"Macro!B4554","v":0},{"$f":"Macro!E4554","v":{"$error":"#DIV/0!"}}]
[null,{"$f":"Macro!A4555","v":0},{"$f":"Macro!B4555","v":0},{"$f":"Macro!E4555","v":{"$error":"#DIV/0!"}}]
[null,{"$f":"Macro!A4556","v":0},{"$f":"Macro!B4556","v":0},{"$f":"Macro!E4556","v":{"$error":"#DIV/0!"}}]
[null,{"$f":"Macro!A4557","v":0},{"$f":"Macro!B4557","v":0},{"$f":"Macro!E4557","v":{"$error":"#DIV/0!"}}]
[null,{"$f":"Macro!A4558","v":0},{"$f":"Macro!B4558","v":0},{"$f":"Macro!E4558","v":{"$error":"#DIV/0!"}}]
[null,{"$f":"Macro!A4559","v":0},{"$f":"Macro!B4559","v":0},{"$f":"Macro!E4559","v":{"$error":"#DIV/0!"}}]
[null,{"$f":"Macro!A4560","v":0},{"$f":"Macro!B4560","v":0},{"$f":"Macro!E4560","v":{"$error":"#DIV/0!"}}]
[null,{"$f":"Macro!A4561","v":0},{"$f":"Macro!B4561","v":0},{"$f":"Macro!E4561","v":{"$error":"#DIV/0!"}}]
[null,{"$f":"Macro!A4562","v":0},{"$f":"Macro!B4562","v":0},{"$f":"Macro!E4562","v":{"$error":"#DIV/0!"}}]
[null,{"$f":"Macro!A4563","v":0},{"$f":"Macro!B4563","v":0},{"$f":"Macro!E4563","v":{"$error":"#DIV/0!"}}]
[null,{"$f":"Macro!A4564","v":0},{"$f":"Macro!B4564","v":0},{"$f":"Macro!E4564","v":{"$error":"#DIV/0!"}}]
[null,{"$f":"Macro!A4565","v":0},{"$f":"Macro!B4565","v":0},{"$f":"Macro!E4565","v":{"$error":"#DIV/0!"}}]
[null,{"$f":"Macro!A4566","v":0},{"$f":"Macro!B4566","v":0},{"$f":"Macro!E4566","v":{"$error":"#DIV/0!"}}]
[null,{"$f":"Macro!A4567","v":0},{"$f":"Macro!B4567","v":0},{"$f":"Macro!E4567","v":{"$error":"#DIV/0!"}}]
[null,{"$f":"Macro!A4568","v":0},{"$f":"Macro!B4568","v":0},{"$f":"Macro!E4568","v":{"$error":"#DIV/0!"}}]
[null,{"$f":"Macro!A4569","v":0},{"$f":"Macro!B4569","v":0},{"$f":"Macro!E4569","v":{"$error":"#DIV/0!"}}]
[null,{"$f":"Macro!A4570","v":0},{"$f":"Macro!B4570","v":0},{"$f":"Macro!E4570","v":{"$error":"#DIV/0!"}}]
[null,{"$f":"Macro!A4571","v":0},{"$f":"Macro!B4571","v":0},{"$f":"Macro!E4571","v":{"$error":"#DIV/0!"}}]
[null,{"$f":"Macro!A4572","v":0},{"$f":"Macro!B4572","v":0},{"$f":"Macro!E4572","v":{"$error":"#DIV/0!"}}]
[null,{"$f":"Macro!A4573","v":0},{"$f":"Macro!B4573","v":0},{"$f":"Macro!E4573","v":{"$error":"#DIV/0!"}}]
[null,{"$f":"Macro!A4574","v":0},{"$f":"Macro!B4574","v":0},{"$f":"Macro!E4574","v":{"$error":"#DIV/0!"}}]
[null,{"$f":"Macro!A4575","v":0},{"$f":"Macro!B4575","v":0},{"$f":"Macro!E4575","v":{"$error":"#DIV/0!"}}]
[null,{"$f":"Macro!A4576","v":0},{"$f":"Macro!B4576","v":0},{"$f":"Macro!E4576","v":{"$error":"#DIV/0!"}}]
[null,{"$f":"Macro!A4577","v":0},{"$f":"Macro!B4577","v":0},{"$f":"Macro!E4577","v":{"$error":"#DIV/0!"}}]
[null,{"$f":"Macro!A4578","v":0},{"$f":"Macro!B4578","v":0},{"$f":"Macro!E4578","v":{"$error":"#DIV/0!"}}]
[null,{"$f":"Macro!A4579","v":0},{"$f":"Macro!B4579","v":0},{"$f":"Macro!E4579","v":{"$error":"#DIV/0!"}}]
[null,{"$f":"Macro!A4580","v":0},{"$f":"Macro!B4580","v":0},{"$f":"Macro!E4580","v":{"$error":"#DIV/0!"}}]
[null,{"$f":"Macro!A4581","v":0},{"$f":"Macro!B4581","v":0},{"$f":"Macro!E4581","v":{"$error":"#DIV/0!"}}]
[null,{"$f":"Macro!A4582","v":0},{"$f":"Macro!B4582","v":0},{"$f":"Macro!E4582","v":{"$error":"#DIV/0!"}}]
[null,{"$f":"Macro!A4583","v":0},{"$f":"Macro!B4583","v":0},{"$f":"Macro!E4583","v":{"$error":"#DIV/0!"}}]
[null,{"$f":"Macro!A4584","v":0},{"$f":"Macro!B4584","v":0},{"$f":"Macro!E4584","v":{"$error":"#DIV/0!"}}]
[null,{"$f":"Macro!A4585","v":0},{"$f":"Macro!B4585","v":0},{"$f":"Macro!E4585","v":{"$error":"#DIV/0!"}}]
[null,{"$f":"Macro!A4586","v":0},{"$f":"Macro!B4586","v":0},{"$f":"Macro!E4586","v":{"$error":"#DIV/0!"}}]
[null,{"$f":"Macro!A4587","v":0},{"$f":"Macro!B4587","v":0},{"$f":"Macro!E4587","v":{"$error":"#DIV/0!"}}]
[null,{"$f":"Macro!A4588","v":0},{"$f":"Macro!B4588","v":0},{"$f":"Macro!E4588","v":{"$error":"#DIV/0!"}}]
[null,{"$f":"Macro!A4589","v":0},{"$f":"Macro!B4589","v":0},{"$f":"Macro!E4589","v":{"$error":"#DIV/0!"}}]
[null,{"$f":"Macro!A4590","v":0},{"$f":"Macro!B4590","v":0},{"$f":"Macro!E4590","v":{"$error":"#DIV/0!"}}]
[null,{"$f":"Macro!A4591","v":0},{"$f":"Macro!B4591","v":0},{"$f":"Macro!E4591","v":{"$error":"#DIV/0!"}}]
[null,{"$f":"Macro!A4592","v":0},{"$f":"Macro!B4592","v":0},{"$f":"Macro!E4592","v":{"$error":"#DIV/0!"}}]
[null,{"$f":"Macro!A4593","v":0},{"$f":"Macro!B4593","v":0},{"$f":"Macro!E4593","v":{"$error":"#DIV/0!"}}]
[null,{"$f":"Macro!A4594","v":0},{"$f":"Macro!B4594","v":0},{"$f":"Macro!E4594","v":{"$error":"#DIV/0!"}}]
[null,{"$f":"Macro!A4595","v":0},{"$f":"Macro!B4595","v":0},{"$f":"Macro!E4595","v":{"$error":"#DIV/0!"}}]
[null,{"$f":"Macro!A4596","v":0},{"$f":"Macro!B4596","v":0},{"$f":"Macro!E4596","v":{"$error":"#DIV/0!"}}]
[null,{"$f":"Macro!A4597","v":0},{"$f":"Macro!B4597","v":0},{"$f":"Macro!E4597","v":{"$error":"#DIV/0!"}}]
[null,{"$f":"Macro!A4598","v":0},{"$f":"Macro!B4598","v":0},{"$f":"Macro!E4598","v":{"$error":"#DIV/0!"}}]
[null,{"$f":"Macro!A4599","v":0},{"$f":"Macro!B4599","v":0},{"$f":"Macro!E4599","v":{"$error":"#DIV/0!"}}]
[null,{"$f":"Macro!A4600","v":0},{"$f":"Macro!B4600","v":0},{"$f":"Macro!E4600","v":{"$error":"#DIV/0!"}}]
[null,{"$f":"Macro!A4601","v":0},{"$f":"Macro!B4601","v":0},{"$f":"Macro!E4601","v":{"$error":"#DIV/0!"}}]
[null,{"$f":"Macro!A4602","v":0},{"$f":"Macro!B4602","v":0},{"$f":"Macro!E4602","v":{"$error":"#DIV/0!"}}]
[null,{"$f":"Macro!A4603","v":0},{"$f":"Macro!B4603","v":0},{"$f":"Macro!E4603","v":{"$error":"#DIV/0!"}}]
[null,{"$f":"Macro!A4604","v":0},{"$f":"Macro!B4604","v":0},{"$f":"Macro!E4604","v":{"$error":"#DIV/0!"}}]
[null,{"$f":"Macro!A4605","v":0},{"$f":"Macro!B4605","v":0},{"$f":"Macro!E4605","v":{"$error":"#DIV/0!"}}]
[null,{"$f":"Macro!A4606","v":0},{"$f":"Macro!B4606","v":0},{"$f":"Macro!E4606","v":{"$error":"#DIV/0!"}}]
[null,{"$f":"Macro!A4607","v":0},{"$f":"Macro!B4607","v":0},{"$f":"Macro!E4607","v":{"$error":"#DIV/0!"}}]
[null,{"$f":"Macro!A4608","v":0},{"$f":"Macro!B4608","v":0},{"$f":"Macro!E4608","v":{"$error":"#DIV/0!"}}]
[null,{"$f":"Macro!A4609","v":0},{"$f":"Macro!B4609","v":0},{"$f":"Macro!E4609","v":{"$error":"#DIV/0!"}}]
[null,{"$f":"Macro!A4610","v":0},{"$f":"Macro!B4610","v":0},{"$f":"Macro!E4610","v":{"$error":"#DIV/0!"}}]
[null,{"$f":"Macro!A4611","v":0},{"$f":"Macro!B4611","v":0},{"$f":"Macro!E4611","v":{"$error":"#DIV/0!"}}]
[null,{"$f":"Macro!A4612","v":0},{"$f":"Macro!B4612","v":0},{"$f":"Macro!E4612","v":{"$error":"#DIV/0!"}}]
[null,{"$f":"Macro!A4613","v":0},{"$f":"Macro!B4613","v":0},{"$f":"Macro!E4613","v":{"$error":"#DIV/0!"}}]
[null,{"$f":"Macro!A4614","v":0},{"$f":"Macro!B4614","v":0},{"$f":"Macro!E4614","v":{"$error":"#DIV/0!"}}]
[null,{"$f":"Macro!A4615","v":0},{"$f":"Macro!B4615","v":0},{"$f":"Macro!E4615","v":{"$error":"#DIV/0!"}}]
[null,{"$f":"Macro!A4616","v":0},{"$f":"Macro!B4616","v":0},{"$f":"Macro!E4616","v":{"$error":"#DIV/0!"}}]
[null,{"$f":"Macro!A4617","v":0},{"$f":"Macro!B4617","v":0},{"$f":"Macro!E4617","v":{"$error":"#DIV/0!"}}]
[null,{"$f":"Macro!A4618","v":0},{"$f":"Macro!B4618","v":0},{"$f":"Macro!E4618","v":{"$error":"#DIV/0!"}}]
[null,{"$f":"Macro!A4619","v":0},{"$f":"Macro!B4619","v":0},{"$f":"Macro!E4619","v":{"$error":"#DIV/0!"}}]
[null,{"$f":"Macro!A4620","v":0},{"$f":"Macro!B4620","v":0},{"$f":"Macro!E4620","v":{"$error":"#DIV/0!"}}]
[null,{"$f":"Macro!A4621","v":0},{"$f":"Macro!B4621","v":0},{"$f":"Macro!E4621","v":{"$error":"#DIV/0!"}}]
[null,{"$f":"Macro!A4622","v":0},{"$f":"Macro!B4622","v":0},{"$f":"Macro!E4622","v":{"$error":"#DIV/0!"}}]
[null,{"$f":"Macro!A4623","v":0},{"$f":"Macro!B4623","v":0},{"$f":"Macro!E4623","v":{"$error":"#DIV/0!"}}]
[null,{"$f":"Macro!A4624","v":0},{"$f":"Macro!B4624","v":0},{"$f":"Macro!E4624","v":{"$error":"#DIV/0!"}}]
[null,{"$f":"Macro!A4625","v":0},{"$f":"Macro!B4625","v":0},{"$f":"Macro!E4625","v":{"$error":"#DIV/0!"}}]
[null,{"$f":"Macro!A4626","v":0},{"$f":"Macro!B4626","v":0},{"$f":"Macro!E4626","v":{"$error":"#DIV/0!"}}]
[null,{"$f":"Macro!A4627","v":0},{"$f":"Macro!B4627","v":0},{"$f":"Macro!E4627","v":{"$error":"#DIV/0!"}}]
[null,{"$f":"Macro!A4628","v":0},{"$f":"Macro!B4628","v":0},{"$f":"Macro!E4628","v":{"$error":"#DIV/0!"}}]
[null,{"$f":"Macro!A4629","v":0},{"$f":"Macro!B4629","v":0},{"$f":"Macro!E4629","v":{"$error":"#DIV/0!"}}]
[null,{"$f":"Macro!A4630","v":0},{"$f":"Macro!B4630","v":0},{"$f":"Macro!E4630","v":{"$error":"#DIV/0!"}}]
[null,{"$f":"Macro!A4631","v":0},{"$f":"Macro!B4631","v":0},{"$f":"Macro!E4631","v":{"$error":"#DIV/0!"}}]
[null,{"$f":"Macro!A4632","v":0},{"$f":"Macro!B4632","v":0},{"$f":"Macro!E4632","v":{"$error":"#DIV/0!"}}]
[null,{"$f":"Macro!A4633","v":0},{"$f":"Macro!B4633","v":0},{"$f":"Macro!E4633","v":{"$error":"#DIV/0!"}}]
[null,{"$f":"Macro!A4634","v":0},{"$f":"Macro!B4634","v":0},{"$f":"Macro!E4634","v":{"$error":"#DIV/0!"}}]
[null,{"$f":"Macro!A4635","v":0},{"$f":"Macro!B4635","v":0},{"$f":"Macro!E4635","v":{"$error":"#DIV/0!"}}]
[null,{"$f":"Macro!A4636","v":0},{"$f":"Macro!B4636","v":0},{"$f":"Macro!E4636","v":{"$error":"#DIV/0!"}}]
[null,{"$f":"Macro!A4637","v":0},{"$f":"Macro!B4637","v":0},{"$f":"Macro!E4637","v":{"$error":"#DIV/0!"}}]
[null,{"$f":"Macro!A4638","v":0},{"$f":"Macro!B4638","v":0},{"$f":"Macro!E4638","v":{"$error":"#DIV/0!"}}]
[null,{"$f":"Macro!A4639","v":0},{"$f":"Macro!B4639","v":0},{"$f":"Macro!E4639","v":{"$error":"#DIV/0!"}}]
[null,{"$f":"Macro!A4640","v":0},{"$f":"Macro!B4640","v":0},{"$f":"Macro!E4640","v":{"$error":"#DIV/0!"}}]
[null,{"$f":"Macro!A4641","v":0},{"$f":"Macro!B4641","v":0},{"$f":"Macro!E4641","v":{"$error":"#DIV/0!"}}]
[null,{"$f":"Macro!A4642","v":0},{"$f":"Macro!B4642","v":0},{"$f":"Macro!E4642","v":{"$error":"#DIV/0!"}}]
[null,{"$f":"Macro!A4643","v":0},{"$f":"Macro!B4643","v":0},{"$f":"Macro!E4643","v":{"$error":"#DIV/0!"}}]
[null,{"$f":"Macro!A4644","v":0},{"$f":"Macro!B4644","v":0},{"$f":"Macro!E4644","v":{"$error":"#DIV/0!"}}]
[null,{"$f":"Macro!A4645","v":0},{"$f":"Macro!B4645","v":0},{"$f":"Macro!E4645","v":{"$error":"#DIV/0!"}}]
[null,{"$f":"Macro!A4646","v":0},{"$f":"Macro!B4646","v":0},{"$f":"Macro!E4646","v":{"$error":"#DIV/0!"}}]
[null,{"$f":"Macro!A4647","v":0},{"$f":"Macro!B4647","v":0},{"$f":"Macro!E4647","v":{"$error":"#DIV/0!"}}]
[null,{"$f":"Macro!A4648","v":0},{"$f":"Macro!B4648","v":0},{"$f":"Macro!E4648","v":{"$error":"#DIV/0!"}}]
[null,{"$f":"Macro!A4649","v":0},{"$f":"Macro!B4649","v":0},{"$f":"Macro!E4649","v":{"$error":"#DIV/0!"}}]
[null,{"$f":"Macro!A4650","v":0},{"$f":"Macro!B4650","v":0},{"$f":"Macro!E4650","v":{"$error":"#DIV/0!"}}]
[null,{"$f":"Macro!A4651","v":0},{"$f":"Macro!B4651","v":0},{"$f":"Macro!E4651","v":{"$error":"#DIV/0!"}}]
[null,{"$f":"Macro!A4652","v":0},{"$f":"Macro!B4652","v":0},{"$f":"Macro!E4652","v":{"$error":"#DIV/0!"}}]
[null,{"$f":"Macro!A4653","v":0},{"$f":"Macro!B4653","v":0},{"$f":"Macro!E4653","v":{"$error":"#DIV/0!"}}]
[null,{"$f":"Macro!A4654","v":0},{"$f":"Macro!B4654","v":0},{"$f":"Macro!E4654","v":{"$error":"#DIV/0!"}}]
[null,{"$f":"Macro!A4655","v":0},{"$f":"Macro!B4655","v":0},{"$f":"Macro!E4655","v":{"$error":"#DIV/0!"}}]
[null,{"$f":"Macro!A4656","v":0},{"$f":"Macro!B4656","v":0},{"$f":"Macro!E4656","v":{"$error":"#DIV/0!"}}]
[null,{"$f":"Macro!A4657","v":0},{"$f":"Macro!B4657","v":0},{"$f":"Macro!E4657","v":{"$error":"#DIV/0!"}}]
[null,{"$f":"Macro!A4658","v":0},{"$f":"Macro!B4658","v":0},{"$f":"Macro!E4658","v":{"$error":"#DIV/0!"}}]
[null,{"$f":"Macro!A4659","v":0},{"$f":"Macro!B4659","v":0},{"$f":"Macro!E4659","v":{"$error":"#DIV/0!"}}]
[null,{"$f":"Macro!A4660","v":0},{"$f":"Macro!B4660","v":0},{"$f":"Macro!E4660","v":{"$error":"#DIV/0!"}}]
[null,{"$f":"Macro!A4661","v":0},{"$f":"Macro!B4661","v":0},{"$f":"Macro!E4661","v":{"$error":"#DIV/0!"}}]
[null,{"$f":"Macro!A4662","v":0},{"$f":"Macro!B4662","v":0},{"$f":"Macro!E4662","v":{"$error":"#DIV/0!"}}]
[null,{"$f":"Macro!A4663","v":0},{"$f":"Macro!B4663","v":0},{"$f":"Macro!E4663","v":{"$error":"#DIV/0!"}}]
[null,{"$f":"Macro!A4664","v":0},{"$f":"Macro!B4664","v":0},{"$f":"Macro!E4664","v":{"$error":"#DIV/0!"}}]
[null,{"$f":"Macro!A4665","v":0},{"$f":"Macro!B4665","v":0},{"$f":"Macro!E4665","v":{"$error":"#DIV/0!"}}]
[null,{"$f":"Macro!A4666","v":0},{"$f":"Macro!B4666","v":0},{"$f":"Macro!E4666","v":{"$error":"#DIV/0!"}}]
[null,{"$f":"Macro!A4667","v":0},{"$f":"Macro!B4667","v":0},{"$f":"Macro!E4667","v":{"$error":"#DIV/0!"}}]
[null,{"$f":"Macro!A4668","v":0},{"$f":"Macro!B4668","v":0},{"$f":"Macro!E4668","v":{"$error":"#DIV/0!"}}]
[null,{"$f":"Macro!A4669","v":0},{"$f":"Macro!B4669","v":0},{"$f":"Macro!E4669","v":{"$error":"#DIV/0!"}}]
[null,{"$f":"Macro!A4670","v":0},{"$f":"Macro!B4670","v":0},{"$f":"Macro!E4670","v":{"$error":"#DIV/0!"}}]
[null,{"$f":"Macro!A4671","v":0},{"$f":"Macro!B4671","v":0},{"$f":"Macro!E4671","v":{"$error":"#DIV/0!"}}]
[null,{"$f":"Macro!A4672","v":0},{"$f":"Macro!B4672","v":0},{"$f":"Macro!E4672","v":{"$error":"#DIV/0!"}}]
[null,{"$f":"Macro!A4673","v":0},{"$f":"Macro!B4673","v":0},{"$f":"Macro!E4673","v":{"$error":"#DIV/0!"}}]
[null,{"$f":"Macro!A4674","v":0},{"$f":"Macro!B4674","v":0},{"$f":"Macro!E4674","v":{"$error":"#DIV/0!"}}]
[null,{"$f":"Macro!A4675","v":0},{"$f":"Macro!B4675","v":0},{"$f":"Macro!E4675","v":{"$error":"#DIV/0!"}}]
[null,{"$f":"Macro!A4676","v":0},{"$f":"Macro!B4676","v":0},{"$f":"Macro!E4676","v":{"$error":"#DIV/0!"}}]
[null,{"$f":"Macro!A4677","v":0},{"$f":"Macro!B4677","v":0},{"$f":"Macro!E4677","v":{"$error":"#DIV/0!"}}]
[null,{"$f":"Macro!A4678","v":0},{"$f":"Macro!B4678","v":0},{"$f":"Macro!E4678","v":{"$error":"#DIV/0!"}}]
[null,{"$f":"Macro!A4679","v":0},{"$f":"Macro!B4679","v":0},{"$f":"Macro!E4679","v":{"$error":"#DIV/0!"}}]
[null,{"$f":"Macro!A4680","v":0},{"$f":"Macro!B4680","v":0},{"$f":"Macro!E4680","v":{"$error":"#DIV/0!"}}]
[null,{"$f":"Macro!A4681","v":0},{"$f":"Macro!B4681","v":0},{"$f":"Macro!E4681","v":{"$error":"#DIV/0!"}}]
[null,{"$f":"Macro!A4682","v":0},{"$f":"Macro!B4682","v":0},{"$f":"Macro!E4682","v":{"$error":"#DIV/0!"}}]
[null,{"$f":"Macro!A4683","v":0},{"$f":"Macro!B4683","v":0},{"$f":"Macro!E4683","v":{"$error":"#DIV/0!"}}]
[null,{"$f":"Macro!A4684","v":0},{"$f":"Macro!B4684","v":0},{"$f":"Macro!E4684","v":{"$error":"#DIV/0!"}}]
[null,{"$f":"Macro!A4685","v":0},{"$f":"Macro!B4685","v":0},{"$f":"Macro!E4685","v":{"$error":"#DIV/0!"}}]
[null,{"$f":"Macro!A4686","v":0},{"$f":"Macro!B4686","v":0},{"$f":"Macro!E4686","v":{"$error":"#DIV/0!"}}]
[null,{"$f":"Macro!A4687","v":0},{"$f":"Macro!B4687","v":0},{"$f":"Macro!E4687","v":{"$error":"#DIV/0!"}}]
[null,{"$f":"Macro!A4688","v":0},{"$f":"Macro!B4688","v":0},{"$f":"Macro!E4688","v":{"$error":"#DIV/0!"}}]
[null,{"$f":"Macro!A4689","v":0},{"$f":"Macro!B4689","v":0},{"$f":"Macro!E4689","v":{"$error":"#DIV/0!"}}]
[null,{"$f":"Macro!A4690","v":0},{"$f":"Macro!B4690","v":0},{"$f":"Macro!E4690","v":{"$error":"#DIV/0!"}}]
[null,{"$f":"Macro!A4691","v":0},{"$f":"Macro!B4691","v":0},{"$f":"Macro!E4691","v":{"$error":"#DIV/0!"}}]
[null,{"$f":"Macro!A4692","v":0},{"$f":"Macro!B4692","v":0},{"$f":"Macro!E4692","v":{"$error":"#DIV/0!"}}]
[null,{"$f":"Macro!A4693","v":0},{"$f":"Macro!B4693","v":0},{"$f":"Macro!E4693","v":{"$error":"#DIV/0!"}}]
[null,{"$f":"Macro!A4694","v":0},{"$f":"Macro!B4694","v":0},{"$f":"Macro!E4694","v":{"$error":"#DIV/0!"}}]
[null,{"$f":"Macro!A4695","v":0},{"$f":"Macro!B4695","v":0},{"$f":"Macro!E4695","v":{"$error":"#DIV/0!"}}]
[null,{"$f":"Macro!A4696","v":0},{"$f":"Macro!B4696","v":0},{"$f":"Macro!E4696","v":{"$error":"#DIV/0!"}}]
[null,{"$f":"Macro!A4697","v":0},{"$f":"Macro!B4697","v":0},{"$f":"Macro!E4697","v":{"$error":"#DIV/0!"}}]
[null,{"$f":"Macro!A4698","v":0},{"$f":"Macro!B4698","v":0},{"$f":"Macro!E4698","v":{"$error":"#DIV/0!"}}]
[null,{"$f":"Macro!A4699","v":0},{"$f":"Macro!B4699","v":0},{"$f":"Macro!E4699","v":{"$error":"#DIV/0!"}}]
[null,{"$f":"Macro!A4700","v":0},{"$f":"Macro!B4700","v":0},{"$f":"Macro!E4700","v":{"$error":"#DIV/0!"}}]
[null,{"$f":"Macro!A4701","v":0},{"$f":"Macro!B4701","v":0},{"$f":"Macro!E4701","v":{"$error":"#DIV/0!"}}]
[null,{"$f":"Macro!A4702","v":0},{"$f":"Macro!B4702","v":0},{"$f":"Macro!E4702","v":{"$error":"#DIV/0!"}}]
[null,{"$f":"Macro!A4703","v":0},{"$f":"Macro!B4703","v":0},{"$f":"Macro!E4703","v":{"$error":"#DIV/0!"}}]
[null,{"$f":"Macro!A4704","v":0},{"$f":"Macro!B4704","v":0},{"$f":"Macro!E4704","v":{"$error":"#DIV/0!"}}]
[null,{"$f":"Macro!A4705","v":0},{"$f":"Macro!B4705","v":0},{"$f":"Macro!E4705","v":{"$error":"#DIV/0!"}}]
[null,{"$f":"Macro!A4706","v":0},{"$f":"Macro!B4706","v":0},{"$f":"Macro!E4706","v":{"$error":"#DIV/0!"}}]
[null,{"$f":"Macro!A4707","v":0},{"$f":"Macro!B4707","v":0},{"$f":"Macro!E4707","v":{"$error":"#DIV/0!"}}]
[null,{"$f":"Macro!A4708","v":0},{"$f":"Macro!B4708","v":0},{"$f":"Macro!E4708","v":{"$error":"#DIV/0!"}}]
[null,{"$f":"Macro!A4709","v":0},{"$f":"Macro!B4709","v":0},{"$f":"Macro!E4709","v":{"$error":"#DIV/0!"}}]
[null,{"$f":"Macro!A4710","v":0},{"$f":"Macro!B4710","v":0},{"$f":"Macro!E4710","v":{"$error":"#DIV/0!"}}]
[null,{"$f":"Macro!A4711","v":0},{"$f":"Macro!B4711","v":0},{"$f":"Macro!E4711","v":{"$error":"#DIV/0!"}}]
[null,{"$f":"Macro!A4712","v":0},{"$f":"Macro!B4712","v":0},{"$f":"Macro!E4712","v":{"$error":"#DIV/0!"}}]
[null,{"$f":"Macro!A4713","v":0},{"$f":"Macro!B4713","v":0},{"$f":"Macro!E4713","v":{"$error":"#DIV/0!"}}]
[null,{"$f":"Macro!A4714","v":0},{"$f":"Macro!B4714","v":0},{"$f":"Macro!E4714","v":{"$error":"#DIV/0!"}}]
[null,{"$f":"Macro!A4715","v":0},{"$f":"Macro!B4715","v":0},{"$f":"Macro!E4715","v":{"$error":"#DIV/0!"}}]
[null,{"$f":"Macro!A4716","v":0},{"$f":"Macro!B4716","v":0},{"$f":"Macro!E4716","v":{"$error":"#DIV/0!"}}]
[null,{"$f":"Macro!A4717","v":0},{"$f":"Macro!B4717","v":0},{"$f":"Macro!E4717","v":{"$error":"#DIV/0!"}}]
[null,{"$f":"Macro!A4718","v":0},{"$f":"Macro!B4718","v":0},{"$f":"Macro!E4718","v":{"$error":"#DIV/0!"}}]
[null,{"$f":"Macro!A4719","v":0},{"$f":"Macro!B4719","v":0},{"$f":"Macro!E4719","v":{"$error":"#DIV/0!"}}]
[null,{"$f":"Macro!A4720","v":0},{"$f":"Macro!B4720","v":0},{"$f":"Macro!E4720","v":{"$error":"#DIV/0!"}}]
[null,{"$f":"Macro!A4721","v":0},{"$f":"Macro!B4721","v":0},{"$f":"Macro!E4721","v":{"$error":"#DIV/0!"}}]
[null,{"$f":"Macro!A4722","v":0},{"$f":"Macro!B4722","v":0},{"$f":"Macro!E4722","v":{"$error":"#DIV/0!"}}]
[null,{"$f":"Macro!A4723","v":0},{"$f":"Macro!B4723","v":0},{"$f":"Macro!E4723","v":{"$error":"#DIV/0!"}}]
[null,{"$f":"Macro!A4724","v":0},{"$f":"Macro!B4724","v":0},{"$f":"Macro!E4724","v":{"$error":"#DIV/0!"}}]
[null,{"$f":"Macro!A4725","v":0},{"$f":"Macro!B4725","v":0},{"$f":"Macro!E4725","v":{"$error":"#DIV/0!"}}]
[null,{"$f":"Macro!A4726","v":0},{"$f":"Macro!B4726","v":0},{"$f":"Macro!E4726","v":{"$error":"#DIV/0!"}}]
[null,{"$f":"Macro!A4727","v":0},{"$f":"Macro!B4727","v":0},{"$f":"Macro!E4727","v":{"$error":"#DIV/0!"}}]
[null,{"$f":"Macro!A4728","v":0},{"$f":"Macro!B4728","v":0},{"$f":"Macro!E4728","v":{"$error":"#DIV/0!"}}]
[null,{"$f":"Macro!A4729","v":0},{"$f":"Macro!B4729","v":0},{"$f":"Macro!E4729","v":{"$error":"#DIV/0!"}}]
[null,{"$f":"Macro!A4730","v":0},{"$f":"Macro!B4730","v":0},{"$f":"Macro!E4730","v":{"$error":"#DIV/0!"}}]
[null,{"$f":"Macro!A4731","v":0},{"$f":"Macro!B4731","v":0},{"$f":"Macro!E4731","v":{"$error":"#DIV/0!"}}]
[null,{"$f":"Macro!A4732","v":0},{"$f":"Macro!B4732","v":0},{"$f":"Macro!E4732","v":{"$error":"#DIV/0!"}}]
[null,{"$f":"Macro!A4733","v":0},{"$f":"Macro!B4733","v":0},{"$f":"Macro!E4733","v":{"$error":"#DIV/0!"}}]
[null,{"$f":"Macro!A4734","v":0},{"$f":"Macro!B4734","v":0},{"$f":"Macro!E4734","v":{"$error":"#DIV/0!"}}]
[null,{"$f":"Macro!A4735","v":0},{"$f":"Macro!B4735","v":0},{"$f":"Macro!E4735","v":{"$error":"#DIV/0!"}}]
[null,{"$f":"Macro!A4736","v":0},{"$f":"Macro!B4736","v":0},{"$f":"Macro!E4736","v":{"$error":"#DIV/0!"}}]
[null,{"$f":"Macro!A4737","v":0},{"$f":"Macro!B4737","v":0},{"$f":"Macro!E4737","v":{"$error":"#DIV/0!"}}]
[null,{"$f":"Macro!A4738","v":0},{"$f":"Macro!B4738","v":0},{"$f":"Macro!E4738","v":{"$error":"#DIV/0!"}}]
[null,{"$f":"Macro!A4739","v":0},{"$f":"Macro!B4739","v":0},{"$f":"Macro!E4739","v":{"$error":"#DIV/0!"}}]
[null,{"$f":"Macro!A4740","v":0},{"$f":"Macro!B4740","v":0},{"$f":"Macro!E4740","v":{"$error":"#DIV/0!"}}]
[null,{"$f":"Macro!A4741","v":0},{"$f":"Macro!B4741","v":0},{"$f":"Macro!E4741","v":{"$error":"#DIV/0!"}}]
[null,{"$f":"Macro!A4742","v":0},{"$f":"Macro!B4742","v":0},{"$f":"Macro!E4742","v":{"$error":"#DIV/0!"}}]
[null,{"$f":"Macro!A4743","v":0},{"$f":"Macro!B4743","v":0},{"$f":"Macro!E4743","v":{"$error":"#DIV/0!"}}]
[null,{"$f":"Macro!A4744","v":0},{"$f":"Macro!B4744","v":0},{"$f":"Macro!E4744","v":{"$error":"#DIV/0!"}}]
[null,{"$f":"Macro!A4745","v":0},{"$f":"Macro!B4745","v":0},{"$f":"Macro!E4745","v":{"$error":"#DIV/0!"}}]
[null,{"$f":"Macro!A4746","v":0},{"$f":"Macro!B4746","v":0},{"$f":"Macro!E4746","v":{"$error":"#DIV/0!"}}]
[null,{"$f":"Macro!A4747","v":0},{"$f":"Macro!B4747","v":0},{"$f":"Macro!E4747","v":{"$error":"#DIV/0!"}}]
[null,{"$f":"Macro!A4748","v":0},{"$f":"Macro!B4748","v":0},{"$f":"Macro!E4748","v":{"$error":"#DIV/0!"}}]
[null,{"$f":"Macro!A4749","v":0},{"$f":"Macro!B4749","v":0},{"$f":"Macro!E4749","v":{"$error":"#DIV/0!"}}]
[null,{"$f":"Macro!A4750","v":0},{"$f":"Macro!B4750","v":0},{"$f":"Macro!E4750","v":{"$error":"#DIV/0!"}}]
[null,{"$f":"Macro!A4751","v":0},{"$f":"Macro!B4751","v":0},{"$f":"Macro!E4751","v":{"$error":"#DIV/0!"}}]
[null,{"$f":"Macro!A4752","v":0},{"$f":"Macro!B4752","v":0},{"$f":"Macro!E4752","v":{"$error":"#DIV/0!"}}]
[null,{"$f":"Macro!A4753","v":0},{"$f":"Macro!B4753","v":0},{"$f":"Macro!E4753","v":{"$error":"#DIV/0!"}}]
[null,{"$f":"Macro!A4754","v":0},{"$f":"Macro!B4754","v":0},{"$f":"Macro!E4754","v":{"$error":"#DIV/0!"}}]
[null,{"$f":"Macro!A4755","v":0},{"$f":"Macro!B4755","v":0},{"$f":"Macro!E4755","v":{"$error":"#DIV/0!"}}]
[null,{"$f":"Macro!A4756","v":0},{"$f":"Macro!B4756","v":0},{"$f":"Macro!E4756","v":{"$error":"#DIV/0!"}}]
[null,{"$f":"Macro!A4757","v":0},{"$f":"Macro!B4757","v":0},{"$f":"Macro!E4757","v":{"$error":"#DIV/0!"}}]
[null,{"$f":"Macro!A4758","v":0},{"$f":"Macro!B4758","v":0},{"$f":"Macro!E4758","v":{"$error":"#DIV/0!"}}]
[null,{"$f":"Macro!A4759","v":0},{"$f":"Macro!B4759","v":0},{"$f":"Macro!E4759","v":{"$error":"#DIV/0!"}}]
[null,{"$f":"Macro!A4760","v":0},{"$f":"Macro!B4760","v":0},{"$f":"Macro!E4760","v":{"$error":"#DIV/0!"}}]
[null,{"$f":"Macro!A4761","v":0},{"$f":"Macro!B4761","v":0},{"$f":"Macro!E4761","v":{"$error":"#DIV/0!"}}]
[null,{"$f":"Macro!A4762","v":0},{"$f":"Macro!B4762","v":0},{"$f":"Macro!E4762","v":{"$error":"#DIV/0!"}}]
[null,{"$f":"Macro!A4763","v":0},{"$f":"Macro!B4763","v":0},{"$f":"Macro!E4763","v":{"$error":"#DIV/0!"}}]
[null,{"$f":"Macro!A4764","v":0},{"$f":"Macro!B4764","v":0},{"$f":"Macro!E4764","v":{"$error":"#DIV/0!"}}]
[null,{"$f":"Macro!A4765","v":0},{"$f":"Macro!B4765","v":0},{"$f":"Macro!E4765","v":{"$error":"#DIV/0!"}}]
[null,{"$f":"Macro!A4766","v":0},{"$f":"Macro!B4766","v":0},{"$f":"Macro!E4766","v":{"$error":"#DIV/0!"}}]
[null,{"$f":"Macro!A4767","v":0},{"$f":"Macro!B4767","v":0},{"$f":"Macro!E4767","v":{"$error":"#DIV/0!"}}]
[null,{"$f":"Macro!A4768","v":0},{"$f":"Macro!B4768","v":0},{"$f":"Macro!E4768","v":{"$error":"#DIV/0!"}}]
[null,{"$f":"Macro!A4769","v":0},{"$f":"Macro!B4769","v":0},{"$f":"Macro!E4769","v":{"$error":"#DIV/0!"}}]
[null,{"$f":"Macro!A4770","v":0},{"$f":"Macro!B4770","v":0},{"$f":"Macro!E4770","v":{"$error":"#DIV/0!"}}]
[null,{"$f":"Macro!A4771","v":0},{"$f":"Macro!B4771","v":0},{"$f":"Macro!E4771","v":{"$error":"#DIV/0!"}}]
[null,{"$f":"Macro!A4772","v":0},{"$f":"Macro!B4772","v":0},{"$f":"Macro!E4772","v":{"$error":"#DIV/0!"}}]
[null,{"$f":"Macro!A4773","v":0},{"$f":"Macro!B4773","v":0},{"$f":"Macro!E4773","v":{"$error":"#DIV/0!"}}]
[null,{"$f":"Macro!A4774","v":0},{"$f":"Macro!B4774","v":0},{"$f":"Macro!E4774","v":{"$error":"#DIV/0!"}}]
[null,{"$f":"Macro!A4775","v":0},{"$f":"Macro!B4775","v":0},{"$f":"Macro!E4775","v":{"$error":"#DIV/0!"}}]
[null,{"$f":"Macro!A4776","v":0},{"$f":"Macro!B4776","v":0},{"$f":"Macro!E4776","v":{"$error":"#DIV/0!"}}]
[null,{"$f":"Macro!A4777","v":0},{"$f":"Macro!B4777","v":0},{"$f":"Macro!E4777","v":{"$error":"#DIV/0!"}}]
[null,{"$f":"Macro!A4778","v":0},{"$f":"Macro!B4778","v":0},{"$f":"Macro!E4778","v":{"$error":"#DIV/0!"}}]
[null,{"$f":"Macro!A4779","v":0},{"$f":"Macro!B4779","v":0},{"$f":"Macro!E4779","v":{"$error":"#DIV/0!"}}]
[null,{"$f":"Macro!A4780","v":0},{"$f":"Macro!B4780","v":0},{"$f":"Macro!E4780","v":{"$error":"#DIV/0!"}}]
[null,{"$f":"Macro!A4781","v":0},{"$f":"Macro!B4781","v":0},{"$f":"Macro!E4781","v":{"$error":"#DIV/0!"}}]
[null,{"$f":"Macro!A4782","v":0},{"$f":"Macro!B4782","v":0},{"$f":"Macro!E4782","v":{"$error":"#DIV/0!"}}]
[null,{"$f":"Macro!A4783","v":0},{"$f":"Macro!B4783","v":0},{"$f":"Macro!E4783","v":{"$error":"#DIV/0!"}}]
[null,{"$f":"Macro!A4784","v":0},{"$f":"Macro!B4784","v":0},{"$f":"Macro!E4784","v":{"$error":"#DIV/0!"}}]
[null,{"$f":"Macro!A4785","v":0},{"$f":"Macro!B4785","v":0},{"$f":"Macro!E4785","v":{"$error":"#DIV/0!"}}]
[null,{"$f":"Macro!A4786","v":0},{"$f":"Macro!B4786","v":0},{"$f":"Macro!E4786","v":{"$error":"#DIV/0!"}}]
[null,{"$f":"Macro!A4787","v":0},{"$f":"Macro!B4787","v":0},{"$f":"Macro!E4787","v":{"$error":"#DIV/0!"}}]
[null,{"$f":"Macro!A4788","v":0},{"$f":"Macro!B4788","v":0},{"$f":"Macro!E4788","v":{"$error":"#DIV/0!"}}]
[null,{"$f":"Macro!A4789","v":0},{"$f":"Macro!B4789","v":0},{"$f":"Macro!E4789","v":{"$error":"#DIV/0!"}}]
[null,{"$f":"Macro!A4790","v":0},{"$f":"Macro!B4790","v":0},{"$f":"Macro!E4790","v":{"$error":"#DIV/0!"}}]
[null,{"$f":"Macro!A4791","v":0},{"$f":"Macro!B4791","v":0},{"$f":"Macro!E4791","v":{"$error":"#DIV/0!"}}]
[null,{"$f":"Macro!A4792","v":0},{"$f":"Macro!B4792","v":0},{"$f":"Macro!E4792","v":{"$error":"#DIV/0!"}}]
[null,{"$f":"Macro!A4793","v":0},{"$f":"Macro!B4793","v":0},{"$f":"Macro!E4793","v":{"$error":"#DIV/0!"}}]
[null,{"$f":"Macro!A4794","v":0},{"$f":"Macro!B4794","v":0},{"$f":"Macro!E4794","v":{"$error":"#DIV/0!"}}]
[null,{"$f":"Macro!A4795","v":0},{"$f":"Macro!B4795","v":0},{"$f":"Macro!E4795","v":{"$error":"#DIV/0!"}}]
[null,{"$f":"Macro!A4796","v":0},{"$f":"Macro!B4796","v":0},{"$f":"Macro!E4796","v":{"$error":"#DIV/0!"}}]
[null,{"$f":"Macro!A4797","v":0},{"$f":"Macro!B4797","v":0},{"$f":"Macro!E4797","v":{"$error":"#DIV/0!"}}]
[null,{"$f":"Macro!A4798","v":0},{"$f":"Macro!B4798","v":0},{"$f":"Macro!E4798","v":{"$error":"#DIV/0!"}}]
[null,{"$f":"Macro!A4799","v":0},{"$f":"Macro!B4799","v":0},{"$f":"Macro!E4799","v":{"$error":"#DIV/0!"}}]
[null,{"$f":"Macro!A4800","v":0},{"$f":"Macro!B4800","v":0},{"$f":"Macro!E4800","v":{"$error":"#DIV/0!"}}]
[null,{"$f":"Macro!A4801","v":0},{"$f":"Macro!B4801","v":0},{"$f":"Macro!E4801","v":{"$error":"#DIV/0!"}}]
[null,{"$f":"Macro!A4802","v":0},{"$f":"Macro!B4802","v":0},{"$f":"Macro!E4802","v":{"$error":"#DIV/0!"}}]
[null,{"$f":"Macro!A4803","v":0},{"$f":"Macro!B4803","v":0},{"$f":"Macro!E4803","v":{"$error":"#DIV/0!"}}]
[null,{"$f":"Macro!A4804","v":0},{"$f":"Macro!B4804","v":0},{"$f":"Macro!E4804","v":{"$error":"#DIV/0!"}}]
[null,{"$f":"Macro!A4805","v":0},{"$f":"Macro!B4805","v":0},{"$f":"Macro!E4805","v":{"$error":"#DIV/0!"}}]
[null,{"$f":"Macro!A4806","v":0},{"$f":"Macro!B4806","v":0},{"$f":"Macro!E4806","v":{"$error":"#DIV/0!"}}]
[null,{"$f":"Macro!A4807","v":0},{"$f":"Macro!B4807","v":0},{"$f":"Macro!E4807","v":{"$error":"#DIV/0!"}}]
[null,{"$f":"Macro!A4808","v":0},{"$f":"Macro!B4808","v":0},{"$f":"Macro!E4808","v":{"$error":"#DIV/0!"}}]
[null,{"$f":"Macro!A4809","v":0},{"$f":"Macro!B4809","v":0},{"$f":"Macro!E4809","v":{"$error":"#DIV/0!"}}]
[null,{"$f":"Macro!A4810","v":0},{"$f":"Macro!B4810","v":0},{"$f":"Macro!E4810","v":{"$error":"#DIV/0!"}}]
[null,{"$f":"Macro!A4811","v":0},{"$f":"Macro!B4811","v":0},{"$f":"Macro!E4811","v":{"$error":"#DIV/0!"}}]
[null,{"$f":"Macro!A4812","v":0},{"$f":"Macro!B4812","v":0},{"$f":"Macro!E4812","v":{"$error":"#DIV/0!"}}]
[null,{"$f":"Macro!A4813","v":0},{"$f":"Macro!B4813","v":0},{"$f":"Macro!E4813","v":{"$error":"#DIV/0!"}}]
[null,{"$f":"Macro!A4814","v":0},{"$f":"Macro!B4814","v":0},{"$f":"Macro!E4814","v":{"$error":"#DIV/0!"}}]
[null,{"$f":"Macro!A4815","v":0},{"$f":"Macro!B4815","v":0},{"$f":"Macro!E4815","v":{"$error":"#DIV/0!"}}]
[null,{"$f":"Macro!A4816","v":0},{"$f":"Macro!B4816","v":0},{"$f":"Macro!E4816","v":{"$error":"#DIV/0!"}}]
[null,{"$f":"Macro!A4817","v":0},{"$f":"Macro!B4817","v":0},{"$f":"Macro!E4817","v":{"$error":"#DIV/0!"}}]
[null,{"$f":"Macro!A4818","v":0},{"$f":"Macro!B4818","v":0},{"$f":"Macro!E4818","v":{"$error":"#DIV/0!"}}]
[null,{"$f":"Macro!A4819","v":0},{"$f":"Macro!B4819","v":0},{"$f":"Macro!E4819","v":{"$error":"#DIV/0!"}}]
[null,{"$f":"Macro!A4820","v":0},{"$f":"Macro!B4820","v":0},{"$f":"Macro!E4820","v":{"$error":"#DIV/0!"}}]
[null,{"$f":"Macro!A4821","v":0},{"$f":"Macro!B4821","v":0},{"$f":"Macro!E4821","v":{"$error":"#DIV/0!"}}]
[null,{"$f":"Macro!A4822","v":0},{"$f":"Macro!B4822","v":0},{"$f":"Macro!E4822","v":{"$error":"#DIV/0!"}}]
[null,{"$f":"Macro!A4823","v":0},{"$f":"Macro!B4823","v":0},{"$f":"Macro!E4823","v":{"$error":"#DIV/0!"}}]
[null,{"$f":"Macro!A4824","v":0},{"$f":"Macro!B4824","v":0},{"$f":"Macro!E4824","v":{"$error":"#DIV/0!"}}]
[null,{"$f":"Macro!A4825","v":0},{"$f":"Macro!B4825","v":0},{"$f":"Macro!E4825","v":{"$error":"#DIV/0!"}}]
[null,{"$f":"Macro!A4826","v":0},{"$f":"Macro!B4826","v":0},{"$f":"Macro!E4826","v":{"$error":"#DIV/0!"}}]
[null,{"$f":"Macro!A4827","v":0},{"$f":"Macro!B4827","v":0},{"$f":"Macro!E4827","v":{"$error":"#DIV/0!"}}]
[null,{"$f":"Macro!A4828","v":0},{"$f":"Macro!B4828","v":0},{"$f":"Macro!E4828","v":{"$error":"#DIV/0!"}}]
[null,{"$f":"Macro!A4829","v":0},{"$f":"Macro!B4829","v":0},{"$f":"Macro!E4829","v":{"$error":"#DIV/0!"}}]
[null,{"$f":"Macro!A4830","v":0},{"$f":"Macro!B4830","v":0},{"$f":"Macro!E4830","v":{"$error":"#DIV/0!"}}]
[null,{"$f":"Macro!A4831","v":0},{"$f":"Macro!B4831","v":0},{"$f":"Macro!E4831","v":{"$error":"#DIV/0!"}}]
[null,{"$f":"Macro!A4832","v":0},{"$f":"Macro!B4832","v":0},{"$f":"Macro!E4832","v":{"$error":"#DIV/0!"}}]
[null,{"$f":"Macro!A4833","v":0},{"$f":"Macro!B4833","v":0},{"$f":"Macro!E4833","v":{"$error":"#DIV/0!"}}]
[null,{"$f":"Macro!A4834","v":0},{"$f":"Macro!B4834","v":0},{"$f":"Macro!E4834","v":{"$error":"#DIV/0!"}}]
[null,{"$f":"Macro!A4835","v":0},{"$f":"Macro!B4835","v":0},{"$f":"Macro!E4835","v":{"$error":"#DIV/0!"}}]
[null,{"$f":"Macro!A4836","v":0},{"$f":"Macro!B4836","v":0},{"$f":"Macro!E4836","v":{"$error":"#DIV/0!"}}]
[null,{"$f":"Macro!A4837","v":0},{"$f":"Macro!B4837","v":0},{"$f":"Macro!E4837","v":{"$error":"#DIV/0!"}}]
[null,{"$f":"Macro!A4838","v":0},{"$f":"Macro!B4838","v":0},{"$f":"Macro!E4838","v":{"$error":"#DIV/0!"}}]
[null,{"$f":"Macro!A4839","v":0},{"$f":"Macro!B4839","v":0},{"$f":"Macro!E4839","v":{"$error":"#DIV/0!"}}]
[null,{"$f":"Macro!A4840","v":0},{"$f":"Macro!B4840","v":0},{"$f":"Macro!E4840","v":{"$error":"#DIV/0!"}}]
[null,{"$f":"Macro!A4841","v":0},{"$f":"Macro!B4841","v":0},{"$f":"Macro!E4841","v":{"$error":"#DIV/0!"}}]
[null,{"$f":"Macro!A4842","v":0},{"$f":"Macro!B4842","v":0},{"$f":"Macro!E4842","v":{"$error":"#DIV/0!"}}]
[null,{"$f":"Macro!A4843","v":0},{"$f":"Macro!B4843","v":0},{"$f":"Macro!E4843","v":{"$error":"#DIV/0!"}}]
[null,{"$f":"Macro!A4844","v":0},{"$f":"Macro!B4844","v":0},{"$f":"Macro!E4844","v":{"$error":"#DIV/0!"}}]
[null,{"$f":"Macro!A4845","v":0},{"$f":"Macro!B4845","v":0},{"$f":"Macro!E4845","v":{"$error":"#DIV/0!"}}]
[null,{"$f":"Macro!A4846","v":0},{"$f":"Macro!B4846","v":0},{"$f":"Macro!E4846","v":{"$error":"#DIV/0!"}}]
[null,{"$f":"Macro!A4847","v":0},{"$f":"Macro!B4847","v":0},{"$f":"Macro!E4847","v":{"$error":"#DIV/0!"}}]
[null,{"$f":"Macro!A4848","v":0},{"$f":"Macro!B4848","v":0},{"$f":"Macro!E4848","v":{"$error":"#DIV/0!"}}]
[null,{"$f":"Macro!A4849","v":0},{"$f":"Macro!B4849","v":0},{"$f":"Macro!E4849","v":{"$error":"#DIV/0!"}}]
[null,{"$f":"Macro!A4850","v":0},{"$f":"Macro!B4850","v":0},{"$f":"Macro!E4850","v":{"$error":"#DIV/0!"}}]
[null,{"$f":"Macro!A4851","v":0},{"$f":"Macro!B4851","v":0},{"$f":"Macro!E4851","v":{"$error":"#DIV/0!"}}]
[null,{"$f":"Macro!A4852","v":0},{"$f":"Macro!B4852","v":0},{"$f":"Macro!E4852","v":{"$error":"#DIV/0!"}}]
[null,{"$f":"Macro!A4853","v":0},{"$f":"Macro!B4853","v":0},{"$f":"Macro!E4853","v":{"$error":"#DIV/0!"}}]
[null,{"$f":"Macro!A4854","v":0},{"$f":"Macro!B4854","v":0},{"$f":"Macro!E4854","v":{"$error":"#DIV/0!"}}]
[null,{"$f":"Macro!A4855","v":0},{"$f":"Macro!B4855","v":0},{"$f":"Macro!E4855","v":{"$error":"#DIV/0!"}}]
[null,{"$f":"Macro!A4856","v":0},{"$f":"Macro!B4856","v":0},{"$f":"Macro!E4856","v":{"$error":"#DIV/0!"}}]
[null,{"$f":"Macro!A4857","v":0},{"$f":"Macro!B4857","v":0},{"$f":"Macro!E4857","v":{"$error":"#DIV/0!"}}]
[null,{"$f":"Macro!A4858","v":0},{"$f":"Macro!B4858","v":0},{"$f":"Macro!E4858","v":{"$error":"#DIV/0!"}}]
[null,{"$f":"Macro!A4859","v":0},{"$f":"Macro!B4859","v":0},{"$f":"Macro!E4859","v":{"$error":"#DIV/0!"}}]
[null,{"$f":"Macro!A4860","v":0},{"$f":"Macro!B4860","v":0},{"$f":"Macro!E4860","v":{"$error":"#DIV/0!"}}]
[null,{"$f":"Macro!A4861","v":0},{"$f":"Macro!B4861","v":0},{"$f":"Macro!E4861","v":{"$error":"#DIV/0!"}}]
[null,{"$f":"Macro!A4862","v":0},{"$f":"Macro!B4862","v":0},{"$f":"Macro!E4862","v":{"$error":"#DIV/0!"}}]
[null,{"$f":"Macro!A4863","v":0},{"$f":"Macro!B4863","v":0},{"$f":"Macro!E4863","v":{"$error":"#DIV/0!"}}]
[null,{"$f":"Macro!A4864","v":0},{"$f":"Macro!B4864","v":0},{"$f":"Macro!E4864","v":{"$error":"#DIV/0!"}}]
[null,{"$f":"Macro!A4865","v":0},{"$f":"Macro!B4865","v":0},{"$f":"Macro!E4865","v":{"$error":"#DIV/0!"}}]
[null,{"$f":"Macro!A4866","v":0},{"$f":"Macro!B4866","v":0},{"$f":"Macro!E4866","v":{"$error":"#DIV/0!"}}]
[null,{"$f":"Macro!A4867","v":0},{"$f":"Macro!B4867","v":0},{"$f":"Macro!E4867","v":{"$error":"#DIV/0!"}}]
[null,{"$f":"Macro!A4868","v":0},{"$f":"Macro!B4868","v":0},{"$f":"Macro!E4868","v":{"$error":"#DIV/0!"}}]
[null,{"$f":"Macro!A4869","v":0},{"$f":"Macro!B4869","v":0},{"$f":"Macro!E4869","v":{"$error":"#DIV/0!"}}]
[null,{"$f":"Macro!A4870","v":0},{"$f":"Macro!B4870","v":0},{"$f":"Macro!E4870","v":{"$error":"#DIV/0!"}}]
[null,{"$f":"Macro!A4871","v":0},{"$f":"Macro!B4871","v":0},{"$f":"Macro!E4871","v":{"$error":"#DIV/0!"}}]
[null,{"$f":"Macro!A4872","v":0},{"$f":"Macro!B4872","v":0},{"$f":"Macro!E4872","v":{"$error":"#DIV/0!"}}]
[null,{"$f":"Macro!A4873","v":0},{"$f":"Macro!B4873","v":0},{"$f":"Macro!E4873","v":{"$error":"#DIV/0!"}}]
[null,{"$f":"Macro!A4874","v":0},{"$f":"Macro!B4874","v":0},{"$f":"Macro!E4874","v":{"$error":"#DIV/0!"}}]
[null,{"$f":"Macro!A4875","v":0},{"$f":"Macro!B4875","v":0},{"$f":"Macro!E4875","v":{"$error":"#DIV/0!"}}]
[null,{"$f":"Macro!A4876","v":0},{"$f":"Macro!B4876","v":0},{"$f":"Macro!E4876","v":{"$error":"#DIV/0!"}}]
[null,{"$f":"Macro!A4877","v":0},{"$f":"Macro!B4877","v":0},{"$f":"Macro!E4877","v":{"$error":"#DIV/0!"}}]
[null,{"$f":"Macro!A4878","v":0},{"$f":"Macro!B4878","v":0},{"$f":"Macro!E4878","v":{"$error":"#DIV/0!"}}]
[null,{"$f":"Macro!A4879","v":0},{"$f":"Macro!B4879","v":0},{"$f":"Macro!E4879","v":{"$error":"#DIV/0!"}}]
[null,{"$f":"Macro!A4880","v":0},{"$f":"Macro!B4880","v":0},{"$f":"Macro!E4880","v":{"$error":"#DIV/0!"}}]
[null,{"$f":"Macro!A4881","v":0},{"$f":"Macro!B4881","v":0},{"$f":"Macro!E4881","v":{"$error":"#DIV/0!"}}]
[null,{"$f":"Macro!A4882","v":0},{"$f":"Macro!B4882","v":0},{"$f":"Macro!E4882","v":{"$error":"#DIV/0!"}}]
[null,{"$f":"Macro!A4883","v":0},{"$f":"Macro!B4883","v":0},{"$f":"Macro!E4883","v":{"$error":"#DIV/0!"}}]
[null,{"$f":"Macro!A4884","v":0},{"$f":"Macro!B4884","v":0},{"$f":"Macro!E4884","v":{"$error":"#DIV/0!"}}]
[null,{"$f":"Macro!A4885","v":0},{"$f":"Macro!B4885","v":0},{"$f":"Macro!E4885","v":{"$error":"#DIV/0!"}}]
[null,{"$f":"Macro!A4886","v":0},{"$f":"Macro!B4886","v":0},{"$f":"Macro!E4886","v":{"$error":"#DIV/0!"}}]
[null,{"$f":"Macro!A4887","v":0},{"$f":"Macro!B4887","v":0},{"$f":"Macro!E4887","v":{"$error":"#DIV/0!"}}]
[null,{"$f":"Macro!A4888","v":0},{"$f":"Macro!B4888","v":0},{"$f":"Macro!E4888","v":{"$error":"#DIV/0!"}}]
[null,{"$f":"Macro!A4889","v":0},{"$f":"Macro!B4889","v":0},{"$f":"Macro!E4889","v":{"$error":"#DIV/0!"}}]
[null,{"$f":"Macro!A4890","v":0},{"$f":"Macro!B4890","v":0},{"$f":"Macro!E4890","v":{"$error":"#DIV/0!"}}]
[null,{"$f":"Macro!A4891","v":0},{"$f":"Macro!B4891","v":0},{"$f":"Macro!E4891","v":{"$error":"#DIV/0!"}}]
[null,{"$f":"Macro!A4892","v":0},{"$f":"Macro!B4892","v":0},{"$f":"Macro!E4892","v":{"$error":"#DIV/0!"}}]
[null,{"$f":"Macro!A4893","v":0},{"$f":"Macro!B4893","v":0},{"$f":"Macro!E4893","v":{"$error":"#DIV/0!"}}]
[null,{"$f":"Macro!A4894","v":0},{"$f":"Macro!B4894","v":0},{"$f":"Macro!E4894","v":{"$error":"#DIV/0!"}}]
[null,{"$f":"Macro!A4895","v":0},{"$f":"Macro!B4895","v":0},{"$f":"Macro!E4895","v":{"$error":"#DIV/0!"}}]
[null,{"$f":"Macro!A4896","v":0},{"$f":"Macro!B4896","v":0},{"$f":"Macro!E4896","v":{"$error":"#DIV/0!"}}]
[null,{"$f":"Macro!A4897","v":0},{"$f":"Macro!B4897","v":0},{"$f":"Macro!E4897","v":{"$error":"#DIV/0!"}}]
[null,{"$f":"Macro!A4898","v":0},{"$f":"Macro!B4898","v":0},{"$f":"Macro!E4898","v":{"$error":"#DIV/0!"}}]
[null,{"$f":"Macro!A4899","v":0},{"$f":"Macro!B4899","v":0},{"$f":"Macro!E4899","v":{"$error":"#DIV/0!"}}]
[null,{"$f":"Macro!A4900","v":0},{"$f":"Macro!B4900","v":0},{"$f":"Macro!E4900","v":{"$error":"#DIV/0!"}}]
[null,{"$f":"Macro!A4901","v":0},{"$f":"Macro!B4901","v":0},{"$f":"Macro!E4901","v":{"$error":"#DIV/0!"}}]
[null,{"$f":"Macro!A4902","v":0},{"$f":"Macro!B4902","v":0},{"$f":"Macro!E4902","v":{"$error":"#DIV/0!"}}]
[null,{"$f":"Macro!A4903","v":0},{"$f":"Macro!B4903","v":0},{"$f":"Macro!E4903","v":{"$error":"#DIV/0!"}}]
[null,{"$f":"Macro!A4904","v":0},{"$f":"Macro!B4904","v":0},{"$f":"Macro!E4904","v":{"$error":"#DIV/0!"}}]
[null,{"$f":"Macro!A4905","v":0},{"$f":"Macro!B4905","v":0},{"$f":"Macro!E4905","v":{"$error":"#DIV/0!"}}]
[null,{"$f":"Macro!A4906","v":0},{"$f":"Macro!B4906","v":0},{"$f":"Macro!E4906","v":{"$error":"#DIV/0!"}}]
[null,{"$f":"Macro!A4907","v":0},{"$f":"Macro!B4907","v":0},{"$f":"Macro!E4907","v":{"$error":"#DIV/0!"}}]
[null,{"$f":"Macro!A4908","v":0},{"$f":"Macro!B4908","v":0},{"$f":"Macro!E4908","v":{"$error":"#DIV/0!"}}]
[null,{"$f":"Macro!A4909","v":0},{"$f":"Macro!B4909","v":0},{"$f":"Macro!E4909","v":{"$error":"#DIV/0!"}}]
[null,{"$f":"Macro!A4910","v":0},{"$f":"Macro!B4910","v":0},{"$f":"Macro!E4910","v":{"$error":"#DIV/0!"}}]
[null,{"$f":"Macro!A4911","v":0},{"$f":"Macro!B4911","v":0},{"$f":"Macro!E4911","v":{"$error":"#DIV/0!"}}]
[null,{"$f":"Macro!A4912","v":0},{"$f":"Macro!B4912","v":0},{"$f":"Macro!E4912","v":{"$error":"#DIV/0!"}}]
[null,{"$f":"Macro!A4913","v":0},{"$f":"Macro!B4913","v":0},{"$f":"Macro!E4913","v":{"$error":"#DIV/0!"}}]
[null,{"$f":"Macro!A4914","v":0},{"$f":"Macro!B4914","v":0},{"$f":"Macro!E4914","v":{"$error":"#DIV/0!"}}]
[null,{"$f":"Macro!A4915","v":0},{"$f":"Macro!B4915","v":0},{"$f":"Macro!E4915","v":{"$error":"#DIV/0!"}}]
[null,{"$f":"Macro!A4916","v":0},{"$f":"Macro!B4916","v":0},{"$f":"Macro!E4916","v":{"$error":"#DIV/0!"}}]
[null,{"$f":"Macro!A4917","v":0},{"$f":"Macro!B4917","v":0},{"$f":"Macro!E4917","v":{"$error":"#DIV/0!"}}]
[null,{"$f":"Macro!A4918","v":0},{"$f":"Macro!B4918","v":0},{"$f":"Macro!E4918","v":{"$error":"#DIV/0!"}}]
[null,{"$f":"Macro!A4919","v":0},{"$f":"Macro!B4919","v":0},{"$f":"Macro!E4919","v":{"$error":"#DIV/0!"}}]
[null,{"$f":"Macro!A4920","v":0},{"$f":"Macro!B4920","v":0},{"$f":"Macro!E4920","v":{"$error":"#DIV/0!"}}]
[null,{"$f":"Macro!A4921","v":0},{"$f":"Macro!B4921","v":0},{"$f":"Macro!E4921","v":{"$error":"#DIV/0!"}}]
[null,{"$f":"Macro!A4922","v":0},{"$f":"Macro!B4922","v":0},{"$f":"Macro!E4922","v":{"$error":"#DIV/0!"}}]
[null,{"$f":"Macro!A4923","v":0},{"$f":"Macro!B4923","v":0},{"$f":"Macro!E4923","v":{"$error":"#DIV/0!"}}]
[null,{"$f":"Macro!A4924","v":0},{"$f":"Macro!B4924","v":0},{"$f":"Macro!E4924","v":{"$error":"#DIV/0!"}}]
[null,{"$f":"Macro!A4925","v":0},{"$f":"Macro!B4925","v":0},{"$f":"Macro!E4925","v":{"$error":"#DIV/0!"}}]
[null,{"$f":"Macro!A4926","v":0},{"$f":"Macro!B4926","v":0},{"$f":"Macro!E4926","v":{"$error":"#DIV/0!"}}]
[null,{"$f":"Macro!A4927","v":0},{"$f":"Macro!B4927","v":0},{"$f":"Macro!E4927","v":{"$error":"#DIV/0!"}}]
[null,{"$f":"Macro!A4928","v":0},{"$f":"Macro!B4928","v":0},{"$f":"Macro!E4928","v":{"$error":"#DIV/0!"}}]
[null,{"$f":"Macro!A4929","v":0},{"$f":"Macro!B4929","v":0},{"$f":"Macro!E4929","v":{"$error":"#DIV/0!"}}]
[null,{"$f":"Macro!A4930","v":0},{"$f":"Macro!B4930","v":0},{"$f":"Macro!E4930","v":{"$error":"#DIV/0!"}}]
[null,{"$f":"Macro!A4931","v":0},{"$f":"Macro!B4931","v":0},{"$f":"Macro!E4931","v":{"$error":"#DIV/0!"}}]
[null,{"$f":"Macro!A4932","v":0},{"$f":"Macro!B4932","v":0},{"$f":"Macro!E4932","v":{"$error":"#DIV/0!"}}]
[null,{"$f":"Macro!A4933","v":0},{"$f":"Macro!B4933","v":0},{"$f":"Macro!E4933","v":{"$error":"#DIV/0!"}}]
[null,{"$f":"Macro!A4934","v":0},{"$f":"Macro!B4934","v":0},{"$f":"Macro!E4934","v":{"$error":"#DIV/0!"}}]
[null,{"$f":"Macro!A4935","v":0},{"$f":"Macro!B4935","v":0},{"$f":"Macro!E4935","v":{"$error":"#DIV/0!"}}]
[null,{"$f":"Macro!A4936","v":0},{"$f":"Macro!B4936","v":0},{"$f":"Macro!E4936","v":{"$error":"#DIV/0!"}}]
[null,{"$f":"Macro!A4937","v":0},{"$f":"Macro!B4937","v":0},{"$f":"Macro!E4937","v":{"$error":"#DIV/0!"}}]
[null,{"$f":"Macro!A4938","v":0},{"$f":"Macro!B4938","v":0},{"$f":"Macro!E4938","v":{"$error":"#DIV/0!"}}]
[null,{"$f":"Macro!A4939","v":0},{"$f":"Macro!B4939","v":0},{"$f":"Macro!E4939","v":{"$error":"#DIV/0!"}}]
[null,{"$f":"Macro!A4940","v":0},{"$f":"Macro!B4940","v":0},{"$f":"Macro!E4940","v":{"$error":"#DIV/0!"}}]
[null,{"$f":"Macro!A4941","v":0},{"$f":"Macro!B4941","v":0},{"$f":"Macro!E4941","v":{"$error":"#DIV/0!"}}]
[null,{"$f":"Macro!A4942","v":0},{"$f":"Macro!B4942","v":0},{"$f":"Macro!E4942","v":{"$error":"#DIV/0!"}}]
[null,{"$f":"Macro!A4943","v":0},{"$f":"Macro!B4943","v":0},{"$f":"Macro!E4943","v":{"$error":"#DIV/0!"}}]
[null,{"$f":"Macro!A4944","v":0},{"$f":"Macro!B4944","v":0},{"$f":"Macro!E4944","v":{"$error":"#DIV/0!"}}]
[null,{"$f":"Macro!A4945","v":0},{"$f":"Macro!B4945","v":0},{"$f":"Macro!E4945","v":{"$error":"#DIV/0!"}}]
[null,{"$f":"Macro!A4946","v":0},{"$f":"Macro!B4946","v":0},{"$f":"Macro!E4946","v":{"$error":"#DIV/0!"}}]
[null,{"$f":"Macro!A4947","v":0},{"$f":"Macro!B4947","v":0},{"$f":"Macro!E4947","v":{"$error":"#DIV/0!"}}]
[null,{"$f":"Macro!A4948","v":0},{"$f":"Macro!B4948","v":0},{"$f":"Macro!E4948","v":{"$error":"#DIV/0!"}}]
[null,{"$f":"Macro!A4949","v":0},{"$f":"Macro!B4949","v":0},{"$f":"Macro!E4949","v":{"$error":"#DIV/0!"}}]
[null,{"$f":"Macro!A4950","v":0},{"$f":"Macro!B4950","v":0},{"$f":"Macro!E4950","v":{"$error":"#DIV/0!"}}]
[null,{"$f":"Macro!A4951","v":0},{"$f":"Macro!B4951","v":0},{"$f":"Macro!E4951","v":{"$error":"#DIV/0!"}}]
[null,{"$f":"Macro!A4952","v":0},{"$f":"Macro!B4952","v":0},{"$f":"Macro!E4952","v":{"$error":"#DIV/0!"}}]
[null,{"$f":"Macro!A4953","v":0},{"$f":"Macro!B4953","v":0},{"$f":"Macro!E4953","v":{"$error":"#DIV/0!"}}]
[null,{"$f":"Macro!A4954","v":0},{"$f":"Macro!B4954","v":0},{"$f":"Macro!E4954","v":{"$error":"#DIV/0!"}}]
[null,{"$f":"Macro!A4955","v":0},{"$f":"Macro!B4955","v":0},{"$f":"Macro!E4955","v":{"$error":"#DIV/0!"}}]
[null,{"$f":"Macro!A4956","v":0},{"$f":"Macro!B4956","v":0},{"$f":"Macro!E4956","v":{"$error":"#DIV/0!"}}]
[null,{"$f":"Macro!A4957","v":0},{"$f":"Macro!B4957","v":0},{"$f":"Macro!E4957","v":{"$error":"#DIV/0!"}}]
[null,{"$f":"Macro!A4958","v":0},{"$f":"Macro!B4958","v":0},{"$f":"Macro!E4958","v":{"$error":"#DIV/0!"}}]
[null,{"$f":"Macro!A4959","v":0},{"$f":"Macro!B4959","v":0},{"$f":"Macro!E4959","v":{"$error":"#DIV/0!"}}]
[null,{"$f":"Macro!A4960","v":0},{"$f":"Macro!B4960","v":0},{"$f":"Macro!E4960","v":{"$error":"#DIV/0!"}}]
[null,{"$f":"Macro!A4961","v":0},{"$f":"Macro!B4961","v":0},{"$f":"Macro!E4961","v":{"$error":"#DIV/0!"}}]
[null,{"$f":"Macro!A4962","v":0},{"$f":"Macro!B4962","v":0},{"$f":"Macro!E4962","v":{"$error":"#DIV/0!"}}]
[null,{"$f":"Macro!A4963","v":0},{"$f":"Macro!B4963","v":0},{"$f":"Macro!E4963","v":{"$error":"#DIV/0!"}}]
[null,{"$f":"Macro!A4964","v":0},{"$f":"Macro!B4964","v":0},{"$f":"Macro!E4964","v":{"$error":"#DIV/0!"}}]
[null,{"$f":"Macro!A4965","v":0},{"$f":"Macro!B4965","v":0},{"$f":"Macro!E4965","v":{"$error":"#DIV/0!"}}]
[null,{"$f":"Macro!A4966","v":0},{"$f":"Macro!B4966","v":0},{"$f":"Macro!E4966","v":{"$error":"#DIV/0!"}}]
[null,{"$f":"Macro!A4967","v":0},{"$f":"Macro!B4967","v":0},{"$f":"Macro!E4967","v":{"$error":"#DIV/0!"}}]
[null,{"$f":"Macro!A4968","v":0},{"$f":"Macro!B4968","v":0},{"$f":"Macro!E4968","v":{"$error":"#DIV/0!"}}]
[null,{"$f":"Macro!A4969","v":0},{"$f":"Macro!B4969","v":0},{"$f":"Macro!E4969","v":{"$error":"#DIV/0!"}}]
[null,{"$f":"Macro!A4970","v":0},{"$f":"Macro!B4970","v":0},{"$f":"Macro!E4970","v":{"$error":"#DIV/0!"}}]
[null,{"$f":"Macro!A4971","v":0},{"$f":"Macro!B4971","v":0},{"$f":"Macro!E4971","v":{"$error":"#DIV/0!"}}]
[null,{"$f":"Macro!A4972","v":0},{"$f":"Macro!B4972","v":0},{"$f":"Macro!E4972","v":{"$error":"#DIV/0!"}}]
[null,{"$f":"Macro!A4973","v":0},{"$f":"Macro!B4973","v":0},{"$f":"Macro!E4973","v":{"$error":"#DIV/0!"}}]
[null,{"$f":"Macro!A4974","v":0},{"$f":"Macro!B4974","v":0},{"$f":"Macro!E4974","v":{"$error":"#DIV/0!"}}]
[null,{"$f":"Macro!A4975","v":0},{"$f":"Macro!B4975","v":0},{"$f":"Macro!E4975","v":{"$error":"#DIV/0!"}}]
[null,{"$f":"Macro!A4976","v":0},{"$f":"Macro!B4976","v":0},{"$f":"Macro!E4976","v":{"$error":"#DIV/0!"}}]
[null,{"$f":"Macro!A4977","v":0},{"$f":"Macro!B4977","v":0},{"$f":"Macro!E4977","v":{"$error":"#DIV/0!"}}]
[null,{"$f":"Macro!A4978","v":0},{"$f":"Macro!B4978","v":0},{"$f":"Macro!E4978","v":{"$error":"#DIV/0!"}}]
[null,{"$f":"Macro!A4979","v":0},{"$f":"Macro!B4979","v":0},{"$f":"Macro!E4979","v":{"$error":"#DIV/0!"}}]
[null,{"$f":"Macro!A4980","v":0},{"$f":"Macro!B4980","v":0},{"$f":"Macro!E4980","v":{"$error":"#DIV/0!"}}]
[null,{"$f":"Macro!A4981","v":0},{"$f":"Macro!B4981","v":0},{"$f":"Macro!E4981","v":{"$error":"#DIV/0!"}}]
[null,{"$f":"Macro!A4982","v":0},{"$f":"Macro!B4982","v":0},{"$f":"Macro!E4982","v":{"$error":"#DIV/0!"}}]
[null,{"$f":"Macro!A4983","v":0},{"$f":"Macro!B4983","v":0},{"$f":"Macro!E4983","v":{"$error":"#DIV/0!"}}]
[null,{"$f":"Macro!A4984","v":0},{"$f":"Macro!B4984","v":0},{"$f":"Macro!E4984","v":{"$error":"#DIV/0!"}}]
[null,{"$f":"Macro!A4985","v":0},{"$f":"Macro!B4985","v":0},{"$f":"Macro!E4985","v":{"$error":"#DIV/0!"}}]
[null,{"$f":"Macro!A4986","v":0},{"$f":"Macro!B4986","v":0},{"$f":"Macro!E4986","v":{"$error":"#DIV/0!"}}]
[null,{"$f":"Macro!A4987","v":0},{"$f":"Macro!B4987","v":0},{"$f":"Macro!E4987","v":{"$error":"#DIV/0!"}}]
[null,{"$f":"Macro!A4988","v":0},{"$f":"Macro!B4988","v":0},{"$f":"Macro!E4988","v":{"$error":"#DIV/0!"}}]
[null,{"$f":"Macro!A4989","v":0},{"$f":"Macro!B4989","v":0},{"$f":"Macro!E4989","v":{"$error":"#DIV/0!"}}]
[null,{"$f":"Macro!A4990","v":0},{"$f":"Macro!B4990","v":0},{"$f":"Macro!E4990","v":{"$error":"#DIV/0!"}}]
[null,{"$f":"Macro!A4991","v":0},{"$f":"Macro!B4991","v":0},{"$f":"Macro!E4991","v":{"$error":"#DIV/0!"}}]
[null,{"$f":"Macro!A4992","v":0},{"$f":"Macro!B4992","v":0},{"$f":"Macro!E4992","v":{"$error":"#DIV/0!"}}]
[null,{"$f":"Macro!A4993","v":0},{"$f":"Macro!B4993","v":0},{"$f":"Macro!E4993","v":{"$error":"#DIV/0!"}}]
[null,{"$f":"Macro!A4994","v":0},{"$f":"Macro!B4994","v":0},{"$f":"Macro!E4994","v":{"$error":"#DIV/0!"}}]
[null,{"$f":"Macro!A4995","v":0},{"$f":"Macro!B4995","v":0},{"$f":"Macro!E4995","v":{"$error":"#DIV/0!"}}]
[null,{"$f":"Macro!A4996","v":0},{"$f":"Macro!B4996","v":0},{"$f":"Macro!E4996","v":{"$error":"#DIV/0!"}}]
[null,{"$f":"Macro!A4997","v":0},{"$f":"Macro!B4997","v":0},{"$f":"Macro!E4997","v":{"$error":"#DIV/0!"}}]
[null,{"$f":"Macro!A4998","v":0},{"$f":"Macro!B4998","v":0},{"$f":"Macro!E4998","v":{"$error":"#DIV/0!"}}]
[null,{"$f":"Macro!A4999","v":0},{"$f":"Macro!B4999","v":0},{"$f":"Macro!E4999","v":{"$error":"#DIV/0!"}}]
[null,{"$f":"Macro!A5000","v":0},{"$f":"Macro!B5000","v":0},{"$f":"Macro!E5000","v":{"$error":"#DIV/0!"}}]
[null,{"$f":"Macro!A5001","v":0},{"$f":"Macro!B5001","v":0},{"$f":"Macro!E5001","v":{"$error":"#DIV/0!"}}]
[null,{"$f":"Macro!A5002","v":0},{"$f":"Macro!B5002","v":0},{"$f":"Macro!E5002","v":{"$error":"#DIV/0!"}}]
[null,{"$f":"Macro!A5003","v":0},{"$f":"Macro!B5003","v":0},{"$f":"Macro!E5003","v":{"$error":"#DIV/0!"}}]
[null,{"$f":"Macro!A5004","v":0},{"$f":"Macro!B5004","v":0},{"$f":"Macro!E5004","v":{"$error":"#DIV/0!"}}]
[null,{"$f":"Macro!A5005","v":0},{"$f":"Macro!B5005","v":0},{"$f":"Macro!E5005","v":{"$error":"#DIV/0!"}}]
[null,{"$f":"Macro!A5006","v":0},{"$f":"Macro!B5006","v":0},{"$f":"Macro!E5006","v":{"$error":"#DIV/0!"}}]
[null,{"$f":"Macro!A5007","v":0},{"$f":"Macro!B5007","v":0},{"$f":"Macro!E5007","v":{"$error":"#DIV/0!"}}]
[null,{"$f":"Macro!A5008","v":0},{"$f":"Macro!B5008","v":0},{"$f":"Macro!E5008","v":{"$error":"#DIV/0!"}}]
[null,{"$f":"Macro!A5009","v":0},{"$f":"Macro!B5009","v":0},{"$f":"Macro!E5009","v":{"$error":"#DIV/0!"}}]
[null,{"$f":"Macro!A5010","v":0},{"$f":"Macro!B5010","v":0},{"$f":"Macro!E5010","v":{"$error":"#DIV/0!"}}]
[null,{"$f":"Macro!A5011","v":0},{"$f":"Macro!B5011","v":0},{"$f":"Macro!E5011","v":{"$error":"#DIV/0!"}}]
[null,{"$f":"Macro!A5012","v":0},{"$f":"Macro!B5012","v":0},{"$f":"Macro!E5012","v":{"$error":"#DIV/0!"}}]
[null,{"$f":"Macro!A5013","v":0},{"$f":"Macro!B5013","v":0},{"$f":"Macro!E5013","v":{"$error":"#DIV/0!"}}]
[null,{"$f":"Macro!A5014","v":0},{"$f":"Macro!B5014","v":0},{"$f":"Macro!E5014","v":{"$error":"#DIV/0!"}}]
[null,{"$f":"Macro!A5015","v":0},{"$f":"Macro!B5015","v":0},{"$f":"Macro!E5015","v":{"$error":"#DIV/0!"}}]
[null,{"$f":"Macro!A5016","v":0},{"$f":"Macro!B5016","v":0},{"$f":"Macro!E5016","v":{"$error":"#DIV/0!"}}]
[null,{"$f":"Macro!A5017","v":0},{"$f":"Macro!B5017","v":0},{"$f":"Macro!E5017","v":{"$error":"#DIV/0!"}}]
[null,{"$f":"Macro!A5018","v":0},{"$f":"Macro!B5018","v":0},{"$f":"Macro!E5018","v":{"$error":"#DIV/0!"}}]
[null,{"$f":"Macro!A5019","v":0},{"$f":"Macro!B5019","v":0},{"$f":"Macro!E5019","v":{"$error":"#DIV/0!"}}]
[null,{"$f":"Macro!A5020","v":0},{"$f":"Macro!B5020","v":0},{"$f":"Macro!E5020","v":{"$error":"#DIV/0!"}}]
[null,{"$f":"Macro!A5021","v":0},{"$f":"Macro!B5021","v":0},{"$f":"Macro!E5021","v":{"$error":"#DIV/0!"}}]
[null,{"$f":"Macro!A5022","v":0},{"$f":"Macro!B5022","v":0},{"$f":"Macro!E5022","v":{"$error":"#DIV/0!"}}]
[null,{"$f":"Macro!A5023","v":0},{"$f":"Macro!B5023","v":0},{"$f":"Macro!E5023","v":{"$error":"#DIV/0!"}}]
[null,{"$f":"Macro!A5024","v":0},{"$f":"Macro!B5024","v":0},{"$f":"Macro!E5024","v":{"$error":"#DIV/0!"}}]
[null,{"$f":"Macro!A5025","v":0},{"$f":"Macro!B5025","v":0},{"$f":"Macro!E5025","v":{"$error":"#DIV/0!"}}]
[null,{"$f":"Macro!A5026","v":0},{"$f":"Macro!B5026","v":0},{"$f":"Macro!E5026","v":{"$error":"#DIV/0!"}}]
[null,{"$f":"Macro!A5027","v":0},{"$f":"Macro!B5027","v":0},{"$f":"Macro!E5027","v":{"$error":"#DIV/0!"}}]
[null,{"$f":"Macro!A5028","v":0},{"$f":"Macro!B5028","v":0},{"$f":"Macro!E5028","v":{"$error":"#DIV/0!"}}]
[null,{"$f":"Macro!A5029","v":0},{"$f":"Macro!B5029","v":0},{"$f":"Macro!E5029","v":{"$error":"#DIV/0!"}}]
[null,{"$f":"Macro!A5030","v":0},{"$f":"Macro!B5030","v":0},{"$f":"Macro!E5030","v":{"$error":"#DIV/0!"}}]
[null,{"$f":"Macro!A5031","v":0},{"$f":"Macro!B5031","v":0},{"$f":"Macro!E5031","v":{"$error":"#DIV/0!"}}]
[null,{"$f":"Macro!A5032","v":0},{"$f":"Macro!B5032","v":0},{"$f":"Macro!E5032","v":{"$error":"#DIV/0!"}}]
[null,{"$f":"Macro!A5033","v":0},{"$f":"Macro!B5033","v":0},{"$f":"Macro!E5033","v":{"$error":"#DIV/0!"}}]
[null,{"$f":"Macro!A5034","v":0},{"$f":"Macro!B5034","v":0},{"$f":"Macro!E5034","v":{"$error":"#DIV/0!"}}]
[null,{"$f":"Macro!A5035","v":0},{"$f":"Macro!B5035","v":0},{"$f":"Macro!E5035","v":{"$error":"#DIV/0!"}}]
[null,{"$f":"Macro!A5036","v":0},{"$f":"Macro!B5036","v":0},{"$f":"Macro!E5036","v":{"$error":"#DIV/0!"}}]
[null,{"$f":"Macro!A5037","v":0},{"$f":"Macro!B5037","v":0},{"$f":"Macro!E5037","v":{"$error":"#DIV/0!"}}]
[null,{"$f":"Macro!A5038","v":0},{"$f":"Macro!B5038","v":0},{"$f":"Macro!E5038","v":{"$error":"#DIV/0!"}}]
[null,{"$f":"Macro!A5039","v":0},{"$f":"Macro!B5039","v":0},{"$f":"Macro!E5039","v":{"$error":"#DIV/0!"}}]
[null,{"$f":"Macro!A5040","v":0},{"$f":"Macro!B5040","v":0},{"$f":"Macro!E5040","v":{"$error":"#DIV/0!"}}]
[null,{"$f":"Macro!A5041","v":0},{"$f":"Macro!B5041","v":0},{"$f":"Macro!E5041","v":{"$error":"#DIV/0!"}}]
[null,{"$f":"Macro!A5042","v":0},{"$f":"Macro!B5042","v":0},{"$f":"Macro!E5042","v":{"$error":"#DIV/0!"}}]
[null,{"$f":"Macro!A5043","v":0},{"$f":"Macro!B5043","v":0},{"$f":"Macro!E5043","v":{"$error":"#DIV/0!"}}]
[null,{"$f":"Macro!A5044","v":0},{"$f":"Macro!B5044","v":0},{"$f":"Macro!E5044","v":{"$error":"#DIV/0!"}}]
[null,{"$f":"Macro!A5045","v":0},{"$f":"Macro!B5045","v":0},{"$f":"Macro!E5045","v":{"$error":"#DIV/0!"}}]
[null,{"$f":"Macro!A5046","v":0},{"$f":"Macro!B5046","v":0},{"$f":"Macro!E5046","v":{"$error":"#DIV/0!"}}]
[null,{"$f":"Macro!A5047","v":0},{"$f":"Macro!B5047","v":0},{"$f":"Macro!E5047","v":{"$error":"#DIV/0!"}}]
[null,{"$f":"Macro!A5048","v":0},{"$f":"Macro!B5048","v":0},{"$f":"Macro!E5048","v":{"$error":"#DIV/0!"}}]
[null,{"$f":"Macro!A5049","v":0},{"$f":"Macro!B5049","v":0},{"$f":"Macro!E5049","v":{"$error":"#DIV/0!"}}]
[null,{"$f":"Macro!A5050","v":0},{"$f":"Macro!B5050","v":0},{"$f":"Macro!E5050","v":{"$error":"#DIV/0!"}}]
[null,{"$f":"Macro!A5051","v":0},{"$f":"Macro!B5051","v":0},{"$f":"Macro!E5051","v":{"$error":"#DIV/0!"}}]
[null,{"$f":"Macro!A5052","v":0},{"$f":"Macro!B5052","v":0},{"$f":"Macro!E5052","v":{"$error":"#DIV/0!"}}]
[null,{"$f":"Macro!A5053","v":0},{"$f":"Macro!B5053","v":0},{"$f":"Macro!E5053","v":{"$error":"#DIV/0!"}}]
[null,{"$f":"Macro!A5054","v":0},{"$f":"Macro!B5054","v":0},{"$f":"Macro!E5054","v":{"$error":"#DIV/0!"}}]
[null,{"$f":"Macro!A5055","v":0},{"$f":"Macro!B5055","v":0},{"$f":"Macro!E5055","v":{"$error":"#DIV/0!"}}]
[null,{"$f":"Macro!A5056","v":0},{"$f":"Macro!B5056","v":0},{"$f":"Macro!E5056","v":{"$error":"#DIV/0!"}}]
[null,{"$f":"Macro!A5057","v":0},{"$f":"Macro!B5057","v":0},{"$f":"Macro!E5057","v":{"$error":"#DIV/0!"}}]
[null,{"$f":"Macro!A5058","v":0},{"$f":"Macro!B5058","v":0},{"$f":"Macro!E5058","v":{"$error":"#DIV/0!"}}]
[null,{"$f":"Macro!A5059","v":0},{"$f":"Macro!B5059","v":0},{"$f":"Macro!E5059","v":{"$error":"#DIV/0!"}}]
[null,{"$f":"Macro!A5060","v":0},{"$f":"Macro!B5060","v":0},{"$f":"Macro!E5060","v":{"$error":"#DIV/0!"}}]
[null,{"$f":"Macro!A5061","v":0},{"$f":"Macro!B5061","v":0},{"$f":"Macro!E5061","v":{"$error":"#DIV/0!"}}]
[null,{"$f":"Macro!A5062","v":0},{"$f":"Macro!B5062","v":0},{"$f":"Macro!E5062","v":{"$error":"#DIV/0!"}}]
[null,{"$f":"Macro!A5063","v":0},{"$f":"Macro!B5063","v":0},{"$f":"Macro!E5063","v":{"$error":"#DIV/0!"}}]
[null,{"$f":"Macro!A5064","v":0},{"$f":"Macro!B5064","v":0},{"$f":"Macro!E5064","v":{"$error":"#DIV/0!"}}]
[null,{"$f":"Macro!A5065","v":0},{"$f":"Macro!B5065","v":0},{"$f":"Macro!E5065","v":{"$error":"#DIV/0!"}}]
[null,{"$f":"Macro!A5066","v":0},{"$f":"Macro!B5066","v":0},{"$f":"Macro!E5066","v":{"$error":"#DIV/0!"}}]
[null,{"$f":"Macro!A5067","v":0},{"$f":"Macro!B5067","v":0},{"$f":"Macro!E5067","v":{"$error":"#DIV/0!"}}]
[null,{"$f":"Macro!A5068","v":0},{"$f":"Macro!B5068","v":0},{"$f":"Macro!E5068","v":{"$error":"#DIV/0!"}}]
[null,{"$f":"Macro!A5069","v":0},{"$f":"Macro!B5069","v":0},{"$f":"Macro!E5069","v":{"$error":"#DIV/0!"}}]
[null,{"$f":"Macro!A5070","v":0},{"$f":"Macro!B5070","v":0},{"$f":"Macro!E5070","v":{"$error":"#DIV/0!"}}]
[null,{"$f":"Macro!A5071","v":0},{"$f":"Macro!B5071","v":0},{"$f":"Macro!E5071","v":{"$error":"#DIV/0!"}}]
[null,{"$f":"Macro!A5072","v":0},{"$f":"Macro!B5072","v":0},{"$f":"Macro!E5072","v":{"$error":"#DIV/0!"}}]
[null,{"$f":"Macro!A5073","v":0},{"$f":"Macro!B5073","v":0},{"$f":"Macro!E5073","v":{"$error":"#DIV/0!"}}]
[null,{"$f":"Macro!A5074","v":0},{"$f":"Macro!B5074","v":0},{"$f":"Macro!E5074","v":{"$error":"#DIV/0!"}}]
[null,{"$f":"Macro!A5075","v":0},{"$f":"Macro!B5075","v":0},{"$f":"Macro!E5075","v":{"$error":"#DIV/0!"}}]
[null,{"$f":"Macro!A5076","v":0},{"$f":"Macro!B5076","v":0},{"$f":"Macro!E5076","v":{"$error":"#DIV/0!"}}]
[null,{"$f":"Macro!A5077","v":0},{"$f":"Macro!B5077","v":0},{"$f":"Macro!E5077","v":{"$error":"#DIV/0!"}}]
[null,{"$f":"Macro!A5078","v":0},{"$f":"Macro!B5078","v":0},{"$f":"Macro!E5078","v":{"$error":"#DIV/0!"}}]
[null,{"$f":"Macro!A5079","v":0},{"$f":"Macro!B5079","v":0},{"$f":"Macro!E5079","v":{"$error":"#DIV/0!"}}]
[null,{"$f":"Macro!A5080","v":0},{"$f":"Macro!B5080","v":0},{"$f":"Macro!E5080","v":{"$error":"#DIV/0!"}}]
[null,{"$f":"Macro!A5081","v":0},{"$f":"Macro!B5081","v":0},{"$f":"Macro!E5081","v":{"$error":"#DIV/0!"}}]
[null,{"$f":"Macro!A5082","v":0},{"$f":"Macro!B5082","v":0},{"$f":"Macro!E5082","v":{"$error":"#DIV/0!"}}]
[null,{"$f":"Macro!A5083","v":0},{"$f":"Macro!B5083","v":0},{"$f":"Macro!E5083","v":{"$error":"#DIV/0!"}}]
[null,{"$f":"Macro!A5084","v":0},{"$f":"Macro!B5084","v":0},{"$f":"Macro!E5084","v":{"$error":"#DIV/0!"}}]
[null,{"$f":"Macro!A5085","v":0},{"$f":"Macro!B5085","v":0},{"$f":"Macro!E5085","v":{"$error":"#DIV/0!"}}]
[null,{"$f":"Macro!A5086","v":0},{"$f":"Macro!B5086","v":0},{"$f":"Macro!E5086","v":{"$error":"#DIV/0!"}}]
[null,{"$f":"Macro!A5087","v":0},{"$f":"Macro!B5087","v":0},{"$f":"Macro!E5087","v":{"$error":"#DIV/0!"}}]
[null,{"$f":"Macro!A5088","v":0},{"$f":"Macro!B5088","v":0},{"$f":"Macro!E5088","v":{"$error":"#DIV/0!"}}]
[null,{"$f":"Macro!A5089","v":0},{"$f":"Macro!B5089","v":0},{"$f":"Macro!E5089","v":{"$error":"#DIV/0!"}}]
[null,{"$f":"Macro!A5090","v":0},{"$f":"Macro!B5090","v":0},{"$f":"Macro!E5090","v":{"$error":"#DIV/0!"}}]
[null,{"$f":"Macro!A5091","v":0},{"$f":"Macro!B5091","v":0},{"$f":"Macro!E5091","v":{"$error":"#DIV/0!"}}]
[null,{"$f":"Macro!A5092","v":0},{"$f":"Macro!B5092","v":0},{"$f":"Macro!E5092","v":{"$error":"#DIV/0!"}}]
[null,{"$f":"Macro!A5093","v":0},{"$f":"Macro!B5093","v":0},{"$f":"Macro!E5093","v":{"$error":"#DIV/0!"}}]
[null,{"$f":"Macro!A5094","v":0},{"$f":"Macro!B5094","v":0},{"$f":"Macro!E5094","v":{"$error":"#DIV/0!"}}]
[null,{"$f":"Macro!A5095","v":0},{"$f":"Macro!B5095","v":0},{"$f":"Macro!E5095","v":{"$error":"#DIV/0!"}}]
[null,{"$f":"Macro!A5096","v":0},{"$f":"Macro!B5096","v":0},{"$f":"Macro!E5096","v":{"$error":"#DIV/0!"}}]
[null,{"$f":"Macro!A5097","v":0},{"$f":"Macro!B5097","v":0},{"$f":"Macro!E5097","v":{"$error":"#DIV/0!"}}]
[null,{"$f":"Macro!A5098","v":0},{"$f":"Macro!B5098","v":0},{"$f":"Macro!E5098","v":{"$error":"#DIV/0!"}}]
[null,{"$f":"Macro!A5099","v":0},{"$f":"Macro!B5099","v":0},{"$f":"Macro!E5099","v":{"$error":"#DIV/0!"}}]
[null,{"$f":"Macro!A5100","v":0},{"$f":"Macro!B5100","v":0},{"$f":"Macro!E5100","v":{"$error":"#DIV/0!"}}]
[null,{"$f":"Macro!A5101","v":0},{"$f":"Macro!B5101","v":0},{"$f":"Macro!E5101","v":{"$error":"#DIV/0!"}}]
[null,{"$f":"Macro!A5102","v":0},{"$f":"Macro!B5102","v":0},{"$f":"Macro!E5102","v":{"$error":"#DIV/0!"}}]
[null,{"$f":"Macro!A5103","v":0},{"$f":"Macro!B5103","v":0},{"$f":"Macro!E5103","v":{"$error":"#DIV/0!"}}]
[null,{"$f":"Macro!A5104","v":0},{"$f":"Macro!B5104","v":0},{"$f":"Macro!E5104","v":{"$error":"#DIV/0!"}}]
[null,{"$f":"Macro!A5105","v":0},{"$f":"Macro!B5105","v":0},{"$f":"Macro!E5105","v":{"$error":"#DIV/0!"}}]
[null,{"$f":"Macro!A5106","v":0},{"$f":"Macro!B5106","v":0},{"$f":"Macro!E5106","v":{"$error":"#DIV/0!"}}]
[null,{"$f":"Macro!A5107","v":0},{"$f":"Macro!B5107","v":0},{"$f":"Macro!E5107","v":{"$error":"#DIV/0!"}}]
[null,{"$f":"Macro!A5108","v":0},{"$f":"Macro!B5108","v":0},{"$f":"Macro!E5108","v":{"$error":"#DIV/0!"}}]
[null,{"$f":"Macro!A5109","v":0},{"$f":"Macro!B5109","v":0},{"$f":"Macro!E5109","v":{"$error":"#DIV/0!"}}]
[null,{"$f":"Macro!A5110","v":0},{"$f":"Macro!B5110","v":0},{"$f":"Macro!E5110","v":{"$error":"#DIV/0!"}}]
[null,{"$f":"Macro!A5111","v":0},{"$f":"Macro!B5111","v":0},{"$f":"Macro!E5111","v":{"$error":"#DIV/0!"}}]
[null,{"$f":"Macro!A5112","v":0},{"$f":"Macro!B5112","v":0},{"$f":"Macro!E5112","v":{"$error":"#DIV/0!"}}]
[null,{"$f":"Macro!A5113","v":0},{"$f":"Macro!B5113","v":0},{"$f":"Macro!E5113","v":{"$error":"#DIV/0!"}}]
[null,{"$f":"Macro!A5114","v":0},{"$f":"Macro!B5114","v":0},{"$f":"Macro!E5114","v":{"$error":"#DIV/0!"}}]
[null,{"$f":"Macro!A5115","v":0},{"$f":"Macro!B5115","v":0},{"$f":"Macro!E5115","v":{"$error":"#DIV/0!"}}]
[null,{"$f":"Macro!A5116","v":0},{"$f":"Macro!B5116","v":0},{"$f":"Macro!E5116","v":{"$error":"#DIV/0!"}}]
[null,{"$f":"Macro!A5117","v":0},{"$f":"Macro!B5117","v":0},{"$f":"Macro!E5117","v":{"$error":"#DIV/0!"}}]
[null,{"$f":"Macro!A5118","v":0},{"$f":"Macro!B5118","v":0},{"$f":"Macro!E5118","v":{"$error":"#DIV/0!"}}]
[null,{"$f":"Macro!A5119","v":0},{"$f":"Macro!B5119","v":0},{"$f":"Macro!E5119","v":{"$error":"#DIV/0!"}}]
[null,{"$f":"Macro!A5120","v":0},{"$f":"Macro!B5120","v":0},{"$f":"Macro!E5120","v":{"$error":"#DIV/0!"}}]
[null,{"$f":"Macro!A5121","v":0},{"$f":"Macro!B5121","v":0},{"$f":"Macro!E5121","v":{"$error":"#DIV/0!"}}]
[null,{"$f":"Macro!A5122","v":0},{"$f":"Macro!B5122","v":0},{"$f":"Macro!E5122","v":{"$error":"#DIV/0!"}}]
[null,{"$f":"Macro!A5123","v":0},{"$f":"Macro!B5123","v":0},{"$f":"Macro!E5123","v":{"$error":"#DIV/0!"}}]
[null,{"$f":"Macro!A5124","v":0},{"$f":"Macro!B5124","v":0},{"$f":"Macro!E5124","v":{"$error":"#DIV/0!"}}]
[null,{"$f":"Macro!A5125","v":0},{"$f":"Macro!B5125","v":0},{"$f":"Macro!E5125","v":{"$error":"#DIV/0!"}}]
[null,{"$f":"Macro!A5126","v":0},{"$f":"Macro!B5126","v":0},{"$f":"Macro!E5126","v":{"$error":"#DIV/0!"}}]
[null,{"$f":"Macro!A5127","v":0},{"$f":"Macro!B5127","v":0},{"$f":"Macro!E5127","v":{"$error":"#DIV/0!"}}]
[null,{"$f":"Macro!A5128","v":0},{"$f":"Macro!B5128","v":0},{"$f":"Macro!E5128","v":{"$error":"#DIV/0!"}}]
[null,{"$f":"Macro!A5129","v":0},{"$f":"Macro!B5129","v":0},{"$f":"Macro!E5129","v":{"$error":"#DIV/0!"}}]
[null,{"$f":"Macro!A5130","v":0},{"$f":"Macro!B5130","v":0},{"$f":"Macro!E5130","v":{"$error":"#DIV/0!"}}]
[null,{"$f":"Macro!A5131","v":0},{"$f":"Macro!B5131","v":0},{"$f":"Macro!E5131","v":{"$error":"#DIV/0!"}}]
[null,{"$f":"Macro!A5132","v":0},{"$f":"Macro!B5132","v":0},{"$f":"Macro!E5132","v":{"$error":"#DIV/0!"}}]
[null,{"$f":"Macro!A5133","v":0},{"$f":"Macro!B5133","v":0},{"$f":"Macro!E5133","v":{"$error":"#DIV/0!"}}]
[null,{"$f":"Macro!A5134","v":0},{"$f":"Macro!B5134","v":0},{"$f":"Macro!E5134","v":{"$error":"#DIV/0!"}}]
[null,{"$f":"Macro!A5135","v":0},{"$f":"Macro!B5135","v":0},{"$f":"Macro!E5135","v":{"$error":"#DIV/0!"}}]
[null,{"$f":"Macro!A5136","v":0},{"$f":"Macro!B5136","v":0},{"$f":"Macro!E5136","v":{"$error":"#DIV/0!"}}]
[null,{"$f":"Macro!A5137","v":0},{"$f":"Macro!B5137","v":0},{"$f":"Macro!E5137","v":{"$error":"#DIV/0!"}}]
[null,{"$f":"Macro!A5138","v":0},{"$f":"Macro!B5138","v":0},{"$f":"Macro!E5138","v":{"$error":"#DIV/0!"}}]
[null,{"$f":"Macro!A5139","v":0},{"$f":"Macro!B5139","v":0},{"$f":"Macro!E5139","v":{"$error":"#DIV/0!"}}]
[null,{"$f":"Macro!A5140","v":0},{"$f":"Macro!B5140","v":0},{"$f":"Macro!E5140","v":{"$error":"#DIV/0!"}}]
[null,{"$f":"Macro!A5141","v":0},{"$f":"Macro!B5141","v":0},{"$f":"Macro!E5141","v":{"$error":"#DIV/0!"}}]
[null,{"$f":"Macro!A5142","v":0},{"$f":"Macro!B5142","v":0},{"$f":"Macro!E5142","v":{"$error":"#DIV/0!"}}]
[null,{"$f":"Macro!A5143","v":0},{"$f":"Macro!B5143","v":0},{"$f":"Macro!E5143","v":{"$error":"#DIV/0!"}}]
[null,{"$f":"Macro!A5144","v":0},{"$f":"Macro!B5144","v":0},{"$f":"Macro!E5144","v":{"$error":"#DIV/0!"}}]
[null,{"$f":"Macro!A5145","v":0},{"$f":"Macro!B5145","v":0},{"$f":"Macro!E5145","v":{"$error":"#DIV/0!"}}]
[null,{"$f":"Macro!A5146","v":0},{"$f":"Macro!B5146","v":0},{"$f":"Macro!E5146","v":{"$error":"#DIV/0!"}}]
[null,{"$f":"Macro!A5147","v":0},{"$f":"Macro!B5147","v":0},{"$f":"Macro!E5147","v":{"$error":"#DIV/0!"}}]
[null,{"$f":"Macro!A5148","v":0},{"$f":"Macro!B5148","v":0},{"$f":"Macro!E5148","v":{"$error":"#DIV/0!"}}]
[null,{"$f":"Macro!A5149","v":0},{"$f":"Macro!B5149","v":0},{"$f":"Macro!E5149","v":{"$error":"#DIV/0!"}}]
[null,{"$f":"Macro!A5150","v":0},{"$f":"Macro!B5150","v":0},{"$f":"Macro!E5150","v":{"$error":"#DIV/0!"}}]
[null,{"$f":"Macro!A5151","v":0},{"$f":"Macro!B5151","v":0},{"$f":"Macro!E5151","v":{"$error":"#DIV/0!"}}]
[null,{"$f":"Macro!A5152","v":0},{"$f":"Macro!B5152","v":0},{"$f":"Macro!E5152","v":{"$error":"#DIV/0!"}}]
[null,{"$f":"Macro!A5153","v":0},{"$f":"Macro!B5153","v":0},{"$f":"Macro!E5153","v":{"$error":"#DIV/0!"}}]
[null,{"$f":"Macro!A5154","v":0},{"$f":"Macro!B5154","v":0},{"$f":"Macro!E5154","v":{"$error":"#DIV/0!"}}]
[null,{"$f":"Macro!A5155","v":0},{"$f":"Macro!B5155","v":0},{"$f":"Macro!E5155","v":{"$error":"#DIV/0!"}}]
[null,{"$f":"Macro!A5156","v":0},{"$f":"Macro!B5156","v":0},{"$f":"Macro!E5156","v":{"$error":"#DIV/0!"}}]
[null,{"$f":"Macro!A5157","v":0},{"$f":"Macro!B5157","v":0},{"$f":"Macro!E5157","v":{"$error":"#DIV/0!"}}]
[null,{"$f":"Macro!A5158","v":0},{"$f":"Macro!B5158","v":0},{"$f":"Macro!E5158","v":{"$error":"#DIV/0!"}}]
[null,{"$f":"Macro!A5159","v":0},{"$f":"Macro!B5159","v":0},{"$f":"Macro!E5159","v":{"$error":"#DIV/0!"}}]
[null,{"$f":"Macro!A5160","v":0},{"$f":"Macro!B5160","v":0},{"$f":"Macro!E5160","v":{"$error":"#DIV/0!"}}]
[null,{"$f":"Macro!A5161","v":0},{"$f":"Macro!B5161","v":0},{"$f":"Macro!E5161","v":{"$error":"#DIV/0!"}}]
[null,{"$f":"Macro!A5162","v":0},{"$f":"Macro!B5162","v":0},{"$f":"Macro!E5162","v":{"$error":"#DIV/0!"}}]
[null,{"$f":"Macro!A5163","v":0},{"$f":"Macro!B5163","v":0},{"$f":"Macro!E5163","v":{"$error":"#DIV/0!"}}]
[null,{"$f":"Macro!A5164","v":0},{"$f":"Macro!B5164","v":0},{"$f":"Macro!E5164","v":{"$error":"#DIV/0!"}}]
[null,{"$f":"Macro!A5165","v":0},{"$f":"Macro!B5165","v":0},{"$f":"Macro!E5165","v":{"$error":"#DIV/0!"}}]
[null,{"$f":"Macro!A5166","v":0},{"$f":"Macro!B5166","v":0},{"$f":"Macro!E5166","v":{"$error":"#DIV/0!"}}]
[null,{"$f":"Macro!A5167","v":0},{"$f":"Macro!B5167","v":0},{"$f":"Macro!E5167","v":{"$error":"#DIV/0!"}}]
[null,{"$f":"Macro!A5168","v":0},{"$f":"Macro!B5168","v":0},{"$f":"Macro!E5168","v":{"$error":"#DIV/0!"}}]
[null,{"$f":"Macro!A5169","v":0},{"$f":"Macro!B5169","v":0},{"$f":"Macro!E5169","v":{"$error":"#DIV/0!"}}]
[null,{"$f":"Macro!A5170","v":0},{"$f":"Macro!B5170","v":0},{"$f":"Macro!E5170","v":{"$error":"#DIV/0!"}}]
[null,{"$f":"Macro!A5171","v":0},{"$f":"Macro!B5171","v":0},{"$f":"Macro!E5171","v":{"$error":"#DIV/0!"}}]
[null,{"$f":"Macro!A5172","v":0},{"$f":"Macro!B5172","v":0},{"$f":"Macro!E5172","v":{"$error":"#DIV/0!"}}]
[null,{"$f":"Macro!A5173","v":0},{"$f":"Macro!B5173","v":0},{"$f":"Macro!E5173","v":{"$error":"#DIV/0!"}}]
[null,{"$f":"Macro!A5174","v":0},{"$f":"Macro!B5174","v":0},{"$f":"Macro!E5174","v":{"$error":"#DIV/0!"}}]
[null,{"$f":"Macro!A5175","v":0},{"$f":"Macro!B5175","v":0},{"$f":"Macro!E5175","v":{"$error":"#DIV/0!"}}]
[null,{"$f":"Macro!A5176","v":0},{"$f":"Macro!B5176","v":0},{"$f":"Macro!E5176","v":{"$error":"#DIV/0!"}}]
[null,{"$f":"Macro!A5177","v":0},{"$f":"Macro!B5177","v":0},{"$f":"Macro!E5177","v":{"$error":"#DIV/0!"}}]
[null,{"$f":"Macro!A5178","v":0},{"$f":"Macro!B5178","v":0},{"$f":"Macro!E5178","v":{"$error":"#DIV/0!"}}]
[null,{"$f":"Macro!A5179","v":0},{"$f":"Macro!B5179","v":0},{"$f":"Macro!E5179","v":{"$error":"#DIV/0!"}}]
[null,{"$f":"Macro!A5180","v":0},{"$f":"Macro!B5180","v":0},{"$f":"Macro!E5180","v":{"$error":"#DIV/0!"}}]
[null,{"$f":"Macro!A5181","v":0},{"$f":"Macro!B5181","v":0},{"$f":"Macro!E5181","v":{"$error":"#DIV/0!"}}]
[null,{"$f":"Macro!A5182","v":0},{"$f":"Macro!B5182","v":0},{"$f":"Macro!E5182","v":{"$error":"#DIV/0!"}}]
[null,{"$f":"Macro!A5183","v":0},{"$f":"Macro!B5183","v":0},{"$f":"Macro!E5183","v":{"$error":"#DIV/0!"}}]
[null,{"$f":"Macro!A5184","v":0},{"$f":"Macro!B5184","v":0},{"$f":"Macro!E5184","v":{"$error":"#DIV/0!"}}]
[null,{"$f":"Macro!A5185","v":0},{"$f":"Macro!B5185","v":0},{"$f":"Macro!E5185","v":{"$error":"#DIV/0!"}}]
[null,{"$f":"Macro!A5186","v":0},{"$f":"Macro!B5186","v":0},{"$f":"Macro!E5186","v":{"$error":"#DIV/0!"}}]
[null,{"$f":"Macro!A5187","v":0},{"$f":"Macro!B5187","v":0},{"$f":"Macro!E5187","v":{"$error":"#DIV/0!"}}]
[null,{"$f":"Macro!A5188","v":0},{"$f":"Macro!B5188","v":0},{"$f":"Macro!E5188","v":{"$error":"#DIV/0!"}}]
[null,{"$f":"Macro!A5189","v":0},{"$f":"Macro!B5189","v":0},{"$f":"Macro!E5189","v":{"$error":"#DIV/0!"}}]
[null,{"$f":"Macro!A5190","v":0},{"$f":"Macro!B5190","v":0},{"$f":"Macro!E5190","v":{"$error":"#DIV/0!"}}]
[null,{"$f":"Macro!A5191","v":0},{"$f":"Macro!B5191","v":0},{"$f":"Macro!E5191","v":{"$error":"#DIV/0!"}}]
[null,{"$f":"Macro!A5192","v":0},{"$f":"Macro!B5192","v":0},{"$f":"Macro!E5192","v":{"$error":"#DIV/0!"}}]
[null,{"$f":"Macro!A5193","v":0},{"$f":"Macro!B5193","v":0},{"$f":"Macro!E5193","v":{"$error":"#DIV/0!"}}]
[null,{"$f":"Macro!A5194","v":0},{"$f":"Macro!B5194","v":0},{"$f":"Macro!E5194","v":{"$error":"#DIV/0!"}}]
[null,{"$f":"Macro!A5195","v":0},{"$f":"Macro!B5195","v":0},{"$f":"Macro!E5195","v":{"$error":"#DIV/0!"}}]
[null,{"$f":"Macro!A5196","v":0},{"$f":"Macro!B5196","v":0},{"$f":"Macro!E5196","v":{"$error":"#DIV/0!"}}]
[null,{"$f":"Macro!A5197","v":0},{"$f":"Macro!B5197","v":0},{"$f":"Macro!E5197","v":{"$error":"#DIV/0!"}}]
[null,{"$f":"Macro!A5198","v":0},{"$f":"Macro!B5198","v":0},{"$f":"Macro!E5198","v":{"$error":"#DIV/0!"}}]
[null,{"$f":"Macro!A5199","v":0},{"$f":"Macro!B5199","v":0},{"$f":"Macro!E5199","v":{"$error":"#DIV/0!"}}]
[null,{"$f":"Macro!A5200","v":0},{"$f":"Macro!B5200","v":0},{"$f":"Macro!E5200","v":{"$error":"#DIV/0!"}}]
[null,{"$f":"Macro!A5201","v":0},{"$f":"Macro!B5201","v":0},{"$f":"Macro!E5201","v":{"$error":"#DIV/0!"}}]
[null,{"$f":"Macro!A5202","v":0},{"$f":"Macro!B5202","v":0},{"$f":"Macro!E5202","v":{"$error":"#DIV/0!"}}]
[null,{"$f":"Macro!A5203","v":0},{"$f":"Macro!B5203","v":0},{"$f":"Macro!E5203","v":{"$error":"#DIV/0!"}}]
[null,{"$f":"Macro!A5204","v":0},{"$f":"Macro!B5204","v":0},{"$f":"Macro!E5204","v":{"$error":"#DIV/0!"}}]
[null,{"$f":"Macro!A5205","v":0},{"$f":"Macro!B5205","v":0},{"$f":"Macro!E5205","v":{"$error":"#DIV/0!"}}]
[null,{"$f":"Macro!A5206","v":0},{"$f":"Macro!B5206","v":0},{"$f":"Macro!E5206","v":{"$error":"#DIV/0!"}}]
[null,{"$f":"Macro!A5207","v":0},{"$f":"Macro!B5207","v":0},{"$f":"Macro!E5207","v":{"$error":"#DIV/0!"}}]
[null,{"$f":"Macro!A5208","v":0},{"$f":"Macro!B5208","v":0},{"$f":"Macro!E5208","v":{"$error":"#DIV/0!"}}]
[null,{"$f":"Macro!A5209","v":0},{"$f":"Macro!B5209","v":0},{"$f":"Macro!E5209","v":{"$error":"#DIV/0!"}}]
[null,{"$f":"Macro!A5210","v":0},{"$f":"Macro!B5210","v":0},{"$f":"Macro!E5210","v":{"$error":"#DIV/0!"}}]
[null,{"$f":"Macro!A5211","v":0},{"$f":"Macro!B5211","v":0},{"$f":"Macro!E5211","v":{"$error":"#DIV/0!"}}]
[null,{"$f":"Macro!A5212","v":0},{"$f":"Macro!B5212","v":0},{"$f":"Macro!E5212","v":{"$error":"#DIV/0!"}}]
[null,{"$f":"Macro!A5213","v":0},{"$f":"Macro!B5213","v":0},{"$f":"Macro!E5213","v":{"$error":"#DIV/0!"}}]
[null,{"$f":"Macro!A5214","v":0},{"$f":"Macro!B5214","v":0},{"$f":"Macro!E5214","v":{"$error":"#DIV/0!"}}]
[null,{"$f":"Macro!A5215","v":0},{"$f":"Macro!B5215","v":0},{"$f":"Macro!E5215","v":{"$error":"#DIV/0!"}}]
[null,{"$f":"Macro!A5216","v":0},{"$f":"Macro!B5216","v":0},{"$f":"Macro!E5216","v":{"$error":"#DIV/0!"}}]
[null,{"$f":"Macro!A5217","v":0},{"$f":"Macro!B5217","v":0},{"$f":"Macro!E5217","v":{"$error":"#DIV/0!"}}]
[null,{"$f":"Macro!A5218","v":0},{"$f":"Macro!B5218","v":0},{"$f":"Macro!E5218","v":{"$error":"#DIV/0!"}}]
[null,{"$f":"Macro!A5219","v":0},{"$f":"Macro!B5219","v":0},{"$f":"Macro!E5219","v":{"$error":"#DIV/0!"}}]
[null,{"$f":"Macro!A5220","v":0},{"$f":"Macro!B5220","v":0},{"$f":"Macro!E5220","v":{"$error":"#DIV/0!"}}]
[null,{"$f":"Macro!A5221","v":0},{"$f":"Macro!B5221","v":0},{"$f":"Macro!E5221","v":{"$error":"#DIV/0!"}}]
[null,{"$f":"Macro!A5222","v":0},{"$f":"Macro!B5222","v":0},{"$f":"Macro!E5222","v":{"$error":"#DIV/0!"}}]
[null,{"$f":"Macro!A5223","v":0},{"$f":"Macro!B5223","v":0},{"$f":"Macro!E5223","v":{"$error":"#DIV/0!"}}]
[null,{"$f":"Macro!A5224","v":0},{"$f":"Macro!B5224","v":0},{"$f":"Macro!E5224","v":{"$error":"#DIV/0!"}}]
[null,{"$f":"Macro!A5225","v":0},{"$f":"Macro!B5225","v":0},{"$f":"Macro!E5225","v":{"$error":"#DIV/0!"}}]
[null,{"$f":"Macro!A5226","v":0},{"$f":"Macro!B5226","v":0},{"$f":"Macro!E5226","v":{"$error":"#DIV/0!"}}]
[null,{"$f":"Macro!A5227","v":0},{"$f":"Macro!B5227","v":0},{"$f":"Macro!E5227","v":{"$error":"#DIV/0!"}}]
[null,{"$f":"Macro!A5228","v":0},{"$f":"Macro!B5228","v":0},{"$f":"Macro!E5228","v":{"$error":"#DIV/0!"}}]
[null,{"$f":"Macro!A5229","v":0},{"$f":"Macro!B5229","v":0},{"$f":"Macro!E5229","v":{"$error":"#DIV/0!"}}]
[null,{"$f":"Macro!A5230","v":0},{"$f":"Macro!B5230","v":0},{"$f":"Macro!E5230","v":{"$error":"#DIV/0!"}}]
[null,{"$f":"Macro!A5231","v":0},{"$f":"Macro!B5231","v":0},{"$f":"Macro!E5231","v":{"$error":"#DIV/0!"}}]
[null,{"$f":"Macro!A5232","v":0},{"$f":"Macro!B5232","v":0},{"$f":"Macro!E5232","v":{"$error":"#DIV/0!"}}]
[null,{"$f":"Macro!A5233","v":0},{"$f":"Macro!B5233","v":0},{"$f":"Macro!E5233","v":{"$error":"#DIV/0!"}}]
[null,{"$f":"Macro!A5234","v":0},{"$f":"Macro!B5234","v":0},{"$f":"Macro!E5234","v":{"$error":"#DIV/0!"}}]
[null,{"$f":"Macro!A5235","v":0},{"$f":"Macro!B5235","v":0},{"$f":"Macro!E5235","v":{"$error":"#DIV/0!"}}]
[null,{"$f":"Macro!A5236","v":0},{"$f":"Macro!B5236","v":0},{"$f":"Macro!E5236","v":{"$error":"#DIV/0!"}}]
[null,{"$f":"Macro!A5237","v":0},{"$f":"Macro!B5237","v":0},{"$f":"Macro!E5237","v":{"$error":"#DIV/0!"}}]
[null,{"$f":"Macro!A5238","v":0},{"$f":"Macro!B5238","v":0},{"$f":"Macro!E5238","v":{"$error":"#DIV/0!"}}]
[null,{"$f":"Macro!A5239","v":0},{"$f":"Macro!B5239","v":0},{"$f":"Macro!E5239","v":{"$error":"#DIV/0!"}}]
[null,{"$f":"Macro!A5240","v":0},{"$f":"Macro!B5240","v":0},{"$f":"Macro!E5240","v":{"$error":"#DIV/0!"}}]
[null,{"$f":"Macro!A5241","v":0},{"$f":"Macro!B5241","v":0},{"$f":"Macro!E5241","v":{"$error":"#DIV/0!"}}]
[null,{"$f":"Macro!A5242","v":0},{"$f":"Macro!B5242","v":0},{"$f":"Macro!E5242","v":{"$error":"#DIV/0!"}}]
[null,{"$f":"Macro!A5243","v":0},{"$f":"Macro!B5243","v":0},{"$f":"Macro!E5243","v":{"$error":"#DIV/0!"}}]
[null,{"$f":"Macro!A5244","v":0},{"$f":"Macro!B5244","v":0},{"$f":"Macro!E5244","v":{"$error":"#DIV/0!"}}]
[null,{"$f":"Macro!A5245","v":0},{"$f":"Macro!B5245","v":0},{"$f":"Macro!E5245","v":{"$error":"#DIV/0!"}}]
[null,{"$f":"Macro!A5246","v":0},{"$f":"Macro!B5246","v":0},{"$f":"Macro!E5246","v":{"$error":"#DIV/0!"}}]
[null,{"$f":"Macro!A5247","v":0},{"$f":"Macro!B5247","v":0},{"$f":"Macro!E5247","v":{"$error":"#DIV/0!"}}]
[null,{"$f":"Macro!A5248","v":0},{"$f":"Macro!B5248","v":0},{"$f":"Macro!E5248","v":{"$error":"#DIV/0!"}}]
[null,{"$f":"Macro!A5249","v":0},{"$f":"Macro!B5249","v":0},{"$f":"Macro!E5249","v":{"$error":"#DIV/0!"}}]
[null,{"$f":"Macro!A5250","v":0},{"$f":"Macro!B5250","v":0},{"$f":"Macro!E5250","v":{"$error":"#DIV/0!"}}]
[null,{"$f":"Macro!A5251","v":0},{"$f":"Macro!B5251","v":0},{"$f":"Macro!E5251","v":{"$error":"#DIV/0!"}}]
[null,{"$f":"Macro!A5252","v":0},{"$f":"Macro!B5252","v":0},{"$f":"Macro!E5252","v":{"$error":"#DIV/0!"}}]
[null,{"$f":"Macro!A5253","v":0},{"$f":"Macro!B5253","v":0},{"$f":"Macro!E5253","v":{"$error":"#DIV/0!"}}]
[null,{"$f":"Macro!A5254","v":0},{"$f":"Macro!B5254","v":0},{"$f":"Macro!E5254","v":{"$error":"#DIV/0!"}}]
[null,{"$f":"Macro!A5255","v":0},{"$f":"Macro!B5255","v":0},{"$f":"Macro!E5255","v":{"$error":"#DIV/0!"}}]
[null,{"$f":"Macro!A5256","v":0},{"$f":"Macro!B5256","v":0},{"$f":"Macro!E5256","v":{"$error":"#DIV/0!"}}]
[null,{"$f":"Macro!A5257","v":0},{"$f":"Macro!B5257","v":0},{"$f":"Macro!E5257","v":{"$error":"#DIV/0!"}}]
[null,{"$f":"Macro!A5258","v":0},{"$f":"Macro!B5258","v":0},{"$f":"Macro!E5258","v":{"$error":"#DIV/0!"}}]
[null,{"$f":"Macro!A5259","v":0},{"$f":"Macro!B5259","v":0},{"$f":"Macro!E5259","v":{"$error":"#DIV/0!"}}]
[null,{"$f":"Macro!A5260","v":0},{"$f":"Macro!B5260","v":0},{"$f":"Macro!E5260","v":{"$error":"#DIV/0!"}}]
[null,{"$f":"Macro!A5261","v":0},{"$f":"Macro!B5261","v":0},{"$f":"Macro!E5261","v":{"$error":"#DIV/0!"}}]
[null,{"$f":"Macro!A5262","v":0},{"$f":"Macro!B5262","v":0},{"$f":"Macro!E5262","v":{"$error":"#DIV/0!"}}]
[null,{"$f":"Macro!A5263","v":0},{"$f":"Macro!B5263","v":0},{"$f":"Macro!E5263","v":{"$error":"#DIV/0!"}}]
[null,{"$f":"Macro!A5264","v":0},{"$f":"Macro!B5264","v":0},{"$f":"Macro!E5264","v":{"$error":"#DIV/0!"}}]
[null,{"$f":"Macro!A5265","v":0},{"$f":"Macro!B5265","v":0},{"$f":"Macro!E5265","v":{"$error":"#DIV/0!"}}]
[null,{"$f":"Macro!A5266","v":0},{"$f":"Macro!B5266","v":0},{"$f":"Macro!E5266","v":{"$error":"#DIV/0!"}}]
[null,{"$f":"Macro!A5267","v":0},{"$f":"Macro!B5267","v":0},{"$f":"Macro!E5267","v":{"$error":"#DIV/0!"}}]
[null,{"$f":"Macro!A5268","v":0},{"$f":"Macro!B5268","v":0},{"$f":"Macro!E5268","v":{"$error":"#DIV/0!"}}]
[null,{"$f":"Macro!A5269","v":0},{"$f":"Macro!B5269","v":0},{"$f":"Macro!E5269","v":{"$error":"#DIV/0!"}}]
[null,{"$f":"Macro!A5270","v":0},{"$f":"Macro!B5270","v":0},{"$f":"Macro!E5270","v":{"$error":"#DIV/0!"}}]
[null,{"$f":"Macro!A5271","v":0},{"$f":"Macro!B5271","v":0},{"$f":"Macro!E5271","v":{"$error":"#DIV/0!"}}]
[null,{"$f":"Macro!A5272","v":0},{"$f":"Macro!B5272","v":0},{"$f":"Macro!E5272","v":{"$error":"#DIV/0!"}}]
[null,{"$f":"Macro!A5273","v":0},{"$f":"Macro!B5273","v":0},{"$f":"Macro!E5273","v":{"$error":"#DIV/0!"}}]
[null,{"$f":"Macro!A5274","v":0},{"$f":"Macro!B5274","v":0},{"$f":"Macro!E5274","v":{"$error":"#DIV/0!"}}]
[null,{"$f":"Macro!A5275","v":0},{"$f":"Macro!B5275","v":0},{"$f":"Macro!E5275","v":{"$error":"#DIV/0!"}}]
[null,{"$f":"Macro!A5276","v":0},{"$f":"Macro!B5276","v":0},{"$f":"Macro!E5276","v":{"$error":"#DIV/0!"}}]
[null,{"$f":"Macro!A5277","v":0},{"$f":"Macro!B5277","v":0},{"$f":"Macro!E5277","v":{"$error":"#DIV/0!"}}]
[null,{"$f":"Macro!A5278","v":0},{"$f":"Macro!B5278","v":0},{"$f":"Macro!E5278","v":{"$error":"#DIV/0!"}}]
[null,{"$f":"Macro!A5279","v":0},{"$f":"Macro!B5279","v":0},{"$f":"Macro!E5279","v":{"$error":"#DIV/0!"}}]
[null,{"$f":"Macro!A5280","v":0},{"$f":"Macro!B5280","v":0},{"$f":"Macro!E5280","v":{"$error":"#DIV/0!"}}]
[null,{"$f":"Macro!A5281","v":0},{"$f":"Macro!B5281","v":0},{"$f":"Macro!E5281","v":{"$error":"#DIV/0!"}}]
[null,{"$f":"Macro!A5282","v":0},{"$f":"Macro!B5282","v":0},{"$f":"Macro!E5282","v":{"$error":"#DIV/0!"}}]
[null,{"$f":"Macro!A5283","v":0},{"$f":"Macro!B5283","v":0},{"$f":"Macro!E5283","v":{"$error":"#DIV/0!"}}]
[null,{"$f":"Macro!A5284","v":0},{"$f":"Macro!B5284","v":0},{"$f":"Macro!E5284","v":{"$error":"#DIV/0!"}}]
[null,{"$f":"Macro!A5285","v":0},{"$f":"Macro!B5285","v":0},{"$f":"Macro!E5285","v":{"$error":"#DIV/0!"}}]
[null,{"$f":"Macro!A5286","v":0},{"$f":"Macro!B5286","v":0},{"$f":"Macro!E5286","v":{"$error":"#DIV/0!"}}]
[null,{"$f":"Macro!A5287","v":0},{"$f":"Macro!B5287","v":0},{"$f":"Macro!E5287","v":{"$error":"#DIV/0!"}}]
[null,{"$f":"Macro!A5288","v":0},{"$f":"Macro!B5288","v":0},{"$f":"Macro!E5288","v":{"$error":"#DIV/0!"}}]
[null,{"$f":"Macro!A5289","v":0},{"$f":"Macro!B5289","v":0},{"$f":"Macro!E5289","v":{"$error":"#DIV/0!"}}]
[null,{"$f":"Macro!A5290","v":0},{"$f":"Macro!B5290","v":0},{"$f":"Macro!E5290","v":{"$error":"#DIV/0!"}}]
[null,{"$f":"Macro!A5291","v":0},{"$f":"Macro!B5291","v":0},{"$f":"Macro!E5291","v":{"$error":"#DIV/0!"}}]
[null,{"$f":"Macro!A5292","v":0},{"$f":"Macro!B5292","v":0},{"$f":"Macro!E5292","v":{"$error":"#DIV/0!"}}]
[null,{"$f":"Macro!A5293","v":0},{"$f":"Macro!B5293","v":0},{"$f":"Macro!E5293","v":{"$error":"#DIV/0!"}}]
[null,{"$f":"Macro!A5294","v":0},{"$f":"Macro!B5294","v":0},{"$f":"Macro!E5294","v":{"$error":"#DIV/0!"}}]
[null,{"$f":"Macro!A5295","v":0},{"$f":"Macro!B5295","v":0},{"$f":"Macro!E5295","v":{"$error":"#DIV/0!"}}]
[null,{"$f":"Macro!A5296","v":0},{"$f":"Macro!B5296","v":0},{"$f":"Macro!E5296","v":{"$error":"#DIV/0!"}}]
[null,{"$f":"Macro!A5297","v":0},{"$f":"Macro!B5297","v":0},{"$f":"Macro!E5297","v":{"$error":"#DIV/0!"}}]
[null,{"$f":"Macro!A5298","v":0},{"$f":"Macro!B5298","v":0},{"$f":"Macro!E5298","v":{"$error":"#DIV/0!"}}]
[null,{"$f":"Macro!A5299","v":0},{"$f":"Macro!B5299","v":0},{"$f":"Macro!E5299","v":{"$error":"#DIV/0!"}}]
[null,{"$f":"Macro!A5300","v":0},{"$f":"Macro!B5300","v":0},{"$f":"Macro!E5300","v":{"$error":"#DIV/0!"}}]
[null,{"$f":"Macro!A5301","v":0},{"$f":"Macro!B5301","v":0},{"$f":"Macro!E5301","v":{"$error":"#DIV/0!"}}]
[null,{"$f":"Macro!A5302","v":0},{"$f":"Macro!B5302","v":0},{"$f":"Macro!E5302","v":{"$error":"#DIV/0!"}}]
[null,{"$f":"Macro!A5303","v":0},{"$f":"Macro!B5303","v":0},{"$f":"Macro!E5303","v":{"$error":"#DIV/0!"}}]
[null,{"$f":"Macro!A5304","v":0},{"$f":"Macro!B5304","v":0},{"$f":"Macro!E5304","v":{"$error":"#DIV/0!"}}]
[null,{"$f":"Macro!A5305","v":0},{"$f":"Macro!B5305","v":0},{"$f":"Macro!E5305","v":{"$error":"#DIV/0!"}}]
[null,{"$f":"Macro!A5306","v":0},{"$f":"Macro!B5306","v":0},{"$f":"Macro!E5306","v":{"$error":"#DIV/0!"}}]
[null,{"$f":"Macro!A5307","v":0},{"$f":"Macro!B5307","v":0},{"$f":"Macro!E5307","v":{"$error":"#DIV/0!"}}]
[null,{"$f":"Macro!A5308","v":0},{"$f":"Macro!B5308","v":0},{"$f":"Macro!E5308","v":{"$error":"#DIV/0!"}}]
[null,{"$f":"Macro!A5309","v":0},{"$f":"Macro!B5309","v":0},{"$f":"Macro!E5309","v":{"$error":"#DIV/0!"}}]
[null,{"$f":"Macro!A5310","v":0},{"$f":"Macro!B5310","v":0},{"$f":"Macro!E5310","v":{"$error":"#DIV/0!"}}]
[null,{"$f":"Macro!A5311","v":0},{"$f":"Macro!B5311","v":0},{"$f":"Macro!E5311","v":{"$error":"#DIV/0!"}}]
[null,{"$f":"Macro!A5312","v":0},{"$f":"Macro!B5312","v":0},{"$f":"Macro!E5312","v":{"$error":"#DIV/0!"}}]
[null,{"$f":"Macro!A5313","v":0},{"$f":"Macro!B5313","v":0},{"$f":"Macro!E5313","v":{"$error":"#DIV/0!"}}]
[null,{"$f":"Macro!A5314","v":0},{"$f":"Macro!B5314","v":0},{"$f":"Macro!E5314","v":{"$error":"#DIV/0!"}}]
[null,{"$f":"Macro!A5315","v":0},{"$f":"Macro!B5315","v":0},{"$f":"Macro!E5315","v":{"$error":"#DIV/0!"}}]
[null,{"$f":"Macro!A5316","v":0},{"$f":"Macro!B5316","v":0},{"$f":"Macro!E5316","v":{"$error":"#DIV/0!"}}]
[null,{"$f":"Macro!A5317","v":0},{"$f":"Macro!B5317","v":0},{"$f":"Macro!E5317","v":{"$error":"#DIV/0!"}}]
[null,{"$f":"Macro!A5318","v":0},{"$f":"Macro!B5318","v":0},{"$f":"Macro!E5318","v":{"$error":"#DIV/0!"}}]
[null,{"$f":"Macro!A5319","v":0},{"$f":"Macro!B5319","v":0},{"$f":"Macro!E5319","v":{"$error":"#DIV/0!"}}]
[null,{"$f":"Macro!A5320","v":0},{"$f":"Macro!B5320","v":0},{"$f":"Macro!E5320","v":{"$error":"#DIV/0!"}}]
[null,{"$f":"Macro!A5321","v":0},{"$f":"Macro!B5321","v":0},{"$f":"Macro!E5321","v":{"$error":"#DIV/0!"}}]
[null,{"$f":"Macro!A5322","v":0},{"$f":"Macro!B5322","v":0},{"$f":"Macro!E5322","v":{"$error":"#DIV/0!"}}]
[null,{"$f":"Macro!A5323","v":0},{"$f":"Macro!B5323","v":0},{"$f":"Macro!E5323","v":{"$error":"#DIV/0!"}}]
[null,{"$f":"Macro!A5324","v":0},{"$f":"Macro!B5324","v":0},{"$f":"Macro!E5324","v":{"$error":"#DIV/0!"}}]
[null,{"$f":"Macro!A5325","v":0},{"$f":"Macro!B5325","v":0},{"$f":"Macro!E5325","v":{"$error":"#DIV/0!"}}]
[null,{"$f":"Macro!A5326","v":0},{"$f":"Macro!B5326","v":0},{"$f":"Macro!E5326","v":{"$error":"#DIV/0!"}}]
[null,{"$f":"Macro!A5327","v":0},{"$f":"Macro!B5327","v":0},{"$f":"Macro!E5327","v":{"$error":"#DIV/0!"}}]
[null,{"$f":"Macro!A5328","v":0},{"$f":"Macro!B5328","v":0},{"$f":"Macro!E5328","v":{"$error":"#DIV/0!"}}]
[null,{"$f":"Macro!A5329","v":0},{"$f":"Macro!B5329","v":0},{"$f":"Macro!E5329","v":{"$error":"#DIV/0!"}}]
[null,{"$f":"Macro!A5330","v":0},{"$f":"Macro!B5330","v":0},{"$f":"Macro!E5330","v":{"$error":"#DIV/0!"}}]
[null,{"$f":"Macro!A5331","v":0},{"$f":"Macro!B5331","v":0},{"$f":"Macro!E5331","v":{"$error":"#DIV/0!"}}]
[null,{"$f":"Macro!A5332","v":0},{"$f":"Macro!B5332","v":0},{"$f":"Macro!E5332","v":{"$error":"#DIV/0!"}}]
[null,{"$f":"Macro!A5333","v":0},{"$f":"Macro!B5333","v":0},{"$f":"Macro!E5333","v":{"$error":"#DIV/0!"}}]
[null,{"$f":"Macro!A5334","v":0},{"$f":"Macro!B5334","v":0},{"$f":"Macro!E5334","v":{"$error":"#DIV/0!"}}]
[null,{"$f":"Macro!A5335","v":0},{"$f":"Macro!B5335","v":0},{"$f":"Macro!E5335","v":{"$error":"#DIV/0!"}}]
[null,{"$f":"Macro!A5336","v":0},{"$f":"Macro!B5336","v":0},{"$f":"Macro!E5336","v":{"$error":"#DIV/0!"}}]
[null,{"$f":"Macro!A5337","v":0},{"$f":"Macro!B5337","v":0},{"$f":"Macro!E5337","v":{"$error":"#DIV/0!"}}]
[null,{"$f":"Macro!A5338","v":0},{"$f":"Macro!B5338","v":0},{"$f":"Macro!E5338","v":{"$error":"#DIV/0!"}}]
[null,{"$f":"Macro!A5339","v":0},{"$f":"Macro!B5339","v":0},{"$f":"Macro!E5339","v":{"$error":"#DIV/0!"}}]
[null,{"$f":"Macro!A5340","v":0},{"$f":"Macro!B5340","v":0},{"$f":"Macro!E5340","v":{"$error":"#DIV/0!"}}]
[null,{"$f":"Macro!A5341","v":0},{"$f":"Macro!B5341","v":0},{"$f":"Macro!E5341","v":{"$error":"#DIV/0!"}}]
[null,{"$f":"Macro!A5342","v":0},{"$f":"Macro!B5342","v":0},{"$f":"Macro!E5342","v":{"$error":"#DIV/0!"}}]
[null,{"$f":"Macro!A5343","v":0},{"$f":"Macro!B5343","v":0},{"$f":"Macro!E5343","v":{"$error":"#DIV/0!"}}]
[null,{"$f":"Macro!A5344","v":0},{"$f":"Macro!B5344","v":0},{"$f":"Macro!E5344","v":{"$error":"#DIV/0!"}}]
[null,{"$f":"Macro!A5345","v":0},{"$f":"Macro!B5345","v":0},{"$f":"Macro!E5345","v":{"$error":"#DIV/0!"}}]
[null,{"$f":"Macro!A5346","v":0},{"$f":"Macro!B5346","v":0},{"$f":"Macro!E5346","v":{"$error":"#DIV/0!"}}]
[null,{"$f":"Macro!A5347","v":0},{"$f":"Macro!B5347","v":0},{"$f":"Macro!E5347","v":{"$error":"#DIV/0!"}}]
[null,{"$f":"Macro!A5348","v":0},{"$f":"Macro!B5348","v":0},{"$f":"Macro!E5348","v":{"$error":"#DIV/0!"}}]
[null,{"$f":"Macro!A5349","v":0},{"$f":"Macro!B5349","v":0},{"$f":"Macro!E5349","v":{"$error":"#DIV/0!"}}]
[null,{"$f":"Macro!A5350","v":0},{"$f":"Macro!B5350","v":0},{"$f":"Macro!E5350","v":{"$error":"#DIV/0!"}}]
[null,{"$f":"Macro!A5351","v":0},{"$f":"Macro!B5351","v":0},{"$f":"Macro!E5351","v":{"$error":"#DIV/0!"}}]
[null,{"$f":"Macro!A5352","v":0},{"$f":"Macro!B5352","v":0},{"$f":"Macro!E5352","v":{"$error":"#DIV/0!"}}]
[null,{"$f":"Macro!A5353","v":0},{"$f":"Macro!B5353","v":0},{"$f":"Macro!E5353","v":{"$error":"#DIV/0!"}}]
[null,{"$f":"Macro!A5354","v":0},{"$f":"Macro!B5354","v":0},{"$f":"Macro!E5354","v":{"$error":"#DIV/0!"}}]
[null,{"$f":"Macro!A5355","v":0},{"$f":"Macro!B5355","v":0},{"$f":"Macro!E5355","v":{"$error":"#DIV/0!"}}]
[null,{"$f":"Macro!A5356","v":0},{"$f":"Macro!B5356","v":0},{"$f":"Macro!E5356","v":{"$error":"#DIV/0!"}}]
[null,{"$f":"Macro!A5357","v":0},{"$f":"Macro!B5357","v":0},{"$f":"Macro!E5357","v":{"$error":"#DIV/0!"}}]
[null,{"$f":"Macro!A5358","v":0},{"$f":"Macro!B5358","v":0},{"$f":"Macro!E5358","v":{"$error":"#DIV/0!"}}]
[null,{"$f":"Macro!A5359","v":0},{"$f":"Macro!B5359","v":0},{"$f":"Macro!E5359","v":{"$error":"#DIV/0!"}}]
[null,{"$f":"Macro!A5360","v":0},{"$f":"Macro!B5360","v":0},{"$f":"Macro!E5360","v":{"$error":"#DIV/0!"}}]
[null,{"$f":"Macro!A5361","v":0},{"$f":"Macro!B5361","v":0},{"$f":"Macro!E5361","v":{"$error":"#DIV/0!"}}]
[null,{"$f":"Macro!A5362","v":0},{"$f":"Macro!B5362","v":0},{"$f":"Macro!E5362","v":{"$error":"#DIV/0!"}}]
[null,{"$f":"Macro!A5363","v":0},{"$f":"Macro!B5363","v":0},{"$f":"Macro!E5363","v":{"$error":"#DIV/0!"}}]
[null,{"$f":"Macro!A5364","v":0},{"$f":"Macro!B5364","v":0},{"$f":"Macro!E5364","v":{"$error":"#DIV/0!"}}]
[null,{"$f":"Macro!A5365","v":0},{"$f":"Macro!B5365","v":0},{"$f":"Macro!E5365","v":{"$error":"#DIV/0!"}}]
[null,{"$f":"Macro!A5366","v":0},{"$f":"Macro!B5366","v":0},{"$f":"Macro!E5366","v":{"$error":"#DIV/0!"}}]
[null,{"$f":"Macro!A5367","v":0},{"$f":"Macro!B5367","v":0},{"$f":"Macro!E5367","v":{"$error":"#DIV/0!"}}]
[null,{"$f":"Macro!A5368","v":0},{"$f":"Macro!B5368","v":0},{"$f":"Macro!E5368","v":{"$error":"#DIV/0!"}}]
[null,{"$f":"Macro!A5369","v":0},{"$f":"Macro!B5369","v":0},{"$f":"Macro!E5369","v":{"$error":"#DIV/0!"}}]
[null,{"$f":"Macro!A5370","v":0},{"$f":"Macro!B5370","v":0},{"$f":"Macro!E5370","v":{"$error":"#DIV/0!"}}]
[null,{"$f":"Macro!A5371","v":0},{"$f":"Macro!B5371","v":0},{"$f":"Macro!E5371","v":{"$error":"#DIV/0!"}}]
[null,{"$f":"Macro!A5372","v":0},{"$f":"Macro!B5372","v":0},{"$f":"Macro!E5372","v":{"$error":"#DIV/0!"}}]
[null,{"$f":"Macro!A5373","v":0},{"$f":"Macro!B5373","v":0},{"$f":"Macro!E5373","v":{"$error":"#DIV/0!"}}]
[null,{"$f":"Macro!A5374","v":0},{"$f":"Macro!B5374","v":0},{"$f":"Macro!E5374","v":{"$error":"#DIV/0!"}}]
[null,{"$f":"Macro!A5375","v":0},{"$f":"Macro!B5375","v":0},{"$f":"Macro!E5375","v":{"$error":"#DIV/0!"}}]
[null,{"$f":"Macro!A5376","v":0},{"$f":"Macro!B5376","v":0},{"$f":"Macro!E5376","v":{"$error":"#DIV/0!"}}]
[null,{"$f":"Macro!A5377","v":0},{"$f":"Macro!B5377","v":0},{"$f":"Macro!E5377","v":{"$error":"#DIV/0!"}}]
[null,{"$f":"Macro!A5378","v":0},{"$f":"Macro!B5378","v":0},{"$f":"Macro!E5378","v":{"$error":"#DIV/0!"}}]
[null,{"$f":"Macro!A5379","v":0},{"$f":"Macro!B5379","v":0},{"$f":"Macro!E5379","v":{"$error":"#DIV/0!"}}]
[null,{"$f":"Macro!A5380","v":0},{"$f":"Macro!B5380","v":0},{"$f":"Macro!E5380","v":{"$error":"#DIV/0!"}}]
[null,{"$f":"Macro!A5381","v":0},{"$f":"Macro!B5381","v":0},{"$f":"Macro!E5381","v":{"$error":"#DIV/0!"}}]
[null,{"$f":"Macro!A5382","v":0},{"$f":"Macro!B5382","v":0},{"$f":"Macro!E5382","v":{"$error":"#DIV/0!"}}]
[null,{"$f":"Macro!A5383","v":0},{"$f":"Macro!B5383","v":0},{"$f":"Macro!E5383","v":{"$error":"#DIV/0!"}}]
[null,{"$f":"Macro!A5384","v":0},{"$f":"Macro!B5384","v":0},{"$f":"Macro!E5384","v":{"$error":"#DIV/0!"}}]
[null,{"$f":"Macro!A5385","v":0},{"$f":"Macro!B5385","v":0},{"$f":"Macro!E5385","v":{"$error":"#DIV/0!"}}]
[null,{"$f":"Macro!A5386","v":0},{"$f":"Macro!B5386","v":0},{"$f":"Macro!E5386","v":{"$error":"#DIV/0!"}}]
[null,{"$f":"Macro!A5387","v":0},{"$f":"Macro!B5387","v":0},{"$f":"Macro!E5387","v":{"$error":"#DIV/0!"}}]
[null,{"$f":"Macro!A5388","v":0},{"$f":"Macro!B5388","v":0},{"$f":"Macro!E5388","v":{"$error":"#DIV/0!"}}]
[null,{"$f":"Macro!A5389","v":0},{"$f":"Macro!B5389","v":0},{"$f":"Macro!E5389","v":{"$error":"#DIV/0!"}}]
[null,{"$f":"Macro!A5390","v":0},{"$f":"Macro!B5390","v":0},{"$f":"Macro!E5390","v":{"$error":"#DIV/0!"}}]
[null,{"$f":"Macro!A5391","v":0},{"$f":"Macro!B5391","v":0},{"$f":"Macro!E5391","v":{"$error":"#DIV/0!"}}]
[null,{"$f":"Macro!A5392","v":0},{"$f":"Macro!B5392","v":0},{"$f":"Macro!E5392","v":{"$error":"#DIV/0!"}}]
[null,{"$f":"Macro!A5393","v":0},{"$f":"Macro!B5393","v":0},{"$f":"Macro!E5393","v":{"$error":"#DIV/0!"}}]
[null,{"$f":"Macro!A5394","v":0},{"$f":"Macro!B5394","v":0},{"$f":"Macro!E5394","v":{"$error":"#DIV/0!"}}]
[null,{"$f":"Macro!A5395","v":0},{"$f":"Macro!B5395","v":0},{"$f":"Macro!E5395","v":{"$error":"#DIV/0!"}}]
[null,{"$f":"Macro!A5396","v":0},{"$f":"Macro!B5396","v":0},{"$f":"Macro!E5396","v":{"$error":"#DIV/0!"}}]
[null,{"$f":"Macro!A5397","v":0},{"$f":"Macro!B5397","v":0},{"$f":"Macro!E5397","v":{"$error":"#DIV/0!"}}]
[null,{"$f":"Macro!A5398","v":0},{"$f":"Macro!B5398","v":0},{"$f":"Macro!E5398","v":{"$error":"#DIV/0!"}}]
[null,{"$f":"Macro!A5399","v":0},{"$f":"Macro!B5399","v":0},{"$f":"Macro!E5399","v":{"$error":"#DIV/0!"}}]
[null,{"$f":"Macro!A5400","v":0},{"$f":"Macro!B5400","v":0},{"$f":"Macro!E5400","v":{"$error":"#DIV/0!"}}]
[null,{"$f":"Macro!A5401","v":0},{"$f":"Macro!B5401","v":0},{"$f":"Macro!E5401","v":{"$error":"#DIV/0!"}}]
[null,{"$f":"Macro!A5402","v":0},{"$f":"Macro!B5402","v":0},{"$f":"Macro!E5402","v":{"$error":"#DIV/0!"}}]
[null,{"$f":"Macro!A5403","v":0},{"$f":"Macro!B5403","v":0},{"$f":"Macro!E5403","v":{"$error":"#DIV/0!"}}]
[null,{"$f":"Macro!A5404","v":0},{"$f":"Macro!B5404","v":0},{"$f":"Macro!E5404","v":{"$error":"#DIV/0!"}}]
[null,{"$f":"Macro!A5405","v":0},{"$f":"Macro!B5405","v":0},{"$f":"Macro!E5405","v":{"$error":"#DIV/0!"}}]
[null,{"$f":"Macro!A5406","v":0},{"$f":"Macro!B5406","v":0},{"$f":"Macro!E5406","v":{"$error":"#DIV/0!"}}]
[null,{"$f":"Macro!A5407","v":0},{"$f":"Macro!B5407","v":0},{"$f":"Macro!E5407","v":{"$error":"#DIV/0!"}}]
[null,{"$f":"Macro!A5408","v":0},{"$f":"Macro!B5408","v":0},{"$f":"Macro!E5408","v":{"$error":"#DIV/0!"}}]
[null,{"$f":"Macro!A5409","v":0},{"$f":"Macro!B5409","v":0},{"$f":"Macro!E5409","v":{"$error":"#DIV/0!"}}]
[null,{"$f":"Macro!A5410","v":0},{"$f":"Macro!B5410","v":0},{"$f":"Macro!E5410","v":{"$error":"#DIV/0!"}}]
[null,{"$f":"Macro!A5411","v":0},{"$f":"Macro!B5411","v":0},{"$f":"Macro!E5411","v":{"$error":"#DIV/0!"}}]
[null,{"$f":"Macro!A5412","v":0},{"$f":"Macro!B5412","v":0},{"$f":"Macro!E5412","v":{"$error":"#DIV/0!"}}]
[null,{"$f":"Macro!A5413","v":0},{"$f":"Macro!B5413","v":0},{"$f":"Macro!E5413","v":{"$error":"#DIV/0!"}}]
[null,{"$f":"Macro!A5414","v":0},{"$f":"Macro!B5414","v":0},{"$f":"Macro!E5414","v":{"$error":"#DIV/0!"}}]
[null,{"$f":"Macro!A5415","v":0},{"$f":"Macro!B5415","v":0},{"$f":"Macro!E5415","v":{"$error":"#DIV/0!"}}]
[null,{"$f":"Macro!A5416","v":0},{"$f":"Macro!B5416","v":0},{"$f":"Macro!E5416","v":{"$error":"#DIV/0!"}}]
[null,{"$f":"Macro!A5417","v":0},{"$f":"Macro!B5417","v":0},{"$f":"Macro!E5417","v":{"$error":"#DIV/0!"}}]
[null,{"$f":"Macro!A5418","v":0},{"$f":"Macro!B5418","v":0},{"$f":"Macro!E5418","v":{"$error":"#DIV/0!"}}]
[null,{"$f":"Macro!A5419","v":0},{"$f":"Macro!B5419","v":0},{"$f":"Macro!E5419","v":{"$error":"#DIV/0!"}}]
[null,{"$f":"Macro!A5420","v":0},{"$f":"Macro!B5420","v":0},{"$f":"Macro!E5420","v":{"$error":"#DIV/0!"}}]
[null,{"$f":"Macro!A5421","v":0},{"$f":"Macro!B5421","v":0},{"$f":"Macro!E5421","v":{"$error":"#DIV/0!"}}]
[null,{"$f":"Macro!A5422","v":0},{"$f":"Macro!B5422","v":0},{"$f":"Macro!E5422","v":{"$error":"#DIV/0!"}}]
[null,{"$f":"Macro!A5423","v":0},{"$f":"Macro!B5423","v":0},{"$f":"Macro!E5423","v":{"$error":"#DIV/0!"}}]
[null,{"$f":"Macro!A5424","v":0},{"$f":"Macro!B5424","v":0},{"$f":"Macro!E5424","v":{"$error":"#DIV/0!"}}]
[null,{"$f":"Macro!A5425","v":0},{"$f":"Macro!B5425","v":0},{"$f":"Macro!E5425","v":{"$error":"#DIV/0!"}}]
[null,{"$f":"Macro!A5426","v":0},{"$f":"Macro!B5426","v":0},{"$f":"Macro!E5426","v":{"$error":"#DIV/0!"}}]
[null,{"$f":"Macro!A5427","v":0},{"$f":"Macro!B5427","v":0},{"$f":"Macro!E5427","v":{"$error":"#DIV/0!"}}]
[null,{"$f":"Macro!A5428","v":0},{"$f":"Macro!B5428","v":0},{"$f":"Macro!E5428","v":{"$error":"#DIV/0!"}}]
[null,{"$f":"Macro!A5429","v":0},{"$f":"Macro!B5429","v":0},{"$f":"Macro!E5429","v":{"$error":"#DIV/0!"}}]
[null,{"$f":"Macro!A5430","v":0},{"$f":"Macro!B5430","v":0},{"$f":"Macro!E5430","v":{"$error":"#DIV/0!"}}]
[null,{"$f":"Macro!A5431","v":0},{"$f":"Macro!B5431","v":0},{"$f":"Macro!E5431","v":{"$error":"#DIV/0!"}}]
[null,{"$f":"Macro!A5432","v":0},{"$f":"Macro!B5432","v":0},{"$f":"Macro!E5432","v":{"$error":"#DIV/0!"}}]
[null,{"$f":"Macro!A5433","v":0},{"$f":"Macro!B5433","v":0},{"$f":"Macro!E5433","v":{"$error":"#DIV/0!"}}]
[null,{"$f":"Macro!A5434","v":0},{"$f":"Macro!B5434","v":0},{"$f":"Macro!E5434","v":{"$error":"#DIV/0!"}}]
[null,{"$f":"Macro!A5435","v":0},{"$f":"Macro!B5435","v":0},{"$f":"Macro!E5435","v":{"$error":"#DIV/0!"}}]
[null,{"$f":"Macro!A5436","v":0},{"$f":"Macro!B5436","v":0},{"$f":"Macro!E5436","v":{"$error":"#DIV/0!"}}]
[null,{"$f":"Macro!A5437","v":0},{"$f":"Macro!B5437","v":0},{"$f":"Macro!E5437","v":{"$error":"#DIV/0!"}}]
[null,{"$f":"Macro!A5438","v":0},{"$f":"Macro!B5438","v":0},{"$f":"Macro!E5438","v":{"$error":"#DIV/0!"}}]
[null,{"$f":"Macro!A5439","v":0},{"$f":"Macro!B5439","v":0},{"$f":"Macro!E5439","v":{"$error":"#DIV/0!"}}]
[null,{"$f":"Macro!A5440","v":0},{"$f":"Macro!B5440","v":0},{"$f":"Macro!E5440","v":{"$error":"#DIV/0!"}}]
[null,{"$f":"Macro!A5441","v":0},{"$f":"Macro!B5441","v":0},{"$f":"Macro!E5441","v":{"$error":"#DIV/0!"}}]
[null,{"$f":"Macro!A5442","v":0},{"$f":"Macro!B5442","v":0},{"$f":"Macro!E5442","v":{"$error":"#DIV/0!"}}]
[null,{"$f":"Macro!A5443","v":0},{"$f":"Macro!B5443","v":0},{"$f":"Macro!E5443","v":{"$error":"#DIV/0!"}}]
[null,{"$f":"Macro!A5444","v":0},{"$f":"Macro!B5444","v":0},{"$f":"Macro!E5444","v":{"$error":"#DIV/0!"}}]
[null,{"$f":"Macro!A5445","v":0},{"$f":"Macro!B5445","v":0},{"$f":"Macro!E5445","v":{"$error":"#DIV/0!"}}]
[null,{"$f":"Macro!A5446","v":0},{"$f":"Macro!B5446","v":0},{"$f":"Macro!E5446","v":{"$error":"#DIV/0!"}}]
[null,{"$f":"Macro!A5447","v":0},{"$f":"Macro!B5447","v":0},{"$f":"Macro!E5447","v":{"$error":"#DIV/0!"}}]
[null,{"$f":"Macro!A5448","v":0},{"$f":"Macro!B5448","v":0},{"$f":"Macro!E5448","v":{"$error":"#DIV/0!"}}]
[null,{"$f":"Macro!A5449","v":0},{"$f":"Macro!B5449","v":0},{"$f":"Macro!E5449","v":{"$error":"#DIV/0!"}}]
[null,{"$f":"Macro!A5450","v":0},{"$f":"Macro!B5450","v":0},{"$f":"Macro!E5450","v":{"$error":"#DIV/0!"}}]
[null,{"$f":"Macro!A5451","v":0},{"$f":"Macro!B5451","v":0},{"$f":"Macro!E5451","v":{"$error":"#DIV/0!"}}]
[null,{"$f":"Macro!A5452","v":0},{"$f":"Macro!B5452","v":0},{"$f":"Macro!E5452","v":{"$error":"#DIV/0!"}}]
[null,{"$f":"Macro!A5453","v":0},{"$f":"Macro!B5453","v":0},{"$f":"Macro!E5453","v":{"$error":"#DIV/0!"}}]
[null,{"$f":"Macro!A5454","v":0},{"$f":"Macro!B5454","v":0},{"$f":"Macro!E5454","v":{"$error":"#DIV/0!"}}]
[null,{"$f":"Macro!A5455","v":0},{"$f":"Macro!B5455","v":0},{"$f":"Macro!E5455","v":{"$error":"#DIV/0!"}}]
[null,{"$f":"Macro!A5456","v":0},{"$f":"Macro!B5456","v":0},{"$f":"Macro!E5456","v":{"$error":"#DIV/0!"}}]
[null,{"$f":"Macro!A5457","v":0},{"$f":"Macro!B5457","v":0},{"$f":"Macro!E5457","v":{"$error":"#DIV/0!"}}]
[null,{"$f":"Macro!A5458","v":0},{"$f":"Macro!B5458","v":0},{"$f":"Macro!E5458","v":{"$error":"#DIV/0!"}}]
[null,{"$f":"Macro!A5459","v":0},{"$f":"Macro!B5459","v":0},{"$f":"Macro!E5459","v":{"$error":"#DIV/0!"}}]
[null,{"$f":"Macro!A5460","v":0},{"$f":"Macro!B5460","v":0},{"$f":"Macro!E5460","v":{"$error":"#DIV/0!"}}]
[null,{"$f":"Macro!A5461","v":0},{"$f":"Macro!B5461","v":0},{"$f":"Macro!E5461","v":{"$error":"#DIV/0!"}}]
[null,{"$f":"Macro!A5462","v":0},{"$f":"Macro!B5462","v":0},{"$f":"Macro!E5462","v":{"$error":"#DIV/0!"}}]
[null,{"$f":"Macro!A5463","v":0},{"$f":"Macro!B5463","v":0},{"$f":"Macro!E5463","v":{"$error":"#DIV/0!"}}]
[null,{"$f":"Macro!A5464","v":0},{"$f":"Macro!B5464","v":0},{"$f":"Macro!E5464","v":{"$error":"#DIV/0!"}}]
[null,{"$f":"Macro!A5465","v":0},{"$f":"Macro!B5465","v":0},{"$f":"Macro!E5465","v":{"$error":"#DIV/0!"}}]
[null,{"$f":"Macro!A5466","v":0},{"$f":"Macro!B5466","v":0},{"$f":"Macro!E5466","v":{"$error":"#DIV/0!"}}]
[null,{"$f":"Macro!A5467","v":0},{"$f":"Macro!B5467","v":0},{"$f":"Macro!E5467","v":{"$error":"#DIV/0!"}}]
[null,{"$f":"Macro!A5468","v":0},{"$f":"Macro!B5468","v":0},{"$f":"Macro!E5468","v":{"$error":"#DIV/0!"}}]
[null,{"$f":"Macro!A5469","v":0},{"$f":"Macro!B5469","v":0},{"$f":"Macro!E5469","v":{"$error":"#DIV/0!"}}]
[null,{"$f":"Macro!A5470","v":0},{"$f":"Macro!B5470","v":0},{"$f":"Macro!E5470","v":{"$error":"#DIV/0!"}}]
[null,{"$f":"Macro!A5471","v":0},{"$f":"Macro!B5471","v":0},{"$f":"Macro!E5471","v":{"$error":"#DIV/0!"}}]
[null,{"$f":"Macro!A5472","v":0},{"$f":"Macro!B5472","v":0},{"$f":"Macro!E5472","v":{"$error":"#DIV/0!"}}]
[null,{"$f":"Macro!A5473","v":0},{"$f":"Macro!B5473","v":0},{"$f":"Macro!E5473","v":{"$error":"#DIV/0!"}}]
[null,{"$f":"Macro!A5474","v":0},{"$f":"Macro!B5474","v":0},{"$f":"Macro!E5474","v":{"$error":"#DIV/0!"}}]
[null,{"$f":"Macro!A5475","v":0},{"$f":"Macro!B5475","v":0},{"$f":"Macro!E5475","v":{"$error":"#DIV/0!"}}]
[null,{"$f":"Macro!A5476","v":0},{"$f":"Macro!B5476","v":0},{"$f":"Macro!E5476","v":{"$error":"#DIV/0!"}}]
[null,{"$f":"Macro!A5477","v":0},{"$f":"Macro!B5477","v":0},{"$f":"Macro!E5477","v":{"$error":"#DIV/0!"}}]
[null,{"$f":"Macro!A5478","v":0},{"$f":"Macro!B5478","v":0},{"$f":"Macro!E5478","v":{"$error":"#DIV/0!"}}]
[null,{"$f":"Macro!A5479","v":0},{"$f":"Macro!B5479","v":0},{"$f":"Macro!E5479","v":{"$error":"#DIV/0!"}}]
[null,{"$f":"Macro!A5480","v":0},{"$f":"Macro!B5480","v":0},{"$f":"Macro!E5480","v":{"$error":"#DIV/0!"}}]
[null,{"$f":"Macro!A5481","v":0},{"$f":"Macro!B5481","v":0},{"$f":"Macro!E5481","v":{"$error":"#DIV/0!"}}]
[null,{"$f":"Macro!A5482","v":0},{"$f":"Macro!B5482","v":0},{"$f":"Macro!E5482","v":{"$error":"#DIV/0!"}}]
[null,{"$f":"Macro!A5483","v":0},{"$f":"Macro!B5483","v":0},{"$f":"Macro!E5483","v":{"$error":"#DIV/0!"}}]
[null,{"$f":"Macro!A5484","v":0},{"$f":"Macro!B5484","v":0},{"$f":"Macro!E5484","v":{"$error":"#DIV/0!"}}]
[null,{"$f":"Macro!A5485","v":0},{"$f":"Macro!B5485","v":0},{"$f":"Macro!E5485","v":{"$error":"#DIV/0!"}}]
[null,{"$f":"Macro!A5486","v":0},{"$f":"Macro!B5486","v":0},{"$f":"Macro!E5486","v":{"$error":"#DIV/0!"}}]
[null,{"$f":"Macro!A5487","v":0},{"$f":"Macro!B5487","v":0},{"$f":"Macro!E5487","v":{"$error":"#DIV/0!"}}]
[null,{"$f":"Macro!A5488","v":0},{"$f":"Macro!B5488","v":0},{"$f":"Macro!E5488","v":{"$error":"#DIV/0!"}}]
[null,{"$f":"Macro!A5489","v":0},{"$f":"Macro!B5489","v":0},{"$f":"Macro!E5489","v":{"$error":"#DIV/0!"}}]
[null,{"$f":"Macro!A5490","v":0},{"$f":"Macro!B5490","v":0},{"$f":"Macro!E5490","v":{"$error":"#DIV/0!"}}]
[null,{"$f":"Macro!A5491","v":0},{"$f":"Macro!B5491","v":0},{"$f":"Macro!E5491","v":{"$error":"#DIV/0!"}}]
[null,{"$f":"Macro!A5492","v":0},{"$f":"Macro!B5492","v":0},{"$f":"Macro!E5492","v":{"$error":"#DIV/0!"}}]
[null,{"$f":"Macro!A5493","v":0},{"$f":"Macro!B5493","v":0},{"$f":"Macro!E5493","v":{"$error":"#DIV/0!"}}]
[null,{"$f":"Macro!A5494","v":0},{"$f":"Macro!B5494","v":0},{"$f":"Macro!E5494","v":{"$error":"#DIV/0!"}}]
[null,{"$f":"Macro!A5495","v":0},{"$f":"Macro!B5495","v":0},{"$f":"Macro!E5495","v":{"$error":"#DIV/0!"}}]
[null,{"$f":"Macro!A5496","v":0},{"$f":"Macro!B5496","v":0},{"$f":"Macro!E5496","v":{"$error":"#DIV/0!"}}]
[null,{"$f":"Macro!A5497","v":0},{"$f":"Macro!B5497","v":0},{"$f":"Macro!E5497","v":{"$error":"#DIV/0!"}}]
[null,{"$f":"Macro!A5498","v":0},{"$f":"Macro!B5498","v":0},{"$f":"Macro!E5498","v":{"$error":"#DIV/0!"}}]
[null,{"$f":"Macro!A5499","v":0},{"$f":"Macro!B5499","v":0},{"$f":"Macro!E5499","v":{"$error":"#DIV/0!"}}]
[null,{"$f":"Macro!A5500","v":0},{"$f":"Macro!B5500","v":0},{"$f":"Macro!E5500","v":{"$error":"#DIV/0!"}}]
[null,{"$f":"Macro!A5501","v":0},{"$f":"Macro!B5501","v":0},{"$f":"Macro!E5501","v":{"$error":"#DIV/0!"}}]
[null,{"$f":"Macro!A5502","v":0},{"$f":"Macro!B5502","v":0},{"$f":"Macro!E5502","v":{"$error":"#DIV/0!"}}]
[null,{"$f":"Macro!A5503","v":0},{"$f":"Macro!B5503","v":0},{"$f":"Macro!E5503","v":{"$error":"#DIV/0!"}}]
[null,{"$f":"Macro!A5504","v":0},{"$f":"Macro!B5504","v":0},{"$f":"Macro!E5504","v":{"$error":"#DIV/0!"}}]
[null,{"$f":"Macro!A5505","v":0},{"$f":"Macro!B5505","v":0},{"$f":"Macro!E5505","v":{"$error":"#DIV/0!"}}]
[null,{"$f":"Macro!A5506","v":0},{"$f":"Macro!B5506","v":0},{"$f":"Macro!E5506","v":{"$error":"#DIV/0!"}}]
[null,{"$f":"Macro!A5507","v":0},{"$f":"Macro!B5507","v":0},{"$f":"Macro!E5507","v":{"$error":"#DIV/0!"}}]
[null,{"$f":"Macro!A5508","v":0},{"$f":"Macro!B5508","v":0},{"$f":"Macro!E5508","v":{"$error":"#DIV/0!"}}]
[null,{"$f":"Macro!A5509","v":0},{"$f":"Macro!B5509","v":0},{"$f":"Macro!E5509","v":{"$error":"#DIV/0!"}}]
[null,{"$f":"Macro!A5510","v":0},{"$f":"Macro!B5510","v":0},{"$f":"Macro!E5510","v":{"$error":"#DIV/0!"}}]
[null,{"$f":"Macro!A5511","v":0},{"$f":"Macro!B5511","v":0},{"$f":"Macro!E5511","v":{"$error":"#DIV/0!"}}]
[null,{"$f":"Macro!A5512","v":0},{"$f":"Macro!B5512","v":0},{"$f":"Macro!E5512","v":{"$error":"#DIV/0!"}}]
[null,{"$f":"Macro!A5513","v":0},{"$f":"Macro!B5513","v":0},{"$f":"Macro!E5513","v":{"$error":"#DIV/0!"}}]
[null,{"$f":"Macro!A5514","v":0},{"$f":"Macro!B5514","v":0},{"$f":"Macro!E5514","v":{"$error":"#DIV/0!"}}]
[null,{"$f":"Macro!A5515","v":0},{"$f":"Macro!B5515","v":0},{"$f":"Macro!E5515","v":{"$error":"#DIV/0!"}}]
[null,{"$f":"Macro!A5516","v":0},{"$f":"Macro!B5516","v":0},{"$f":"Macro!E5516","v":{"$error":"#DIV/0!"}}]
[null,{"$f":"Macro!A5517","v":0},{"$f":"Macro!B5517","v":0},{"$f":"Macro!E5517","v":{"$error":"#DIV/0!"}}]
[null,{"$f":"Macro!A5518","v":0},{"$f":"Macro!B5518","v":0},{"$f":"Macro!E5518","v":{"$error":"#DIV/0!"}}]
[null,{"$f":"Macro!A5519","v":0},{"$f":"Macro!B5519","v":0},{"$f":"Macro!E5519","v":{"$error":"#DIV/0!"}}]
[null,{"$f":"Macro!A5520","v":0},{"$f":"Macro!B5520","v":0},{"$f":"Macro!E5520","v":{"$error":"#DIV/0!"}}]
[null,{"$f":"Macro!A5521","v":0},{"$f":"Macro!B5521","v":0},{"$f":"Macro!E5521","v":{"$error":"#DIV/0!"}}]
[null,{"$f":"Macro!A5522","v":0},{"$f":"Macro!B5522","v":0},{"$f":"Macro!E5522","v":{"$error":"#DIV/0!"}}]
[null,{"$f":"Macro!A5523","v":0},{"$f":"Macro!B5523","v":0},{"$f":"Macro!E5523","v":{"$error":"#DIV/0!"}}]
[null,{"$f":"Macro!A5524","v":0},{"$f":"Macro!B5524","v":0},{"$f":"Macro!E5524","v":{"$error":"#DIV/0!"}}]
[null,{"$f":"Macro!A5525","v":0},{"$f":"Macro!B5525","v":0},{"$f":"Macro!E5525","v":{"$error":"#DIV/0!"}}]
[null,{"$f":"Macro!A5526","v":0},{"$f":"Macro!B5526","v":0},{"$f":"Macro!E5526","v":{"$error":"#DIV/0!"}}]
[null,{"$f":"Macro!A5527","v":0},{"$f":"Macro!B5527","v":0},{"$f":"Macro!E5527","v":{"$error":"#DIV/0!"}}]
[null,{"$f":"Macro!A5528","v":0},{"$f":"Macro!B5528","v":0},{"$f":"Macro!E5528","v":{"$error":"#DIV/0!"}}]
[null,{"$f":"Macro!A5529","v":0},{"$f":"Macro!B5529","v":0},{"$f":"Macro!E5529","v":{"$error":"#DIV/0!"}}]
[null,{"$f":"Macro!A5530","v":0},{"$f":"Macro!B5530","v":0},{"$f":"Macro!E5530","v":{"$error":"#DIV/0!"}}]
[null,{"$f":"Macro!A5531","v":0},{"$f":"Macro!B5531","v":0},{"$f":"Macro!E5531","v":{"$error":"#DIV/0!"}}]
[null,{"$f":"Macro!A5532","v":0},{"$f":"Macro!B5532","v":0},{"$f":"Macro!E5532","v":{"$error":"#DIV/0!"}}]
[null,{"$f":"Macro!A5533","v":0},{"$f":"Macro!B5533","v":0},{"$f":"Macro!E5533","v":{"$error":"#DIV/0!"}}]
[null,{"$f":"Macro!A5534","v":0},{"$f":"Macro!B5534","v":0},{"$f":"Macro!E5534","v":{"$error":"#DIV/0!"}}]
[null,{"$f":"Macro!A5535","v":0},{"$f":"Macro!B5535","v":0},{"$f":"Macro!E5535","v":{"$error":"#DIV/0!"}}]
[null,{"$f":"Macro!A5536","v":0},{"$f":"Macro!B5536","v":0},{"$f":"Macro!E5536","v":{"$error":"#DIV/0!"}}]
[null,{"$f":"Macro!A5537","v":0},{"$f":"Macro!B5537","v":0},{"$f":"Macro!E5537","v":{"$error":"#DIV/0!"}}]
[null,{"$f":"Macro!A5538","v":0},{"$f":"Macro!B5538","v":0},{"$f":"Macro!E5538","v":{"$error":"#DIV/0!"}}]
[null,{"$f":"Macro!A5539","v":0},{"$f":"Macro!B5539","v":0},{"$f":"Macro!E5539","v":{"$error":"#DIV/0!"}}]
[null,{"$f":"Macro!A5540","v":0},{"$f":"Macro!B5540","v":0},{"$f":"Macro!E5540","v":{"$error":"#DIV/0!"}}]
[null,{"$f":"Macro!A5541","v":0},{"$f":"Macro!B5541","v":0},{"$f":"Macro!E5541","v":{"$error":"#DIV/0!"}}]
[null,{"$f":"Macro!A5542","v":0},{"$f":"Macro!B5542","v":0},{"$f":"Macro!E5542","v":{"$error":"#DIV/0!"}}]
[null,{"$f":"Macro!A5543","v":0},{"$f":"Macro!B5543","v":0},{"$f":"Macro!E5543","v":{"$error":"#DIV/0!"}}]
[null,{"$f":"Macro!A5544","v":0},{"$f":"Macro!B5544","v":0},{"$f":"Macro!E5544","v":{"$error":"#DIV/0!"}}]
[null,{"$f":"Macro!A5545","v":0},{"$f":"Macro!B5545","v":0},{"$f":"Macro!E5545","v":{"$error":"#DIV/0!"}}]
[null,{"$f":"Macro!A5546","v":0},{"$f":"Macro!B5546","v":0},{"$f":"Macro!E5546","v":{"$error":"#DIV/0!"}}]
[null,{"$f":"Macro!A5547","v":0},{"$f":"Macro!B5547","v":0},{"$f":"Macro!E5547","v":{"$error":"#DIV/0!"}}]
[null,{"$f":"Macro!A5548","v":0},{"$f":"Macro!B5548","v":0},{"$f":"Macro!E5548","v":{"$error":"#DIV/0!"}}]
[null,{"$f":"Macro!A5549","v":0},{"$f":"Macro!B5549","v":0},{"$f":"Macro!E5549","v":{"$error":"#DIV/0!"}}]
[null,{"$f":"Macro!A5550","v":0},{"$f":"Macro!B5550","v":0},{"$f":"Macro!E5550","v":{"$error":"#DIV/0!"}}]
[null,{"$f":"Macro!A5551","v":0},{"$f":"Macro!B5551","v":0},{"$f":"Macro!E5551","v":{"$error":"#DIV/0!"}}]
[null,{"$f":"Macro!A5552","v":0},{"$f":"Macro!B5552","v":0},{"$f":"Macro!E5552","v":{"$error":"#DIV/0!"}}]
[null,{"$f":"Macro!A5553","v":0},{"$f":"Macro!B5553","v":0},{"$f":"Macro!E5553","v":{"$error":"#DIV/0!"}}]
[null,{"$f":"Macro!A5554","v":0},{"$f":"Macro!B5554","v":0},{"$f":"Macro!E5554","v":{"$error":"#DIV/0!"}}]
[null,{"$f":"Macro!A5555","v":0},{"$f":"Macro!B5555","v":0},{"$f":"Macro!E5555","v":{"$error":"#DIV/0!"}}]
[null,{"$f":"Macro!A5556","v":0},{"$f":"Macro!B5556","v":0},{"$f":"Macro!E5556","v":{"$error":"#DIV/0!"}}]
[null,{"$f":"Macro!A5557","v":0},{"$f":"Macro!B5557","v":0},{"$f":"Macro!E5557","v":{"$error":"#DIV/0!"}}]
[null,{"$f":"Macro!A5558","v":0},{"$f":"Macro!B5558","v":0},{"$f":"Macro!E5558","v":{"$error":"#DIV/0!"}}]
[null,{"$f":"Macro!A5559","v":0},{"$f":"Macro!B5559","v":0},{"$f":"Macro!E5559","v":{"$error":"#DIV/0!"}}]
[null,{"$f":"Macro!A5560","v":0},{"$f":"Macro!B5560","v":0},{"$f":"Macro!E5560","v":{"$error":"#DIV/0!"}}]
[null,{"$f":"Macro!A5561","v":0},{"$f":"Macro!B5561","v":0},{"$f":"Macro!E5561","v":{"$error":"#DIV/0!"}}]
[null,{"$f":"Macro!A5562","v":0},{"$f":"Macro!B5562","v":0},{"$f":"Macro!E5562","v":{"$error":"#DIV/0!"}}]
[null,{"$f":"Macro!A5563","v":0},{"$f":"Macro!B5563","v":0},{"$f":"Macro!E5563","v":{"$error":"#DIV/0!"}}]
[null,{"$f":"Macro!A5564","v":0},{"$f":"Macro!B5564","v":0},{"$f":"Macro!E5564","v":{"$error":"#DIV/0!"}}]
[null,{"$f":"Macro!A5565","v":0},{"$f":"Macro!B5565","v":0},{"$f":"Macro!E5565","v":{"$error":"#DIV/0!"}}]
[null,{"$f":"Macro!A5566","v":0},{"$f":"Macro!B5566","v":0},{"$f":"Macro!E5566","v":{"$error":"#DIV/0!"}}]
[null,{"$f":"Macro!A5567","v":0},{"$f":"Macro!B5567","v":0},{"$f":"Macro!E5567","v":{"$error":"#DIV/0!"}}]
[null,{"$f":"Macro!A5568","v":0},{"$f":"Macro!B5568","v":0},{"$f":"Macro!E5568","v":{"$error":"#DIV/0!"}}]
[null,{"$f":"Macro!A5569","v":0},{"$f":"Macro!B5569","v":0},{"$f":"Macro!E5569","v":{"$error":"#DIV/0!"}}]
[null,{"$f":"Macro!A5570","v":0},{"$f":"Macro!B5570","v":0},{"$f":"Macro!E5570","v":{"$error":"#DIV/0!"}}]
[null,{"$f":"Macro!A5571","v":0},{"$f":"Macro!B5571","v":0},{"$f":"Macro!E5571","v":{"$error":"#DIV/0!"}}]
[null,{"$f":"Macro!A5572","v":0},{"$f":"Macro!B5572","v":0},{"$f":"Macro!E5572","v":{"$error":"#DIV/0!"}}]
[null,{"$f":"Macro!A5573","v":0},{"$f":"Macro!B5573","v":0},{"$f":"Macro!E5573","v":{"$error":"#DIV/0!"}}]
[null,{"$f":"Macro!A5574","v":0},{"$f":"Macro!B5574","v":0},{"$f":"Macro!E5574","v":{"$error":"#DIV/0!"}}]
[null,{"$f":"Macro!A5575","v":0},{"$f":"Macro!B5575","v":0},{"$f":"Macro!E5575","v":{"$error":"#DIV/0!"}}]
[null,{"$f":"Macro!A5576","v":0},{"$f":"Macro!B5576","v":0},{"$f":"Macro!E5576","v":{"$error":"#DIV/0!"}}]
[null,{"$f":"Macro!A5577","v":0},{"$f":"Macro!B5577","v":0},{"$f":"Macro!E5577","v":{"$error":"#DIV/0!"}}]
[null,{"$f":"Macro!A5578","v":0},{"$f":"Macro!B5578","v":0},{"$f":"Macro!E5578","v":{"$error":"#DIV/0!"}}]
[null,{"$f":"Macro!A5579","v":0},{"$f":"Macro!B5579","v":0},{"$f":"Macro!E5579","v":{"$error":"#DIV/0!"}}]
[null,{"$f":"Macro!A5580","v":0},{"$f":"Macro!B5580","v":0},{"$f":"Macro!E5580","v":{"$error":"#DIV/0!"}}]
[null,{"$f":"Macro!A5581","v":0},{"$f":"Macro!B5581","v":0},{"$f":"Macro!E5581","v":{"$error":"#DIV/0!"}}]
[null,{"$f":"Macro!A5582","v":0},{"$f":"Macro!B5582","v":0},{"$f":"Macro!E5582","v":{"$error":"#DIV/0!"}}]
[null,{"$f":"Macro!A5583","v":0},{"$f":"Macro!B5583","v":0},{"$f":"Macro!E5583","v":{"$error":"#DIV/0!"}}]
[null,{"$f":"Macro!A5584","v":0},{"$f":"Macro!B5584","v":0},{"$f":"Macro!E5584","v":{"$error":"#DIV/0!"}}]
[null,{"$f":"Macro!A5585","v":0},{"$f":"Macro!B5585","v":0},{"$f":"Macro!E5585","v":{"$error":"#DIV/0!"}}]
[null,{"$f":"Macro!A5586","v":0},{"$f":"Macro!B5586","v":0},{"$f":"Macro!E5586","v":{"$error":"#DIV/0!"}}]
[null,{"$f":"Macro!A5587","v":0},{"$f":"Macro!B5587","v":0},{"$f":"Macro!E5587","v":{"$error":"#DIV/0!"}}]
[null,{"$f":"Macro!A5588","v":0},{"$f":"Macro!B5588","v":0},{"$f":"Macro!E5588","v":{"$error":"#DIV/0!"}}]
[null,{"$f":"Macro!A5589","v":0},{"$f":"Macro!B5589","v":0},{"$f":"Macro!E5589","v":{"$error":"#DIV/0!"}}]
[null,{"$f":"Macro!A5590","v":0},{"$f":"Macro!B5590","v":0},{"$f":"Macro!E5590","v":{"$error":"#DIV/0!"}}]
[null,{"$f":"Macro!A5591","v":0},{"$f":"Macro!B5591","v":0},{"$f":"Macro!E5591","v":{"$error":"#DIV/0!"}}]
[null,{"$f":"Macro!A5592","v":0},{"$f":"Macro!B5592","v":0},{"$f":"Macro!E5592","v":{"$error":"#DIV/0!"}}]
[null,{"$f":"Macro!A5593","v":0},{"$f":"Macro!B5593","v":0},{"$f":"Macro!E5593","v":{"$error":"#DIV/0!"}}]
[null,{"$f":"Macro!A5594","v":0},{"$f":"Macro!B5594","v":0},{"$f":"Macro!E5594","v":{"$error":"#DIV/0!"}}]
[null,{"$f":"Macro!A5595","v":0},{"$f":"Macro!B5595","v":0},{"$f":"Macro!E5595","v":{"$error":"#DIV/0!"}}]
[null,{"$f":"Macro!A5596","v":0},{"$f":"Macro!B5596","v":0},{"$f":"Macro!E5596","v":{"$error":"#DIV/0!"}}]
[null,{"$f":"Macro!A5597","v":0},{"$f":"Macro!B5597","v":0},{"$f":"Macro!E5597","v":{"$error":"#DIV/0!"}}]
[null,{"$f":"Macro!A5598","v":0},{"$f":"Macro!B5598","v":0},{"$f":"Macro!E5598","v":{"$error":"#DIV/0!"}}]
[null,{"$f":"Macro!A5599","v":0},{"$f":"Macro!B5599","v":0},{"$f":"Macro!E5599","v":{"$error":"#DIV/0!"}}]
[null,{"$f":"Macro!A5600","v":0},{"$f":"Macro!B5600","v":0},{"$f":"Macro!E5600","v":{"$error":"#DIV/0!"}}]
[null,{"$f":"Macro!A5601","v":0},{"$f":"Macro!B5601","v":0},{"$f":"Macro!E5601","v":{"$error":"#DIV/0!"}}]
[null,{"$f":"Macro!A5602","v":0},{"$f":"Macro!B5602","v":0},{"$f":"Macro!E5602","v":{"$error":"#DIV/0!"}}]
[null,{"$f":"Macro!A5603","v":0},{"$f":"Macro!B5603","v":0},{"$f":"Macro!E5603","v":{"$error":"#DIV/0!"}}]
[null,{"$f":"Macro!A5604","v":0},{"$f":"Macro!B5604","v":0},{"$f":"Macro!E5604","v":{"$error":"#DIV/0!"}}]
[null,{"$f":"Macro!A5605","v":0},{"$f":"Macro!B5605","v":0},{"$f":"Macro!E5605","v":{"$error":"#DIV/0!"}}]
[null,{"$f":"Macro!A5606","v":0},{"$f":"Macro!B5606","v":0},{"$f":"Macro!E5606","v":{"$error":"#DIV/0!"}}]
[null,{"$f":"Macro!A5607","v":0},{"$f":"Macro!B5607","v":0},{"$f":"Macro!E5607","v":{"$error":"#DIV/0!"}}]
[null,{"$f":"Macro!A5608","v":0},{"$f":"Macro!B5608","v":0},{"$f":"Macro!E5608","v":{"$error":"#DIV/0!"}}]
[null,{"$f":"Macro!A5609","v":0},{"$f":"Macro!B5609","v":0},{"$f":"Macro!E5609","v":{"$error":"#DIV/0!"}}]
[null,{"$f":"Macro!A5610","v":0},{"$f":"Macro!B5610","v":0},{"$f":"Macro!E5610","v":{"$error":"#DIV/0!"}}]
[null,{"$f":"Macro!A5611","v":0},{"$f":"Macro!B5611","v":0},{"$f":"Macro!E5611","v":{"$error":"#DIV/0!"}}]
[null,{"$f":"Macro!A5612","v":0},{"$f":"Macro!B5612","v":0},{"$f":"Macro!E5612","v":{"$error":"#DIV/0!"}}]
[null,{"$f":"Macro!A5613","v":0},{"$f":"Macro!B5613","v":0},{"$f":"Macro!E5613","v":{"$error":"#DIV/0!"}}]
[null,{"$f":"Macro!A5614","v":0},{"$f":"Macro!B5614","v":0},{"$f":"Macro!E5614","v":{"$error":"#DIV/0!"}}]
[null,{"$f":"Macro!A5615","v":0},{"$f":"Macro!B5615","v":0},{"$f":"Macro!E5615","v":{"$error":"#DIV/0!"}}]
[null,{"$f":"Macro!A5616","v":0},{"$f":"Macro!B5616","v":0},{"$f":"Macro!E5616","v":{"$error":"#DIV/0!"}}]
[null,{"$f":"Macro!A5617","v":0},{"$f":"Macro!B5617","v":0},{"$f":"Macro!E5617","v":{"$error":"#DIV/0!"}}]
[null,{"$f":"Macro!A5618","v":0},{"$f":"Macro!B5618","v":0},{"$f":"Macro!E5618","v":{"$error":"#DIV/0!"}}]
[null,{"$f":"Macro!A5619","v":0},{"$f":"Macro!B5619","v":0},{"$f":"Macro!E5619","v":{"$error":"#DIV/0!"}}]
[null,{"$f":"Macro!A5620","v":0},{"$f":"Macro!B5620","v":0},{"$f":"Macro!E5620","v":{"$error":"#DIV/0!"}}]
[null,{"$f":"Macro!A5621","v":0},{"$f":"Macro!B5621","v":0},{"$f":"Macro!E5621","v":{"$error":"#DIV/0!"}}]
[null,{"$f":"Macro!A5622","v":0},{"$f":"Macro!B5622","v":0},{"$f":"Macro!E5622","v":{"$error":"#DIV/0!"}}]
[null,{"$f":"Macro!A5623","v":0},{"$f":"Macro!B5623","v":0},{"$f":"Macro!E5623","v":{"$error":"#DIV/0!"}}]
[null,{"$f":"Macro!A5624","v":0},{"$f":"Macro!B5624","v":0},{"$f":"Macro!E5624","v":{"$error":"#DIV/0!"}}]
[null,{"$f":"Macro!A5625","v":0},{"$f":"Macro!B5625","v":0},{"$f":"Macro!E5625","v":{"$error":"#DIV/0!"}}]
[null,{"$f":"Macro!A5626","v":0},{"$f":"Macro!B5626","v":0},{"$f":"Macro!E5626","v":{"$error":"#DIV/0!"}}]
[null,{"$f":"Macro!A5627","v":0},{"$f":"Macro!B5627","v":0},{"$f":"Macro!E5627","v":{"$error":"#DIV/0!"}}]
[null,{"$f":"Macro!A5628","v":0},{"$f":"Macro!B5628","v":0},{"$f":"Macro!E5628","v":{"$error":"#DIV/0!"}}]
[null,{"$f":"Macro!A5629","v":0},{"$f":"Macro!B5629","v":0},{"$f":"Macro!E5629","v":{"$error":"#DIV/0!"}}]
[null,{"$f":"Macro!A5630","v":0},{"$f":"Macro!B5630","v":0},{"$f":"Macro!E5630","v":{"$error":"#DIV/0!"}}]
[null,{"$f":"Macro!A5631","v":0},{"$f":"Macro!B5631","v":0},{"$f":"Macro!E5631","v":{"$error":"#DIV/0!"}}]
[null,{"$f":"Macro!A5632","v":0},{"$f":"Macro!B5632","v":0},{"$f":"Macro!E5632","v":{"$error":"#DIV/0!"}}]
[null,{"$f":"Macro!A5633","v":0},{"$f":"Macro!B5633","v":0},{"$f":"Macro!E5633","v":{"$error":"#DIV/0!"}}]
[null,{"$f":"Macro!A5634","v":0},{"$f":"Macro!B5634","v":0},{"$f":"Macro!E5634","v":{"$error":"#DIV/0!"}}]
[null,{"$f":"Macro!A5635","v":0},{"$f":"Macro!B5635","v":0},{"$f":"Macro!E5635","v":{"$error":"#DIV/0!"}}]
[null,{"$f":"Macro!A5636","v":0},{"$f":"Macro!B5636","v":0},{"$f":"Macro!E5636","v":{"$error":"#DIV/0!"}}]
[null,{"$f":"Macro!A5637","v":0},{"$f":"Macro!B5637","v":0},{"$f":"Macro!E5637","v":{"$error":"#DIV/0!"}}]
[null,{"$f":"Macro!A5638","v":0},{"$f":"Macro!B5638","v":0},{"$f":"Macro!E5638","v":{"$error":"#DIV/0!"}}]
[null,{"$f":"Macro!A5639","v":0},{"$f":"Macro!B5639","v":0},{"$f":"Macro!E5639","v":{"$error":"#DIV/0!"}}]
[null,{"$f":"Macro!A5640","v":0},{"$f":"Macro!B5640","v":0},{"$f":"Macro!E5640","v":{"$error":"#DIV/0!"}}]
[null,{"$f":"Macro!A5641","v":0},{"$f":"Macro!B5641","v":0},{"$f":"Macro!E5641","v":{"$error":"#DIV/0!"}}]
[null,{"$f":"Macro!A5642","v":0},{"$f":"Macro!B5642","v":0},{"$f":"Macro!E5642","v":{"$error":"#DIV/0!"}}]
[null,{"$f":"Macro!A5643","v":0},{"$f":"Macro!B5643","v":0},{"$f":"Macro!E5643","v":{"$error":"#DIV/0!"}}]
[null,{"$f":"Macro!A5644","v":0},{"$f":"Macro!B5644","v":0},{"$f":"Macro!E5644","v":{"$error":"#DIV/0!"}}]
[null,{"$f":"Macro!A5645","v":0},{"$f":"Macro!B5645","v":0},{"$f":"Macro!E5645","v":{"$error":"#DIV/0!"}}]
[null,{"$f":"Macro!A5646","v":0},{"$f":"Macro!B5646","v":0},{"$f":"Macro!E5646","v":{"$error":"#DIV/0!"}}]
[null,{"$f":"Macro!A5647","v":0},{"$f":"Macro!B5647","v":0},{"$f":"Macro!E5647","v":{"$error":"#DIV/0!"}}]
[null,{"$f":"Macro!A5648","v":0},{"$f":"Macro!B5648","v":0},{"$f":"Macro!E5648","v":{"$error":"#DIV/0!"}}]
[null,{"$f":"Macro!A5649","v":0},{"$f":"Macro!B5649","v":0},{"$f":"Macro!E5649","v":{"$error":"#DIV/0!"}}]
[null,{"$f":"Macro!A5650","v":0},{"$f":"Macro!B5650","v":0},{"$f":"Macro!E5650","v":{"$error":"#DIV/0!"}}]
[null,{"$f":"Macro!A5651","v":0},{"$f":"Macro!B5651","v":0},{"$f":"Macro!E5651","v":{"$error":"#DIV/0!"}}]
[null,{"$f":"Macro!A5652","v":0},{"$f":"Macro!B5652","v":0},{"$f":"Macro!E5652","v":{"$error":"#DIV/0!"}}]
[null,{"$f":"Macro!A5653","v":0},{"$f":"Macro!B5653","v":0},{"$f":"Macro!E5653","v":{"$error":"#DIV/0!"}}]
[null,{"$f":"Macro!A5654","v":0},{"$f":"Macro!B5654","v":0},{"$f":"Macro!E5654","v":{"$error":"#DIV/0!"}}]
[null,{"$f":"Macro!A5655","v":0},{"$f":"Macro!B5655","v":0},{"$f":"Macro!E5655","v":{"$error":"#DIV/0!"}}]
[null,{"$f":"Macro!A5656","v":0},{"$f":"Macro!B5656","v":0},{"$f":"Macro!E5656","v":{"$error":"#DIV/0!"}}]
[null,{"$f":"Macro!A5657","v":0},{"$f":"Macro!B5657","v":0},{"$f":"Macro!E5657","v":{"$error":"#DIV/0!"}}]
[null,{"$f":"Macro!A5658","v":0},{"$f":"Macro!B5658","v":0},{"$f":"Macro!E5658","v":{"$error":"#DIV/0!"}}]
[null,{"$f":"Macro!A5659","v":0},{"$f":"Macro!B5659","v":0},{"$f":"Macro!E5659","v":{"$error":"#DIV/0!"}}]
[null,{"$f":"Macro!A5660","v":0},{"$f":"Macro!B5660","v":0},{"$f":"Macro!E5660","v":{"$error":"#DIV/0!"}}]
[null,{"$f":"Macro!A5661","v":0},{"$f":"Macro!B5661","v":0},{"$f":"Macro!E5661","v":{"$error":"#DIV/0!"}}]
[null,{"$f":"Macro!A5662","v":0},{"$f":"Macro!B5662","v":0},{"$f":"Macro!E5662","v":{"$error":"#DIV/0!"}}]
[null,{"$f":"Macro!A5663","v":0},{"$f":"Macro!B5663","v":0},{"$f":"Macro!E5663","v":{"$error":"#DIV/0!"}}]
[null,{"$f":"Macro!A5664","v":0},{"$f":"Macro!B5664","v":0},{"$f":"Macro!E5664","v":{"$error":"#DIV/0!"}}]
[null,{"$f":"Macro!A5665","v":0},{"$f":"Macro!B5665","v":0},{"$f":"Macro!E5665","v":{"$error":"#DIV/0!"}}]
[null,{"$f":"Macro!A5666","v":0},{"$f":"Macro!B5666","v":0},{"$f":"Macro!E5666","v":{"$error":"#DIV/0!"}}]
[null,{"$f":"Macro!A5667","v":0},{"$f":"Macro!B5667","v":0},{"$f":"Macro!E5667","v":{"$error":"#DIV/0!"}}]
[null,{"$f":"Macro!A5668","v":0},{"$f":"Macro!B5668","v":0},{"$f":"Macro!E5668","v":{"$error":"#DIV/0!"}}]
[null,{"$f":"Macro!A5669","v":0},{"$f":"Macro!B5669","v":0},{"$f":"Macro!E5669","v":{"$error":"#DIV/0!"}}]
[null,{"$f":"Macro!A5670","v":0},{"$f":"Macro!B5670","v":0},{"$f":"Macro!E5670","v":{"$error":"#DIV/0!"}}]
[null,{"$f":"Macro!A5671","v":0},{"$f":"Macro!B5671","v":0},{"$f":"Macro!E5671","v":{"$error":"#DIV/0!"}}]
[null,{"$f":"Macro!A5672","v":0},{"$f":"Macro!B5672","v":0},{"$f":"Macro!E5672","v":{"$error":"#DIV/0!"}}]
[null,{"$f":"Macro!A5673","v":0},{"$f":"Macro!B5673","v":0},{"$f":"Macro!E5673","v":{"$error":"#DIV/0!"}}]
[null,{"$f":"Macro!A5674","v":0},{"$f":"Macro!B5674","v":0},{"$f":"Macro!E5674","v":{"$error":"#DIV/0!"}}]
[null,{"$f":"Macro!A5675","v":0},{"$f":"Macro!B5675","v":0},{"$f":"Macro!E5675","v":{"$error":"#DIV/0!"}}]
[null,{"$f":"Macro!A5676","v":0},{"$f":"Macro!B5676","v":0},{"$f":"Macro!E5676","v":{"$error":"#DIV/0!"}}]
[null,{"$f":"Macro!A5677","v":0},{"$f":"Macro!B5677","v":0},{"$f":"Macro!E5677","v":{"$error":"#DIV/0!"}}]
[null,{"$f":"Macro!A5678","v":0},{"$f":"Macro!B5678","v":0},{"$f":"Macro!E5678","v":{"$error":"#DIV/0!"}}]
[null,{"$f":"Macro!A5679","v":0},{"$f":"Macro!B5679","v":0},{"$f":"Macro!E5679","v":{"$error":"#DIV/0!"}}]
[null,{"$f":"Macro!A5680","v":0},{"$f":"Macro!B5680","v":0},{"$f":"Macro!E5680","v":{"$error":"#DIV/0!"}}]
[null,{"$f":"Macro!A5681","v":0},{"$f":"Macro!B5681","v":0},{"$f":"Macro!E5681","v":{"$error":"#DIV/0!"}}]
[null,{"$f":"Macro!A5682","v":0},{"$f":"Macro!B5682","v":0},{"$f":"Macro!E5682","v":{"$error":"#DIV/0!"}}]
[null,{"$f":"Macro!A5683","v":0},{"$f":"Macro!B5683","v":0},{"$f":"Macro!E5683","v":{"$error":"#DIV/0!"}}]
[null,{"$f":"Macro!A5684","v":0},{"$f":"Macro!B5684","v":0},{"$f":"Macro!E5684","v":{"$error":"#DIV/0!"}}]
[null,{"$f":"Macro!A5685","v":0},{"$f":"Macro!B5685","v":0},{"$f":"Macro!E5685","v":{"$error":"#DIV/0!"}}]
[null,{"$f":"Macro!A5686","v":0},{"$f":"Macro!B5686","v":0},{"$f":"Macro!E5686","v":{"$error":"#DIV/0!"}}]
[null,{"$f":"Macro!A5687","v":0},{"$f":"Macro!B5687","v":0},{"$f":"Macro!E5687","v":{"$error":"#DIV/0!"}}]
[null,{"$f":"Macro!A5688","v":0},{"$f":"Macro!B5688","v":0},{"$f":"Macro!E5688","v":{"$error":"#DIV/0!"}}]
[null,{"$f":"Macro!A5689","v":0},{"$f":"Macro!B5689","v":0},{"$f":"Macro!E5689","v":{"$error":"#DIV/0!"}}]
[null,{"$f":"Macro!A5690","v":0},{"$f":"Macro!B5690","v":0},{"$f":"Macro!E5690","v":{"$error":"#DIV/0!"}}]
[null,{"$f":"Macro!A5691","v":0},{"$f":"Macro!B5691","v":0},{"$f":"Macro!E5691","v":{"$error":"#DIV/0!"}}]
[null,{"$f":"Macro!A5692","v":0},{"$f":"Macro!B5692","v":0},{"$f":"Macro!E5692","v":{"$error":"#DIV/0!"}}]
[null,{"$f":"Macro!A5693","v":0},{"$f":"Macro!B5693","v":0},{"$f":"Macro!E5693","v":{"$error":"#DIV/0!"}}]
[null,{"$f":"Macro!A5694","v":0},{"$f":"Macro!B5694","v":0},{"$f":"Macro!E5694","v":{"$error":"#DIV/0!"}}]
[null,{"$f":"Macro!A5695","v":0},{"$f":"Macro!B5695","v":0},{"$f":"Macro!E5695","v":{"$error":"#DIV/0!"}}]
[null,{"$f":"Macro!A5696","v":0},{"$f":"Macro!B5696","v":0},{"$f":"Macro!E5696","v":{"$error":"#DIV/0!"}}]
[null,{"$f":"Macro!A5697","v":0},{"$f":"Macro!B5697","v":0},{"$f":"Macro!E5697","v":{"$error":"#DIV/0!"}}]
[null,{"$f":"Macro!A5698","v":0},{"$f":"Macro!B5698","v":0},{"$f":"Macro!E5698","v":{"$error":"#DIV/0!"}}]
[null,{"$f":"Macro!A5699","v":0},{"$f":"Macro!B5699","v":0},{"$f":"Macro!E5699","v":{"$error":"#DIV/0!"}}]
[null,{"$f":"Macro!A5700","v":0},{"$f":"Macro!B5700","v":0},{"$f":"Macro!E5700","v":{"$error":"#DIV/0!"}}]
[null,{"$f":"Macro!A5701","v":0},{"$f":"Macro!B5701","v":0},{"$f":"Macro!E5701","v":{"$error":"#DIV/0!"}}]
[null,{"$f":"Macro!A5702","v":0},{"$f":"Macro!B5702","v":0},{"$f":"Macro!E5702","v":{"$error":"#DIV/0!"}}]
[null,{"$f":"Macro!A5703","v":0},{"$f":"Macro!B5703","v":0},{"$f":"Macro!E5703","v":{"$error":"#DIV/0!"}}]
[null,{"$f":"Macro!A5704","v":0},{"$f":"Macro!B5704","v":0},{"$f":"Macro!E5704","v":{"$error":"#DIV/0!"}}]
[null,{"$f":"Macro!A5705","v":0},{"$f":"Macro!B5705","v":0},{"$f":"Macro!E5705","v":{"$error":"#DIV/0!"}}]
[null,{"$f":"Macro!A5706","v":0},{"$f":"Macro!B5706","v":0},{"$f":"Macro!E5706","v":{"$error":"#DIV/0!"}}]
[null,{"$f":"Macro!A5707","v":0},{"$f":"Macro!B5707","v":0},{"$f":"Macro!E5707","v":{"$error":"#DIV/0!"}}]
[null,{"$f":"Macro!A5708","v":0},{"$f":"Macro!B5708","v":0},{"$f":"Macro!E5708","v":{"$error":"#DIV/0!"}}]
[null,{"$f":"Macro!A5709","v":0},{"$f":"Macro!B5709","v":0},{"$f":"Macro!E5709","v":{"$error":"#DIV/0!"}}]
[null,{"$f":"Macro!A5710","v":0},{"$f":"Macro!B5710","v":0},{"$f":"Macro!E5710","v":{"$error":"#DIV/0!"}}]
[null,{"$f":"Macro!A5711","v":0},{"$f":"Macro!B5711","v":0},{"$f":"Macro!E5711","v":{"$error":"#DIV/0!"}}]
[null,{"$f":"Macro!A5712","v":0},{"$f":"Macro!B5712","v":0},{"$f":"Macro!E5712","v":{"$error":"#DIV/0!"}}]
[null,{"$f":"Macro!A5713","v":0},{"$f":"Macro!B5713","v":0},{"$f":"Macro!E5713","v":{"$error":"#DIV/0!"}}]
[null,{"$f":"Macro!A5714","v":0},{"$f":"Macro!B5714","v":0},{"$f":"Macro!E5714","v":{"$error":"#DIV/0!"}}]
[null,{"$f":"Macro!A5715","v":0},{"$f":"Macro!B5715","v":0},{"$f":"Macro!E5715","v":{"$error":"#DIV/0!"}}]
[null,{"$f":"Macro!A5716","v":0},{"$f":"Macro!B5716","v":0},{"$f":"Macro!E5716","v":{"$error":"#DIV/0!"}}]
[null,{"$f":"Macro!A5717","v":0},{"$f":"Macro!B5717","v":0},{"$f":"Macro!E5717","v":{"$error":"#DIV/0!"}}]
[null,{"$f":"Macro!A5718","v":0},{"$f":"Macro!B5718","v":0},{"$f":"Macro!E5718","v":{"$error":"#DIV/0!"}}]
[null,{"$f":"Macro!A5719","v":0},{"$f":"Macro!B5719","v":0},{"$f":"Macro!E5719","v":{"$error":"#DIV/0!"}}]
[null,{"$f":"Macro!A5720","v":0},{"$f":"Macro!B5720","v":0},{"$f":"Macro!E5720","v":{"$error":"#DIV/0!"}}]
[null,{"$f":"Macro!A5721","v":0},{"$f":"Macro!B5721","v":0},{"$f":"Macro!E5721","v":{"$error":"#DIV/0!"}}]
[null,{"$f":"Macro!A5722","v":0},{"$f":"Macro!B5722","v":0},{"$f":"Macro!E5722","v":{"$error":"#DIV/0!"}}]
[null,{"$f":"Macro!A5723","v":0},{"$f":"Macro!B5723","v":0},{"$f":"Macro!E5723","v":{"$error":"#DIV/0!"}}]
[null,{"$f":"Macro!A5724","v":0},{"$f":"Macro!B5724","v":0},{"$f":"Macro!E5724","v":{"$error":"#DIV/0!"}}]
[null,{"$f":"Macro!A5725","v":0},{"$f":"Macro!B5725","v":0},{"$f":"Macro!E5725","v":{"$error":"#DIV/0!"}}]
[null,{"$f":"Macro!A5726","v":0},{"$f":"Macro!B5726","v":0},{"$f":"Macro!E5726","v":{"$error":"#DIV/0!"}}]
[null,{"$f":"Macro!A5727","v":0},{"$f":"Macro!B5727","v":0},{"$f":"Macro!E5727","v":{"$error":"#DIV/0!"}}]
[null,{"$f":"Macro!A5728","v":0},{"$f":"Macro!B5728","v":0},{"$f":"Macro!E5728","v":{"$error":"#DIV/0!"}}]
[null,{"$f":"Macro!A5729","v":0},{"$f":"Macro!B5729","v":0},{"$f":"Macro!E5729","v":{"$error":"#DIV/0!"}}]
[null,{"$f":"Macro!A5730","v":0},{"$f":"Macro!B5730","v":0},{"$f":"Macro!E5730","v":{"$error":"#DIV/0!"}}]
[null,{"$f":"Macro!A5731","v":0},{"$f":"Macro!B5731","v":0},{"$f":"Macro!E5731","v":{"$error":"#DIV/0!"}}]
[null,{"$f":"Macro!A5732","v":0},{"$f":"Macro!B5732","v":0},{"$f":"Macro!E5732","v":{"$error":"#DIV/0!"}}]
[null,{"$f":"Macro!A5733","v":0},{"$f":"Macro!B5733","v":0},{"$f":"Macro!E5733","v":{"$error":"#DIV/0!"}}]
[null,{"$f":"Macro!A5734","v":0},{"$f":"Macro!B5734","v":0},{"$f":"Macro!E5734","v":{"$error":"#DIV/0!"}}]
[null,{"$f":"Macro!A5735","v":0},{"$f":"Macro!B5735","v":0},{"$f":"Macro!E5735","v":{"$error":"#DIV/0!"}}]
[null,{"$f":"Macro!A5736","v":0},{"$f":"Macro!B5736","v":0},{"$f":"Macro!E5736","v":{"$error":"#DIV/0!"}}]
[null,{"$f":"Macro!A5737","v":0},{"$f":"Macro!B5737","v":0},{"$f":"Macro!E5737","v":{"$error":"#DIV/0!"}}]
[null,{"$f":"Macro!A5738","v":0},{"$f":"Macro!B5738","v":0},{"$f":"Macro!E5738","v":{"$error":"#DIV/0!"}}]
[null,{"$f":"Macro!A5739","v":0},{"$f":"Macro!B5739","v":0},{"$f":"Macro!E5739","v":{"$error":"#DIV/0!"}}]
[null,{"$f":"Macro!A5740","v":0},{"$f":"Macro!B5740","v":0},{"$f":"Macro!E5740","v":{"$error":"#DIV/0!"}}]
[null,{"$f":"Macro!A5741","v":0},{"$f":"Macro!B5741","v":0},{"$f":"Macro!E5741","v":{"$error":"#DIV/0!"}}]
[null,{"$f":"Macro!A5742","v":0},{"$f":"Macro!B5742","v":0},{"$f":"Macro!E5742","v":{"$error":"#DIV/0!"}}]
[null,{"$f":"Macro!A5743","v":0},{"$f":"Macro!B5743","v":0},{"$f":"Macro!E5743","v":{"$error":"#DIV/0!"}}]
[null,{"$f":"Macro!A5744","v":0},{"$f":"Macro!B5744","v":0},{"$f":"Macro!E5744","v":{"$error":"#DIV/0!"}}]
[null,{"$f":"Macro!A5745","v":0},{"$f":"Macro!B5745","v":0},{"$f":"Macro!E5745","v":{"$error":"#DIV/0!"}}]
[null,{"$f":"Macro!A5746","v":0},{"$f":"Macro!B5746","v":0},{"$f":"Macro!E5746","v":{"$error":"#DIV/0!"}}]
[null,{"$f":"Macro!A5747","v":0},{"$f":"Macro!B5747","v":0},{"$f":"Macro!E5747","v":{"$error":"#DIV/0!"}}]
[null,{"$f":"Macro!A5748","v":0},{"$f":"Macro!B5748","v":0},{"$f":"Macro!E5748","v":{"$error":"#DIV/0!"}}]
[null,{"$f":"Macro!A5749","v":0},{"$f":"Macro!B5749","v":0},{"$f":"Macro!E5749","v":{"$error":"#DIV/0!"}}]
[null,{"$f":"Macro!A5750","v":0},{"$f":"Macro!B5750","v":0},{"$f":"Macro!E5750","v":{"$error":"#DIV/0!"}}]
[null,{"$f":"Macro!A5751","v":0},{"$f":"Macro!B5751","v":0},{"$f":"Macro!E5751","v":{"$error":"#DIV/0!"}}]
[null,{"$f":"Macro!A5752","v":0},{"$f":"Macro!B5752","v":0},{"$f":"Macro!E5752","v":{"$error":"#DIV/0!"}}]
[null,{"$f":"Macro!A5753","v":0},{"$f":"Macro!B5753","v":0},{"$f":"Macro!E5753","v":{"$error":"#DIV/0!"}}]
[null,{"$f":"Macro!A5754","v":0},{"$f":"Macro!B5754","v":0},{"$f":"Macro!E5754","v":{"$error":"#DIV/0!"}}]
[null,{"$f":"Macro!A5755","v":0},{"$f":"Macro!B5755","v":0},{"$f":"Macro!E5755","v":{"$error":"#DIV/0!"}}]
[null,{"$f":"Macro!A5756","v":0},{"$f":"Macro!B5756","v":0},{"$f":"Macro!E5756","v":{"$error":"#DIV/0!"}}]
[null,{"$f":"Macro!A5757","v":0},{"$f":"Macro!B5757","v":0},{"$f":"Macro!E5757","v":{"$error":"#DIV/0!"}}]
[null,{"$f":"Macro!A5758","v":0},{"$f":"Macro!B5758","v":0},{"$f":"Macro!E5758","v":{"$error":"#DIV/0!"}}]
[null,{"$f":"Macro!A5759","v":0},{"$f":"Macro!B5759","v":0},{"$f":"Macro!E5759","v":{"$error":"#DIV/0!"}}]
[null,{"$f":"Macro!A5760","v":0},{"$f":"Macro!B5760","v":0},{"$f":"Macro!E5760","v":{"$error":"#DIV/0!"}}]
[null,{"$f":"Macro!A5761","v":0},{"$f":"Macro!B5761","v":0},{"$f":"Macro!E5761","v":{"$error":"#DIV/0!"}}]
[null,{"$f":"Macro!A5762","v":0},{"$f":"Macro!B5762","v":0},{"$f":"Macro!E5762","v":{"$error":"#DIV/0!"}}]
[null,{"$f":"Macro!A5763","v":0},{"$f":"Macro!B5763","v":0},{"$f":"Macro!E5763","v":{"$error":"#DIV/0!"}}]
[null,{"$f":"Macro!A5764","v":0},{"$f":"Macro!B5764","v":0},{"$f":"Macro!E5764","v":{"$error":"#DIV/0!"}}]
[null,{"$f":"Macro!A5765","v":0},{"$f":"Macro!B5765","v":0},{"$f":"Macro!E5765","v":{"$error":"#DIV/0!"}}]
[null,{"$f":"Macro!A5766","v":0},{"$f":"Macro!B5766","v":0},{"$f":"Macro!E5766","v":{"$error":"#DIV/0!"}}]
[null,{"$f":"Macro!A5767","v":0},{"$f":"Macro!B5767","v":0},{"$f":"Macro!E5767","v":{"$error":"#DIV/0!"}}]
[null,{"$f":"Macro!A5768","v":0},{"$f":"Macro!B5768","v":0},{"$f":"Macro!E5768","v":{"$error":"#DIV/0!"}}]
[null,{"$f":"Macro!A5769","v":0},{"$f":"Macro!B5769","v":0},{"$f":"Macro!E5769","v":{"$error":"#DIV/0!"}}]
[null,{"$f":"Macro!A5770","v":0},{"$f":"Macro!B5770","v":0},{"$f":"Macro!E5770","v":{"$error":"#DIV/0!"}}]
[null,{"$f":"Macro!A5771","v":0},{"$f":"Macro!B5771","v":0},{"$f":"Macro!E5771","v":{"$error":"#DIV/0!"}}]
[null,{"$f":"Macro!A5772","v":0},{"$f":"Macro!B5772","v":0},{"$f":"Macro!E5772","v":{"$error":"#DIV/0!"}}]
[null,{"$f":"Macro!A5773","v":0},{"$f":"Macro!B5773","v":0},{"$f":"Macro!E5773","v":{"$error":"#DIV/0!"}}]
[null,{"$f":"Macro!A5774","v":0},{"$f":"Macro!B5774","v":0},{"$f":"Macro!E5774","v":{"$error":"#DIV/0!"}}]
[null,{"$f":"Macro!A5775","v":0},{"$f":"Macro!B5775","v":0},{"$f":"Macro!E5775","v":{"$error":"#DIV/0!"}}]
[null,{"$f":"Macro!A5776","v":0},{"$f":"Macro!B5776","v":0},{"$f":"Macro!E5776","v":{"$error":"#DIV/0!"}}]
[null,{"$f":"Macro!A5777","v":0},{"$f":"Macro!B5777","v":0},{"$f":"Macro!E5777","v":{"$error":"#DIV/0!"}}]
[null,{"$f":"Macro!A5778","v":0},{"$f":"Macro!B5778","v":0},{"$f":"Macro!E5778","v":{"$error":"#DIV/0!"}}]
[null,{"$f":"Macro!A5779","v":0},{"$f":"Macro!B5779","v":0},{"$f":"Macro!E5779","v":{"$error":"#DIV/0!"}}]
[null,{"$f":"Macro!A5780","v":0},{"$f":"Macro!B5780","v":0},{"$f":"Macro!E5780","v":{"$error":"#DIV/0!"}}]
[null,{"$f":"Macro!A5781","v":0},{"$f":"Macro!B5781","v":0},{"$f":"Macro!E5781","v":{"$error":"#DIV/0!"}}]
[null,{"$f":"Macro!A5782","v":0},{"$f":"Macro!B5782","v":0},{"$f":"Macro!E5782","v":{"$error":"#DIV/0!"}}]
[null,{"$f":"Macro!A5783","v":0},{"$f":"Macro!B5783","v":0},{"$f":"Macro!E5783","v":{"$error":"#DIV/0!"}}]
[null,{"$f":"Macro!A5784","v":0},{"$f":"Macro!B5784","v":0},{"$f":"Macro!E5784","v":{"$error":"#DIV/0!"}}]
[null,{"$f":"Macro!A5785","v":0},{"$f":"Macro!B5785","v":0},{"$f":"Macro!E5785","v":{"$error":"#DIV/0!"}}]
[null,{"$f":"Macro!A5786","v":0},{"$f":"Macro!B5786","v":0},{"$f":"Macro!E5786","v":{"$error":"#DIV/0!"}}]
[null,{"$f":"Macro!A5787","v":0},{"$f":"Macro!B5787","v":0},{"$f":"Macro!E5787","v":{"$error":"#DIV/0!"}}]
[null,{"$f":"Macro!A5788","v":0},{"$f":"Macro!B5788","v":0},{"$f":"Macro!E5788","v":{"$error":"#DIV/0!"}}]
[null,{"$f":"Macro!A5789","v":0},{"$f":"Macro!B5789","v":0},{"$f":"Macro!E5789","v":{"$error":"#DIV/0!"}}]
[null,{"$f":"Macro!A5790","v":0},{"$f":"Macro!B5790","v":0},{"$f":"Macro!E5790","v":{"$error":"#DIV/0!"}}]
[null,{"$f":"Macro!A5791","v":0},{"$f":"Macro!B5791","v":0},{"$f":"Macro!E5791","v":{"$error":"#DIV/0!"}}]
[null,{"$f":"Macro!A5792","v":0},{"$f":"Macro!B5792","v":0},{"$f":"Macro!E5792","v":{"$error":"#DIV/0!"}}]
[null,{"$f":"Macro!A5793","v":0},{"$f":"Macro!B5793","v":0},{"$f":"Macro!E5793","v":{"$error":"#DIV/0!"}}]
[null,{"$f":"Macro!A5794","v":0},{"$f":"Macro!B5794","v":0},{"$f":"Macro!E5794","v":{"$error":"#DIV/0!"}}]
[null,{"$f":"Macro!A5795","v":0},{"$f":"Macro!B5795","v":0},{"$f":"Macro!E5795","v":{"$error":"#DIV/0!"}}]
[null,{"$f":"Macro!A5796","v":0},{"$f":"Macro!B5796","v":0},{"$f":"Macro!E5796","v":{"$error":"#DIV/0!"}}]
[null,{"$f":"Macro!A5797","v":0},{"$f":"Macro!B5797","v":0},{"$f":"Macro!E5797","v":{"$error":"#DIV/0!"}}]
[null,{"$f":"Macro!A5798","v":0},{"$f":"Macro!B5798","v":0},{"$f":"Macro!E5798","v":{"$error":"#DIV/0!"}}]
[null,{"$f":"Macro!A5799","v":0},{"$f":"Macro!B5799","v":0},{"$f":"Macro!E5799","v":{"$error":"#DIV/0!"}}]
[null,{"$f":"Macro!A5800","v":0},{"$f":"Macro!B5800","v":0},{"$f":"Macro!E5800","v":{"$error":"#DIV/0!"}}]
[null,{"$f":"Macro!A5801","v":0},{"$f":"Macro!B5801","v":0},{"$f":"Macro!E5801","v":{"$error":"#DIV/0!"}}]
[null,{"$f":"Macro!A5802","v":0},{"$f":"Macro!B5802","v":0},{"$f":"Macro!E5802","v":{"$error":"#DIV/0!"}}]
[null,{"$f":"Macro!A5803","v":0},{"$f":"Macro!B5803","v":0},{"$f":"Macro!E5803","v":{"$error":"#DIV/0!"}}]
[null,{"$f":"Macro!A5804","v":0},{"$f":"Macro!B5804","v":0},{"$f":"Macro!E5804","v":{"$error":"#DIV/0!"}}]
[null,{"$f":"Macro!A5805","v":0},{"$f":"Macro!B5805","v":0},{"$f":"Macro!E5805","v":{"$error":"#DIV/0!"}}]
[null,{"$f":"Macro!A5806","v":0},{"$f":"Macro!B5806","v":0},{"$f":"Macro!E5806","v":{"$error":"#DIV/0!"}}]
[null,{"$f":"Macro!A5807","v":0},{"$f":"Macro!B5807","v":0},{"$f":"Macro!E5807","v":{"$error":"#DIV/0!"}}]
[null,{"$f":"Macro!A5808","v":0},{"$f":"Macro!B5808","v":0},{"$f":"Macro!E5808","v":{"$error":"#DIV/0!"}}]
[null,{"$f":"Macro!A5809","v":0},{"$f":"Macro!B5809","v":0},{"$f":"Macro!E5809","v":{"$error":"#DIV/0!"}}]
[null,{"$f":"Macro!A5810","v":0},{"$f":"Macro!B5810","v":0},{"$f":"Macro!E5810","v":{"$error":"#DIV/0!"}}]
[null,{"$f":"Macro!A5811","v":0},{"$f":"Macro!B5811","v":0},{"$f":"Macro!E5811","v":{"$error":"#DIV/0!"}}]
[null,{"$f":"Macro!A5812","v":0},{"$f":"Macro!B5812","v":0},{"$f":"Macro!E5812","v":{"$error":"#DIV/0!"}}]
[null,{"$f":"Macro!A5813","v":0},{"$f":"Macro!B5813","v":0},{"$f":"Macro!E5813","v":{"$error":"#DIV/0!"}}]
[null,{"$f":"Macro!A5814","v":0},{"$f":"Macro!B5814","v":0},{"$f":"Macro!E5814","v":{"$error":"#DIV/0!"}}]
[null,{"$f":"Macro!A5815","v":0},{"$f":"Macro!B5815","v":0},{"$f":"Macro!E5815","v":{"$error":"#DIV/0!"}}]
[null,{"$f":"Macro!A5816","v":0},{"$f":"Macro!B5816","v":0},{"$f":"Macro!E5816","v":{"$error":"#DIV/0!"}}]
[null,{"$f":"Macro!A5817","v":0},{"$f":"Macro!B5817","v":0},{"$f":"Macro!E5817","v":{"$error":"#DIV/0!"}}]
[null,{"$f":"Macro!A5818","v":0},{"$f":"Macro!B5818","v":0},{"$f":"Macro!E5818","v":{"$error":"#DIV/0!"}}]
[null,{"$f":"Macro!A5819","v":0},{"$f":"Macro!B5819","v":0},{"$f":"Macro!E5819","v":{"$error":"#DIV/0!"}}]
[null,{"$f":"Macro!A5820","v":0},{"$f":"Macro!B5820","v":0},{"$f":"Macro!E5820","v":{"$error":"#DIV/0!"}}]
[null,{"$f":"Macro!A5821","v":0},{"$f":"Macro!B5821","v":0},{"$f":"Macro!E5821","v":{"$error":"#DIV/0!"}}]
[null,{"$f":"Macro!A5822","v":0},{"$f":"Macro!B5822","v":0},{"$f":"Macro!E5822","v":{"$error":"#DIV/0!"}}]
[null,{"$f":"Macro!A5823","v":0},{"$f":"Macro!B5823","v":0},{"$f":"Macro!E5823","v":{"$error":"#DIV/0!"}}]
[null,{"$f":"Macro!A5824","v":0},{"$f":"Macro!B5824","v":0},{"$f":"Macro!E5824","v":{"$error":"#DIV/0!"}}]
[null,{"$f":"Macro!A5825","v":0},{"$f":"Macro!B5825","v":0},{"$f":"Macro!E5825","v":{"$error":"#DIV/0!"}}]
[null,{"$f":"Macro!A5826","v":0},{"$f":"Macro!B5826","v":0},{"$f":"Macro!E5826","v":{"$error":"#DIV/0!"}}]
[null,{"$f":"Macro!A5827","v":0},{"$f":"Macro!B5827","v":0},{"$f":"Macro!E5827","v":{"$error":"#DIV/0!"}}]
[null,{"$f":"Macro!A5828","v":0},{"$f":"Macro!B5828","v":0},{"$f":"Macro!E5828","v":{"$error":"#DIV/0!"}}]
[null,{"$f":"Macro!A5829","v":0},{"$f":"Macro!B5829","v":0},{"$f":"Macro!E5829","v":{"$error":"#DIV/0!"}}]
[null,{"$f":"Macro!A5830","v":0},{"$f":"Macro!B5830","v":0},{"$f":"Macro!E5830","v":{"$error":"#DIV/0!"}}]
[null,{"$f":"Macro!A5831","v":0},{"$f":"Macro!B5831","v":0},{"$f":"Macro!E5831","v":{"$error":"#DIV/0!"}}]
[null,{"$f":"Macro!A5832","v":0},{"$f":"Macro!B5832","v":0},{"$f":"Macro!E5832","v":{"$error":"#DIV/0!"}}]
[null,{"$f":"Macro!A5833","v":0},{"$f":"Macro!B5833","v":0},{"$f":"Macro!E5833","v":{"$error":"#DIV/0!"}}]
[null,{"$f":"Macro!A5834","v":0},{"$f":"Macro!B5834","v":0},{"$f":"Macro!E5834","v":{"$error":"#DIV/0!"}}]
[null,{"$f":"Macro!A5835","v":0},{"$f":"Macro!B5835","v":0},{"$f":"Macro!E5835","v":{"$error":"#DIV/0!"}}]
[null,{"$f":"Macro!A5836","v":0},{"$f":"Macro!B5836","v":0},{"$f":"Macro!E5836","v":{"$error":"#DIV/0!"}}]
[null,{"$f":"Macro!A5837","v":0},{"$f":"Macro!B5837","v":0},{"$f":"Macro!E5837","v":{"$error":"#DIV/0!"}}]
[null,{"$f":"Macro!A5838","v":0},{"$f":"Macro!B5838","v":0},{"$f":"Macro!E5838","v":{"$error":"#DIV/0!"}}]
[null,{"$f":"Macro!A5839","v":0},{"$f":"Macro!B5839","v":0},{"$f":"Macro!E5839","v":{"$error":"#DIV/0!"}}]
[null,{"$f":"Macro!A5840","v":0},{"$f":"Macro!B5840","v":0},{"$f":"Macro!E5840","v":{"$error":"#DIV/0!"}}]
[null,{"$f":"Macro!A5841","v":0},{"$f":"Macro!B5841","v":0},{"$f":"Macro!E5841","v":{"$error":"#DIV/0!"}}]
[null,{"$f":"Macro!A5842","v":0},{"$f":"Macro!B5842","v":0},{"$f":"Macro!E5842","v":{"$error":"#DIV/0!"}}]
[null,{"$f":"Macro!A5843","v":0},{"$f":"Macro!B5843","v":0},{"$f":"Macro!E5843","v":{"$error":"#DIV/0!"}}]
[null,{"$f":"Macro!A5844","v":0},{"$f":"Macro!B5844","v":0},{"$f":"Macro!E5844","v":{"$error":"#DIV/0!"}}]
[null,{"$f":"Macro!A5845","v":0},{"$f":"Macro!B5845","v":0},{"$f":"Macro!E5845","v":{"$error":"#DIV/0!"}}]
[null,{"$f":"Macro!A5846","v":0},{"$f":"Macro!B5846","v":0},{"$f":"Macro!E5846","v":{"$error":"#DIV/0!"}}]
[null,{"$f":"Macro!A5847","v":0},{"$f":"Macro!B5847","v":0},{"$f":"Macro!E5847","v":{"$error":"#DIV/0!"}}]
[null,{"$f":"Macro!A5848","v":0},{"$f":"Macro!B5848","v":0},{"$f":"Macro!E5848","v":{"$error":"#DIV/0!"}}]
[null,{"$f":"Macro!A5849","v":0},{"$f":"Macro!B5849","v":0},{"$f":"Macro!E5849","v":{"$error":"#DIV/0!"}}]
[null,{"$f":"Macro!A5850","v":0},{"$f":"Macro!B5850","v":0},{"$f":"Macro!E5850","v":{"$error":"#DIV/0!"}}]
[null,{"$f":"Macro!A5851","v":0},{"$f":"Macro!B5851","v":0},{"$f":"Macro!E5851","v":{"$error":"#DIV/0!"}}]
[null,{"$f":"Macro!A5852","v":0},{"$f":"Macro!B5852","v":0},{"$f":"Macro!E5852","v":{"$error":"#DIV/0!"}}]
[null,{"$f":"Macro!A5853","v":0},{"$f":"Macro!B5853","v":0},{"$f":"Macro!E5853","v":{"$error":"#DIV/0!"}}]
[null,{"$f":"Macro!A5854","v":0},{"$f":"Macro!B5854","v":0},{"$f":"Macro!E5854","v":{"$error":"#DIV/0!"}}]
[null,{"$f":"Macro!A5855","v":0},{"$f":"Macro!B5855","v":0},{"$f":"Macro!E5855","v":{"$error":"#DIV/0!"}}]
[null,{"$f":"Macro!A5856","v":0},{"$f":"Macro!B5856","v":0},{"$f":"Macro!E5856","v":{"$error":"#DIV/0!"}}]
[null,{"$f":"Macro!A5857","v":0},{"$f":"Macro!B5857","v":0},{"$f":"Macro!E5857","v":{"$error":"#DIV/0!"}}]
[null,{"$f":"Macro!A5858","v":0},{"$f":"Macro!B5858","v":0},{"$f":"Macro!E5858","v":{"$error":"#DIV/0!"}}]
[null,{"$f":"Macro!A5859","v":0},{"$f":"Macro!B5859","v":0},{"$f":"Macro!E5859","v":{"$error":"#DIV/0!"}}]
[null,{"$f":"Macro!A5860","v":0},{"$f":"Macro!B5860","v":0},{"$f":"Macro!E5860","v":{"$error":"#DIV/0!"}}]
[null,{"$f":"Macro!A5861","v":0},{"$f":"Macro!B5861","v":0},{"$f":"Macro!E5861","v":{"$error":"#DIV/0!"}}]
[null,{"$f":"Macro!A5862","v":0},{"$f":"Macro!B5862","v":0},{"$f":"Macro!E5862","v":{"$error":"#DIV/0!"}}]
[null,{"$f":"Macro!A5863","v":0},{"$f":"Macro!B5863","v":0},{"$f":"Macro!E5863","v":{"$error":"#DIV/0!"}}]
[null,{"$f":"Macro!A5864","v":0},{"$f":"Macro!B5864","v":0},{"$f":"Macro!E5864","v":{"$error":"#DIV/0!"}}]
[null,{"$f":"Macro!A5865","v":0},{"$f":"Macro!B5865","v":0},{"$f":"Macro!E5865","v":{"$error":"#DIV/0!"}}]
[null,{"$f":"Macro!A5866","v":0},{"$f":"Macro!B5866","v":0},{"$f":"Macro!E5866","v":{"$error":"#DIV/0!"}}]
[null,{"$f":"Macro!A5867","v":0},{"$f":"Macro!B5867","v":0},{"$f":"Macro!E5867","v":{"$error":"#DIV/0!"}}]
[null,{"$f":"Macro!A5868","v":0},{"$f":"Macro!B5868","v":0},{"$f":"Macro!E5868","v":{"$error":"#DIV/0!"}}]
[null,{"$f":"Macro!A5869","v":0},{"$f":"Macro!B5869","v":0},{"$f":"Macro!E5869","v":{"$error":"#DIV/0!"}}]
[null,{"$f":"Macro!A5870","v":0},{"$f":"Macro!B5870","v":0},{"$f":"Macro!E5870","v":{"$error":"#DIV/0!"}}]
[null,{"$f":"Macro!A5871","v":0},{"$f":"Macro!B5871","v":0},{"$f":"Macro!E5871","v":{"$error":"#DIV/0!"}}]
[null,{"$f":"Macro!A5872","v":0},{"$f":"Macro!B5872","v":0},{"$f":"Macro!E5872","v":{"$error":"#DIV/0!"}}]
[null,{"$f":"Macro!A5873","v":0},{"$f":"Macro!B5873","v":0},{"$f":"Macro!E5873","v":{"$error":"#DIV/0!"}}]
[null,{"$f":"Macro!A5874","v":0},{"$f":"Macro!B5874","v":0},{"$f":"Macro!E5874","v":{"$error":"#DIV/0!"}}]
[null,{"$f":"Macro!A5875","v":0},{"$f":"Macro!B5875","v":0},{"$f":"Macro!E5875","v":{"$error":"#DIV/0!"}}]
[null,{"$f":"Macro!A5876","v":0},{"$f":"Macro!B5876","v":0},{"$f":"Macro!E5876","v":{"$error":"#DIV/0!"}}]
[null,{"$f":"Macro!A5877","v":0},{"$f":"Macro!B5877","v":0},{"$f":"Macro!E5877","v":{"$error":"#DIV/0!"}}]
[null,{"$f":"Macro!A5878","v":0},{"$f":"Macro!B5878","v":0},{"$f":"Macro!E5878","v":{"$error":"#DIV/0!"}}]
[null,{"$f":"Macro!A5879","v":0},{"$f":"Macro!B5879","v":0},{"$f":"Macro!E5879","v":{"$error":"#DIV/0!"}}]
[null,{"$f":"Macro!A5880","v":0},{"$f":"Macro!B5880","v":0},{"$f":"Macro!E5880","v":{"$error":"#DIV/0!"}}]
[null,{"$f":"Macro!A5881","v":0},{"$f":"Macro!B5881","v":0},{"$f":"Macro!E5881","v":{"$error":"#DIV/0!"}}]
[null,{"$f":"Macro!A5882","v":0},{"$f":"Macro!B5882","v":0},{"$f":"Macro!E5882","v":{"$error":"#DIV/0!"}}]
[null,{"$f":"Macro!A5883","v":0},{"$f":"Macro!B5883","v":0},{"$f":"Macro!E5883","v":{"$error":"#DIV/0!"}}]
[null,{"$f":"Macro!A5884","v":0},{"$f":"Macro!B5884","v":0},{"$f":"Macro!E5884","v":{"$error":"#DIV/0!"}}]
[null,{"$f":"Macro!A5885","v":0},{"$f":"Macro!B5885","v":0},{"$f":"Macro!E5885","v":{"$error":"#DIV/0!"}}]
[null,{"$f":"Macro!A5886","v":0},{"$f":"Macro!B5886","v":0},{"$f":"Macro!E5886","v":{"$error":"#DIV/0!"}}]
[null,{"$f":"Macro!A5887","v":0},{"$f":"Macro!B5887","v":0},{"$f":"Macro!E5887","v":{"$error":"#DIV/0!"}}]
[null,{"$f":"Macro!A5888","v":0},{"$f":"Macro!B5888","v":0},{"$f":"Macro!E5888","v":{"$error":"#DIV/0!"}}]
[null,{"$f":"Macro!A5889","v":0},{"$f":"Macro!B5889","v":0},{"$f":"Macro!E5889","v":{"$error":"#DIV/0!"}}]
[null,{"$f":"Macro!A5890","v":0},{"$f":"Macro!B5890","v":0},{"$f":"Macro!E5890","v":{"$error":"#DIV/0!"}}]
[null,{"$f":"Macro!A5891","v":0},{"$f":"Macro!B5891","v":0},{"$f":"Macro!E5891","v":{"$error":"#DIV/0!"}}]
[null,{"$f":"Macro!A5892","v":0},{"$f":"Macro!B5892","v":0},{"$f":"Macro!E5892","v":{"$error":"#DIV/0!"}}]
[null,{"$f":"Macro!A5893","v":0},{"$f":"Macro!B5893","v":0},{"$f":"Macro!E5893","v":{"$error":"#DIV/0!"}}]
[null,{"$f":"Macro!A5894","v":0},{"$f":"Macro!B5894","v":0},{"$f":"Macro!E5894","v":{"$error":"#DIV/0!"}}]
[null,{"$f":"Macro!A5895","v":0},{"$f":"Macro!B5895","v":0},{"$f":"Macro!E5895","v":{"$error":"#DIV/0!"}}]
[null,{"$f":"Macro!A5896","v":0},{"$f":"Macro!B5896","v":0},{"$f":"Macro!E5896","v":{"$error":"#DIV/0!"}}]
[null,{"$f":"Macro!A5897","v":0},{"$f":"Macro!B5897","v":0},{"$f":"Macro!E5897","v":{"$error":"#DIV/0!"}}]
[null,{"$f":"Macro!A5898","v":0},{"$f":"Macro!B5898","v":0},{"$f":"Macro!E5898","v":{"$error":"#DIV/0!"}}]
[null,{"$f":"Macro!A5899","v":0},{"$f":"Macro!B5899","v":0},{"$f":"Macro!E5899","v":{"$error":"#DIV/0!"}}]
[null,{"$f":"Macro!A5900","v":0},{"$f":"Macro!B5900","v":0},{"$f":"Macro!E5900","v":{"$error":"#DIV/0!"}}]
[null,{"$f":"Macro!A5901","v":0},{"$f":"Macro!B5901","v":0},{"$f":"Macro!E5901","v":{"$error":"#DIV/0!"}}]
[null,{"$f":"Macro!A5902","v":0},{"$f":"Macro!B5902","v":0},{"$f":"Macro!E5902","v":{"$error":"#DIV/0!"}}]
[null,{"$f":"Macro!A5903","v":0},{"$f":"Macro!B5903","v":0},{"$f":"Macro!E5903","v":{"$error":"#DIV/0!"}}]
[null,{"$f":"Macro!A5904","v":0},{"$f":"Macro!B5904","v":0},{"$f":"Macro!E5904","v":{"$error":"#DIV/0!"}}]
[null,{"$f":"Macro!A5905","v":0},{"$f":"Macro!B5905","v":0},{"$f":"Macro!E5905","v":{"$error":"#DIV/0!"}}]
[null,{"$f":"Macro!A5906","v":0},{"$f":"Macro!B5906","v":0},{"$f":"Macro!E5906","v":{"$error":"#DIV/0!"}}]
[null,{"$f":"Macro!A5907","v":0},{"$f":"Macro!B5907","v":0},{"$f":"Macro!E5907","v":{"$error":"#DIV/0!"}}]
[null,{"$f":"Macro!A5908","v":0},{"$f":"Macro!B5908","v":0},{"$f":"Macro!E5908","v":{"$error":"#DIV/0!"}}]
[null,{"$f":"Macro!A5909","v":0},{"$f":"Macro!B5909","v":0},{"$f":"Macro!E5909","v":{"$error":"#DIV/0!"}}]
[null,{"$f":"Macro!A5910","v":0},{"$f":"Macro!B5910","v":0},{"$f":"Macro!E5910","v":{"$error":"#DIV/0!"}}]
[null,{"$f":"Macro!A5911","v":0},{"$f":"Macro!B5911","v":0},{"$f":"Macro!E5911","v":{"$error":"#DIV/0!"}}]
[null,{"$f":"Macro!A5912","v":0},{"$f":"Macro!B5912","v":0},{"$f":"Macro!E5912","v":{"$error":"#DIV/0!"}}]
[null,{"$f":"Macro!A5913","v":0},{"$f":"Macro!B5913","v":0},{"$f":"Macro!E5913","v":{"$error":"#DIV/0!"}}]
[null,{"$f":"Macro!A5914","v":0},{"$f":"Macro!B5914","v":0},{"$f":"Macro!E5914","v":{"$error":"#DIV/0!"}}]
[null,{"$f":"Macro!A5915","v":0},{"$f":"Macro!B5915","v":0},{"$f":"Macro!E5915","v":{"$error":"#DIV/0!"}}]
[null,{"$f":"Macro!A5916","v":0},{"$f":"Macro!B5916","v":0},{"$f":"Macro!E5916","v":{"$error":"#DIV/0!"}}]
[null,{"$f":"Macro!A5917","v":0},{"$f":"Macro!B5917","v":0},{"$f":"Macro!E5917","v":{"$error":"#DIV/0!"}}]
[null,{"$f":"Macro!A5918","v":0},{"$f":"Macro!B5918","v":0},{"$f":"Macro!E5918","v":{"$error":"#DIV/0!"}}]
[null,{"$f":"Macro!A5919","v":0},{"$f":"Macro!B5919","v":0},{"$f":"Macro!E5919","v":{"$error":"#DIV/0!"}}]
[null,{"$f":"Macro!A5920","v":0},{"$f":"Macro!B5920","v":0},{"$f":"Macro!E5920","v":{"$error":"#DIV/0!"}}]
[null,{"$f":"Macro!A5921","v":0},{"$f":"Macro!B5921","v":0},{"$f":"Macro!E5921","v":{"$error":"#DIV/0!"}}]
[null,{"$f":"Macro!A5922","v":0},{"$f":"Macro!B5922","v":0},{"$f":"Macro!E5922","v":{"$error":"#DIV/0!"}}]
[null,{"$f":"Macro!A5923","v":0},{"$f":"Macro!B5923","v":0},{"$f":"Macro!E5923","v":{"$error":"#DIV/0!"}}]
[null,{"$f":"Macro!A5924","v":0},{"$f":"Macro!B5924","v":0},{"$f":"Macro!E5924","v":{"$error":"#DIV/0!"}}]
[null,{"$f":"Macro!A5925","v":0},{"$f":"Macro!B5925","v":0},{"$f":"Macro!E5925","v":{"$error":"#DIV/0!"}}]
[null,{"$f":"Macro!A5926","v":0},{"$f":"Macro!B5926","v":0},{"$f":"Macro!E5926","v":{"$error":"#DIV/0!"}}]
[null,{"$f":"Macro!A5927","v":0},{"$f":"Macro!B5927","v":0},{"$f":"Macro!E5927","v":{"$error":"#DIV/0!"}}]
[null,{"$f":"Macro!A5928","v":0},{"$f":"Macro!B5928","v":0},{"$f":"Macro!E5928","v":{"$error":"#DIV/0!"}}]
[null,{"$f":"Macro!A5929","v":0},{"$f":"Macro!B5929","v":0},{"$f":"Macro!E5929","v":{"$error":"#DIV/0!"}}]
[null,{"$f":"Macro!A5930","v":0},{"$f":"Macro!B5930","v":0},{"$f":"Macro!E5930","v":{"$error":"#DIV/0!"}}]
[null,{"$f":"Macro!A5931","v":0},{"$f":"Macro!B5931","v":0},{"$f":"Macro!E5931","v":{"$error":"#DIV/0!"}}]
[null,{"$f":"Macro!A5932","v":0},{"$f":"Macro!B5932","v":0},{"$f":"Macro!E5932","v":{"$error":"#DIV/0!"}}]
[null,{"$f":"Macro!A5933","v":0},{"$f":"Macro!B5933","v":0},{"$f":"Macro!E5933","v":{"$error":"#DIV/0!"}}]
[null,{"$f":"Macro!A5934","v":0},{"$f":"Macro!B5934","v":0},{"$f":"Macro!E5934","v":{"$error":"#DIV/0!"}}]
[null,{"$f":"Macro!A5935","v":0},{"$f":"Macro!B5935","v":0},{"$f":"Macro!E5935","v":{"$error":"#DIV/0!"}}]
[null,{"$f":"Macro!A5936","v":0},{"$f":"Macro!B5936","v":0},{"$f":"Macro!E5936","v":{"$error":"#DIV/0!"}}]
[null,{"$f":"Macro!A5937","v":0},{"$f":"Macro!B5937","v":0},{"$f":"Macro!E5937","v":{"$error":"#DIV/0!"}}]
[null,{"$f":"Macro!A5938","v":0},{"$f":"Macro!B5938","v":0},{"$f":"Macro!E5938","v":{"$error":"#DIV/0!"}}]
[null,{"$f":"Macro!A5939","v":0},{"$f":"Macro!B5939","v":0},{"$f":"Macro!E5939","v":{"$error":"#DIV/0!"}}]
[null,{"$f":"Macro!A5940","v":0},{"$f":"Macro!B5940","v":0},{"$f":"Macro!E5940","v":{"$error":"#DIV/0!"}}]
[null,{"$f":"Macro!A5941","v":0},{"$f":"Macro!B5941","v":0},{"$f":"Macro!E5941","v":{"$error":"#DIV/0!"}}]
[null,{"$f":"Macro!A5942","v":0},{"$f":"Macro!B5942","v":0},{"$f":"Macro!E5942","v":{"$error":"#DIV/0!"}}]
[null,{"$f":"Macro!A5943","v":0},{"$f":"Macro!B5943","v":0},{"$f":"Macro!E5943","v":{"$error":"#DIV/0!"}}]
[null,{"$f":"Macro!A5944","v":0},{"$f":"Macro!B5944","v":0},{"$f":"Macro!E5944","v":{"$error":"#DIV/0!"}}]
[null,{"$f":"Macro!A5945","v":0},{"$f":"Macro!B5945","v":0},{"$f":"Macro!E5945","v":{"$error":"#DIV/0!"}}]
[null,{"$f":"Macro!A5946","v":0},{"$f":"Macro!B5946","v":0},{"$f":"Macro!E5946","v":{"$error":"#DIV/0!"}}]
[null,{"$f":"Macro!A5947","v":0},{"$f":"Macro!B5947","v":0},{"$f":"Macro!E5947","v":{"$error":"#DIV/0!"}}]
[null,{"$f":"Macro!A5948","v":0},{"$f":"Macro!B5948","v":0},{"$f":"Macro!E5948","v":{"$error":"#DIV/0!"}}]
[null,{"$f":"Macro!A5949","v":0},{"$f":"Macro!B5949","v":0},{"$f":"Macro!E5949","v":{"$error":"#DIV/0!"}}]
[null,{"$f":"Macro!A5950","v":0},{"$f":"Macro!B5950","v":0},{"$f":"Macro!E5950","v":{"$error":"#DIV/0!"}}]
[null,{"$f":"Macro!A5951","v":0},{"$f":"Macro!B5951","v":0},{"$f":"Macro!E5951","v":{"$error":"#DIV/0!"}}]
[null,{"$f":"Macro!A5952","v":0},{"$f":"Macro!B5952","v":0},{"$f":"Macro!E5952","v":{"$error":"#DIV/0!"}}]
[null,{"$f":"Macro!A5953","v":0},{"$f":"Macro!B5953","v":0},{"$f":"Macro!E5953","v":{"$error":"#DIV/0!"}}]
[null,{"$f":"Macro!A5954","v":0},{"$f":"Macro!B5954","v":0},{"$f":"Macro!E5954","v":{"$error":"#DIV/0!"}}]
[null,{"$f":"Macro!A5955","v":0},{"$f":"Macro!B5955","v":0},{"$f":"Macro!E5955","v":{"$error":"#DIV/0!"}}]
[null,{"$f":"Macro!A5956","v":0},{"$f":"Macro!B5956","v":0},{"$f":"Macro!E5956","v":{"$error":"#DIV/0!"}}]
[null,{"$f":"Macro!A5957","v":0},{"$f":"Macro!B5957","v":0},{"$f":"Macro!E5957","v":{"$error":"#DIV/0!"}}]
[null,{"$f":"Macro!A5958","v":0},{"$f":"Macro!B5958","v":0},{"$f":"Macro!E5958","v":{"$error":"#DIV/0!"}}]
[null,{"$f":"Macro!A5959","v":0},{"$f":"Macro!B5959","v":0},{"$f":"Macro!E5959","v":{"$error":"#DIV/0!"}}]
[null,{"$f":"Macro!A5960","v":0},{"$f":"Macro!B5960","v":0},{"$f":"Macro!E5960","v":{"$error":"#DIV/0!"}}]
[null,{"$f":"Macro!A5961","v":0},{"$f":"Macro!B5961","v":0},{"$f":"Macro!E5961","v":{"$error":"#DIV/0!"}}]
[null,{"$f":"Macro!A5962","v":0},{"$f":"Macro!B5962","v":0},{"$f":"Macro!E5962","v":{"$error":"#DIV/0!"}}]
[null,{"$f":"Macro!A5963","v":0},{"$f":"Macro!B5963","v":0},{"$f":"Macro!E5963","v":{"$error":"#DIV/0!"}}]
[null,{"$f":"Macro!A5964","v":0},{"$f":"Macro!B5964","v":0},{"$f":"Macro!E5964","v":{"$error":"#DIV/0!"}}]
[null,{"$f":"Macro!A5965","v":0},{"$f":"Macro!B5965","v":0},{"$f":"Macro!E5965","v":{"$error":"#DIV/0!"}}]
[null,{"$f":"Macro!A5966","v":0},{"$f":"Macro!B5966","v":0},{"$f":"Macro!E5966","v":{"$error":"#DIV/0!"}}]
[null,{"$f":"Macro!A5967","v":0},{"$f":"Macro!B5967","v":0},{"$f":"Macro!E5967","v":{"$error":"#DIV/0!"}}]
[null,{"$f":"Macro!A5968","v":0},{"$f":"Macro!B5968","v":0},{"$f":"Macro!E5968","v":{"$error":"#DIV/0!"}}]
[null,{"$f":"Macro!A5969","v":0},{"$f":"Macro!B5969","v":0},{"$f":"Macro!E5969","v":{"$error":"#DIV/0!"}}]
[null,{"$f":"Macro!A5970","v":0},{"$f":"Macro!B5970","v":0},{"$f":"Macro!E5970","v":{"$error":"#DIV/0!"}}]
[null,{"$f":"Macro!A5971","v":0},{"$f":"Macro!B5971","v":0},{"$f":"Macro!E5971","v":{"$error":"#DIV/0!"}}]
[null,{"$f":"Macro!A5972","v":0},{"$f":"Macro!B5972","v":0},{"$f":"Macro!E5972","v":{"$error":"#DIV/0!"}}]
[null,{"$f":"Macro!A5973","v":0},{"$f":"Macro!B5973","v":0},{"$f":"Macro!E5973","v":{"$error":"#DIV/0!"}}]
[null,{"$f":"Macro!A5974","v":0},{"$f":"Macro!B5974","v":0},{"$f":"Macro!E5974","v":{"$error":"#DIV/0!"}}]
[null,{"$f":"Macro!A5975","v":0},{"$f":"Macro!B5975","v":0},{"$f":"Macro!E5975","v":{"$error":"#DIV/0!"}}]
[null,{"$f":"Macro!A5976","v":0},{"$f":"Macro!B5976","v":0},{"$f":"Macro!E5976","v":{"$error":"#DIV/0!"}}]
[null,{"$f":"Macro!A5977","v":0},{"$f":"Macro!B5977","v":0},{"$f":"Macro!E5977","v":{"$error":"#DIV/0!"}}]
[null,{"$f":"Macro!A5978","v":0},{"$f":"Macro!B5978","v":0},{"$f":"Macro!E5978","v":{"$error":"#DIV/0!"}}]
[null,{"$f":"Macro!A5979","v":0},{"$f":"Macro!B5979","v":0},{"$f":"Macro!E5979","v":{"$error":"#DIV/0!"}}]
[null,{"$f":"Macro!A5980","v":0},{"$f":"Macro!B5980","v":0},{"$f":"Macro!E5980","v":{"$error":"#DIV/0!"}}]
[null,{"$f":"Macro!A5981","v":0},{"$f":"Macro!B5981","v":0},{"$f":"Macro!E5981","v":{"$error":"#DIV/0!"}}]
[null,{"$f":"Macro!A5982","v":0},{"$f":"Macro!B5982","v":0},{"$f":"Macro!E5982","v":{"$error":"#DIV/0!"}}]
[null,{"$f":"Macro!A5983","v":0},{"$f":"Macro!B5983","v":0},{"$f":"Macro!E5983","v":{"$error":"#DIV/0!"}}]
[null,{"$f":"Macro!A5984","v":0},{"$f":"Macro!B5984","v":0},{"$f":"Macro!E5984","v":{"$error":"#DIV/0!"}}]
[null,{"$f":"Macro!A5985","v":0},{"$f":"Macro!B5985","v":0},{"$f":"Macro!E5985","v":{"$error":"#DIV/0!"}}]
[null,{"$f":"Macro!A5986","v":0},{"$f":"Macro!B5986","v":0},{"$f":"Macro!E5986","v":{"$error":"#DIV/0!"}}]
[null,{"$f":"Macro!A5987","v":0},{"$f":"Macro!B5987","v":0},{"$f":"Macro!E5987","v":{"$error":"#DIV/0!"}}]
[null,{"$f":"Macro!A5988","v":0},{"$f":"Macro!B5988","v":0},{"$f":"Macro!E5988","v":{"$error":"#DIV/0!"}}]
[null,{"$f":"Macro!A5989","v":0},{"$f":"Macro!B5989","v":0},{"$f":"Macro!E5989","v":{"$error":"#DIV/0!"}}]
[null,{"$f":"Macro!A5990","v":0},{"$f":"Macro!B5990","v":0},{"$f":"Macro!E5990","v":{"$error":"#DIV/0!"}}]
[null,{"$f":"Macro!A5991","v":0},{"$f":"Macro!B5991","v":0},{"$f":"Macro!E5991","v":{"$error":"#DIV/0!"}}]
[null,{"$f":"Macro!A5992","v":0},{"$f":"Macro!B5992","v":0},{"$f":"Macro!E5992","v":{"$error":"#DIV/0!"}}]
[null,{"$f":"Macro!A5993","v":0},{"$f":"Macro!B5993","v":0},{"$f":"Macro!E5993","v":{"$error":"#DIV/0!"}}]
[null,{"$f":"Macro!A5994","v":0},{"$f":"Macro!B5994","v":0},{"$f":"Macro!E5994","v":{"$error":"#DIV/0!"}}]
[null,{"$f":"Macro!A5995","v":0},{"$f":"Macro!B5995","v":0},{"$f":"Macro!E5995","v":{"$error":"#DIV/0!"}}]
[null,{"$f":"Macro!A5996","v":0},{"$f":"Macro!B5996","v":0},{"$f":"Macro!E5996","v":{"$error":"#DIV/0!"}}]
[null,{"$f":"Macro!A5997","v":0},{"$f":"Macro!B5997","v":0},{"$f":"Macro!E5997","v":{"$error":"#DIV/0!"}}]
[null,{"$f":"Macro!A5998","v":0},{"$f":"Macro!B5998","v":0},{"$f":"Macro!E5998","v":{"$error":"#DIV/0!"}}]
[null,{"$f":"Macro!A5999","v":0},{"$f":"Macro!B5999","v":0},{"$f":"Macro!E5999","v":{"$error":"#DIV/0!"}}]
[null,{"$f":"Macro!A6000","v":0},{"$f":"Macro!B6000","v":0},{"$f":"Macro!E6000","v":{"$error":"#DIV/0!"}}]
[null,{"$f":"Macro!A6001","v":0},{"$f":"Macro!B6001","v":0},{"$f":"Macro!E6001","v":{"$error":"#DIV/0!"}}]
[null,{"$f":"Macro!A6002","v":0},{"$f":"Macro!B6002","v":0},{"$f":"Macro!E6002","v":{"$error":"#DIV/0!"}}]
[null,{"$f":"Macro!A6003","v":0},{"$f":"Macro!B6003","v":0},{"$f":"Macro!E6003","v":{"$error":"#DIV/0!"}}]
[null,{"$f":"Macro!A6004","v":0},{"$f":"Macro!B6004","v":0},{"$f":"Macro!E6004","v":{"$error":"#DIV/0!"}}]
[null,{"$f":"Macro!A6005","v":0},{"$f":"Macro!B6005","v":0},{"$f":"Macro!E6005","v":{"$error":"#DIV/0!"}}]
[null,{"$f":"Macro!A6006","v":0},{"$f":"Macro!B6006","v":0},{"$f":"Macro!E6006","v":{"$error":"#DIV/0!"}}]
[null,{"$f":"Macro!A6007","v":0},{"$f":"Macro!B6007","v":0},{"$f":"Macro!E6007","v":{"$error":"#DIV/0!"}}]
[null,{"$f":"Macro!A6008","v":0},{"$f":"Macro!B6008","v":0},{"$f":"Macro!E6008","v":{"$error":"#DIV/0!"}}]
[null,{"$f":"Macro!A6009","v":0},{"$f":"Macro!B6009","v":0},{"$f":"Macro!E6009","v":{"$error":"#DIV/0!"}}]
[null,{"$f":"Macro!A6010","v":0},{"$f":"Macro!B6010","v":0},{"$f":"Macro!E6010","v":{"$error":"#DIV/0!"}}]
[null,{"$f":"Macro!A6011","v":0},{"$f":"Macro!B6011","v":0},{"$f":"Macro!E6011","v":{"$error":"#DIV/0!"}}]
[null,{"$f":"Macro!A6012","v":0},{"$f":"Macro!B6012","v":0},{"$f":"Macro!E6012","v":{"$error":"#DIV/0!"}}]
[null,{"$f":"Macro!A6013","v":0},{"$f":"Macro!B6013","v":0},{"$f":"Macro!E6013","v":{"$error":"#DIV/0!"}}]
[null,{"$f":"Macro!A6014","v":0},{"$f":"Macro!B6014","v":0},{"$f":"Macro!E6014","v":{"$error":"#DIV/0!"}}]
[null,{"$f":"Macro!A6015","v":0},{"$f":"Macro!B6015","v":0},{"$f":"Macro!E6015","v":{"$error":"#DIV/0!"}}]
[null,{"$f":"Macro!A6016","v":0},{"$f":"Macro!B6016","v":0},{"$f":"Macro!E6016","v":{"$error":"#DIV/0!"}}]
[null,{"$f":"Macro!A6017","v":0},{"$f":"Macro!B6017","v":0},{"$f":"Macro!E6017","v":{"$error":"#DIV/0!"}}]
[null,{"$f":"Macro!A6018","v":0},{"$f":"Macro!B6018","v":0},{"$f":"Macro!E6018","v":{"$error":"#DIV/0!"}}]
[null,{"$f":"Macro!A6019","v":0},{"$f":"Macro!B6019","v":0},{"$f":"Macro!E6019","v":{"$error":"#DIV/0!"}}]
[null,{"$f":"Macro!A6020","v":0},{"$f":"Macro!B6020","v":0},{"$f":"Macro!E6020","v":{"$error":"#DIV/0!"}}]
[null,{"$f":"Macro!A6021","v":0},{"$f":"Macro!B6021","v":0},{"$f":"Macro!E6021","v":{"$error":"#DIV/0!"}}]
[null,{"$f":"Macro!A6022","v":0},{"$f":"Macro!B6022","v":0},{"$f":"Macro!E6022","v":{"$error":"#DIV/0!"}}]
[null,{"$f":"Macro!A6023","v":0},{"$f":"Macro!B6023","v":0},{"$f":"Macro!E6023","v":{"$error":"#DIV/0!"}}]
[null,{"$f":"Macro!A6024","v":0},{"$f":"Macro!B6024","v":0},{"$f":"Macro!E6024","v":{"$error":"#DIV/0!"}}]
[null,{"$f":"Macro!A6025","v":0},{"$f":"Macro!B6025","v":0},{"$f":"Macro!E6025","v":{"$error":"#DIV/0!"}}]
[null,{"$f":"Macro!A6026","v":0},{"$f":"Macro!B6026","v":0},{"$f":"Macro!E6026","v":{"$error":"#DIV/0!"}}]
[null,{"$f":"Macro!A6027","v":0},{"$f":"Macro!B6027","v":0},{"$f":"Macro!E6027","v":{"$error":"#DIV/0!"}}]
[null,{"$f":"Macro!A6028","v":0},{"$f":"Macro!B6028","v":0},{"$f":"Macro!E6028","v":{"$error":"#DIV/0!"}}]
[null,{"$f":"Macro!A6029","v":0},{"$f":"Macro!B6029","v":0},{"$f":"Macro!E6029","v":{"$error":"#DIV/0!"}}]
[null,{"$f":"Macro!A6030","v":0},{"$f":"Macro!B6030","v":0},{"$f":"Macro!E6030","v":{"$error":"#DIV/0!"}}]
[null,{"$f":"Macro!A6031","v":0},{"$f":"Macro!B6031","v":0},{"$f":"Macro!E6031","v":{"$error":"#DIV/0!"}}]
[null,{"$f":"Macro!A6032","v":0},{"$f":"Macro!B6032","v":0},{"$f":"Macro!E6032","v":{"$error":"#DIV/0!"}}]
[null,{"$f":"Macro!A6033","v":0},{"$f":"Macro!B6033","v":0},{"$f":"Macro!E6033","v":{"$error":"#DIV/0!"}}]
[null,{"$f":"Macro!A6034","v":0},{"$f":"Macro!B6034","v":0},{"$f":"Macro!E6034","v":{"$error":"#DIV/0!"}}]
[null,{"$f":"Macro!A6035","v":0},{"$f":"Macro!B6035","v":0},{"$f":"Macro!E6035","v":{"$error":"#DIV/0!"}}]
[null,{"$f":"Macro!A6036","v":0},{"$f":"Macro!B6036","v":0},{"$f":"Macro!E6036","v":{"$error":"#DIV/0!"}}]
[null,{"$f":"Macro!A6037","v":0},{"$f":"Macro!B6037","v":0},{"$f":"Macro!E6037","v":{"$error":"#DIV/0!"}}]
[null,{"$f":"Macro!A6038","v":0},{"$f":"Macro!B6038","v":0},{"$f":"Macro!E6038","v":{"$error":"#DIV/0!"}}]
[null,{"$f":"Macro!A6039","v":0},{"$f":"Macro!B6039","v":0},{"$f":"Macro!E6039","v":{"$error":"#DIV/0!"}}]
[null,{"$f":"Macro!A6040","v":0},{"$f":"Macro!B6040","v":0},{"$f":"Macro!E6040","v":{"$error":"#DIV/0!"}}]
[null,{"$f":"Macro!A6041","v":0},{"$f":"Macro!B6041","v":0},{"$f":"Macro!E6041","v":{"$error":"#DIV/0!"}}]
[null,{"$f":"Macro!A6042","v":0},{"$f":"Macro!B6042","v":0},{"$f":"Macro!E6042","v":{"$error":"#DIV/0!"}}]
[null,{"$f":"Macro!A6043","v":0},{"$f":"Macro!B6043","v":0},{"$f":"Macro!E6043","v":{"$error":"#DIV/0!"}}]
[null,{"$f":"Macro!A6044","v":0},{"$f":"Macro!B6044","v":0},{"$f":"Macro!E6044","v":{"$error":"#DIV/0!"}}]
[null,{"$f":"Macro!A6045","v":0},{"$f":"Macro!B6045","v":0},{"$f":"Macro!E6045","v":{"$error":"#DIV/0!"}}]
[null,{"$f":"Macro!A6046","v":0},{"$f":"Macro!B6046","v":0},{"$f":"Macro!E6046","v":{"$error":"#DIV/0!"}}]
[null,{"$f":"Macro!A6047","v":0},{"$f":"Macro!B6047","v":0},{"$f":"Macro!E6047","v":{"$error":"#DIV/0!"}}]
[null,{"$f":"Macro!A6048","v":0},{"$f":"Macro!B6048","v":0},{"$f":"Macro!E6048","v":{"$error":"#DIV/0!"}}]
[null,{"$f":"Macro!A6049","v":0},{"$f":"Macro!B6049","v":0},{"$f":"Macro!E6049","v":{"$error":"#DIV/0!"}}]
[null,{"$f":"Macro!A6050","v":0},{"$f":"Macro!B6050","v":0},{"$f":"Macro!E6050","v":{"$error":"#DIV/0!"}}]
[null,{"$f":"Macro!A6051","v":0},{"$f":"Macro!B6051","v":0},{"$f":"Macro!E6051","v":{"$error":"#DIV/0!"}}]
[null,{"$f":"Macro!A6052","v":0},{"$f":"Macro!B6052","v":0},{"$f":"Macro!E6052","v":{"$error":"#DIV/0!"}}]
[null,{"$f":"Macro!A6053","v":0},{"$f":"Macro!B6053","v":0},{"$f":"Macro!E6053","v":{"$error":"#DIV/0!"}}]
[null,{"$f":"Macro!A6054","v":0},{"$f":"Macro!B6054","v":0},{"$f":"Macro!E6054","v":{"$error":"#DIV/0!"}}]
[null,{"$f":"Macro!A6055","v":0},{"$f":"Macro!B6055","v":0},{"$f":"Macro!E6055","v":{"$error":"#DIV/0!"}}]
[null,{"$f":"Macro!A6056","v":0},{"$f":"Macro!B6056","v":0},{"$f":"Macro!E6056","v":{"$error":"#DIV/0!"}}]
[null,{"$f":"Macro!A6057","v":0},{"$f":"Macro!B6057","v":0},{"$f":"Macro!E6057","v":{"$error":"#DIV/0!"}}]
[null,{"$f":"Macro!A6058","v":0},{"$f":"Macro!B6058","v":0},{"$f":"Macro!E6058","v":{"$error":"#DIV/0!"}}]
[null,{"$f":"Macro!A6059","v":0},{"$f":"Macro!B6059","v":0},{"$f":"Macro!E6059","v":{"$error":"#DIV/0!"}}]
[null,{"$f":"Macro!A6060","v":0},{"$f":"Macro!B6060","v":0},{"$f":"Macro!E6060","v":{"$error":"#DIV/0!"}}]
[null,{"$f":"Macro!A6061","v":0},{"$f":"Macro!B6061","v":0},{"$f":"Macro!E6061","v":{"$error":"#DIV/0!"}}]
[null,{"$f":"Macro!A6062","v":0},{"$f":"Macro!B6062","v":0},{"$f":"Macro!E6062","v":{"$error":"#DIV/0!"}}]
[null,{"$f":"Macro!A6063","v":0},{"$f":"Macro!B6063","v":0},{"$f":"Macro!E6063","v":{"$error":"#DIV/0!"}}]
[null,{"$f":"Macro!A6064","v":0},{"$f":"Macro!B6064","v":0},{"$f":"Macro!E6064","v":{"$error":"#DIV/0!"}}]
[null,{"$f":"Macro!A6065","v":0},{"$f":"Macro!B6065","v":0},{"$f":"Macro!E6065","v":{"$error":"#DIV/0!"}}]
[null,{"$f":"Macro!A6066","v":0},{"$f":"Macro!B6066","v":0},{"$f":"Macro!E6066","v":{"$error":"#DIV/0!"}}]
[null,{"$f":"Macro!A6067","v":0},{"$f":"Macro!B6067","v":0},{"$f":"Macro!E6067","v":{"$error":"#DIV/0!"}}]
[null,{"$f":"Macro!A6068","v":0},{"$f":"Macro!B6068","v":0},{"$f":"Macro!E6068","v":{"$error":"#DIV/0!"}}]
[null,{"$f":"Macro!A6069","v":0},{"$f":"Macro!B6069","v":0},{"$f":"Macro!E6069","v":{"$error":"#DIV/0!"}}]
[null,{"$f":"Macro!A6070","v":0},{"$f":"Macro!B6070","v":0},{"$f":"Macro!E6070","v":{"$error":"#DIV/0!"}}]
[null,{"$f":"Macro!A6071","v":0},{"$f":"Macro!B6071","v":0},{"$f":"Macro!E6071","v":{"$error":"#DIV/0!"}}]
[null,{"$f":"Macro!A6072","v":0},{"$f":"Macro!B6072","v":0},{"$f":"Macro!E6072","v":{"$error":"#DIV/0!"}}]
[null,{"$f":"Macro!A6073","v":0},{"$f":"Macro!B6073","v":0},{"$f":"Macro!E6073","v":{"$error":"#DIV/0!"}}]
[null,{"$f":"Macro!A6074","v":0},{"$f":"Macro!B6074","v":0},{"$f":"Macro!E6074","v":{"$error":"#DIV/0!"}}]
[null,{"$f":"Macro!A6075","v":0},{"$f":"Macro!B6075","v":0},{"$f":"Macro!E6075","v":{"$error":"#DIV/0!"}}]
[null,{"$f":"Macro!A6076","v":0},{"$f":"Macro!B6076","v":0},{"$f":"Macro!E6076","v":{"$error":"#DIV/0!"}}]
[null,{"$f":"Macro!A6077","v":0},{"$f":"Macro!B6077","v":0},{"$f":"Macro!E6077","v":{"$error":"#DIV/0!"}}]
[null,{"$f":"Macro!A6078","v":0},{"$f":"Macro!B6078","v":0},{"$f":"Macro!E6078","v":{"$error":"#DIV/0!"}}]
[null,{"$f":"Macro!A6079","v":0},{"$f":"Macro!B6079","v":0},{"$f":"Macro!E6079","v":{"$error":"#DIV/0!"}}]
[null,{"$f":"Macro!A6080","v":0},{"$f":"Macro!B6080","v":0},{"$f":"Macro!E6080","v":{"$error":"#DIV/0!"}}]
[null,{"$f":"Macro!A6081","v":0},{"$f":"Macro!B6081","v":0},{"$f":"Macro!E6081","v":{"$error":"#DIV/0!"}}]
[null,{"$f":"Macro!A6082","v":0},{"$f":"Macro!B6082","v":0},{"$f":"Macro!E6082","v":{"$error":"#DIV/0!"}}]
[null,{"$f":"Macro!A6083","v":0},{"$f":"Macro!B6083","v":0},{"$f":"Macro!E6083","v":{"$error":"#DIV/0!"}}]
[null,{"$f":"Macro!A6084","v":0},{"$f":"Macro!B6084","v":0},{"$f":"Macro!E6084","v":{"$error":"#DIV/0!"}}]
[null,{"$f":"Macro!A6085","v":0},{"$f":"Macro!B6085","v":0},{"$f":"Macro!E6085","v":{"$error":"#DIV/0!"}}]
[null,{"$f":"Macro!A6086","v":0},{"$f":"Macro!B6086","v":0},{"$f":"Macro!E6086","v":{"$error":"#DIV/0!"}}]
[null,{"$f":"Macro!A6087","v":0},{"$f":"Macro!B6087","v":0},{"$f":"Macro!E6087","v":{"$error":"#DIV/0!"}}]
[null,{"$f":"Macro!A6088","v":0},{"$f":"Macro!B6088","v":0},{"$f":"Macro!E6088","v":{"$error":"#DIV/0!"}}]
[null,{"$f":"Macro!A6089","v":0},{"$f":"Macro!B6089","v":0},{"$f":"Macro!E6089","v":{"$error":"#DIV/0!"}}]
[null,{"$f":"Macro!A6090","v":0},{"$f":"Macro!B6090","v":0},{"$f":"Macro!E6090","v":{"$error":"#DIV/0!"}}]
[null,{"$f":"Macro!A6091","v":0},{"$f":"Macro!B6091","v":0},{"$f":"Macro!E6091","v":{"$error":"#DIV/0!"}}]
[null,{"$f":"Macro!A6092","v":0},{"$f":"Macro!B6092","v":0},{"$f":"Macro!E6092","v":{"$error":"#DIV/0!"}}]
[null,{"$f":"Macro!A6093","v":0},{"$f":"Macro!B6093","v":0},{"$f":"Macro!E6093","v":{"$error":"#DIV/0!"}}]
[null,{"$f":"Macro!A6094","v":0},{"$f":"Macro!B6094","v":0},{"$f":"Macro!E6094","v":{"$error":"#DIV/0!"}}]
[null,{"$f":"Macro!A6095","v":0},{"$f":"Macro!B6095","v":0},{"$f":"Macro!E6095","v":{"$error":"#DIV/0!"}}]
[null,{"$f":"Macro!A6096","v":0},{"$f":"Macro!B6096","v":0},{"$f":"Macro!E6096","v":{"$error":"#DIV/0!"}}]
[null,{"$f":"Macro!A6097","v":0},{"$f":"Macro!B6097","v":0},{"$f":"Macro!E6097","v":{"$error":"#DIV/0!"}}]
[null,{"$f":"Macro!A6098","v":0},{"$f":"Macro!B6098","v":0},{"$f":"Macro!E6098","v":{"$error":"#DIV/0!"}}]
[null,{"$f":"Macro!A6099","v":0},{"$f":"Macro!B6099","v":0},{"$f":"Macro!E6099","v":{"$error":"#DIV/0!"}}]
[null,{"$f":"Macro!A6100","v":0},{"$f":"Macro!B6100","v":0},{"$f":"Macro!E6100","v":{"$error":"#DIV/0!"}}]
[null,{"$f":"Macro!A6101","v":0},{"$f":"Macro!B6101","v":0},{"$f":"Macro!E6101","v":{"$error":"#DIV/0!"}}]
[null,{"$f":"Macro!A6102","v":0},{"$f":"Macro!B6102","v":0},{"$f":"Macro!E6102","v":{"$error":"#DIV/0!"}}]
[null,{"$f":"Macro!A6103","v":0},{"$f":"Macro!B6103","v":0},{"$f":"Macro!E6103","v":{"$error":"#DIV/0!"}}]
[null,{"$f":"Macro!A6104","v":0},{"$f":"Macro!B6104","v":0},{"$f":"Macro!E6104","v":{"$error":"#DIV/0!"}}]
[null,{"$f":"Macro!A6105","v":0},{"$f":"Macro!B6105","v":0},{"$f":"Macro!E6105","v":{"$error":"#DIV/0!"}}]
[null,{"$f":"Macro!A6106","v":0},{"$f":"Macro!B6106","v":0},{"$f":"Macro!E6106","v":{"$error":"#DIV/0!"}}]
[null,{"$f":"Macro!A6107","v":0},{"$f":"Macro!B6107","v":0},{"$f":"Macro!E6107","v":{"$error":"#DIV/0!"}}]
[null,{"$f":"Macro!A6108","v":0},{"$f":"Macro!B6108","v":0},{"$f":"Macro!E6108","v":{"$error":"#DIV/0!"}}]
[null,{"$f":"Macro!A6109","v":0},{"$f":"Macro!B6109","v":0},{"$f":"Macro!E6109","v":{"$error":"#DIV/0!"}}]
[null,{"$f":"Macro!A6110","v":0},{"$f":"Macro!B6110","v":0},{"$f":"Macro!E6110","v":{"$error":"#DIV/0!"}}]
[null,{"$f":"Macro!A6111","v":0},{"$f":"Macro!B6111","v":0},{"$f":"Macro!E6111","v":{"$error":"#DIV/0!"}}]
[null,{"$f":"Macro!A6112","v":0},{"$f":"Macro!B6112","v":0},{"$f":"Macro!E6112","v":{"$error":"#DIV/0!"}}]
[null,{"$f":"Macro!A6113","v":0},{"$f":"Macro!B6113","v":0},{"$f":"Macro!E6113","v":{"$error":"#DIV/0!"}}]
[null,{"$f":"Macro!A6114","v":0},{"$f":"Macro!B6114","v":0},{"$f":"Macro!E6114","v":{"$error":"#DIV/0!"}}]
[null,{"$f":"Macro!A6115","v":0},{"$f":"Macro!B6115","v":0},{"$f":"Macro!E6115","v":{"$error":"#DIV/0!"}}]
[null,{"$f":"Macro!A6116","v":0},{"$f":"Macro!B6116","v":0},{"$f":"Macro!E6116","v":{"$error":"#DIV/0!"}}]
[null,{"$f":"Macro!A6117","v":0},{"$f":"Macro!B6117","v":0},{"$f":"Macro!E6117","v":{"$error":"#DIV/0!"}}]
[null,{"$f":"Macro!A6118","v":0},{"$f":"Macro!B6118","v":0},{"$f":"Macro!E6118","v":{"$error":"#DIV/0!"}}]
[null,{"$f":"Macro!A6119","v":0},{"$f":"Macro!B6119","v":0},{"$f":"Macro!E6119","v":{"$error":"#DIV/0!"}}]
[null,{"$f":"Macro!A6120","v":0},{"$f":"Macro!B6120","v":0},{"$f":"Macro!E6120","v":{"$error":"#DIV/0!"}}]
[null,{"$f":"Macro!A6121","v":0},{"$f":"Macro!B6121","v":0},{"$f":"Macro!E6121","v":{"$error":"#DIV/0!"}}]
[null,{"$f":"Macro!A6122","v":0},{"$f":"Macro!B6122","v":0},{"$f":"Macro!E6122","v":{"$error":"#DIV/0!"}}]
[null,{"$f":"Macro!A6123","v":0},{"$f":"Macro!B6123","v":0},{"$f":"Macro!E6123","v":{"$error":"#DIV/0!"}}]
[null,{"$f":"Macro!A6124","v":0},{"$f":"Macro!B6124","v":0},{"$f":"Macro!E6124","v":{"$error":"#DIV/0!"}}]
[null,{"$f":"Macro!A6125","v":0},{"$f":"Macro!B6125","v":0},{"$f":"Macro!E6125","v":{"$error":"#DIV/0!"}}]
[null,{"$f":"Macro!A6126","v":0},{"$f":"Macro!B6126","v":0},{"$f":"Macro!E6126","v":{"$error":"#DIV/0!"}}]
[null,{"$f":"Macro!A6127","v":0},{"$f":"Macro!B6127","v":0},{"$f":"Macro!E6127","v":{"$error":"#DIV/0!"}}]
[null,{"$f":"Macro!A6128","v":0},{"$f":"Macro!B6128","v":0},{"$f":"Macro!E6128","v":{"$error":"#DIV/0!"}}]
[null,{"$f":"Macro!A6129","v":0},{"$f":"Macro!B6129","v":0},{"$f":"Macro!E6129","v":{"$error":"#DIV/0!"}}]
[null,{"$f":"Macro!A6130","v":0},{"$f":"Macro!B6130","v":0},{"$f":"Macro!E6130","v":{"$error":"#DIV/0!"}}]
[null,{"$f":"Macro!A6131","v":0},{"$f":"Macro!B6131","v":0},{"$f":"Macro!E6131","v":{"$error":"#DIV/0!"}}]
[null,{"$f":"Macro!A6132","v":0},{"$f":"Macro!B6132","v":0},{"$f":"Macro!E6132","v":{"$error":"#DIV/0!"}}]
[null,{"$f":"Macro!A6133","v":0},{"$f":"Macro!B6133","v":0},{"$f":"Macro!E6133","v":{"$error":"#DIV/0!"}}]
[null,{"$f":"Macro!A6134","v":0},{"$f":"Macro!B6134","v":0},{"$f":"Macro!E6134","v":{"$error":"#DIV/0!"}}]
[null,{"$f":"Macro!A6135","v":0},{"$f":"Macro!B6135","v":0},{"$f":"Macro!E6135","v":{"$error":"#DIV/0!"}}]
[null,{"$f":"Macro!A6136","v":0},{"$f":"Macro!B6136","v":0},{"$f":"Macro!E6136","v":{"$error":"#DIV/0!"}}]
[null,{"$f":"Macro!A6137","v":0},{"$f":"Macro!B6137","v":0},{"$f":"Macro!E6137","v":{"$error":"#DIV/0!"}}]
[null,{"$f":"Macro!A6138","v":0},{"$f":"Macro!B6138","v":0},{"$f":"Macro!E6138","v":{"$error":"#DIV/0!"}}]
[null,{"$f":"Macro!A6139","v":0},{"$f":"Macro!B6139","v":0},{"$f":"Macro!E6139","v":{"$error":"#DIV/0!"}}]
[null,{"$f":"Macro!A6140","v":0},{"$f":"Macro!B6140","v":0},{"$f":"Macro!E6140","v":{"$error":"#DIV/0!"}}]
[null,{"$f":"Macro!A6141","v":0},{"$f":"Macro!B6141","v":0},{"$f":"Macro!E6141","v":{"$error":"#DIV/0!"}}]
[null,{"$f":"Macro!A6142","v":0},{"$f":"Macro!B6142","v":0},{"$f":"Macro!E6142","v":{"$error":"#DIV/0!"}}]
[null,{"$f":"Macro!A6143","v":0},{"$f":"Macro!B6143","v":0},{"$f":"Macro!E6143","v":{"$error":"#DIV/0!"}}]
[null,{"$f":"Macro!A6144","v":0},{"$f":"Macro!B6144","v":0},{"$f":"Macro!E6144","v":{"$error":"#DIV/0!"}}]
[null,{"$f":"Macro!A6145","v":0},{"$f":"Macro!B6145","v":0},{"$f":"Macro!E6145","v":{"$error":"#DIV/0!"}}]
[null,{"$f":"Macro!A6146","v":0},{"$f":"Macro!B6146","v":0},{"$f":"Macro!E6146","v":{"$error":"#DIV/0!"}}]
[null,{"$f":"Macro!A6147","v":0},{"$f":"Macro!B6147","v":0},{"$f":"Macro!E6147","v":{"$error":"#DIV/0!"}}]
[null,{"$f":"Macro!A6148","v":0},{"$f":"Macro!B6148","v":0},{"$f":"Macro!E6148","v":{"$error":"#DIV/0!"}}]
[null,{"$f":"Macro!A6149","v":0},{"$f":"Macro!B6149","v":0},{"$f":"Macro!E6149","v":{"$error":"#DIV/0!"}}]
[null,{"$f":"Macro!A6150","v":0},{"$f":"Macro!B6150","v":0},{"$f":"Macro!E6150","v":{"$error":"#DIV/0!"}}]
[null,{"$f":"Macro!A6151","v":0},{"$f":"Macro!B6151","v":0},{"$f":"Macro!E6151","v":{"$error":"#DIV/0!"}}]
[null,{"$f":"Macro!A6152","v":0},{"$f":"Macro!B6152","v":0},{"$f":"Macro!E6152","v":{"$error":"#DIV/0!"}}]
[null,{"$f":"Macro!A6153","v":0},{"$f":"Macro!B6153","v":0},{"$f":"Macro!E6153","v":{"$error":"#DIV/0!"}}]
[null,{"$f":"Macro!A6154","v":0},{"$f":"Macro!B6154","v":0},{"$f":"Macro!E6154","v":{"$error":"#DIV/0!"}}]
[null,{"$f":"Macro!A6155","v":0},{"$f":"Macro!B6155","v":0},{"$f":"Macro!E6155","v":{"$error":"#DIV/0!"}}]
[null,{"$f":"Macro!A6156","v":0},{"$f":"Macro!B6156","v":0},{"$f":"Macro!E6156","v":{"$error":"#DIV/0!"}}]
[null,{"$f":"Macro!A6157","v":0},{"$f":"Macro!B6157","v":0},{"$f":"Macro!E6157","v":{"$error":"#DIV/0!"}}]
[null,{"$f":"Macro!A6158","v":0},{"$f":"Macro!B6158","v":0},{"$f":"Macro!E6158","v":{"$error":"#DIV/0!"}}]
[null,{"$f":"Macro!A6159","v":0},{"$f":"Macro!B6159","v":0},{"$f":"Macro!E6159","v":{"$error":"#DIV/0!"}}]
[null,{"$f":"Macro!A6160","v":0},{"$f":"Macro!B6160","v":0},{"$f":"Macro!E6160","v":{"$error":"#DIV/0!"}}]
[null,{"$f":"Macro!A6161","v":0},{"$f":"Macro!B6161","v":0},{"$f":"Macro!E6161","v":{"$error":"#DIV/0!"}}]
[null,{"$f":"Macro!A6162","v":0},{"$f":"Macro!B6162","v":0},{"$f":"Macro!E6162","v":{"$error":"#DIV/0!"}}]
[null,{"$f":"Macro!A6163","v":0},{"$f":"Macro!B6163","v":0},{"$f":"Macro!E6163","v":{"$error":"#DIV/0!"}}]
[null,{"$f":"Macro!A6164","v":0},{"$f":"Macro!B6164","v":0},{"$f":"Macro!E6164","v":{"$error":"#DIV/0!"}}]
[null,{"$f":"Macro!A6165","v":0},{"$f":"Macro!B6165","v":0},{"$f":"Macro!E6165","v":{"$error":"#DIV/0!"}}]
[null,{"$f":"Macro!A6166","v":0},{"$f":"Macro!B6166","v":0},{"$f":"Macro!E6166","v":{"$error":"#DIV/0!"}}]
[null,{"$f":"Macro!A6167","v":0},{"$f":"Macro!B6167","v":0},{"$f":"Macro!E6167","v":{"$error":"#DIV/0!"}}]
[null,{"$f":"Macro!A6168","v":0},{"$f":"Macro!B6168","v":0},{"$f":"Macro!E6168","v":{"$error":"#DIV/0!"}}]
[null,{"$f":"Macro!A6169","v":0},{"$f":"Macro!B6169","v":0},{"$f":"Macro!E6169","v":{"$error":"#DIV/0!"}}]
[null,{"$f":"Macro!A6170","v":0},{"$f":"Macro!B6170","v":0},{"$f":"Macro!E6170","v":{"$error":"#DIV/0!"}}]
[null,{"$f":"Macro!A6171","v":0},{"$f":"Macro!B6171","v":0},{"$f":"Macro!E6171","v":{"$error":"#DIV/0!"}}]
[null,{"$f":"Macro!A6172","v":0},{"$f":"Macro!B6172","v":0},{"$f":"Macro!E6172","v":{"$error":"#DIV/0!"}}]
[null,{"$f":"Macro!A6173","v":0},{"$f":"Macro!B6173","v":0},{"$f":"Macro!E6173","v":{"$error":"#DIV/0!"}}]
[null,{"$f":"Macro!A6174","v":0},{"$f":"Macro!B6174","v":0},{"$f":"Macro!E6174","v":{"$error":"#DIV/0!"}}]
[null,{"$f":"Macro!A6175","v":0},{"$f":"Macro!B6175","v":0},{"$f":"Macro!E6175","v":{"$error":"#DIV/0!"}}]
[null,{"$f":"Macro!A6176","v":0},{"$f":"Macro!B6176","v":0},{"$f":"Macro!E6176","v":{"$error":"#DIV/0!"}}]
[null,{"$f":"Macro!A6177","v":0},{"$f":"Macro!B6177","v":0},{"$f":"Macro!E6177","v":{"$error":"#DIV/0!"}}]
[null,{"$f":"Macro!A6178","v":0},{"$f":"Macro!B6178","v":0},{"$f":"Macro!E6178","v":{"$error":"#DIV/0!"}}]
[null,{"$f":"Macro!A6179","v":0},{"$f":"Macro!B6179","v":0},{"$f":"Macro!E6179","v":{"$error":"#DIV/0!"}}]
[null,{"$f":"Macro!A6180","v":0},{"$f":"Macro!B6180","v":0},{"$f":"Macro!E6180","v":{"$error":"#DIV/0!"}}]
[null,{"$f":"Macro!A6181","v":0},{"$f":"Macro!B6181","v":0},{"$f":"Macro!E6181","v":{"$error":"#DIV/0!"}}]
[null,{"$f":"Macro!A6182","v":0},{"$f":"Macro!B6182","v":0},{"$f":"Macro!E6182","v":{"$error":"#DIV/0!"}}]
[null,{"$f":"Macro!A6183","v":0},{"$f":"Macro!B6183","v":0},{"$f":"Macro!E6183","v":{"$error":"#DIV/0!"}}]
[null,{"$f":"Macro!A6184","v":0},{"$f":"Macro!B6184","v":0},{"$f":"Macro!E6184","v":{"$error":"#DIV/0!"}}]
[null,{"$f":"Macro!A6185","v":0},{"$f":"Macro!B6185","v":0},{"$f":"Macro!E6185","v":{"$error":"#DIV/0!"}}]
[null,{"$f":"Macro!A6186","v":0},{"$f":"Macro!B6186","v":0},{"$f":"Macro!E6186","v":{"$error":"#DIV/0!"}}]
[null,{"$f":"Macro!A6187","v":0},{"$f":"Macro!B6187","v":0},{"$f":"Macro!E6187","v":{"$error":"#DIV/0!"}}]
[null,{"$f":"Macro!A6188","v":0},{"$f":"Macro!B6188","v":0},{"$f":"Macro!E6188","v":{"$error":"#DIV/0!"}}]
[null,{"$f":"Macro!A6189","v":0},{"$f":"Macro!B6189","v":0},{"$f":"Macro!E6189","v":{"$error":"#DIV/0!"}}]
[null,{"$f":"Macro!A6190","v":0},{"$f":"Macro!B6190","v":0},{"$f":"Macro!E6190","v":{"$error":"#DIV/0!"}}]
[null,{"$f":"Macro!A6191","v":0},{"$f":"Macro!B6191","v":0},{"$f":"Macro!E6191","v":{"$error":"#DIV/0!"}}]
[null,{"$f":"Macro!A6192","v":0},{"$f":"Macro!B6192","v":0},{"$f":"Macro!E6192","v":{"$error":"#DIV/0!"}}]
[null,{"$f":"Macro!A6193","v":0},{"$f":"Macro!B6193","v":0},{"$f":"Macro!E6193","v":{"$error":"#DIV/0!"}}]
[null,{"$f":"Macro!A6194","v":0},{"$f":"Macro!B6194","v":0},{"$f":"Macro!E6194","v":{"$error":"#DIV/0!"}}]
[null,{"$f":"Macro!A6195","v":0},{"$f":"Macro!B6195","v":0},{"$f":"Macro!E6195","v":{"$error":"#DIV/0!"}}]
[null,{"$f":"Macro!A6196","v":0},{"$f":"Macro!B6196","v":0},{"$f":"Macro!E6196","v":{"$error":"#DIV/0!"}}]
[null,{"$f":"Macro!A6197","v":0},{"$f":"Macro!B6197","v":0},{"$f":"Macro!E6197","v":{"$error":"#DIV/0!"}}]
[null,{"$f":"Macro!A6198","v":0},{"$f":"Macro!B6198","v":0},{"$f":"Macro!E6198","v":{"$error":"#DIV/0!"}}]
[null,{"$f":"Macro!A6199","v":0},{"$f":"Macro!B6199","v":0},{"$f":"Macro!E6199","v":{"$error":"#DIV/0!"}}]
[null,{"$f":"Macro!A6200","v":0},{"$f":"Macro!B6200","v":0},{"$f":"Macro!E6200","v":{"$error":"#DIV/0!"}}]
[null,{"$f":"Macro!A6201","v":0},{"$f":"Macro!B6201","v":0},{"$f":"Macro!E6201","v":{"$error":"#DIV/0!"}}]
[null,{"$f":"Macro!A6202","v":0},{"$f":"Macro!B6202","v":0},{"$f":"Macro!E6202","v":{"$error":"#DIV/0!"}}]
[null,{"$f":"Macro!A6203","v":0},{"$f":"Macro!B6203","v":0},{"$f":"Macro!E6203","v":{"$error":"#DIV/0!"}}]
[null,{"$f":"Macro!A6204","v":0},{"$f":"Macro!B6204","v":0},{"$f":"Macro!E6204","v":{"$error":"#DIV/0!"}}]
[null,{"$f":"Macro!A6205","v":0},{"$f":"Macro!B6205","v":0},{"$f":"Macro!E6205","v":{"$error":"#DIV/0!"}}]
[null,{"$f":"Macro!A6206","v":0},{"$f":"Macro!B6206","v":0},{"$f":"Macro!E6206","v":{"$error":"#DIV/0!"}}]
[null,{"$f":"Macro!A6207","v":0},{"$f":"Macro!B6207","v":0},{"$f":"Macro!E6207","v":{"$error":"#DIV/0!"}}]
[null,{"$f":"Macro!A6208","v":0},{"$f":"Macro!B6208","v":0},{"$f":"Macro!E6208","v":{"$error":"#DIV/0!"}}]
[null,{"$f":"Macro!A6209","v":0},{"$f":"Macro!B6209","v":0},{"$f":"Macro!E6209","v":{"$error":"#DIV/0!"}}]
[null,{"$f":"Macro!A6210","v":0},{"$f":"Macro!B6210","v":0},{"$f":"Macro!E6210","v":{"$error":"#DIV/0!"}}]
[null,{"$f":"Macro!A6211","v":0},{"$f":"Macro!B6211","v":0},{"$f":"Macro!E6211","v":{"$error":"#DIV/0!"}}]
[null,{"$f":"Macro!A6212","v":0},{"$f":"Macro!B6212","v":0},{"$f":"Macro!E6212","v":{"$error":"#DIV/0!"}}]
[null,{"$f":"Macro!A6213","v":0},{"$f":"Macro!B6213","v":0},{"$f":"Macro!E6213","v":{"$error":"#DIV/0!"}}]
[null,{"$f":"Macro!A6214","v":0},{"$f":"Macro!B6214","v":0},{"$f":"Macro!E6214","v":{"$error":"#DIV/0!"}}]
[null,{"$f":"Macro!A6215","v":0},{"$f":"Macro!B6215","v":0},{"$f":"Macro!E6215","v":{"$error":"#DIV/0!"}}]
[null,{"$f":"Macro!A6216","v":0},{"$f":"Macro!B6216","v":0},{"$f":"Macro!E6216","v":{"$error":"#DIV/0!"}}]
[null,{"$f":"Macro!A6217","v":0},{"$f":"Macro!B6217","v":0},{"$f":"Macro!E6217","v":{"$error":"#DIV/0!"}}]
[null,{"$f":"Macro!A6218","v":0},{"$f":"Macro!B6218","v":0},{"$f":"Macro!E6218","v":{"$error":"#DIV/0!"}}]
[null,{"$f":"Macro!A6219","v":0},{"$f":"Macro!B6219","v":0},{"$f":"Macro!E6219","v":{"$error":"#DIV/0!"}}]
[null,{"$f":"Macro!A6220","v":0},{"$f":"Macro!B6220","v":0},{"$f":"Macro!E6220","v":{"$error":"#DIV/0!"}}]
[null,{"$f":"Macro!A6221","v":0},{"$f":"Macro!B6221","v":0},{"$f":"Macro!E6221","v":{"$error":"#DIV/0!"}}]
[null,{"$f":"Macro!A6222","v":0},{"$f":"Macro!B6222","v":0},{"$f":"Macro!E6222","v":{"$error":"#DIV/0!"}}]
[null,{"$f":"Macro!A6223","v":0},{"$f":"Macro!B6223","v":0},{"$f":"Macro!E6223","v":{"$error":"#DIV/0!"}}]
[null,{"$f":"Macro!A6224","v":0},{"$f":"Macro!B6224","v":0},{"$f":"Macro!E6224","v":{"$error":"#DIV/0!"}}]
[null,{"$f":"Macro!A6225","v":0},{"$f":"Macro!B6225","v":0},{"$f":"Macro!E6225","v":{"$error":"#DIV/0!"}}]
[null,{"$f":"Macro!A6226","v":0},{"$f":"Macro!B6226","v":0},{"$f":"Macro!E6226","v":{"$error":"#DIV/0!"}}]
[null,{"$f":"Macro!A6227","v":0},{"$f":"Macro!B6227","v":0},{"$f":"Macro!E6227","v":{"$error":"#DIV/0!"}}]
[null,{"$f":"Macro!A6228","v":0},{"$f":"Macro!B6228","v":0},{"$f":"Macro!E6228","v":{"$error":"#DIV/0!"}}]
[null,{"$f":"Macro!A6229","v":0},{"$f":"Macro!B6229","v":0},{"$f":"Macro!E6229","v":{"$error":"#DIV/0!"}}]
[null,{"$f":"Macro!A6230","v":0},{"$f":"Macro!B6230","v":0},{"$f":"Macro!E6230","v":{"$error":"#DIV/0!"}}]
[null,{"$f":"Macro!A6231","v":0},{"$f":"Macro!B6231","v":0},{"$f":"Macro!E6231","v":{"$error":"#DIV/0!"}}]
[null,{"$f":"Macro!A6232","v":0},{"$f":"Macro!B6232","v":0},{"$f":"Macro!E6232","v":{"$error":"#DIV/0!"}}]
[null,{"$f":"Macro!A6233","v":0},{"$f":"Macro!B6233","v":0},{"$f":"Macro!E6233","v":{"$error":"#DIV/0!"}}]
[null,{"$f":"Macro!A6234","v":0},{"$f":"Macro!B6234","v":0},{"$f":"Macro!E6234","v":{"$error":"#DIV/0!"}}]
[null,{"$f":"Macro!A6235","v":0},{"$f":"Macro!B6235","v":0},{"$f":"Macro!E6235","v":{"$error":"#DIV/0!"}}]
[null,{"$f":"Macro!A6236","v":0},{"$f":"Macro!B6236","v":0},{"$f":"Macro!E6236","v":{"$error":"#DIV/0!"}}]
[null,{"$f":"Macro!A6237","v":0},{"$f":"Macro!B6237","v":0},{"$f":"Macro!E6237","v":{"$error":"#DIV/0!"}}]
[null,{"$f":"Macro!A6238","v":0},{"$f":"Macro!B6238","v":0},{"$f":"Macro!E6238","v":{"$error":"#DIV/0!"}}]
[null,{"$f":"Macro!A6239","v":0},{"$f":"Macro!B6239","v":0},{"$f":"Macro!E6239","v":{"$error":"#DIV/0!"}}]
[null,{"$f":"Macro!A6240","v":0},{"$f":"Macro!B6240","v":0},{"$f":"Macro!E6240","v":{"$error":"#DIV/0!"}}]
[null,{"$f":"Macro!A6241","v":0},{"$f":"Macro!B6241","v":0},{"$f":"Macro!E6241","v":{"$error":"#DIV/0!"}}]
[null,{"$f":"Macro!A6242","v":0},{"$f":"Macro!B6242","v":0},{"$f":"Macro!E6242","v":{"$error":"#DIV/0!"}}]
[null,{"$f":"Macro!A6243","v":0},{"$f":"Macro!B6243","v":0},{"$f":"Macro!E6243","v":{"$error":"#DIV/0!"}}]
[null,{"$f":"Macro!A6244","v":0},{"$f":"Macro!B6244","v":0},{"$f":"Macro!E6244","v":{"$error":"#DIV/0!"}}]
[null,{"$f":"Macro!A6245","v":0},{"$f":"Macro!B6245","v":0},{"$f":"Macro!E6245","v":{"$error":"#DIV/0!"}}]
[null,{"$f":"Macro!A6246","v":0},{"$f":"Macro!B6246","v":0},{"$f":"Macro!E6246","v":{"$error":"#DIV/0!"}}]
[null,{"$f":"Macro!A6247","v":0},{"$f":"Macro!B6247","v":0},{"$f":"Macro!E6247","v":{"$error":"#DIV/0!"}}]
[null,{"$f":"Macro!A6248","v":0},{"$f":"Macro!B6248","v":0},{"$f":"Macro!E6248","v":{"$error":"#DIV/0!"}}]
[null,{"$f":"Macro!A6249","v":0},{"$f":"Macro!B6249","v":0},{"$f":"Macro!E6249","v":{"$error":"#DIV/0!"}}]
[null,{"$f":"Macro!A6250","v":0},{"$f":"Macro!B6250","v":0},{"$f":"Macro!E6250","v":{"$error":"#DIV/0!"}}]
[null,{"$f":"Macro!A6251","v":0},{"$f":"Macro!B6251","v":0},{"$f":"Macro!E6251","v":{"$error":"#DIV/0!"}}]
[null,{"$f":"Macro!A6252","v":0},{"$f":"Macro!B6252","v":0},{"$f":"Macro!E6252","v":{"$error":"#DIV/0!"}}]
[null,{"$f":"Macro!A6253","v":0},{"$f":"Macro!B6253","v":0},{"$f":"Macro!E6253","v":{"$error":"#DIV/0!"}}]
[null,{"$f":"Macro!A6254","v":0},{"$f":"Macro!B6254","v":0},{"$f":"Macro!E6254","v":{"$error":"#DIV/0!"}}]
[null,{"$f":"Macro!A6255","v":0},{"$f":"Macro!B6255","v":0},{"$f":"Macro!E6255","v":{"$error":"#DIV/0!"}}]
[null,{"$f":"Macro!A6256","v":0},{"$f":"Macro!B6256","v":0},{"$f":"Macro!E6256","v":{"$error":"#DIV/0!"}}]
[null,{"$f":"Macro!A6257","v":0},{"$f":"Macro!B6257","v":0},{"$f":"Macro!E6257","v":{"$error":"#DIV/0!"}}]
[null,{"$f":"Macro!A6258","v":0},{"$f":"Macro!B6258","v":0},{"$f":"Macro!E6258","v":{"$error":"#DIV/0!"}}]
[null,{"$f":"Macro!A6259","v":0},{"$f":"Macro!B6259","v":0},{"$f":"Macro!E6259","v":{"$error":"#DIV/0!"}}]
[null,{"$f":"Macro!A6260","v":0},{"$f":"Macro!B6260","v":0},{"$f":"Macro!E6260","v":{"$error":"#DIV/0!"}}]
[null,{"$f":"Macro!A6261","v":0},{"$f":"Macro!B6261","v":0},{"$f":"Macro!E6261","v":{"$error":"#DIV/0!"}}]
[null,{"$f":"Macro!A6262","v":0},{"$f":"Macro!B6262","v":0},{"$f":"Macro!E6262","v":{"$error":"#DIV/0!"}}]
[null,{"$f":"Macro!A6263","v":0},{"$f":"Macro!B6263","v":0},{"$f":"Macro!E6263","v":{"$error":"#DIV/0!"}}]
[null,{"$f":"Macro!A6264","v":0},{"$f":"Macro!B6264","v":0},{"$f":"Macro!E6264","v":{"$error":"#DIV/0!"}}]
[null,{"$f":"Macro!A6265","v":0},{"$f":"Macro!B6265","v":0},{"$f":"Macro!E6265","v":{"$error":"#DIV/0!"}}]
[null,{"$f":"Macro!A6266","v":0},{"$f":"Macro!B6266","v":0},{"$f":"Macro!E6266","v":{"$error":"#DIV/0!"}}]
[null,{"$f":"Macro!A6267","v":0},{"$f":"Macro!B6267","v":0},{"$f":"Macro!E6267","v":{"$error":"#DIV/0!"}}]
[null,{"$f":"Macro!A6268","v":0},{"$f":"Macro!B6268","v":0},{"$f":"Macro!E6268","v":{"$error":"#DIV/0!"}}]
[null,{"$f":"Macro!A6269","v":0},{"$f":"Macro!B6269","v":0},{"$f":"Macro!E6269","v":{"$error":"#DIV/0!"}}]
[null,{"$f":"Macro!A6270","v":0},{"$f":"Macro!B6270","v":0},{"$f":"Macro!E6270","v":{"$error":"#DIV/0!"}}]
[null,{"$f":"Macro!A6271","v":0},{"$f":"Macro!B6271","v":0},{"$f":"Macro!E6271","v":{"$error":"#DIV/0!"}}]
[null,{"$f":"Macro!A6272","v":0},{"$f":"Macro!B6272","v":0},{"$f":"Macro!E6272","v":{"$error":"#DIV/0!"}}]
[null,{"$f":"Macro!A6273","v":0},{"$f":"Macro!B6273","v":0},{"$f":"Macro!E6273","v":{"$error":"#DIV/0!"}}]
[null,{"$f":"Macro!A6274","v":0},{"$f":"Macro!B6274","v":0},{"$f":"Macro!E6274","v":{"$error":"#DIV/0!"}}]
[null,{"$f":"Macro!A6275","v":0},{"$f":"Macro!B6275","v":0},{"$f":"Macro!E6275","v":{"$error":"#DIV/0!"}}]
[null,{"$f":"Macro!A6276","v":0},{"$f":"Macro!B6276","v":0},{"$f":"Macro!E6276","v":{"$error":"#DIV/0!"}}]
[null,{"$f":"Macro!A6277","v":0},{"$f":"Macro!B6277","v":0},{"$f":"Macro!E6277","v":{"$error":"#DIV/0!"}}]
[null,{"$f":"Macro!A6278","v":0},{"$f":"Macro!B6278","v":0},{"$f":"Macro!E6278","v":{"$error":"#DIV/0!"}}]
[null,{"$f":"Macro!A6279","v":0},{"$f":"Macro!B6279","v":0},{"$f":"Macro!E6279","v":{"$error":"#DIV/0!"}}]
[null,{"$f":"Macro!A6280","v":0},{"$f":"Macro!B6280","v":0},{"$f":"Macro!E6280","v":{"$error":"#DIV/0!"}}]
[null,{"$f":"Macro!A6281","v":0},{"$f":"Macro!B6281","v":0},{"$f":"Macro!E6281","v":{"$error":"#DIV/0!"}}]
[null,{"$f":"Macro!A6282","v":0},{"$f":"Macro!B6282","v":0},{"$f":"Macro!E6282","v":{"$error":"#DIV/0!"}}]
[null,{"$f":"Macro!A6283","v":0},{"$f":"Macro!B6283","v":0},{"$f":"Macro!E6283","v":{"$error":"#DIV/0!"}}]
[null,{"$f":"Macro!A6284","v":0},{"$f":"Macro!B6284","v":0},{"$f":"Macro!E6284","v":{"$error":"#DIV/0!"}}]
[null,{"$f":"Macro!A6285","v":0},{"$f":"Macro!B6285","v":0},{"$f":"Macro!E6285","v":{"$error":"#DIV/0!"}}]
[null,{"$f":"Macro!A6286","v":0},{"$f":"Macro!B6286","v":0},{"$f":"Macro!E6286","v":{"$error":"#DIV/0!"}}]
[null,{"$f":"Macro!A6287","v":0},{"$f":"Macro!B6287","v":0},{"$f":"Macro!E6287","v":{"$error":"#DIV/0!"}}]
[null,{"$f":"Macro!A6288","v":0},{"$f":"Macro!B6288","v":0},{"$f":"Macro!E6288","v":{"$error":"#DIV/0!"}}]
[null,{"$f":"Macro!A6289","v":0},{"$f":"Macro!B6289","v":0},{"$f":"Macro!E6289","v":{"$error":"#DIV/0!"}}]
[null,{"$f":"Macro!A6290","v":0},{"$f":"Macro!B6290","v":0},{"$f":"Macro!E6290","v":{"$error":"#DIV/0!"}}]
[null,{"$f":"Macro!A6291","v":0},{"$f":"Macro!B6291","v":0},{"$f":"Macro!E6291","v":{"$error":"#DIV/0!"}}]
[null,{"$f":"Macro!A6292","v":0},{"$f":"Macro!B6292","v":0},{"$f":"Macro!E6292","v":{"$error":"#DIV/0!"}}]
[null,{"$f":"Macro!A6293","v":0},{"$f":"Macro!B6293","v":0},{"$f":"Macro!E6293","v":{"$error":"#DIV/0!"}}]
[null,{"$f":"Macro!A6294","v":0},{"$f":"Macro!B6294","v":0},{"$f":"Macro!E6294","v":{"$error":"#DIV/0!"}}]
[null,{"$f":"Macro!A6295","v":0},{"$f":"Macro!B6295","v":0},{"$f":"Macro!E6295","v":{"$error":"#DIV/0!"}}]
[null,{"$f":"Macro!A6296","v":0},{"$f":"Macro!B6296","v":0},{"$f":"Macro!E6296","v":{"$error":"#DIV/0!"}}]
[null,{"$f":"Macro!A6297","v":0},{"$f":"Macro!B6297","v":0},{"$f":"Macro!E6297","v":{"$error":"#DIV/0!"}}]
[null,{"$f":"Macro!A6298","v":0},{"$f":"Macro!B6298","v":0},{"$f":"Macro!E6298","v":{"$error":"#DIV/0!"}}]
[null,{"$f":"Macro!A6299","v":0},{"$f":"Macro!B6299","v":0},{"$f":"Macro!E6299","v":{"$error":"#DIV/0!"}}]
[null,{"$f":"Macro!A6300","v":0},{"$f":"Macro!B6300","v":0},{"$f":"Macro!E6300","v":{"$error":"#DIV/0!"}}]
[null,{"$f":"Macro!A6301","v":0},{"$f":"Macro!B6301","v":0},{"$f":"Macro!E6301","v":{"$error":"#DIV/0!"}}]
[null,{"$f":"Macro!A6302","v":0},{"$f":"Macro!B6302","v":0},{"$f":"Macro!E6302","v":{"$error":"#DIV/0!"}}]
[null,{"$f":"Macro!A6303","v":0},{"$f":"Macro!B6303","v":0},{"$f":"Macro!E6303","v":{"$error":"#DIV/0!"}}]
[null,{"$f":"Macro!A6304","v":0},{"$f":"Macro!B6304","v":0},{"$f":"Macro!E6304","v":{"$error":"#DIV/0!"}}]
[null,{"$f":"Macro!A6305","v":0},{"$f":"Macro!B6305","v":0},{"$f":"Macro!E6305","v":{"$error":"#DIV/0!"}}]
[null,{"$f":"Macro!A6306","v":0},{"$f":"Macro!B6306","v":0},{"$f":"Macro!E6306","v":{"$error":"#DIV/0!"}}]
[null,{"$f":"Macro!A6307","v":0},{"$f":"Macro!B6307","v":0},{"$f":"Macro!E6307","v":{"$error":"#DIV/0!"}}]
[null,{"$f":"Macro!A6308","v":0},{"$f":"Macro!B6308","v":0},{"$f":"Macro!E6308","v":{"$error":"#DIV/0!"}}]
[null,{"$f":"Macro!A6309","v":0},{"$f":"Macro!B6309","v":0},{"$f":"Macro!E6309","v":{"$error":"#DIV/0!"}}]
[null,{"$f":"Macro!A6310","v":0},{"$f":"Macro!B6310","v":0},{"$f":"Macro!E6310","v":{"$error":"#DIV/0!"}}]
[null,{"$f":"Macro!A6311","v":0},{"$f":"Macro!B6311","v":0},{"$f":"Macro!E6311","v":{"$error":"#DIV/0!"}}]
[null,{"$f":"Macro!A6312","v":0},{"$f":"Macro!B6312","v":0},{"$f":"Macro!E6312","v":{"$error":"#DIV/0!"}}]
[null,{"$f":"Macro!A6313","v":0},{"$f":"Macro!B6313","v":0},{"$f":"Macro!E6313","v":{"$error":"#DIV/0!"}}]
[null,{"$f":"Macro!A6314","v":0},{"$f":"Macro!B6314","v":0},{"$f":"Macro!E6314","v":{"$error":"#DIV/0!"}}]
[null,{"$f":"Macro!A6315","v":0},{"$f":"Macro!B6315","v":0},{"$f":"Macro!E6315","v":{"$error":"#DIV/0!"}}]
[null,{"$f":"Macro!A6316","v":0},{"$f":"Macro!B6316","v":0},{"$f":"Macro!E6316","v":{"$error":"#DIV/0!"}}]
[null,{"$f":"Macro!A6317","v":0},{"$f":"Macro!B6317","v":0},{"$f":"Macro!E6317","v":{"$error":"#DIV/0!"}}]
[null,{"$f":"Macro!A6318","v":0},{"$f":"Macro!B6318","v":0},{"$f":"Macro!E6318","v":{"$error":"#DIV/0!"}}]
[null,{"$f":"Macro!A6319","v":0},{"$f":"Macro!B6319","v":0},{"$f":"Macro!E6319","v":{"$error":"#DIV/0!"}}]
[null,{"$f":"Macro!A6320","v":0},{"$f":"Macro!B6320","v":0},{"$f":"Macro!E6320","v":{"$error":"#DIV/0!"}}]
[null,{"$f":"Macro!A6321","v":0},{"$f":"Macro!B6321","v":0},{"$f":"Macro!E6321","v":{"$error":"#DIV/0!"}}]
[null,{"$f":"Macro!A6322","v":0},{"$f":"Macro!B6322","v":0},{"$f":"Macro!E6322","v":{"$error":"#DIV/0!"}}]
[null,{"$f":"Macro!A6323","v":0},{"$f":"Macro!B6323","v":0},{"$f":"Macro!E6323","v":{"$error":"#DIV/0!"}}]
[null,{"$f":"Macro!A6324","v":0},{"$f":"Macro!B6324","v":0},{"$f":"Macro!E6324","v":{"$error":"#DIV/0!"}}]
[null,{"$f":"Macro!A6325","v":0},{"$f":"Macro!B6325","v":0},{"$f":"Macro!E6325","v":{"$error":"#DIV/0!"}}]
[null,{"$f":"Macro!A6326","v":0},{"$f":"Macro!B6326","v":0},{"$f":"Macro!E6326","v":{"$error":"#DIV/0!"}}]
[null,{"$f":"Macro!A6327","v":0},{"$f":"Macro!B6327","v":0},{"$f":"Macro!E6327","v":{"$error":"#DIV/0!"}}]
[null,{"$f":"Macro!A6328","v":0},{"$f":"Macro!B6328","v":0},{"$f":"Macro!E6328","v":{"$error":"#DIV/0!"}}]
[null,{"$f":"Macro!A6329","v":0},{"$f":"Macro!B6329","v":0},{"$f":"Macro!E6329","v":{"$error":"#DIV/0!"}}]
[null,{"$f":"Macro!A6330","v":0},{"$f":"Macro!B6330","v":0},{"$f":"Macro!E6330","v":{"$error":"#DIV/0!"}}]
[null,{"$f":"Macro!A6331","v":0},{"$f":"Macro!B6331","v":0},{"$f":"Macro!E6331","v":{"$error":"#DIV/0!"}}]
[null,{"$f":"Macro!A6332","v":0},{"$f":"Macro!B6332","v":0},{"$f":"Macro!E6332","v":{"$error":"#DIV/0!"}}]
[null,{"$f":"Macro!A6333","v":0},{"$f":"Macro!B6333","v":0},{"$f":"Macro!E6333","v":{"$error":"#DIV/0!"}}]
[null,{"$f":"Macro!A6334","v":0},{"$f":"Macro!B6334","v":0},{"$f":"Macro!E6334","v":{"$error":"#DIV/0!"}}]
[null,{"$f":"Macro!A6335","v":0},{"$f":"Macro!B6335","v":0},{"$f":"Macro!E6335","v":{"$error":"#DIV/0!"}}]
[null,{"$f":"Macro!A6336","v":0},{"$f":"Macro!B6336","v":0},{"$f":"Macro!E6336","v":{"$error":"#DIV/0!"}}]
[null,{"$f":"Macro!A6337","v":0},{"$f":"Macro!B6337","v":0},{"$f":"Macro!E6337","v":{"$error":"#DIV/0!"}}]
[null,{"$f":"Macro!A6338","v":0},{"$f":"Macro!B6338","v":0},{"$f":"Macro!E6338","v":{"$error":"#DIV/0!"}}]
[null,{"$f":"Macro!A6339","v":0},{"$f":"Macro!B6339","v":0},{"$f":"Macro!E6339","v":{"$error":"#DIV/0!"}}]
[null,{"$f":"Macro!A6340","v":0},{"$f":"Macro!B6340","v":0},{"$f":"Macro!E6340","v":{"$error":"#DIV/0!"}}]
[null,{"$f":"Macro!A6341","v":0},{"$f":"Macro!B6341","v":0},{"$f":"Macro!E6341","v":{"$error":"#DIV/0!"}}]
[null,{"$f":"Macro!A6342","v":0},{"$f":"Macro!B6342","v":0},{"$f":"Macro!E6342","v":{"$error":"#DIV/0!"}}]
[null,{"$f":"Macro!A6343","v":0},{"$f":"Macro!B6343","v":0},{"$f":"Macro!E6343","v":{"$error":"#DIV/0!"}}]
[null,{"$f":"Macro!A6344","v":0},{"$f":"Macro!B6344","v":0},{"$f":"Macro!E6344","v":{"$error":"#DIV/0!"}}]
[null,{"$f":"Macro!A6345","v":0},{"$f":"Macro!B6345","v":0},{"$f":"Macro!E6345","v":{"$error":"#DIV/0!"}}]
[null,{"$f":"Macro!A6346","v":0},{"$f":"Macro!B6346","v":0},{"$f":"Macro!E6346","v":{"$error":"#DIV/0!"}}]
[null,{"$f":"Macro!A6347","v":0},{"$f":"Macro!B6347","v":0},{"$f":"Macro!E6347","v":{"$error":"#DIV/0!"}}]
[null,{"$f":"Macro!A6348","v":0},{"$f":"Macro!B6348","v":0},{"$f":"Macro!E6348","v":{"$error":"#DIV/0!"}}]
[null,{"$f":"Macro!A6349","v":0},{"$f":"Macro!B6349","v":0},{"$f":"Macro!E6349","v":{"$error":"#DIV/0!"}}]
[null,{"$f":"Macro!A6350","v":0},{"$f":"Macro!B6350","v":0},{"$f":"Macro!E6350","v":{"$error":"#DIV/0!"}}]
[null,{"$f":"Macro!A6351","v":0},{"$f":"Macro!B6351","v":0},{"$f":"Macro!E6351","v":{"$error":"#DIV/0!"}}]
[null,{"$f":"Macro!A6352","v":0},{"$f":"Macro!B6352","v":0},{"$f":"Macro!E6352","v":{"$error":"#DIV/0!"}}]
[null,{"$f":"Macro!A6353","v":0},{"$f":"Macro!B6353","v":0},{"$f":"Macro!E6353","v":{"$error":"#DIV/0!"}}]
[null,{"$f":"Macro!A6354","v":0},{"$f":"Macro!B6354","v":0},{"$f":"Macro!E6354","v":{"$error":"#DIV/0!"}}]
[null,{"$f":"Macro!A6355","v":0},{"$f":"Macro!B6355","v":0},{"$f":"Macro!E6355","v":{"$error":"#DIV/0!"}}]
[null,{"$f":"Macro!A6356","v":0},{"$f":"Macro!B6356","v":0},{"$f":"Macro!E6356","v":{"$error":"#DIV/0!"}}]
[null,{"$f":"Macro!A6357","v":0},{"$f":"Macro!B6357","v":0},{"$f":"Macro!E6357","v":{"$error":"#DIV/0!"}}]
[null,{"$f":"Macro!A6358","v":0},{"$f":"Macro!B6358","v":0},{"$f":"Macro!E6358","v":{"$error":"#DIV/0!"}}]
[null,{"$f":"Macro!A6359","v":0},{"$f":"Macro!B6359","v":0},{"$f":"Macro!E6359","v":{"$error":"#DIV/0!"}}]
[null,{"$f":"Macro!A6360","v":0},{"$f":"Macro!B6360","v":0},{"$f":"Macro!E6360","v":{"$error":"#DIV/0!"}}]
[null,{"$f":"Macro!A6361","v":0},{"$f":"Macro!B6361","v":0},{"$f":"Macro!E6361","v":{"$error":"#DIV/0!"}}]
[null,{"$f":"Macro!A6362","v":0},{"$f":"Macro!B6362","v":0},{"$f":"Macro!E6362","v":{"$error":"#DIV/0!"}}]
[null,{"$f":"Macro!A6363","v":0},{"$f":"Macro!B6363","v":0},{"$f":"Macro!E6363","v":{"$error":"#DIV/0!"}}]
[null,{"$f":"Macro!A6364","v":0},{"$f":"Macro!B6364","v":0},{"$f":"Macro!E6364","v":{"$error":"#DIV/0!"}}]
[null,{"$f":"Macro!A6365","v":0},{"$f":"Macro!B6365","v":0},{"$f":"Macro!E6365","v":{"$error":"#DIV/0!"}}]
[null,{"$f":"Macro!A6366","v":0},{"$f":"Macro!B6366","v":0},{"$f":"Macro!E6366","v":{"$error":"#DIV/0!"}}]
[null,{"$f":"Macro!A6367","v":0},{"$f":"Macro!B6367","v":0},{"$f":"Macro!E6367","v":{"$error":"#DIV/0!"}}]
[null,{"$f":"Macro!A6368","v":0},{"$f":"Macro!B6368","v":0},{"$f":"Macro!E6368","v":{"$error":"#DIV/0!"}}]
[null,{"$f":"Macro!A6369","v":0},{"$f":"Macro!B6369","v":0},{"$f":"Macro!E6369","v":{"$error":"#DIV/0!"}}]
[null,{"$f":"Macro!A6370","v":0},{"$f":"Macro!B6370","v":0},{"$f":"Macro!E6370","v":{"$error":"#DIV/0!"}}]
[null,{"$f":"Macro!A6371","v":0},{"$f":"Macro!B6371","v":0},{"$f":"Macro!E6371","v":{"$error":"#DIV/0!"}}]
[null,{"$f":"Macro!A6372","v":0},{"$f":"Macro!B6372","v":0},{"$f":"Macro!E6372","v":{"$error":"#DIV/0!"}}]
[null,{"$f":"Macro!A6373","v":0},{"$f":"Macro!B6373","v":0},{"$f":"Macro!E6373","v":{"$error":"#DIV/0!"}}]
[null,{"$f":"Macro!A6374","v":0},{"$f":"Macro!B6374","v":0},{"$f":"Macro!E6374","v":{"$error":"#DIV/0!"}}]
[null,{"$f":"Macro!A6375","v":0},{"$f":"Macro!B6375","v":0},{"$f":"Macro!E6375","v":{"$error":"#DIV/0!"}}]
[null,{"$f":"Macro!A6376","v":0},{"$f":"Macro!B6376","v":0},{"$f":"Macro!E6376","v":{"$error":"#DIV/0!"}}]
[null,{"$f":"Macro!A6377","v":0},{"$f":"Macro!B6377","v":0},{"$f":"Macro!E6377","v":{"$error":"#DIV/0!"}}]
[null,{"$f":"Macro!A6378","v":0},{"$f":"Macro!B6378","v":0},{"$f":"Macro!E6378","v":{"$error":"#DIV/0!"}}]
[null,{"$f":"Macro!A6379","v":0},{"$f":"Macro!B6379","v":0},{"$f":"Macro!E6379","v":{"$error":"#DIV/0!"}}]
[null,{"$f":"Macro!A6380","v":0},{"$f":"Macro!B6380","v":0},{"$f":"Macro!E6380","v":{"$error":"#DIV/0!"}}]
[null,{"$f":"Macro!A6381","v":0},{"$f":"Macro!B6381","v":0},{"$f":"Macro!E6381","v":{"$error":"#DIV/0!"}}]
[null,{"$f":"Macro!A6382","v":0},{"$f":"Macro!B6382","v":0},{"$f":"Macro!E6382","v":{"$error":"#DIV/0!"}}]
[null,{"$f":"Macro!A6383","v":0},{"$f":"Macro!B6383","v":0},{"$f":"Macro!E6383","v":{"$error":"#DIV/0!"}}]
[null,{"$f":"Macro!A6384","v":0},{"$f":"Macro!B6384","v":0},{"$f":"Macro!E6384","v":{"$error":"#DIV/0!"}}]
[null,{"$f":"Macro!A6385","v":0},{"$f":"Macro!B6385","v":0},{"$f":"Macro!E6385","v":{"$error":"#DIV/0!"}}]
[null,{"$f":"Macro!A6386","v":0},{"$f":"Macro!B6386","v":0},{"$f":"Macro!E6386","v":{"$error":"#DIV/0!"}}]
[null,{"$f":"Macro!A6387","v":0},{"$f":"Macro!B6387","v":0},{"$f":"Macro!E6387","v":{"$error":"#DIV/0!"}}]
[null,{"$f":"Macro!A6388","v":0},{"$f":"Macro!B6388","v":0},{"$f":"Macro!E6388","v":{"$error":"#DIV/0!"}}]
[null,{"$f":"Macro!A6389","v":0},{"$f":"Macro!B6389","v":0},{"$f":"Macro!E6389","v":{"$error":"#DIV/0!"}}]
[null,{"$f":"Macro!A6390","v":0},{"$f":"Macro!B6390","v":0},{"$f":"Macro!E6390","v":{"$error":"#DIV/0!"}}]
[null,{"$f":"Macro!A6391","v":0},{"$f":"Macro!B6391","v":0},{"$f":"Macro!E6391","v":{"$error":"#DIV/0!"}}]
[null,{"$f":"Macro!A6392","v":0},{"$f":"Macro!B6392","v":0},{"$f":"Macro!E6392","v":{"$error":"#DIV/0!"}}]
[null,{"$f":"Macro!A6393","v":0},{"$f":"Macro!B6393","v":0},{"$f":"Macro!E6393","v":{"$error":"#DIV/0!"}}]
[null,{"$f":"Macro!A6394","v":0},{"$f":"Macro!B6394","v":0},{"$f":"Macro!E6394","v":{"$error":"#DIV/0!"}}]
[null,{"$f":"Macro!A6395","v":0},{"$f":"Macro!B6395","v":0},{"$f":"Macro!E6395","v":{"$error":"#DIV/0!"}}]
[null,{"$f":"Macro!A6396","v":0},{"$f":"Macro!B6396","v":0},{"$f":"Macro!E6396","v":{"$error":"#DIV/0!"}}]
[null,{"$f":"Macro!A6397","v":0},{"$f":"Macro!B6397","v":0},{"$f":"Macro!E6397","v":{"$error":"#DIV/0!"}}]
[null,{"$f":"Macro!A6398","v":0},{"$f":"Macro!B6398","v":0},{"$f":"Macro!E6398","v":{"$error":"#DIV/0!"}}]
[null,{"$f":"Macro!A6399","v":0},{"$f":"Macro!B6399","v":0},{"$f":"Macro!E6399","v":{"$error":"#DIV/0!"}}]
[null,{"$f":"Macro!A6400","v":0},{"$f":"Macro!B6400","v":0},{"$f":"Macro!E6400","v":{"$error":"#DIV/0!"}}]
[null,{"$f":"Macro!A6401","v":0},{"$f":"Macro!B6401","v":0},{"$f":"Macro!E6401","v":{"$error":"#DIV/0!"}}]
[null,{"$f":"Macro!A6402","v":0},{"$f":"Macro!B6402","v":0},{"$f":"Macro!E6402","v":{"$error":"#DIV/0!"}}]
[null,{"$f":"Macro!A6403","v":0},{"$f":"Macro!B6403","v":0},{"$f":"Macro!E6403","v":{"$error":"#DIV/0!"}}]
[null,{"$f":"Macro!A6404","v":0},{"$f":"Macro!B6404","v":0},{"$f":"Macro!E6404","v":{"$error":"#DIV/0!"}}]
[null,{"$f":"Macro!A6405","v":0},{"$f":"Macro!B6405","v":0},{"$f":"Macro!E6405","v":{"$error":"#DIV/0!"}}]
[null,{"$f":"Macro!A6406","v":0},{"$f":"Macro!B6406","v":0},{"$f":"Macro!E6406","v":{"$error":"#DIV/0!"}}]
[null,{"$f":"Macro!A6407","v":0},{"$f":"Macro!B6407","v":0},{"$f":"Macro!E6407","v":{"$error":"#DIV/0!"}}]
[null,{"$f":"Macro!A6408","v":0},{"$f":"Macro!B6408","v":0},{"$f":"Macro!E6408","v":{"$error":"#DIV/0!"}}]
[null,{"$f":"Macro!A6409","v":0},{"$f":"Macro!B6409","v":0},{"$f":"Macro!E6409","v":{"$error":"#DIV/0!"}}]
[null,{"$f":"Macro!A6410","v":0},{"$f":"Macro!B6410","v":0},{"$f":"Macro!E6410","v":{"$error":"#DIV/0!"}}]
[null,{"$f":"Macro!A6411","v":0},{"$f":"Macro!B6411","v":0},{"$f":"Macro!E6411","v":{"$error":"#DIV/0!"}}]
[null,{"$f":"Macro!A6412","v":0},{"$f":"Macro!B6412","v":0},{"$f":"Macro!E6412","v":{"$error":"#DIV/0!"}}]
[null,{"$f":"Macro!A6413","v":0},{"$f":"Macro!B6413","v":0},{"$f":"Macro!E6413","v":{"$error":"#DIV/0!"}}]
[null,{"$f":"Macro!A6414","v":0},{"$f":"Macro!B6414","v":0},{"$f":"Macro!E6414","v":{"$error":"#DIV/0!"}}]
[null,{"$f":"Macro!A6415","v":0},{"$f":"Macro!B6415","v":0},{"$f":"Macro!E6415","v":{"$error":"#DIV/0!"}}]
[null,{"$f":"Macro!A6416","v":0},{"$f":"Macro!B6416","v":0},{"$f":"Macro!E6416","v":{"$error":"#DIV/0!"}}]
[null,{"$f":"Macro!A6417","v":0},{"$f":"Macro!B6417","v":0},{"$f":"Macro!E6417","v":{"$error":"#DIV/0!"}}]
[null,{"$f":"Macro!A6418","v":0},{"$f":"Macro!B6418","v":0},{"$f":"Macro!E6418","v":{"$error":"#DIV/0!"}}]
[null,{"$f":"Macro!A6419","v":0},{"$f":"Macro!B6419","v":0},{"$f":"Macro!E6419","v":{"$error":"#DIV/0!"}}]
[null,{"$f":"Macro!A6420","v":0},{"$f":"Macro!B6420","v":0},{"$f":"Macro!E6420","v":{"$error":"#DIV/0!"}}]
[null,{"$f":"Macro!A6421","v":0},{"$f":"Macro!B6421","v":0},{"$f":"Macro!E6421","v":{"$error":"#DIV/0!"}}]
[null,{"$f":"Macro!A6422","v":0},{"$f":"Macro!B6422","v":0},{"$f":"Macro!E6422","v":{"$error":"#DIV/0!"}}]
[null,{"$f":"Macro!A6423","v":0},{"$f":"Macro!B6423","v":0},{"$f":"Macro!E6423","v":{"$error":"#DIV/0!"}}]
[null,{"$f":"Macro!A6424","v":0},{"$f":"Macro!B6424","v":0},{"$f":"Macro!E6424","v":{"$error":"#DIV/0!"}}]
[null,{"$f":"Macro!A6425","v":0},{"$f":"Macro!B6425","v":0},{"$f":"Macro!E6425","v":{"$error":"#DIV/0!"}}]
[null,{"$f":"Macro!A6426","v":0},{"$f":"Macro!B6426","v":0},{"$f":"Macro!E6426","v":{"$error":"#DIV/0!"}}]
[null,{"$f":"Macro!A6427","v":0},{"$f":"Macro!B6427","v":0},{"$f":"Macro!E6427","v":{"$error":"#DIV/0!"}}]
[null,{"$f":"Macro!A6428","v":0},{"$f":"Macro!B6428","v":0},{"$f":"Macro!E6428","v":{"$error":"#DIV/0!"}}]
[null,{"$f":"Macro!A6429","v":0},{"$f":"Macro!B6429","v":0},{"$f":"Macro!E6429","v":{"$error":"#DIV/0!"}}]
[null,{"$f":"Macro!A6430","v":0},{"$f":"Macro!B6430","v":0},{"$f":"Macro!E6430","v":{"$error":"#DIV/0!"}}]
[null,{"$f":"Macro!A6431","v":0},{"$f":"Macro!B6431","v":0},{"$f":"Macro!E6431","v":{"$error":"#DIV/0!"}}]
[null,{"$f":"Macro!A6432","v":0},{"$f":"Macro!B6432","v":0},{"$f":"Macro!E6432","v":{"$error":"#DIV/0!"}}]
[null,{"$f":"Macro!A6433","v":0},{"$f":"Macro!B6433","v":0},{"$f":"Macro!E6433","v":{"$error":"#DIV/0!"}}]
[null,{"$f":"Macro!A6434","v":0},{"$f":"Macro!B6434","v":0},{"$f":"Macro!E6434","v":{"$error":"#DIV/0!"}}]
[null,{"$f":"Macro!A6435","v":0},{"$f":"Macro!B6435","v":0},{"$f":"Macro!E6435","v":{"$error":"#DIV/0!"}}]
[null,{"$f":"Macro!A6436","v":0},{"$f":"Macro!B6436","v":0},{"$f":"Macro!E6436","v":{"$error":"#DIV/0!"}}]
[null,{"$f":"Macro!A6437","v":0},{"$f":"Macro!B6437","v":0},{"$f":"Macro!E6437","v":{"$error":"#DIV/0!"}}]
[null,{"$f":"Macro!A6438","v":0},{"$f":"Macro!B6438","v":0},{"$f":"Macro!E6438","v":{"$error":"#DIV/0!"}}]
[null,{"$f":"Macro!A6439","v":0},{"$f":"Macro!B6439","v":0},{"$f":"Macro!E6439","v":{"$error":"#DIV/0!"}}]
[null,{"$f":"Macro!A6440","v":0},{"$f":"Macro!B6440","v":0},{"$f":"Macro!E6440","v":{"$error":"#DIV/0!"}}]
[null,{"$f":"Macro!A6441","v":0},{"$f":"Macro!B6441","v":0},{"$f":"Macro!E6441","v":{"$error":"#DIV/0!"}}]
[null,{"$f":"Macro!A6442","v":0},{"$f":"Macro!B6442","v":0},{"$f":"Macro!E6442","v":{"$error":"#DIV/0!"}}]
[null,{"$f":"Macro!A6443","v":0},{"$f":"Macro!B6443","v":0},{"$f":"Macro!E6443","v":{"$error":"#DIV/0!"}}]
[null,{"$f":"Macro!A6444","v":0},{"$f":"Macro!B6444","v":0},{"$f":"Macro!E6444","v":{"$error":"#DIV/0!"}}]
[null,{"$f":"Macro!A6445","v":0},{"$f":"Macro!B6445","v":0},{"$f":"Macro!E6445","v":{"$error":"#DIV/0!"}}]
[null,{"$f":"Macro!A6446","v":0},{"$f":"Macro!B6446","v":0},{"$f":"Macro!E6446","v":{"$error":"#DIV/0!"}}]
[null,{"$f":"Macro!A6447","v":0},{"$f":"Macro!B6447","v":0},{"$f":"Macro!E6447","v":{"$error":"#DIV/0!"}}]
[null,{"$f":"Macro!A6448","v":0},{"$f":"Macro!B6448","v":0},{"$f":"Macro!E6448","v":{"$error":"#DIV/0!"}}]
[null,{"$f":"Macro!A6449","v":0},{"$f":"Macro!B6449","v":0},{"$f":"Macro!E6449","v":{"$error":"#DIV/0!"}}]
[null,{"$f":"Macro!A6450","v":0},{"$f":"Macro!B6450","v":0},{"$f":"Macro!E6450","v":{"$error":"#DIV/0!"}}]
[null,{"$f":"Macro!A6451","v":0},{"$f":"Macro!B6451","v":0},{"$f":"Macro!E6451","v":{"$error":"#DIV/0!"}}]
[null,{"$f":"Macro!A6452","v":0},{"$f":"Macro!B6452","v":0},{"$f":"Macro!E6452","v":{"$error":"#DIV/0!"}}]
[null,{"$f":"Macro!A6453","v":0},{"$f":"Macro!B6453","v":0},{"$f":"Macro!E6453","v":{"$error":"#DIV/0!"}}]
[null,{"$f":"Macro!A6454","v":0},{"$f":"Macro!B6454","v":0},{"$f":"Macro!E6454","v":{"$error":"#DIV/0!"}}]
[null,{"$f":"Macro!A6455","v":0},{"$f":"Macro!B6455","v":0},{"$f":"Macro!E6455","v":{"$error":"#DIV/0!"}}]
[null,{"$f":"Macro!A6456","v":0},{"$f":"Macro!B6456","v":0},{"$f":"Macro!E6456","v":{"$error":"#DIV/0!"}}]
[null,{"$f":"Macro!A6457","v":0},{"$f":"Macro!B6457","v":0},{"$f":"Macro!E6457","v":{"$error":"#DIV/0!"}}]
[null,{"$f":"Macro!A6458","v":0},{"$f":"Macro!B6458","v":0},{"$f":"Macro!E6458","v":{"$error":"#DIV/0!"}}]
[null,{"$f":"Macro!A6459","v":0},{"$f":"Macro!B6459","v":0},{"$f":"Macro!E6459","v":{"$error":"#DIV/0!"}}]
[null,{"$f":"Macro!A6460","v":0},{"$f":"Macro!B6460","v":0},{"$f":"Macro!E6460","v":{"$error":"#DIV/0!"}}]
[null,{"$f":"Macro!A6461","v":0},{"$f":"Macro!B6461","v":0},{"$f":"Macro!E6461","v":{"$error":"#DIV/0!"}}]
[null,{"$f":"Macro!A6462","v":0},{"$f":"Macro!B6462","v":0},{"$f":"Macro!E6462","v":{"$error":"#DIV/0!"}}]
[null,{"$f":"Macro!A6463","v":0},{"$f":"Macro!B6463","v":0},{"$f":"Macro!E6463","v":{"$error":"#DIV/0!"}}]
[null,{"$f":"Macro!A6464","v":0},{"$f":"Macro!B6464","v":0},{"$f":"Macro!E6464","v":{"$error":"#DIV/0!"}}]
[null,{"$f":"Macro!A6465","v":0},{"$f":"Macro!B6465","v":0},{"$f":"Macro!E6465","v":{"$error":"#DIV/0!"}}]
[null,{"$f":"Macro!A6466","v":0},{"$f":"Macro!B6466","v":0},{"$f":"Macro!E6466","v":{"$error":"#DIV/0!"}}]
[null,{"$f":"Macro!A6467","v":0},{"$f":"Macro!B6467","v":0},{"$f":"Macro!E6467","v":{"$error":"#DIV/0!"}}]
[null,{"$f":"Macro!A6468","v":0},{"$f":"Macro!B6468","v":0},{"$f":"Macro!E6468","v":{"$error":"#DIV/0!"}}]
[null,{"$f":"Macro!A6469","v":0},{"$f":"Macro!B6469","v":0},{"$f":"Macro!E6469","v":{"$error":"#DIV/0!"}}]
[null,{"$f":"Macro!A6470","v":0},{"$f":"Macro!B6470","v":0},{"$f":"Macro!E6470","v":{"$error":"#DIV/0!"}}]
[null,{"$f":"Macro!A6471","v":0},{"$f":"Macro!B6471","v":0},{"$f":"Macro!E6471","v":{"$error":"#DIV/0!"}}]
[null,{"$f":"Macro!A6472","v":0},{"$f":"Macro!B6472","v":0},{"$f":"Macro!E6472","v":{"$error":"#DIV/0!"}}]
[null,{"$f":"Macro!A6473","v":0},{"$f":"Macro!B6473","v":0},{"$f":"Macro!E6473","v":{"$error":"#DIV/0!"}}]
[null,{"$f":"Macro!A6474","v":0},{"$f":"Macro!B6474","v":0},{"$f":"Macro!E6474","v":{"$error":"#DIV/0!"}}]
[null,{"$f":"Macro!A6475","v":0},{"$f":"Macro!B6475","v":0},{"$f":"Macro!E6475","v":{"$error":"#DIV/0!"}}]
[null,{"$f":"Macro!A6476","v":0},{"$f":"Macro!B6476","v":0},{"$f":"Macro!E6476","v":{"$error":"#DIV/0!"}}]
[null,{"$f":"Macro!A6477","v":0},{"$f":"Macro!B6477","v":0},{"$f":"Macro!E6477","v":{"$error":"#DIV/0!"}}]
[null,{"$f":"Macro!A6478","v":0},{"$f":"Macro!B6478","v":0},{"$f":"Macro!E6478","v":{"$error":"#DIV/0!"}}]
[null,{"$f":"Macro!A6479","v":0},{"$f":"Macro!B6479","v":0},{"$f":"Macro!E6479","v":{"$error":"#DIV/0!"}}]
[null,{"$f":"Macro!A6480","v":0},{"$f":"Macro!B6480","v":0},{"$f":"Macro!E6480","v":{"$error":"#DIV/0!"}}]
[null,{"$f":"Macro!A6481","v":0},{"$f":"Macro!B6481","v":0},{"$f":"Macro!E6481","v":{"$error":"#DIV/0!"}}]
[null,{"$f":"Macro!A6482","v":0},{"$f":"Macro!B6482","v":0},{"$f":"Macro!E6482","v":{"$error":"#DIV/0!"}}]
[null,{"$f":"Macro!A6483","v":0},{"$f":"Macro!B6483","v":0},{"$f":"Macro!E6483","v":{"$error":"#DIV/0!"}}]
[null,{"$f":"Macro!A6484","v":0},{"$f":"Macro!B6484","v":0},{"$f":"Macro!E6484","v":{"$error":"#DIV/0!"}}]
[null,{"$f":"Macro!A6485","v":0},{"$f":"Macro!B6485","v":0},{"$f":"Macro!E6485","v":{"$error":"#DIV/0!"}}]
[null,{"$f":"Macro!A6486","v":0},{"$f":"Macro!B6486","v":0},{"$f":"Macro!E6486","v":{"$error":"#DIV/0!"}}]
[null,{"$f":"Macro!A6487","v":0},{"$f":"Macro!B6487","v":0},{"$f":"Macro!E6487","v":{"$error":"#DIV/0!"}}]
[null,{"$f":"Macro!A6488","v":0},{"$f":"Macro!B6488","v":0},{"$f":"Macro!E6488","v":{"$error":"#DIV/0!"}}]
[null,{"$f":"Macro!A6489","v":0},{"$f":"Macro!B6489","v":0},{"$f":"Macro!E6489","v":{"$error":"#DIV/0!"}}]
[null,{"$f":"Macro!A6490","v":0},{"$f":"Macro!B6490","v":0},{"$f":"Macro!E6490","v":{"$error":"#DIV/0!"}}]
[null,{"$f":"Macro!A6491","v":0},{"$f":"Macro!B6491","v":0},{"$f":"Macro!E6491","v":{"$error":"#DIV/0!"}}]
[null,{"$f":"Macro!A6492","v":0},{"$f":"Macro!B6492","v":0},{"$f":"Macro!E6492","v":{"$error":"#DIV/0!"}}]
[null,{"$f":"Macro!A6493","v":0},{"$f":"Macro!B6493","v":0},{"$f":"Macro!E6493","v":{"$error":"#DIV/0!"}}]
[null,{"$f":"Macro!A6494","v":0},{"$f":"Macro!B6494","v":0},{"$f":"Macro!E6494","v":{"$error":"#DIV/0!"}}]
[null,{"$f":"Macro!A6495","v":0},{"$f":"Macro!B6495","v":0},{"$f":"Macro!E6495","v":{"$error":"#DIV/0!"}}]
[null,{"$f":"Macro!A6496","v":0},{"$f":"Macro!B6496","v":0},{"$f":"Macro!E6496","v":{"$error":"#DIV/0!"}}]
[null,{"$f":"Macro!A6497","v":0},{"$f":"Macro!B6497","v":0},{"$f":"Macro!E6497","v":{"$error":"#DIV/0!"}}]
[null,{"$f":"Macro!A6498","v":0},{"$f":"Macro!B6498","v":0},{"$f":"Macro!E6498","v":{"$error":"#DIV/0!"}}]
[null,{"$f":"Macro!A6499","v":0},{"$f":"Macro!B6499","v":0},{"$f":"Macro!E6499","v":{"$error":"#DIV/0!"}}]
[null,{"$f":"Macro!A6500","v":0},{"$f":"Macro!B6500","v":0},{"$f":"Macro!E6500","v":{"$error":"#DIV/0!"}}]
[null,{"$f":"Macro!A6501","v":0},{"$f":"Macro!B6501","v":0},{"$f":"Macro!E6501","v":{"$error":"#DIV/0!"}}]
[null,{"$f":"Macro!A6502","v":0},{"$f":"Macro!B6502","v":0},{"$f":"Macro!E6502","v":{"$error":"#DIV/0!"}}]
[null,{"$f":"Macro!A6503","v":0},{"$f":"Macro!B6503","v":0},{"$f":"Macro!E6503","v":{"$error":"#DIV/0!"}}]
[null,{"$f":"Macro!A6504","v":0},{"$f":"Macro!B6504","v":0},{"$f":"Macro!E6504","v":{"$error":"#DIV/0!"}}]
[null,{"$f":"Macro!A6505","v":0},{"$f":"Macro!B6505","v":0},{"$f":"Macro!E6505","v":{"$error":"#DIV/0!"}}]
[null,{"$f":"Macro!A6506","v":0},{"$f":"Macro!B6506","v":0},{"$f":"Macro!E6506","v":{"$error":"#DIV/0!"}}]
[null,{"$f":"Macro!A6507","v":0},{"$f":"Macro!B6507","v":0},{"$f":"Macro!E6507","v":{"$error":"#DIV/0!"}}]
[null,{"$f":"Macro!A6508","v":0},{"$f":"Macro!B6508","v":0},{"$f":"Macro!E6508","v":{"$error":"#DIV/0!"}}]
[null,{"$f":"Macro!A6509","v":0},{"$f":"Macro!B6509","v":0},{"$f":"Macro!E6509","v":{"$error":"#DIV/0!"}}]
[null,{"$f":"Macro!A6510","v":0},{"$f":"Macro!B6510","v":0},{"$f":"Macro!E6510","v":{"$error":"#DIV/0!"}}]
[null,{"$f":"Macro!A6511","v":0},{"$f":"Macro!B6511","v":0},{"$f":"Macro!E6511","v":{"$error":"#DIV/0!"}}]
[null,{"$f":"Macro!A6512","v":0},{"$f":"Macro!B6512","v":0},{"$f":"Macro!E6512","v":{"$error":"#DIV/0!"}}]
[null,{"$f":"Macro!A6513","v":0},{"$f":"Macro!B6513","v":0},{"$f":"Macro!E6513","v":{"$error":"#DIV/0!"}}]
[null,{"$f":"Macro!A6514","v":0},{"$f":"Macro!B6514","v":0},{"$f":"Macro!E6514","v":{"$error":"#DIV/0!"}}]
[null,{"$f":"Macro!A6515","v":0},{"$f":"Macro!B6515","v":0},{"$f":"Macro!E6515","v":{"$error":"#DIV/0!"}}]
[null,{"$f":"Macro!A6516","v":0},{"$f":"Macro!B6516","v":0},{"$f":"Macro!E6516","v":{"$error":"#DIV/0!"}}]
[null,{"$f":"Macro!A6517","v":0},{"$f":"Macro!B6517","v":0},{"$f":"Macro!E6517","v":{"$error":"#DIV/0!"}}]
[null,{"$f":"Macro!A6518","v":0},{"$f":"Macro!B6518","v":0},{"$f":"Macro!E6518","v":{"$error":"#DIV/0!"}}]
[null,{"$f":"Macro!A6519","v":0},{"$f":"Macro!B6519","v":0},{"$f":"Macro!E6519","v":{"$error":"#DIV/0!"}}]
[null,{"$f":"Macro!A6520","v":0},{"$f":"Macro!B6520","v":0},{"$f":"Macro!E6520","v":{"$error":"#DIV/0!"}}]
[null,{"$f":"Macro!A6521","v":0},{"$f":"Macro!B6521","v":0},{"$f":"Macro!E6521","v":{"$error":"#DIV/0!"}}]
[null,{"$f":"Macro!A6522","v":0},{"$f":"Macro!B6522","v":0},{"$f":"Macro!E6522","v":{"$error":"#DIV/0!"}}]
[null,{"$f":"Macro!A6523","v":0},{"$f":"Macro!B6523","v":0},{"$f":"Macro!E6523","v":{"$error":"#DIV/0!"}}]
[null,{"$f":"Macro!A6524","v":0},{"$f":"Macro!B6524","v":0},{"$f":"Macro!E6524","v":{"$error":"#DIV/0!"}}]
[null,{"$f":"Macro!A6525","v":0},{"$f":"Macro!B6525","v":0},{"$f":"Macro!E6525","v":{"$error":"#DIV/0!"}}]
[null,{"$f":"Macro!A6526","v":0},{"$f":"Macro!B6526","v":0},{"$f":"Macro!E6526","v":{"$error":"#DIV/0!"}}]
[null,{"$f":"Macro!A6527","v":0},{"$f":"Macro!B6527","v":0},{"$f":"Macro!E6527","v":{"$error":"#DIV/0!"}}]
[null,{"$f":"Macro!A6528","v":0},{"$f":"Macro!B6528","v":0},{"$f":"Macro!E6528","v":{"$error":"#DIV/0!"}}]
[null,{"$f":"Macro!A6529","v":0},{"$f":"Macro!B6529","v":0},{"$f":"Macro!E6529","v":{"$error":"#DIV/0!"}}]
[null,{"$f":"Macro!A6530","v":0},{"$f":"Macro!B6530","v":0},{"$f":"Macro!E6530","v":{"$error":"#DIV/0!"}}]
[null,{"$f":"Macro!A6531","v":0},{"$f":"Macro!B6531","v":0},{"$f":"Macro!E6531","v":{"$error":"#DIV/0!"}}]
[null,{"$f":"Macro!A6532","v":0},{"$f":"Macro!B6532","v":0},{"$f":"Macro!E6532","v":{"$error":"#DIV/0!"}}]
[null,{"$f":"Macro!A6533","v":0},{"$f":"Macro!B6533","v":0},{"$f":"Macro!E6533","v":{"$error":"#DIV/0!"}}]
[null,{"$f":"Macro!A6534","v":0},{"$f":"Macro!B6534","v":0},{"$f":"Macro!E6534","v":{"$error":"#DIV/0!"}}]
[null,{"$f":"Macro!A6535","v":0},{"$f":"Macro!B6535","v":0},{"$f":"Macro!E6535","v":{"$error":"#DIV/0!"}}]
[null,{"$f":"Macro!A6536","v":0},{"$f":"Macro!B6536","v":0},{"$f":"Macro!E6536","v":{"$error":"#DIV/0!"}}]
[null,{"$f":"Macro!A6537","v":0},{"$f":"Macro!B6537","v":0},{"$f":"Macro!E6537","v":{"$error":"#DIV/0!"}}]
[null,{"$f":"Macro!A6538","v":0},{"$f":"Macro!B6538","v":0},{"$f":"Macro!E6538","v":{"$error":"#DIV/0!"}}]
[null,{"$f":"Macro!A6539","v":0},{"$f":"Macro!B6539","v":0},{"$f":"Macro!E6539","v":{"$error":"#DIV/0!"}}]
[null,{"$f":"Macro!A6540","v":0},{"$f":"Macro!B6540","v":0},{"$f":"Macro!E6540","v":{"$error":"#DIV/0!"}}]
[null,{"$f":"Macro!A6541","v":0},{"$f":"Macro!B6541","v":0},{"$f":"Macro!E6541","v":{"$error":"#DIV/0!"}}]
[null,{"$f":"Macro!A6542","v":0},{"$f":"Macro!B6542","v":0},{"$f":"Macro!E6542","v":{"$error":"#DIV/0!"}}]
[null,{"$f":"Macro!A6543","v":0},{"$f":"Macro!B6543","v":0},{"$f":"Macro!E6543","v":{"$error":"#DIV/0!"}}]
[null,{"$f":"Macro!A6544","v":0},{"$f":"Macro!B6544","v":0},{"$f":"Macro!E6544","v":{"$error":"#DIV/0!"}}]
[null,{"$f":"Macro!A6545","v":0},{"$f":"Macro!B6545","v":0},{"$f":"Macro!E6545","v":{"$error":"#DIV/0!"}}]
[null,{"$f":"Macro!A6546","v":0},{"$f":"Macro!B6546","v":0},{"$f":"Macro!E6546","v":{"$error":"#DIV/0!"}}]
[null,{"$f":"Macro!A6547","v":0},{"$f":"Macro!B6547","v":0},{"$f":"Macro!E6547","v":{"$error":"#DIV/0!"}}]
[null,{"$f":"Macro!A6548","v":0},{"$f":"Macro!B6548","v":0},{"$f":"Macro!E6548","v":{"$error":"#DIV/0!"}}]
[null,{"$f":"Macro!A6549","v":0},{"$f":"Macro!B6549","v":0},{"$f":"Macro!E6549","v":{"$error":"#DIV/0!"}}]
[null,{"$f":"Macro!A6550","v":0},{"$f":"Macro!B6550","v":0},{"$f":"Macro!E6550","v":{"$error":"#DIV/0!"}}]
[null,{"$f":"Macro!A6551","v":0},{"$f":"Macro!B6551","v":0},{"$f":"Macro!E6551","v":{"$error":"#DIV/0!"}}]
[null,{"$f":"Macro!A6552","v":0},{"$f":"Macro!B6552","v":0},{"$f":"Macro!E6552","v":{"$error":"#DIV/0!"}}]
[null,{"$f":"Macro!A6553","v":0},{"$f":"Macro!B6553","v":0},{"$f":"Macro!E6553","v":{"$error":"#DIV/0!"}}]
[null,{"$f":"Macro!A6554","v":0},{"$f":"Macro!B6554","v":0},{"$f":"Macro!E6554","v":{"$error":"#DIV/0!"}}]
[null,{"$f":"Macro!A6555","v":0},{"$f":"Macro!B6555","v":0},{"$f":"Macro!E6555","v":{"$error":"#DIV/0!"}}]
[null,{"$f":"Macro!A6556","v":0},{"$f":"Macro!B6556","v":0},{"$f":"Macro!E6556","v":{"$error":"#DIV/0!"}}]
[null,{"$f":"Macro!A6557","v":0},{"$f":"Macro!B6557","v":0},{"$f":"Macro!E6557","v":{"$error":"#DIV/0!"}}]
[null,{"$f":"Macro!A6558","v":0},{"$f":"Macro!B6558","v":0},{"$f":"Macro!E6558","v":{"$error":"#DIV/0!"}}]
[null,{"$f":"Macro!A6559","v":0},{"$f":"Macro!B6559","v":0},{"$f":"Macro!E6559","v":{"$error":"#DIV/0!"}}]
[null,{"$f":"Macro!A6560","v":0},{"$f":"Macro!B6560","v":0},{"$f":"Macro!E6560","v":{"$error":"#DIV/0!"}}]
[null,{"$f":"Macro!A6561","v":0},{"$f":"Macro!B6561","v":0},{"$f":"Macro!E6561","v":{"$error":"#DIV/0!"}}]
[null,{"$f":"Macro!A6562","v":0},{"$f":"Macro!B6562","v":0},{"$f":"Macro!E6562","v":{"$error":"#DIV/0!"}}]
[null,{"$f":"Macro!A6563","v":0},{"$f":"Macro!B6563","v":0},{"$f":"Macro!E6563","v":{"$error":"#DIV/0!"}}]
[null,{"$f":"Macro!A6564","v":0},{"$f":"Macro!B6564","v":0},{"$f":"Macro!E6564","v":{"$error":"#DIV/0!"}}]
[null,{"$f":"Macro!A6565","v":0},{"$f":"Macro!B6565","v":0},{"$f":"Macro!E6565","v":{"$error":"#DIV/0!"}}]
[null,{"$f":"Macro!A6566","v":0},{"$f":"Macro!B6566","v":0},{"$f":"Macro!E6566","v":{"$error":"#DIV/0!"}}]
[null,{"$f":"Macro!A6567","v":0},{"$f":"Macro!B6567","v":0},{"$f":"Macro!E6567","v":{"$error":"#DIV/0!"}}]
[null,{"$f":"Macro!A6568","v":0},{"$f":"Macro!B6568","v":0},{"$f":"Macro!E6568","v":{"$error":"#DIV/0!"}}]
[null,{"$f":"Macro!A6569","v":0},{"$f":"Macro!B6569","v":0},{"$f":"Macro!E6569","v":{"$error":"#DIV/0!"}}]
[null,{"$f":"Macro!A6570","v":0},{"$f":"Macro!B6570","v":0},{"$f":"Macro!E6570","v":{"$error":"#DIV/0!"}}]
[null,{"$f":"Macro!A6571","v":0},{"$f":"Macro!B6571","v":0},{"$f":"Macro!E6571","v":{"$error":"#DIV/0!"}}]
[null,{"$f":"Macro!A6572","v":0},{"$f":"Macro!B6572","v":0},{"$f":"Macro!E6572","v":{"$error":"#DIV/0!"}}]
[null,{"$f":"Macro!A6573","v":0},{"$f":"Macro!B6573","v":0},{"$f":"Macro!E6573","v":{"$error":"#DIV/0!"}}]
[null,{"$f":"Macro!A6574","v":0},{"$f":"Macro!B6574","v":0},{"$f":"Macro!E6574","v":{"$error":"#DIV/0!"}}]
[null,{"$f":"Macro!A6575","v":0},{"$f":"Macro!B6575","v":0},{"$f":"Macro!E6575","v":{"$error":"#DIV/0!"}}]
[null,{"$f":"Macro!A6576","v":0},{"$f":"Macro!B6576","v":0},{"$f":"Macro!E6576","v":{"$error":"#DIV/0!"}}]
[null,{"$f":"Macro!A6577","v":0},{"$f":"Macro!B6577","v":0},{"$f":"Macro!E6577","v":{"$error":"#DIV/0!"}}]
[null,{"$f":"Macro!A6578","v":0},{"$f":"Macro!B6578","v":0},{"$f":"Macro!E6578","v":{"$error":"#DIV/0!"}}]
[null,{"$f":"Macro!A6579","v":0},{"$f":"Macro!B6579","v":0},{"$f":"Macro!E6579","v":{"$error":"#DIV/0!"}}]
[null,{"$f":"Macro!A6580","v":0},{"$f":"Macro!B6580","v":0},{"$f":"Macro!E6580","v":{"$error":"#DIV/0!"}}]
[null,{"$f":"Macro!A6581","v":0},{"$f":"Macro!B6581","v":0},{"$f":"Macro!E6581","v":{"$error":"#DIV/0!"}}]
[null,{"$f":"Macro!A6582","v":0},{"$f":"Macro!B6582","v":0},{"$f":"Macro!E6582","v":{"$error":"#DIV/0!"}}]
[null,{"$f":"Macro!A6583","v":0},{"$f":"Macro!B6583","v":0},{"$f":"Macro!E6583","v":{"$error":"#DIV/0!"}}]
[null,{"$f":"Macro!A6584","v":0},{"$f":"Macro!B6584","v":0},{"$f":"Macro!E6584","v":{"$error":"#DIV/0!"}}]
[null,{"$f":"Macro!A6585","v":0},{"$f":"Macro!B6585","v":0},{"$f":"Macro!E6585","v":{"$error":"#DIV/0!"}}]
[null,{"$f":"Macro!A6586","v":0},{"$f":"Macro!B6586","v":0},{"$f":"Macro!E6586","v":{"$error":"#DIV/0!"}}]
[null,{"$f":"Macro!A6587","v":0},{"$f":"Macro!B6587","v":0},{"$f":"Macro!E6587","v":{"$error":"#DIV/0!"}}]
[null,{"$f":"Macro!A6588","v":0},{"$f":"Macro!B6588","v":0},{"$f":"Macro!E6588","v":{"$error":"#DIV/0!"}}]
[null,{"$f":"Macro!A6589","v":0},{"$f":"Macro!B6589","v":0},{"$f":"Macro!E6589","v":{"$error":"#DIV/0!"}}]
[null,{"$f":"Macro!A6590","v":0},{"$f":"Macro!B6590","v":0},{"$f":"Macro!E6590","v":{"$error":"#DIV/0!"}}]
[null,{"$f":"Macro!A6591","v":0},{"$f":"Macro!B6591","v":0},{"$f":"Macro!E6591","v":{"$error":"#DIV/0!"}}]
[null,{"$f":"Macro!A6592","v":0},{"$f":"Macro!B6592","v":0},{"$f":"Macro!E6592","v":{"$error":"#DIV/0!"}}]
[null,{"$f":"Macro!A6593","v":0},{"$f":"Macro!B6593","v":0},{"$f":"Macro!E6593","v":{"$error":"#DIV/0!"}}]
[null,{"$f":"Macro!A6594","v":0},{"$f":"Macro!B6594","v":0},{"$f":"Macro!E6594","v":{"$error":"#DIV/0!"}}]
[null,{"$f":"Macro!A6595","v":0},{"$f":"Macro!B6595","v":0},{"$f":"Macro!E6595","v":{"$error":"#DIV/0!"}}]
[null,{"$f":"Macro!A6596","v":0},{"$f":"Macro!B6596","v":0},{"$f":"Macro!E6596","v":{"$error":"#DIV/0!"}}]
[null,{"$f":"Macro!A6597","v":0},{"$f":"Macro!B6597","v":0},{"$f":"Macro!E6597","v":{"$error":"#DIV/0!"}}]
[null,{"$f":"Macro!A6598","v":0},{"$f":"Macro!B6598","v":0},{"$f":"Macro!E6598","v":{"$error":"#DIV/0!"}}]
[null,{"$f":"Macro!A6599","v":0},{"$f":"Macro!B6599","v":0},{"$f":"Macro!E6599","v":{"$error":"#DIV/0!"}}]
[null,{"$f":"Macro!A6600","v":0},{"$f":"Macro!B6600","v":0},{"$f":"Macro!E6600","v":{"$error":"#DIV/0!"}}]
[null,{"$f":"Macro!A6601","v":0},{"$f":"Macro!B6601","v":0},{"$f":"Macro!E6601","v":{"$error":"#DIV/0!"}}]
[null,{"$f":"Macro!A6602","v":0},{"$f":"Macro!B6602","v":0},{"$f":"Macro!E6602","v":{"$error":"#DIV/0!"}}]
[null,{"$f":"Macro!A6603","v":0},{"$f":"Macro!B6603","v":0},{"$f":"Macro!E6603","v":{"$error":"#DIV/0!"}}]
[null,{"$f":"Macro!A6604","v":0},{"$f":"Macro!B6604","v":0},{"$f":"Macro!E6604","v":{"$error":"#DIV/0!"}}]
[null,{"$f":"Macro!A6605","v":0},{"$f":"Macro!B6605","v":0},{"$f":"Macro!E6605","v":{"$error":"#DIV/0!"}}]
[null,{"$f":"Macro!A6606","v":0},{"$f":"Macro!B6606","v":0},{"$f":"Macro!E6606","v":{"$error":"#DIV/0!"}}]
[null,{"$f":"Macro!A6607","v":0},{"$f":"Macro!B6607","v":0},{"$f":"Macro!E6607","v":{"$error":"#DIV/0!"}}]
[null,{"$f":"Macro!A6608","v":0},{"$f":"Macro!B6608","v":0},{"$f":"Macro!E6608","v":{"$error":"#DIV/0!"}}]
[null,{"$f":"Macro!A6609","v":0},{"$f":"Macro!B6609","v":0},{"$f":"Macro!E6609","v":{"$error":"#DIV/0!"}}]
[null,{"$f":"Macro!A6610","v":0},{"$f":"Macro!B6610","v":0},{"$f":"Macro!E6610","v":{"$error":"#DIV/0!"}}]
[null,{"$f":"Macro!A6611","v":0},{"$f":"Macro!B6611","v":0},{"$f":"Macro!E6611","v":{"$error":"#DIV/0!"}}]
[null,{"$f":"Macro!A6612","v":0},{"$f":"Macro!B6612","v":0},{"$f":"Macro!E6612","v":{"$error":"#DIV/0!"}}]
[null,{"$f":"Macro!A6613","v":0},{"$f":"Macro!B6613","v":0},{"$f":"Macro!E6613","v":{"$error":"#DIV/0!"}}]
[null,{"$f":"Macro!A6614","v":0},{"$f":"Macro!B6614","v":0},{"$f":"Macro!E6614","v":{"$error":"#DIV/0!"}}]
[null,{"$f":"Macro!A6615","v":0},{"$f":"Macro!B6615","v":0},{"$f":"Macro!E6615","v":{"$error":"#DIV/0!"}}]
[null,{"$f":"Macro!A6616","v":0},{"$f":"Macro!B6616","v":0},{"$f":"Macro!E6616","v":{"$error":"#DIV/0!"}}]
[null,{"$f":"Macro!A6617","v":0},{"$f":"Macro!B6617","v":0},{"$f":"Macro!E6617","v":{"$error":"#DIV/0!"}}]
[null,{"$f":"Macro!A6618","v":0},{"$f":"Macro!B6618","v":0},{"$f":"Macro!E6618","v":{"$error":"#DIV/0!"}}]
[null,{"$f":"Macro!A6619","v":0},{"$f":"Macro!B6619","v":0},{"$f":"Macro!E6619","v":{"$error":"#DIV/0!"}}]
[null,{"$f":"Macro!A6620","v":0},{"$f":"Macro!B6620","v":0},{"$f":"Macro!E6620","v":{"$error":"#DIV/0!"}}]
[null,{"$f":"Macro!A6621","v":0},{"$f":"Macro!B6621","v":0},{"$f":"Macro!E6621","v":{"$error":"#DIV/0!"}}]
[null,{"$f":"Macro!A6622","v":0},{"$f":"Macro!B6622","v":0},{"$f":"Macro!E6622","v":{"$error":"#DIV/0!"}}]
[null,{"$f":"Macro!A6623","v":0},{"$f":"Macro!B6623","v":0},{"$f":"Macro!E6623","v":{"$error":"#DIV/0!"}}]
[null,{"$f":"Macro!A6624","v":0},{"$f":"Macro!B6624","v":0},{"$f":"Macro!E6624","v":{"$error":"#DIV/0!"}}]
[null,{"$f":"Macro!A6625","v":0},{"$f":"Macro!B6625","v":0},{"$f":"Macro!E6625","v":{"$error":"#DIV/0!"}}]
[null,{"$f":"Macro!A6626","v":0},{"$f":"Macro!B6626","v":0},{"$f":"Macro!E6626","v":{"$error":"#DIV/0!"}}]
[null,{"$f":"Macro!A6627","v":0},{"$f":"Macro!B6627","v":0},{"$f":"Macro!E6627","v":{"$error":"#DIV/0!"}}]
[null,{"$f":"Macro!A6628","v":0},{"$f":"Macro!B6628","v":0},{"$f":"Macro!E6628","v":{"$error":"#DIV/0!"}}]
[null,{"$f":"Macro!A6629","v":0},{"$f":"Macro!B6629","v":0},{"$f":"Macro!E6629","v":{"$error":"#DIV/0!"}}]
[null,{"$f":"Macro!A6630","v":0},{"$f":"Macro!B6630","v":0},{"$f":"Macro!E6630","v":{"$error":"#DIV/0!"}}]
[null,{"$f":"Macro!A6631","v":0},{"$f":"Macro!B6631","v":0},{"$f":"Macro!E6631","v":{"$error":"#DIV/0!"}}]
[null,{"$f":"Macro!A6632","v":0},{"$f":"Macro!B6632","v":0},{"$f":"Macro!E6632","v":{"$error":"#DIV/0!"}}]
[null,{"$f":"Macro!A6633","v":0},{"$f":"Macro!B6633","v":0},{"$f":"Macro!E6633","v":{"$error":"#DIV/0!"}}]
[null,{"$f":"Macro!A6634","v":0},{"$f":"Macro!B6634","v":0},{"$f":"Macro!E6634","v":{"$error":"#DIV/0!"}}]
[null,{"$f":"Macro!A6635","v":0},{"$f":"Macro!B6635","v":0},{"$f":"Macro!E6635","v":{"$error":"#DIV/0!"}}]
[null,{"$f":"Macro!A6636","v":0},{"$f":"Macro!B6636","v":0},{"$f":"Macro!E6636","v":{"$error":"#DIV/0!"}}]
[null,{"$f":"Macro!A6637","v":0},{"$f":"Macro!B6637","v":0},{"$f":"Macro!E6637","v":{"$error":"#DIV/0!"}}]
[null,{"$f":"Macro!A6638","v":0},{"$f":"Macro!B6638","v":0},{"$f":"Macro!E6638","v":{"$error":"#DIV/0!"}}]
[null,{"$f":"Macro!A6639","v":0},{"$f":"Macro!B6639","v":0},{"$f":"Macro!E6639","v":{"$error":"#DIV/0!"}}]
[null,{"$f":"Macro!A6640","v":0},{"$f":"Macro!B6640","v":0},{"$f":"Macro!E6640","v":{"$error":"#DIV/0!"}}]
[null,{"$f":"Macro!A6641","v":0},{"$f":"Macro!B6641","v":0},{"$f":"Macro!E6641","v":{"$error":"#DIV/0!"}}]
[null,{"$f":"Macro!A6642","v":0},{"$f":"Macro!B6642","v":0},{"$f":"Macro!E6642","v":{"$error":"#DIV/0!"}}]
[null,{"$f":"Macro!A6643","v":0},{"$f":"Macro!B6643","v":0},{"$f":"Macro!E6643","v":{"$error":"#DIV/0!"}}]
[null,{"$f":"Macro!A6644","v":0},{"$f":"Macro!B6644","v":0},{"$f":"Macro!E6644","v":{"$error":"#DIV/0!"}}]
[null,{"$f":"Macro!A6645","v":0},{"$f":"Macro!B6645","v":0},{"$f":"Macro!E6645","v":{"$error":"#DIV/0!"}}]
[null,{"$f":"Macro!A6646","v":0},{"$f":"Macro!B6646","v":0},{"$f":"Macro!E6646","v":{"$error":"#DIV/0!"}}]
[null,{"$f":"Macro!A6647","v":0},{"$f":"Macro!B6647","v":0},{"$f":"Macro!E6647","v":{"$error":"#DIV/0!"}}]
[null,{"$f":"Macro!A6648","v":0},{"$f":"Macro!B6648","v":0},{"$f":"Macro!E6648","v":{"$error":"#DIV/0!"}}]
[null,{"$f":"Macro!A6649","v":0},{"$f":"Macro!B6649","v":0},{"$f":"Macro!E6649","v":{"$error":"#DIV/0!"}}]
[null,{"$f":"Macro!A6650","v":0},{"$f":"Macro!B6650","v":0},{"$f":"Macro!E6650","v":{"$error":"#DIV/0!"}}]
[null,{"$f":"Macro!A6651","v":0},{"$f":"Macro!B6651","v":0},{"$f":"Macro!E6651","v":{"$error":"#DIV/0!"}}]
[null,{"$f":"Macro!A6652","v":0},{"$f":"Macro!B6652","v":0},{"$f":"Macro!E6652","v":{"$error":"#DIV/0!"}}]
[null,{"$f":"Macro!A6653","v":0},{"$f":"Macro!B6653","v":0},{"$f":"Macro!E6653","v":{"$error":"#DIV/0!"}}]
[null,{"$f":"Macro!A6654","v":0},{"$f":"Macro!B6654","v":0},{"$f":"Macro!E6654","v":{"$error":"#DIV/0!"}}]
[null,{"$f":"Macro!A6655","v":0},{"$f":"Macro!B6655","v":0},{"$f":"Macro!E6655","v":{"$error":"#DIV/0!"}}]
[null,{"$f":"Macro!A6656","v":0},{"$f":"Macro!B6656","v":0},{"$f":"Macro!E6656","v":{"$error":"#DIV/0!"}}]
[null,{"$f":"Macro!A6657","v":0},{"$f":"Macro!B6657","v":0},{"$f":"Macro!E6657","v":{"$error":"#DIV/0!"}}]
[null,{"$f":"Macro!A6658","v":0},{"$f":"Macro!B6658","v":0},{"$f":"Macro!E6658","v":{"$error":"#DIV/0!"}}]
[null,{"$f":"Macro!A6659","v":0},{"$f":"Macro!B6659","v":0},{"$f":"Macro!E6659","v":{"$error":"#DIV/0!"}}]
[null,{"$f":"Macro!A6660","v":0},{"$f":"Macro!B6660","v":0},{"$f":"Macro!E6660","v":{"$error":"#DIV/0!"}}]
[null,{"$f":"Macro!A6661","v":0},{"$f":"Macro!B6661","v":0},{"$f":"Macro!E6661","v":{"$error":"#DIV/0!"}}]
[null,{"$f":"Macro!A6662","v":0},{"$f":"Macro!B6662","v":0},{"$f":"Macro!E6662","v":{"$error":"#DIV/0!"}}]
[null,{"$f":"Macro!A6663","v":0},{"$f":"Macro!B6663","v":0},{"$f":"Macro!E6663","v":{"$error":"#DIV/0!"}}]
[null,{"$f":"Macro!A6664","v":0},{"$f":"Macro!B6664","v":0},{"$f":"Macro!E6664","v":{"$error":"#DIV/0!"}}]
[null,{"$f":"Macro!A6665","v":0},{"$f":"Macro!B6665","v":0},{"$f":"Macro!E6665","v":{"$error":"#DIV/0!"}}]
[null,{"$f":"Macro!A6666","v":0},{"$f":"Macro!B6666","v":0},{"$f":"Macro!E6666","v":{"$error":"#DIV/0!"}}]
[null,{"$f":"Macro!A6667","v":0},{"$f":"Macro!B6667","v":0},{"$f":"Macro!E6667","v":{"$error":"#DIV/0!"}}]
[null,{"$f":"Macro!A6668","v":0},{"$f":"Macro!B6668","v":0},{"$f":"Macro!E6668","v":{"$error":"#DIV/0!"}}]
[null,{"$f":"Macro!A6669","v":0},{"$f":"Macro!B6669","v":0},{"$f":"Macro!E6669","v":{"$error":"#DIV/0!"}}]
[null,{"$f":"Macro!A6670","v":0},{"$f":"Macro!B6670","v":0},{"$f":"Macro!E6670","v":{"$error":"#DIV/0!"}}]
[null,{"$f":"Macro!A6671","v":0},{"$f":"Macro!B6671","v":0},{"$f":"Macro!E6671","v":{"$error":"#DIV/0!"}}]
[null,{"$f":"Macro!A6672","v":0},{"$f":"Macro!B6672","v":0},{"$f":"Macro!E6672","v":{"$error":"#DIV/0!"}}]
[null,{"$f":"Macro!A6673","v":0},{"$f":"Macro!B6673","v":0},{"$f":"Macro!E6673","v":{"$error":"#DIV/0!"}}]
[null,{"$f":"Macro!A6674","v":0},{"$f":"Macro!B6674","v":0},{"$f":"Macro!E6674","v":{"$error":"#DIV/0!"}}]
[null,{"$f":"Macro!A6675","v":0},{"$f":"Macro!B6675","v":0},{"$f":"Macro!E6675","v":{"$error":"#DIV/0!"}}]
[null,{"$f":"Macro!A6676","v":0},{"$f":"Macro!B6676","v":0},{"$f":"Macro!E6676","v":{"$error":"#DIV/0!"}}]
[null,{"$f":"Macro!A6677","v":0},{"$f":"Macro!B6677","v":0},{"$f":"Macro!E6677","v":{"$error":"#DIV/0!"}}]
[null,{"$f":"Macro!A6678","v":0},{"$f":"Macro!B6678","v":0},{"$f":"Macro!E6678","v":{"$error":"#DIV/0!"}}]
[null,{"$f":"Macro!A6679","v":0},{"$f":"Macro!B6679","v":0},{"$f":"Macro!E6679","v":{"$error":"#DIV/0!"}}]
[null,{"$f":"Macro!A6680","v":0},{"$f":"Macro!B6680","v":0},{"$f":"Macro!E6680","v":{"$error":"#DIV/0!"}}]
[null,{"$f":"Macro!A6681","v":0},{"$f":"Macro!B6681","v":0},{"$f":"Macro!E6681","v":{"$error":"#DIV/0!"}}]
[null,{"$f":"Macro!A6682","v":0},{"$f":"Macro!B6682","v":0},{"$f":"Macro!E6682","v":{"$error":"#DIV/0!"}}]
[null,{"$f":"Macro!A6683","v":0},{"$f":"Macro!B6683","v":0},{"$f":"Macro!E6683","v":{"$error":"#DIV/0!"}}]
[null,{"$f":"Macro!A6684","v":0},{"$f":"Macro!B6684","v":0},{"$f":"Macro!E6684","v":{"$error":"#DIV/0!"}}]
[null,{"$f":"Macro!A6685","v":0},{"$f":"Macro!B6685","v":0},{"$f":"Macro!E6685","v":{"$error":"#DIV/0!"}}]
[null,{"$f":"Macro!A6686","v":0},{"$f":"Macro!B6686","v":0},{"$f":"Macro!E6686","v":{"$error":"#DIV/0!"}}]
[null,{"$f":"Macro!A6687","v":0},{"$f":"Macro!B6687","v":0},{"$f":"Macro!E6687","v":{"$error":"#DIV/0!"}}]
[null,{"$f":"Macro!A6688","v":0},{"$f":"Macro!B6688","v":0},{"$f":"Macro!E6688","v":{"$error":"#DIV/0!"}}]
[null,{"$f":"Macro!A6689","v":0},{"$f":"Macro!B6689","v":0},{"$f":"Macro!E6689","v":{"$error":"#DIV/0!"}}]
[null,{"$f":"Macro!A6690","v":0},{"$f":"Macro!B6690","v":0},{"$f":"Macro!E6690","v":{"$error":"#DIV/0!"}}]
[null,{"$f":"Macro!A6691","v":0},{"$f":"Macro!B6691","v":0},{"$f":"Macro!E6691","v":{"$error":"#DIV/0!"}}]
[null,{"$f":"Macro!A6692","v":0},{"$f":"Macro!B6692","v":0},{"$f":"Macro!E6692","v":{"$error":"#DIV/0!"}}]
[null,{"$f":"Macro!A6693","v":0},{"$f":"Macro!B6693","v":0},{"$f":"Macro!E6693","v":{"$error":"#DIV/0!"}}]
[null,{"$f":"Macro!A6694","v":0},{"$f":"Macro!B6694","v":0},{"$f":"Macro!E6694","v":{"$error":"#DIV/0!"}}]
[null,{"$f":"Macro!A6695","v":0},{"$f":"Macro!B6695","v":0},{"$f":"Macro!E6695","v":{"$error":"#DIV/0!"}}]
[null,{"$f":"Macro!A6696","v":0},{"$f":"Macro!B6696","v":0},{"$f":"Macro!E6696","v":{"$error":"#DIV/0!"}}]
[null,{"$f":"Macro!A6697","v":0},{"$f":"Macro!B6697","v":0},{"$f":"Macro!E6697","v":{"$error":"#DIV/0!"}}]
[null,{"$f":"Macro!A6698","v":0},{"$f":"Macro!B6698","v":0},{"$f":"Macro!E6698","v":{"$error":"#DIV/0!"}}]
[null,{"$f":"Macro!A6699","v":0},{"$f":"Macro!B6699","v":0},{"$f":"Macro!E6699","v":{"$error":"#DIV/0!"}}]
[null,{"$f":"Macro!A6700","v":0},{"$f":"Macro!B6700","v":0},{"$f":"Macro!E6700","v":{"$error":"#DIV/0!"}}]
[null,{"$f":"Macro!A6701","v":0},{"$f":"Macro!B6701","v":0},{"$f":"Macro!E6701","v":{"$error":"#DIV/0!"}}]
[null,{"$f":"Macro!A6702","v":0},{"$f":"Macro!B6702","v":0},{"$f":"Macro!E6702","v":{"$error":"#DIV/0!"}}]
[null,{"$f":"Macro!A6703","v":0},{"$f":"Macro!B6703","v":0},{"$f":"Macro!E6703","v":{"$error":"#DIV/0!"}}]
[null,{"$f":"Macro!A6704","v":0},{"$f":"Macro!B6704","v":0},{"$f":"Macro!E6704","v":{"$error":"#DIV/0!"}}]
[null,{"$f":"Macro!A6705","v":0},{"$f":"Macro!B6705","v":0},{"$f":"Macro!E6705","v":{"$error":"#DIV/0!"}}]
[null,{"$f":"Macro!A6706","v":0},{"$f":"Macro!B6706","v":0},{"$f":"Macro!E6706","v":{"$error":"#DIV/0!"}}]
[null,{"$f":"Macro!A6707","v":0},{"$f":"Macro!B6707","v":0},{"$f":"Macro!E6707","v":{"$error":"#DIV/0!"}}]
[null,{"$f":"Macro!A6708","v":0},{"$f":"Macro!B6708","v":0},{"$f":"Macro!E6708","v":{"$error":"#DIV/0!"}}]
[null,{"$f":"Macro!A6709","v":0},{"$f":"Macro!B6709","v":0},{"$f":"Macro!E6709","v":{"$error":"#DIV/0!"}}]
[null,{"$f":"Macro!A6710","v":0},{"$f":"Macro!B6710","v":0},{"$f":"Macro!E6710","v":{"$error":"#DIV/0!"}}]
[null,{"$f":"Macro!A6711","v":0},{"$f":"Macro!B6711","v":0},{"$f":"Macro!E6711","v":{"$error":"#DIV/0!"}}]
[null,{"$f":"Macro!A6712","v":0},{"$f":"Macro!B6712","v":0},{"$f":"Macro!E6712","v":{"$error":"#DIV/0!"}}]
[null,{"$f":"Macro!A6713","v":0},{"$f":"Macro!B6713","v":0},{"$f":"Macro!E6713","v":{"$error":"#DIV/0!"}}]
[null,{"$f":"Macro!A6714","v":0},{"$f":"Macro!B6714","v":0},{"$f":"Macro!E6714","v":{"$error":"#DIV/0!"}}]
[null,{"$f":"Macro!A6715","v":0},{"$f":"Macro!B6715","v":0},{"$f":"Macro!E6715","v":{"$error":"#DIV/0!"}}]
[null,{"$f":"Macro!A6716","v":0},{"$f":"Macro!B6716","v":0},{"$f":"Macro!E6716","v":{"$error":"#DIV/0!"}}]
[null,{"$f":"Macro!A6717","v":0},{"$f":"Macro!B6717","v":0},{"$f":"Macro!E6717","v":{"$error":"#DIV/0!"}}]
[null,{"$f":"Macro!A6718","v":0},{"$f":"Macro!B6718","v":0},{"$f":"Macro!E6718","v":{"$error":"#DIV/0!"}}]
[null,{"$f":"Macro!A6719","v":0},{"$f":"Macro!B6719","v":0},{"$f":"Macro!E6719","v":{"$error":"#DIV/0!"}}]
[null,{"$f":"Macro!A6720","v":0},{"$f":"Macro!B6720","v":0},{"$f":"Macro!E6720","v":{"$error":"#DIV/0!"}}]
[null,{"$f":"Macro!A6721","v":0},{"$f":"Macro!B6721","v":0},{"$f":"Macro!E6721","v":{"$error":"#DIV/0!"}}]
[null,{"$f":"Macro!A6722","v":0},{"$f":"Macro!B6722","v":0},{"$f":"Macro!E6722","v":{"$error":"#DIV/0!"}}]
[null,{"$f":"Macro!A6723","v":0},{"$f":"Macro!B6723","v":0},{"$f":"Macro!E6723","v":{"$error":"#DIV/0!"}}]
[null,{"$f":"Macro!A6724","v":0},{"$f":"Macro!B6724","v":0},{"$f":"Macro!E6724","v":{"$error":"#DIV/0!"}}]
[null,{"$f":"Macro!A6725","v":0},{"$f":"Macro!B6725","v":0},{"$f":"Macro!E6725","v":{"$error":"#DIV/0!"}}]
[null,{"$f":"Macro!A6726","v":0},{"$f":"Macro!B6726","v":0},{"$f":"Macro!E6726","v":{"$error":"#DIV/0!"}}]
[null,{"$f":"Macro!A6727","v":0},{"$f":"Macro!B6727","v":0},{"$f":"Macro!E6727","v":{"$error":"#DIV/0!"}}]
[null,{"$f":"Macro!A6728","v":0},{"$f":"Macro!B6728","v":0},{"$f":"Macro!E6728","v":{"$error":"#DIV/0!"}}]
[null,{"$f":"Macro!A6729","v":0},{"$f":"Macro!B6729","v":0},{"$f":"Macro!E6729","v":{"$error":"#DIV/0!"}}]
[null,{"$f":"Macro!A6730","v":0},{"$f":"Macro!B6730","v":0},{"$f":"Macro!E6730","v":{"$error":"#DIV/0!"}}]
[null,{"$f":"Macro!A6731","v":0},{"$f":"Macro!B6731","v":0},{"$f":"Macro!E6731","v":{"$error":"#DIV/0!"}}]
[null,{"$f":"Macro!A6732","v":0},{"$f":"Macro!B6732","v":0},{"$f":"Macro!E6732","v":{"$error":"#DIV/0!"}}]
[null,{"$f":"Macro!A6733","v":0},{"$f":"Macro!B6733","v":0},{"$f":"Macro!E6733","v":{"$error":"#DIV/0!"}}]
[null,{"$f":"Macro!A6734","v":0},{"$f":"Macro!B6734","v":0},{"$f":"Macro!E6734","v":{"$error":"#DIV/0!"}}]
[null,{"$f":"Macro!A6735","v":0},{"$f":"Macro!B6735","v":0},{"$f":"Macro!E6735","v":{"$error":"#DIV/0!"}}]
[null,{"$f":"Macro!A6736","v":0},{"$f":"Macro!B6736","v":0},{"$f":"Macro!E6736","v":{"$error":"#DIV/0!"}}]
[null,{"$f":"Macro!A6737","v":0},{"$f":"Macro!B6737","v":0},{"$f":"Macro!E6737","v":{"$error":"#DIV/0!"}}]
[null,{"$f":"Macro!A6738","v":0},{"$f":"Macro!B6738","v":0},{"$f":"Macro!E6738","v":{"$error":"#DIV/0!"}}]
[null,{"$f":"Macro!A6739","v":0},{"$f":"Macro!B6739","v":0},{"$f":"Macro!E6739","v":{"$error":"#DIV/0!"}}]
[null,{"$f":"Macro!A6740","v":0},{"$f":"Macro!B6740","v":0},{"$f":"Macro!E6740","v":{"$error":"#DIV/0!"}}]
[null,{"$f":"Macro!A6741","v":0},{"$f":"Macro!B6741","v":0},{"$f":"Macro!E6741","v":{"$error":"#DIV/0!"}}]
[null,{"$f":"Macro!A6742","v":0},{"$f":"Macro!B6742","v":0},{"$f":"Macro!E6742","v":{"$error":"#DIV/0!"}}]
[null,{"$f":"Macro!A6743","v":0},{"$f":"Macro!B6743","v":0},{"$f":"Macro!E6743","v":{"$error":"#DIV/0!"}}]
[null,{"$f":"Macro!A6744","v":0},{"$f":"Macro!B6744","v":0},{"$f":"Macro!E6744","v":{"$error":"#DIV/0!"}}]
[null,{"$f":"Macro!A6745","v":0},{"$f":"Macro!B6745","v":0},{"$f":"Macro!E6745","v":{"$error":"#DIV/0!"}}]
[null,{"$f":"Macro!A6746","v":0},{"$f":"Macro!B6746","v":0},{"$f":"Macro!E6746","v":{"$error":"#DIV/0!"}}]
[null,{"$f":"Macro!A6747","v":0},{"$f":"Macro!B6747","v":0},{"$f":"Macro!E6747","v":{"$error":"#DIV/0!"}}]
[null,{"$f":"Macro!A6748","v":0},{"$f":"Macro!B6748","v":0},{"$f":"Macro!E6748","v":{"$error":"#DIV/0!"}}]
[null,{"$f":"Macro!A6749","v":0},{"$f":"Macro!B6749","v":0},{"$f":"Macro!E6749","v":{"$error":"#DIV/0!"}}]
[null,{"$f":"Macro!A6750","v":0},{"$f":"Macro!B6750","v":0},{"$f":"Macro!E6750","v":{"$error":"#DIV/0!"}}]
[null,{"$f":"Macro!A6751","v":0},{"$f":"Macro!B6751","v":0},{"$f":"Macro!E6751","v":{"$error":"#DIV/0!"}}]
[null,{"$f":"Macro!A6752","v":0},{"$f":"Macro!B6752","v":0},{"$f":"Macro!E6752","v":{"$error":"#DIV/0!"}}]
[null,{"$f":"Macro!A6753","v":0},{"$f":"Macro!B6753","v":0},{"$f":"Macro!E6753","v":{"$error":"#DIV/0!"}}]
[null,{"$f":"Macro!A6754","v":0},{"$f":"Macro!B6754","v":0},{"$f":"Macro!E6754","v":{"$error":"#DIV/0!"}}]
[null,{"$f":"Macro!A6755","v":0},{"$f":"Macro!B6755","v":0},{"$f":"Macro!E6755","v":{"$error":"#DIV/0!"}}]
[null,{"$f":"Macro!A6756","v":0},{"$f":"Macro!B6756","v":0},{"$f":"Macro!E6756","v":{"$error":"#DIV/0!"}}]
[null,{"$f":"Macro!A6757","v":0},{"$f":"Macro!B6757","v":0},{"$f":"Macro!E6757","v":{"$error":"#DIV/0!"}}]
[null,{"$f":"Macro!A6758","v":0},{"$f":"Macro!B6758","v":0},{"$f":"Macro!E6758","v":{"$error":"#DIV/0!"}}]
[null,{"$f":"Macro!A6759","v":0},{"$f":"Macro!B6759","v":0},{"$f":"Macro!E6759","v":{"$error":"#DIV/0!"}}]
[null,{"$f":"Macro!A6760","v":0},{"$f":"Macro!B6760","v":0},{"$f":"Macro!E6760","v":{"$error":"#DIV/0!"}}]
[null,{"$f":"Macro!A6761","v":0},{"$f":"Macro!B6761","v":0},{"$f":"Macro!E6761","v":{"$error":"#DIV/0!"}}]
[null,{"$f":"Macro!A6762","v":0},{"$f":"Macro!B6762","v":0},{"$f":"Macro!E6762","v":{"$error":"#DIV/0!"}}]
[null,{"$f":"Macro!A6763","v":0},{"$f":"Macro!B6763","v":0},{"$f":"Macro!E6763","v":{"$error":"#DIV/0!"}}]
[null,{"$f":"Macro!A6764","v":0},{"$f":"Macro!B6764","v":0},{"$f":"Macro!E6764","v":{"$error":"#DIV/0!"}}]
[null,{"$f":"Macro!A6765","v":0},{"$f":"Macro!B6765","v":0},{"$f":"Macro!E6765","v":{"$error":"#DIV/0!"}}]
[null,{"$f":"Macro!A6766","v":0},{"$f":"Macro!B6766","v":0},{"$f":"Macro!E6766","v":{"$error":"#DIV/0!"}}]
[null,{"$f":"Macro!A6767","v":0},{"$f":"Macro!B6767","v":0},{"$f":"Macro!E6767","v":{"$error":"#DIV/0!"}}]
[null,{"$f":"Macro!A6768","v":0},{"$f":"Macro!B6768","v":0},{"$f":"Macro!E6768","v":{"$error":"#DIV/0!"}}]
[null,{"$f":"Macro!A6769","v":0},{"$f":"Macro!B6769","v":0},{"$f":"Macro!E6769","v":{"$error":"#DIV/0!"}}]
[null,{"$f":"Macro!A6770","v":0},{"$f":"Macro!B6770","v":0},{"$f":"Macro!E6770","v":{"$error":"#DIV/0!"}}]
[null,{"$f":"Macro!A6771","v":0},{"$f":"Macro!B6771","v":0},{"$f":"Macro!E6771","v":{"$error":"#DIV/0!"}}]
[null,{"$f":"Macro!A6772","v":0},{"$f":"Macro!B6772","v":0},{"$f":"Macro!E6772","v":{"$error":"#DIV/0!"}}]
[null,{"$f":"Macro!A6773","v":0},{"$f":"Macro!B6773","v":0},{"$f":"Macro!E6773","v":{"$error":"#DIV/0!"}}]
[null,{"$f":"Macro!A6774","v":0},{"$f":"Macro!B6774","v":0},{"$f":"Macro!E6774","v":{"$error":"#DIV/0!"}}]
[null,{"$f":"Macro!A6775","v":0},{"$f":"Macro!B6775","v":0},{"$f":"Macro!E6775","v":{"$error":"#DIV/0!"}}]
[null,{"$f":"Macro!A6776","v":0},{"$f":"Macro!B6776","v":0},{"$f":"Macro!E6776","v":{"$error":"#DIV/0!"}}]
[null,{"$f":"Macro!A6777","v":0},{"$f":"Macro!B6777","v":0},{"$f":"Macro!E6777","v":{"$error":"#DIV/0!"}}]
[null,{"$f":"Macro!A6778","v":0},{"$f":"Macro!B6778","v":0},{"$f":"Macro!E6778","v":{"$error":"#DIV/0!"}}]
[null,{"$f":"Macro!A6779","v":0},{"$f":"Macro!B6779","v":0},{"$f":"Macro!E6779","v":{"$error":"#DIV/0!"}}]
[null,{"$f":"Macro!A6780","v":0},{"$f":"Macro!B6780","v":0},{"$f":"Macro!E6780","v":{"$error":"#DIV/0!"}}]
[null,{"$f":"Macro!A6781","v":0},{"$f":"Macro!B6781","v":0},{"$f":"Macro!E6781","v":{"$error":"#DIV/0!"}}]
[null,{"$f":"Macro!A6782","v":0},{"$f":"Macro!B6782","v":0},{"$f":"Macro!E6782","v":{"$error":"#DIV/0!"}}]
[null,{"$f":"Macro!A6783","v":0},{"$f":"Macro!B6783","v":0},{"$f":"Macro!E6783","v":{"$error":"#DIV/0!"}}]
[null,{"$f":"Macro!A6784","v":0},{"$f":"Macro!B6784","v":0},{"$f":"Macro!E6784","v":{"$error":"#DIV/0!"}}]
[null,{"$f":"Macro!A6785","v":0},{"$f":"Macro!B6785","v":0},{"$f":"Macro!E6785","v":{"$error":"#DIV/0!"}}]
[null,{"$f":"Macro!A6786","v":0},{"$f":"Macro!B6786","v":0},{"$f":"Macro!E6786","v":{"$error":"#DIV/0!"}}]
[null,{"$f":"Macro!A6787","v":0},{"$f":"Macro!B6787","v":0},{"$f":"Macro!E6787","v":{"$error":"#DIV/0!"}}]
[null,{"$f":"Macro!A6788","v":0},{"$f":"Macro!B6788","v":0},{"$f":"Macro!E6788","v":{"$error":"#DIV/0!"}}]
[null,{"$f":"Macro!A6789","v":0},{"$f":"Macro!B6789","v":0},{"$f":"Macro!E6789","v":{"$error":"#DIV/0!"}}]
[null,{"$f":"Macro!A6790","v":0},{"$f":"Macro!B6790","v":0},{"$f":"Macro!E6790","v":{"$error":"#DIV/0!"}}]
[null,{"$f":"Macro!A6791","v":0},{"$f":"Macro!B6791","v":0},{"$f":"Macro!E6791","v":{"$error":"#DIV/0!"}}]
[null,{"$f":"Macro!A6792","v":0},{"$f":"Macro!B6792","v":0},{"$f":"Macro!E6792","v":{"$error":"#DIV/0!"}}]
[null,{"$f":"Macro!A6793","v":0},{"$f":"Macro!B6793","v":0},{"$f":"Macro!E6793","v":{"$error":"#DIV/0!"}}]
[null,{"$f":"Macro!A6794","v":0},{"$f":"Macro!B6794","v":0},{"$f":"Macro!E6794","v":{"$error":"#DIV/0!"}}]
[null,{"$f":"Macro!A6795","v":0},{"$f":"Macro!B6795","v":0},{"$f":"Macro!E6795","v":{"$error":"#DIV/0!"}}]
[null,{"$f":"Macro!A6796","v":0},{"$f":"Macro!B6796","v":0},{"$f":"Macro!E6796","v":{"$error":"#DIV/0!"}}]
[null,{"$f":"Macro!A6797","v":0},{"$f":"Macro!B6797","v":0},{"$f":"Macro!E6797","v":{"$error":"#DIV/0!"}}]
[null,{"$f":"Macro!A6798","v":0},{"$f":"Macro!B6798","v":0},{"$f":"Macro!E6798","v":{"$error":"#DIV/0!"}}]
[null,{"$f":"Macro!A6799","v":0},{"$f":"Macro!B6799","v":0},{"$f":"Macro!E6799","v":{"$error":"#DIV/0!"}}]
[null,{"$f":"Macro!A6800","v":0},{"$f":"Macro!B6800","v":0},{"$f":"Macro!E6800","v":{"$error":"#DIV/0!"}}]
[null,{"$f":"Macro!A6801","v":0},{"$f":"Macro!B6801","v":0},{"$f":"Macro!E6801","v":{"$error":"#DIV/0!"}}]
[null,{"$f":"Macro!A6802","v":0},{"$f":"Macro!B6802","v":0},{"$f":"Macro!E6802","v":{"$error":"#DIV/0!"}}]
[null,{"$f":"Macro!A6803","v":0},{"$f":"Macro!B6803","v":0},{"$f":"Macro!E6803","v":{"$error":"#DIV/0!"}}]
[null,{"$f":"Macro!A6804","v":0},{"$f":"Macro!B6804","v":0},{"$f":"Macro!E6804","v":{"$error":"#DIV/0!"}}]
[null,{"$f":"Macro!A6805","v":0},{"$f":"Macro!B6805","v":0},{"$f":"Macro!E6805","v":{"$error":"#DIV/0!"}}]
[null,{"$f":"Macro!A6806","v":0},{"$f":"Macro!B6806","v":0},{"$f":"Macro!E6806","v":{"$error":"#DIV/0!"}}]
[null,{"$f":"Macro!A6807","v":0},{"$f":"Macro!B6807","v":0},{"$f":"Macro!E6807","v":{"$error":"#DIV/0!"}}]
[null,{"$f":"Macro!A6808","v":0},{"$f":"Macro!B6808","v":0},{"$f":"Macro!E6808","v":{"$error":"#DIV/0!"}}]
[null,{"$f":"Macro!A6809","v":0},{"$f":"Macro!B6809","v":0},{"$f":"Macro!E6809","v":{"$error":"#DIV/0!"}}]
[null,{"$f":"Macro!A6810","v":0},{"$f":"Macro!B6810","v":0},{"$f":"Macro!E6810","v":{"$error":"#DIV/0!"}}]
[null,{"$f":"Macro!A6811","v":0},{"$f":"Macro!B6811","v":0},{"$f":"Macro!E6811","v":{"$error":"#DIV/0!"}}]
[null,{"$f":"Macro!A6812","v":0},{"$f":"Macro!B6812","v":0},{"$f":"Macro!E6812","v":{"$error":"#DIV/0!"}}]
[null,{"$f":"Macro!A6813","v":0},{"$f":"Macro!B6813","v":0},{"$f":"Macro!E6813","v":{"$error":"#DIV/0!"}}]
[null,{"$f":"Macro!A6814","v":0},{"$f":"Macro!B6814","v":0},{"$f":"Macro!E6814","v":{"$error":"#DIV/0!"}}]
[null,{"$f":"Macro!A6815","v":0},{"$f":"Macro!B6815","v":0},{"$f":"Macro!E6815","v":{"$error":"#DIV/0!"}}]
[null,{"$f":"Macro!A6816","v":0},{"$f":"Macro!B6816","v":0},{"$f":"Macro!E6816","v":{"$error":"#DIV/0!"}}]
[null,{"$f":"Macro!A6817","v":0},{"$f":"Macro!B6817","v":0},{"$f":"Macro!E6817","v":{"$error":"#DIV/0!"}}]
[null,{"$f":"Macro!A6818","v":0},{"$f":"Macro!B6818","v":0},{"$f":"Macro!E6818","v":{"$error":"#DIV/0!"}}]
[null,{"$f":"Macro!A6819","v":0},{"$f":"Macro!B6819","v":0},{"$f":"Macro!E6819","v":{"$error":"#DIV/0!"}}]
[null,{"$f":"Macro!A6820","v":0},{"$f":"Macro!B6820","v":0},{"$f":"Macro!E6820","v":{"$error":"#DIV/0!"}}]
[null,{"$f":"Macro!A6821","v":0},{"$f":"Macro!B6821","v":0},{"$f":"Macro!E6821","v":{"$error":"#DIV/0!"}}]
[null,{"$f":"Macro!A6822","v":0},{"$f":"Macro!B6822","v":0},{"$f":"Macro!E6822","v":{"$error":"#DIV/0!"}}]
[null,{"$f":"Macro!A6823","v":0},{"$f":"Macro!B6823","v":0},{"$f":"Macro!E6823","v":{"$error":"#DIV/0!"}}]
[null,{"$f":"Macro!A6824","v":0},{"$f":"Macro!B6824","v":0},{"$f":"Macro!E6824","v":{"$error":"#DIV/0!"}}]
[null,{"$f":"Macro!A6825","v":0},{"$f":"Macro!B6825","v":0},{"$f":"Macro!E6825","v":{"$error":"#DIV/0!"}}]
[null,{"$f":"Macro!A6826","v":0},{"$f":"Macro!B6826","v":0},{"$f":"Macro!E6826","v":{"$error":"#DIV/0!"}}]
[null,{"$f":"Macro!A6827","v":0},{"$f":"Macro!B6827","v":0},{"$f":"Macro!E6827","v":{"$error":"#DIV/0!"}}]
[null,{"$f":"Macro!A6828","v":0},{"$f":"Macro!B6828","v":0},{"$f":"Macro!E6828","v":{"$error":"#DIV/0!"}}]
[null,{"$f":"Macro!A6829","v":0},{"$f":"Macro!B6829","v":0},{"$f":"Macro!E6829","v":{"$error":"#DIV/0!"}}]
[null,{"$f":"Macro!A6830","v":0},{"$f":"Macro!B6830","v":0},{"$f":"Macro!E6830","v":{"$error":"#DIV/0!"}}]
[null,{"$f":"Macro!A6831","v":0},{"$f":"Macro!B6831","v":0},{"$f":"Macro!E6831","v":{"$error":"#DIV/0!"}}]
[null,{"$f":"Macro!A6832","v":0},{"$f":"Macro!B6832","v":0},{"$f":"Macro!E6832","v":{"$error":"#DIV/0!"}}]
[null,{"$f":"Macro!A6833","v":0},{"$f":"Macro!B6833","v":0},{"$f":"Macro!E6833","v":{"$error":"#DIV/0!"}}]
[null,{"$f":"Macro!A6834","v":0},{"$f":"Macro!B6834","v":0},{"$f":"Macro!E6834","v":{"$error":"#DIV/0!"}}]
[null,{"$f":"Macro!A6835","v":0},{"$f":"Macro!B6835","v":0},{"$f":"Macro!E6835","v":{"$error":"#DIV/0!"}}]
[null,{"$f":"Macro!A6836","v":0},{"$f":"Macro!B6836","v":0},{"$f":"Macro!E6836","v":{"$error":"#DIV/0!"}}]
[null,{"$f":"Macro!A6837","v":0},{"$f":"Macro!B6837","v":0},{"$f":"Macro!E6837","v":{"$error":"#DIV/0!"}}]
[null,{"$f":"Macro!A6838","v":0},{"$f":"Macro!B6838","v":0},{"$f":"Macro!E6838","v":{"$error":"#DIV/0!"}}]
[null,{"$f":"Macro!A6839","v":0},{"$f":"Macro!B6839","v":0},{"$f":"Macro!E6839","v":{"$error":"#DIV/0!"}}]
[null,{"$f":"Macro!A6840","v":0},{"$f":"Macro!B6840","v":0},{"$f":"Macro!E6840","v":{"$error":"#DIV/0!"}}]
[null,{"$f":"Macro!A6841","v":0},{"$f":"Macro!B6841","v":0},{"$f":"Macro!E6841","v":{"$error":"#DIV/0!"}}]
[null,{"$f":"Macro!A6842","v":0},{"$f":"Macro!B6842","v":0},{"$f":"Macro!E6842","v":{"$error":"#DIV/0!"}}]
[null,{"$f":"Macro!A6843","v":0},{"$f":"Macro!B6843","v":0},{"$f":"Macro!E6843","v":{"$error":"#DIV/0!"}}]
[null,{"$f":"Macro!A6844","v":0},{"$f":"Macro!B6844","v":0},{"$f":"Macro!E6844","v":{"$error":"#DIV/0!"}}]
[null,{"$f":"Macro!A6845","v":0},{"$f":"Macro!B6845","v":0},{"$f":"Macro!E6845","v":{"$error":"#DIV/0!"}}]
[null,{"$f":"Macro!A6846","v":0},{"$f":"Macro!B6846","v":0},{"$f":"Macro!E6846","v":{"$error":"#DIV/0!"}}]
[null,{"$f":"Macro!A6847","v":0},{"$f":"Macro!B6847","v":0},{"$f":"Macro!E6847","v":{"$error":"#DIV/0!"}}]
[null,{"$f":"Macro!A6848","v":0},{"$f":"Macro!B6848","v":0},{"$f":"Macro!E6848","v":{"$error":"#DIV/0!"}}]
[null,{"$f":"Macro!A6849","v":0},{"$f":"Macro!B6849","v":0},{"$f":"Macro!E6849","v":{"$error":"#DIV/0!"}}]
[null,{"$f":"Macro!A6850","v":0},{"$f":"Macro!B6850","v":0},{"$f":"Macro!E6850","v":{"$error":"#DIV/0!"}}]
[null,{"$f":"Macro!A6851","v":0},{"$f":"Macro!B6851","v":0},{"$f":"Macro!E6851","v":{"$error":"#DIV/0!"}}]
[null,{"$f":"Macro!A6852","v":0},{"$f":"Macro!B6852","v":0},{"$f":"Macro!E6852","v":{"$error":"#DIV/0!"}}]
[null,{"$f":"Macro!A6853","v":0},{"$f":"Macro!B6853","v":0},{"$f":"Macro!E6853","v":{"$error":"#DIV/0!"}}]
[null,{"$f":"Macro!A6854","v":0},{"$f":"Macro!B6854","v":0},{"$f":"Macro!E6854","v":{"$error":"#DIV/0!"}}]
[null,{"$f":"Macro!A6855","v":0},{"$f":"Macro!B6855","v":0},{"$f":"Macro!E6855","v":{"$error":"#DIV/0!"}}]
[null,{"$f":"Macro!A6856","v":0},{"$f":"Macro!B6856","v":0},{"$f":"Macro!E6856","v":{"$error":"#DIV/0!"}}]
[null,{"$f":"Macro!A6857","v":0},{"$f":"Macro!B6857","v":0},{"$f":"Macro!E6857","v":{"$error":"#DIV/0!"}}]
[null,{"$f":"Macro!A6858","v":0},{"$f":"Macro!B6858","v":0},{"$f":"Macro!E6858","v":{"$error":"#DIV/0!"}}]
[null,{"$f":"Macro!A6859","v":0},{"$f":"Macro!B6859","v":0},{"$f":"Macro!E6859","v":{"$error":"#DIV/0!"}}]
[null,{"$f":"Macro!A6860","v":0},{"$f":"Macro!B6860","v":0},{"$f":"Macro!E6860","v":{"$error":"#DIV/0!"}}]
[null,{"$f":"Macro!A6861","v":0},{"$f":"Macro!B6861","v":0},{"$f":"Macro!E6861","v":{"$error":"#DIV/0!"}}]
[null,{"$f":"Macro!A6862","v":0},{"$f":"Macro!B6862","v":0},{"$f":"Macro!E6862","v":{"$error":"#DIV/0!"}}]
[null,{"$f":"Macro!A6863","v":0},{"$f":"Macro!B6863","v":0},{"$f":"Macro!E6863","v":{"$error":"#DIV/0!"}}]
[null,{"$f":"Macro!A6864","v":0},{"$f":"Macro!B6864","v":0},{"$f":"Macro!E6864","v":{"$error":"#DIV/0!"}}]
[null,{"$f":"Macro!A6865","v":0},{"$f":"Macro!B6865","v":0},{"$f":"Macro!E6865","v":{"$error":"#DIV/0!"}}]
[null,{"$f":"Macro!A6866","v":0},{"$f":"Macro!B6866","v":0},{"$f":"Macro!E6866","v":{"$error":"#DIV/0!"}}]
[null,{"$f":"Macro!A6867","v":0},{"$f":"Macro!B6867","v":0},{"$f":"Macro!E6867","v":{"$error":"#DIV/0!"}}]
[null,{"$f":"Macro!A6868","v":0},{"$f":"Macro!B6868","v":0},{"$f":"Macro!E6868","v":{"$error":"#DIV/0!"}}]
[null,{"$f":"Macro!A6869","v":0},{"$f":"Macro!B6869","v":0},{"$f":"Macro!E6869","v":{"$error":"#DIV/0!"}}]
[null,{"$f":"Macro!A6870","v":0},{"$f":"Macro!B6870","v":0},{"$f":"Macro!E6870","v":{"$error":"#DIV/0!"}}]
[null,{"$f":"Macro!A6871","v":0},{"$f":"Macro!B6871","v":0},{"$f":"Macro!E6871","v":{"$error":"#DIV/0!"}}]
[null,{"$f":"Macro!A6872","v":0},{"$f":"Macro!B6872","v":0},{"$f":"Macro!E6872","v":{"$error":"#DIV/0!"}}]
[null,{"$f":"Macro!A6873","v":0},{"$f":"Macro!B6873","v":0},{"$f":"Macro!E6873","v":{"$error":"#DIV/0!"}}]
[null,{"$f":"Macro!A6874","v":0},{"$f":"Macro!B6874","v":0},{"$f":"Macro!E6874","v":{"$error":"#DIV/0!"}}]
[null,{"$f":"Macro!A6875","v":0},{"$f":"Macro!B6875","v":0},{"$f":"Macro!E6875","v":{"$error":"#DIV/0!"}}]
[null,{"$f":"Macro!A6876","v":0},{"$f":"Macro!B6876","v":0},{"$f":"Macro!E6876","v":{"$error":"#DIV/0!"}}]
[null,{"$f":"Macro!A6877","v":0},{"$f":"Macro!B6877","v":0},{"$f":"Macro!E6877","v":{"$error":"#DIV/0!"}}]
[null,{"$f":"Macro!A6878","v":0},{"$f":"Macro!B6878","v":0},{"$f":"Macro!E6878","v":{"$error":"#DIV/0!"}}]
[null,{"$f":"Macro!A6879","v":0},{"$f":"Macro!B6879","v":0},{"$f":"Macro!E6879","v":{"$error":"#DIV/0!"}}]
[null,{"$f":"Macro!A6880","v":0},{"$f":"Macro!B6880","v":0},{"$f":"Macro!E6880","v":{"$error":"#DIV/0!"}}]
[null,{"$f":"Macro!A6881","v":0},{"$f":"Macro!B6881","v":0},{"$f":"Macro!E6881","v":{"$error":"#DIV/0!"}}]
[null,{"$f":"Macro!A6882","v":0},{"$f":"Macro!B6882","v":0},{"$f":"Macro!E6882","v":{"$error":"#DIV/0!"}}]
[null,{"$f":"Macro!A6883","v":0},{"$f":"Macro!B6883","v":0},{"$f":"Macro!E6883","v":{"$error":"#DIV/0!"}}]
[null,{"$f":"Macro!A6884","v":0},{"$f":"Macro!B6884","v":0},{"$f":"Macro!E6884","v":{"$error":"#DIV/0!"}}]
[null,{"$f":"Macro!A6885","v":0},{"$f":"Macro!B6885","v":0},{"$f":"Macro!E6885","v":{"$error":"#DIV/0!"}}]
[null,{"$f":"Macro!A6886","v":0},{"$f":"Macro!B6886","v":0},{"$f":"Macro!E6886","v":{"$error":"#DIV/0!"}}]
[null,{"$f":"Macro!A6887","v":0},{"$f":"Macro!B6887","v":0},{"$f":"Macro!E6887","v":{"$error":"#DIV/0!"}}]
[null,{"$f":"Macro!A6888","v":0},{"$f":"Macro!B6888","v":0},{"$f":"Macro!E6888","v":{"$error":"#DIV/0!"}}]
[null,{"$f":"Macro!A6889","v":0},{"$f":"Macro!B6889","v":0},{"$f":"Macro!E6889","v":{"$error":"#DIV/0!"}}]
[null,{"$f":"Macro!A6890","v":0},{"$f":"Macro!B6890","v":0},{"$f":"Macro!E6890","v":{"$error":"#DIV/0!"}}]
[null,{"$f":"Macro!A6891","v":0},{"$f":"Macro!B6891","v":0},{"$f":"Macro!E6891","v":{"$error":"#DIV/0!"}}]
[null,{"$f":"Macro!A6892","v":0},{"$f":"Macro!B6892","v":0},{"$f":"Macro!E6892","v":{"$error":"#DIV/0!"}}]
[null,{"$f":"Macro!A6893","v":0},{"$f":"Macro!B6893","v":0},{"$f":"Macro!E6893","v":{"$error":"#DIV/0!"}}]
[null,{"$f":"Macro!A6894","v":0},{"$f":"Macro!B6894","v":0},{"$f":"Macro!E6894","v":{"$error":"#DIV/0!"}}]
[null,{"$f":"Macro!A6895","v":0},{"$f":"Macro!B6895","v":0},{"$f":"Macro!E6895","v":{"$error":"#DIV/0!"}}]
[null,{"$f":"Macro!A6896","v":0},{"$f":"Macro!B6896","v":0},{"$f":"Macro!E6896","v":{"$error":"#DIV/0!"}}]
[null,{"$f":"Macro!A6897","v":0},{"$f":"Macro!B6897","v":0},{"$f":"Macro!E6897","v":{"$error":"#DIV/0!"}}]
[null,{"$f":"Macro!A6898","v":0},{"$f":"Macro!B6898","v":0},{"$f":"Macro!E6898","v":{"$error":"#DIV/0!"}}]
[null,{"$f":"Macro!A6899","v":0},{"$f":"Macro!B6899","v":0},{"$f":"Macro!E6899","v":{"$error":"#DIV/0!"}}]
[null,{"$f":"Macro!A6900","v":0},{"$f":"Macro!B6900","v":0},{"$f":"Macro!E6900","v":{"$error":"#DIV/0!"}}]
[null,{"$f":"Macro!A6901","v":0},{"$f":"Macro!B6901","v":0},{"$f":"Macro!E6901","v":{"$error":"#DIV/0!"}}]
[null,{"$f":"Macro!A6902","v":0},{"$f":"Macro!B6902","v":0},{"$f":"Macro!E6902","v":{"$error":"#DIV/0!"}}]
[null,{"$f":"Macro!A6903","v":0},{"$f":"Macro!B6903","v":0},{"$f":"Macro!E6903","v":{"$error":"#DIV/0!"}}]
[null,{"$f":"Macro!A6904","v":0},{"$f":"Macro!B6904","v":0},{"$f":"Macro!E6904","v":{"$error":"#DIV/0!"}}]
[null,{"$f":"Macro!A6905","v":0},{"$f":"Macro!B6905","v":0},{"$f":"Macro!E6905","v":{"$error":"#DIV/0!"}}]
[null,{"$f":"Macro!A6906","v":0},{"$f":"Macro!B6906","v":0},{"$f":"Macro!E6906","v":{"$error":"#DIV/0!"}}]
[null,{"$f":"Macro!A6907","v":0},{"$f":"Macro!B6907","v":0},{"$f":"Macro!E6907","v":{"$error":"#DIV/0!"}}]
[null,{"$f":"Macro!A6908","v":0},{"$f":"Macro!B6908","v":0},{"$f":"Macro!E6908","v":{"$error":"#DIV/0!"}}]
[null,{"$f":"Macro!A6909","v":0},{"$f":"Macro!B6909","v":0},{"$f":"Macro!E6909","v":{"$error":"#DIV/0!"}}]
[null,{"$f":"Macro!A6910","v":0},{"$f":"Macro!B6910","v":0},{"$f":"Macro!E6910","v":{"$error":"#DIV/0!"}}]
[null,{"$f":"Macro!A6911","v":0},{"$f":"Macro!B6911","v":0},{"$f":"Macro!E6911","v":{"$error":"#DIV/0!"}}]
[null,{"$f":"Macro!A6912","v":0},{"$f":"Macro!B6912","v":0},{"$f":"Macro!E6912","v":{"$error":"#DIV/0!"}}]
[null,{"$f":"Macro!A6913","v":0},{"$f":"Macro!B6913","v":0},{"$f":"Macro!E6913","v":{"$error":"#DIV/0!"}}]
[null,{"$f":"Macro!A6914","v":0},{"$f":"Macro!B6914","v":0},{"$f":"Macro!E6914","v":{"$error":"#DIV/0!"}}]
[null,{"$f":"Macro!A6915","v":0},{"$f":"Macro!B6915","v":0},{"$f":"Macro!E6915","v":{"$error":"#DIV/0!"}}]
[null,{"$f":"Macro!A6916","v":0},{"$f":"Macro!B6916","v":0},{"$f":"Macro!E6916","v":{"$error":"#DIV/0!"}}]
[null,{"$f":"Macro!A6917","v":0},{"$f":"Macro!B6917","v":0},{"$f":"Macro!E6917","v":{"$error":"#DIV/0!"}}]
[null,{"$f":"Macro!A6918","v":0},{"$f":"Macro!B6918","v":0},{"$f":"Macro!E6918","v":{"$error":"#DIV/0!"}}]
[null,{"$f":"Macro!A6919","v":0},{"$f":"Macro!B6919","v":0},{"$f":"Macro!E6919","v":{"$error":"#DIV/0!"}}]
[null,{"$f":"Macro!A6920","v":0},{"$f":"Macro!B6920","v":0},{"$f":"Macro!E6920","v":{"$error":"#DIV/0!"}}]
[null,{"$f":"Macro!A6921","v":0},{"$f":"Macro!B6921","v":0},{"$f":"Macro!E6921","v":{"$error":"#DIV/0!"}}]
[null,{"$f":"Macro!A6922","v":0},{"$f":"Macro!B6922","v":0},{"$f":"Macro!E6922","v":{"$error":"#DIV/0!"}}]
[null,{"$f":"Macro!A6923","v":0},{"$f":"Macro!B6923","v":0},{"$f":"Macro!E6923","v":{"$error":"#DIV/0!"}}]
[null,{"$f":"Macro!A6924","v":0},{"$f":"Macro!B6924","v":0},{"$f":"Macro!E6924","v":{"$error":"#DIV/0!"}}]
[null,{"$f":"Macro!A6925","v":0},{"$f":"Macro!B6925","v":0},{"$f":"Macro!E6925","v":{"$error":"#DIV/0!"}}]
[null,{"$f":"Macro!A6926","v":0},{"$f":"Macro!B6926","v":0},{"$f":"Macro!E6926","v":{"$error":"#DIV/0!"}}]
[null,{"$f":"Macro!A6927","v":0},{"$f":"Macro!B6927","v":0},{"$f":"Macro!E6927","v":{"$error":"#DIV/0!"}}]
[null,{"$f":"Macro!A6928","v":0},{"$f":"Macro!B6928","v":0},{"$f":"Macro!E6928","v":{"$error":"#DIV/0!"}}]
[null,{"$f":"Macro!A6929","v":0},{"$f":"Macro!B6929","v":0},{"$f":"Macro!E6929","v":{"$error":"#DIV/0!"}}]
[null,{"$f":"Macro!A6930","v":0},{"$f":"Macro!B6930","v":0},{"$f":"Macro!E6930","v":{"$error":"#DIV/0!"}}]
[null,{"$f":"Macro!A6931","v":0},{"$f":"Macro!B6931","v":0},{"$f":"Macro!E6931","v":{"$error":"#DIV/0!"}}]
[null,{"$f":"Macro!A6932","v":0},{"$f":"Macro!B6932","v":0},{"$f":"Macro!E6932","v":{"$error":"#DIV/0!"}}]
[null,{"$f":"Macro!A6933","v":0},{"$f":"Macro!B6933","v":0},{"$f":"Macro!E6933","v":{"$error":"#DIV/0!"}}]
[null,{"$f":"Macro!A6934","v":0},{"$f":"Macro!B6934","v":0},{"$f":"Macro!E6934","v":{"$error":"#DIV/0!"}}]
[null,{"$f":"Macro!A6935","v":0},{"$f":"Macro!B6935","v":0},{"$f":"Macro!E6935","v":{"$error":"#DIV/0!"}}]
[null,{"$f":"Macro!A6936","v":0},{"$f":"Macro!B6936","v":0},{"$f":"Macro!E6936","v":{"$error":"#DIV/0!"}}]
[null,{"$f":"Macro!A6937","v":0},{"$f":"Macro!B6937","v":0},{"$f":"Macro!E6937","v":{"$error":"#DIV/0!"}}]
[null,{"$f":"Macro!A6938","v":0},{"$f":"Macro!B6938","v":0},{"$f":"Macro!E6938","v":{"$error":"#DIV/0!"}}]
[null,{"$f":"Macro!A6939","v":0},{"$f":"Macro!B6939","v":0},{"$f":"Macro!E6939","v":{"$error":"#DIV/0!"}}]
[null,{"$f":"Macro!A6940","v":0},{"$f":"Macro!B6940","v":0},{"$f":"Macro!E6940","v":{"$error":"#DIV/0!"}}]
[null,{"$f":"Macro!A6941","v":0},{"$f":"Macro!B6941","v":0},{"$f":"Macro!E6941","v":{"$error":"#DIV/0!"}}]
[null,{"$f":"Macro!A6942","v":0},{"$f":"Macro!B6942","v":0},{"$f":"Macro!E6942","v":{"$error":"#DIV/0!"}}]
[null,{"$f":"Macro!A6943","v":0},{"$f":"Macro!B6943","v":0},{"$f":"Macro!E6943","v":{"$error":"#DIV/0!"}}]
[null,{"$f":"Macro!A6944","v":0},{"$f":"Macro!B6944","v":0},{"$f":"Macro!E6944","v":{"$error":"#DIV/0!"}}]
[null,{"$f":"Macro!A6945","v":0},{"$f":"Macro!B6945","v":0},{"$f":"Macro!E6945","v":{"$error":"#DIV/0!"}}]
[null,{"$f":"Macro!A6946","v":0},{"$f":"Macro!B6946","v":0},{"$f":"Macro!E6946","v":{"$error":"#DIV/0!"}}]
[null,{"$f":"Macro!A6947","v":0},{"$f":"Macro!B6947","v":0},{"$f":"Macro!E6947","v":{"$error":"#DIV/0!"}}]
[null,{"$f":"Macro!A6948","v":0},{"$f":"Macro!B6948","v":0},{"$f":"Macro!E6948","v":{"$error":"#DIV/0!"}}]
[null,{"$f":"Macro!A6949","v":0},{"$f":"Macro!B6949","v":0},{"$f":"Macro!E6949","v":{"$error":"#DIV/0!"}}]
[null,{"$f":"Macro!A6950","v":0},{"$f":"Macro!B6950","v":0},{"$f":"Macro!E6950","v":{"$error":"#DIV/0!"}}]
[null,{"$f":"Macro!A6951","v":0},{"$f":"Macro!B6951","v":0},{"$f":"Macro!E6951","v":{"$error":"#DIV/0!"}}]
[null,{"$f":"Macro!A6952","v":0},{"$f":"Macro!B6952","v":0},{"$f":"Macro!E6952","v":{"$error":"#DIV/0!"}}]
[null,{"$f":"Macro!A6953","v":0},{"$f":"Macro!B6953","v":0},{"$f":"Macro!E6953","v":{"$error":"#DIV/0!"}}]
[null,{"$f":"Macro!A6954","v":0},{"$f":"Macro!B6954","v":0},{"$f":"Macro!E6954","v":{"$error":"#DIV/0!"}}]
[null,{"$f":"Macro!A6955","v":0},{"$f":"Macro!B6955","v":0},{"$f":"Macro!E6955","v":{"$error":"#DIV/0!"}}]
[null,{"$f":"Macro!A6956","v":0},{"$f":"Macro!B6956","v":0},{"$f":"Macro!E6956","v":{"$error":"#DIV/0!"}}]
[null,{"$f":"Macro!A6957","v":0},{"$f":"Macro!B6957","v":0},{"$f":"Macro!E6957","v":{"$error":"#DIV/0!"}}]
[null,{"$f":"Macro!A6958","v":0},{"$f":"Macro!B6958","v":0},{"$f":"Macro!E6958","v":{"$error":"#DIV/0!"}}]
[null,{"$f":"Macro!A6959","v":0},{"$f":"Macro!B6959","v":0},{"$f":"Macro!E6959","v":{"$error":"#DIV/0!"}}]
[null,{"$f":"Macro!A6960","v":0},{"$f":"Macro!B6960","v":0},{"$f":"Macro!E6960","v":{"$error":"#DIV/0!"}}]
[null,{"$f":"Macro!A6961","v":0},{"$f":"Macro!B6961","v":0},{"$f":"Macro!E6961","v":{"$error":"#DIV/0!"}}]
[null,{"$f":"Macro!A6962","v":0},{"$f":"Macro!B6962","v":0},{"$f":"Macro!E6962","v":{"$error":"#DIV/0!"}}]
[null,{"$f":"Macro!A6963","v":0},{"$f":"Macro!B6963","v":0},{"$f":"Macro!E6963","v":{"$error":"#DIV/0!"}}]
[null,{"$f":"Macro!A6964","v":0},{"$f":"Macro!B6964","v":0},{"$f":"Macro!E6964","v":{"$error":"#DIV/0!"}}]
[null,{"$f":"Macro!A6965","v":0},{"$f":"Macro!B6965","v":0},{"$f":"Macro!E6965","v":{"$error":"#DIV/0!"}}]
[null,{"$f":"Macro!A6966","v":0},{"$f":"Macro!B6966","v":0},{"$f":"Macro!E6966","v":{"$error":"#DIV/0!"}}]
[null,{"$f":"Macro!A6967","v":0},{"$f":"Macro!B6967","v":0},{"$f":"Macro!E6967","v":{"$error":"#DIV/0!"}}]
[null,{"$f":"Macro!A6968","v":0},{"$f":"Macro!B6968","v":0},{"$f":"Macro!E6968","v":{"$error":"#DIV/0!"}}]
[null,{"$f":"Macro!A6969","v":0},{"$f":"Macro!B6969","v":0},{"$f":"Macro!E6969","v":{"$error":"#DIV/0!"}}]
[null,{"$f":"Macro!A6970","v":0},{"$f":"Macro!B6970","v":0},{"$f":"Macro!E6970","v":{"$error":"#DIV/0!"}}]
[null,{"$f":"Macro!A6971","v":0},{"$f":"Macro!B6971","v":0},{"$f":"Macro!E6971","v":{"$error":"#DIV/0!"}}]
[null,{"$f":"Macro!A6972","v":0},{"$f":"Macro!B6972","v":0},{"$f":"Macro!E6972","v":{"$error":"#DIV/0!"}}]
[null,{"$f":"Macro!A6973","v":0},{"$f":"Macro!B6973","v":0},{"$f":"Macro!E6973","v":{"$error":"#DIV/0!"}}]
[null,{"$f":"Macro!A6974","v":0},{"$f":"Macro!B6974","v":0},{"$f":"Macro!E6974","v":{"$error":"#DIV/0!"}}]
[null,{"$f":"Macro!A6975","v":0},{"$f":"Macro!B6975","v":0},{"$f":"Macro!E6975","v":{"$error":"#DIV/0!"}}]
[null,{"$f":"Macro!A6976","v":0},{"$f":"Macro!B6976","v":0},{"$f":"Macro!E6976","v":{"$error":"#DIV/0!"}}]
[null,{"$f":"Macro!A6977","v":0},{"$f":"Macro!B6977","v":0},{"$f":"Macro!E6977","v":{"$error":"#DIV/0!"}}]
[null,{"$f":"Macro!A6978","v":0},{"$f":"Macro!B6978","v":0},{"$f":"Macro!E6978","v":{"$error":"#DIV/0!"}}]
[null,{"$f":"Macro!A6979","v":0},{"$f":"Macro!B6979","v":0},{"$f":"Macro!E6979","v":{"$error":"#DIV/0!"}}]
[null,{"$f":"Macro!A6980","v":0},{"$f":"Macro!B6980","v":0},{"$f":"Macro!E6980","v":{"$error":"#DIV/0!"}}]
[null,{"$f":"Macro!A6981","v":0},{"$f":"Macro!B6981","v":0},{"$f":"Macro!E6981","v":{"$error":"#DIV/0!"}}]
[null,{"$f":"Macro!A6982","v":0},{"$f":"Macro!B6982","v":0},{"$f":"Macro!E6982","v":{"$error":"#DIV/0!"}}]
[null,{"$f":"Macro!A6983","v":0},{"$f":"Macro!B6983","v":0},{"$f":"Macro!E6983","v":{"$error":"#DIV/0!"}}]
[null,{"$f":"Macro!A6984","v":0},{"$f":"Macro!B6984","v":0},{"$f":"Macro!E6984","v":{"$error":"#DIV/0!"}}]
[null,{"$f":"Macro!A6985","v":0},{"$f":"Macro!B6985","v":0},{"$f":"Macro!E6985","v":{"$error":"#DIV/0!"}}]
[null,{"$f":"Macro!A6986","v":0},{"$f":"Macro!B6986","v":0},{"$f":"Macro!E6986","v":{"$error":"#DIV/0!"}}]
[null,{"$f":"Macro!A6987","v":0},{"$f":"Macro!B6987","v":0},{"$f":"Macro!E6987","v":{"$error":"#DIV/0!"}}]
[null,{"$f":"Macro!A6988","v":0},{"$f":"Macro!B6988","v":0},{"$f":"Macro!E6988","v":{"$error":"#DIV/0!"}}]
[null,{"$f":"Macro!A6989","v":0},{"$f":"Macro!B6989","v":0},{"$f":"Macro!E6989","v":{"$error":"#DIV/0!"}}]
[null,{"$f":"Macro!A6990","v":0},{"$f":"Macro!B6990","v":0},{"$f":"Macro!E6990","v":{"$error":"#DIV/0!"}}]
[null,{"$f":"Macro!A6991","v":0},{"$f":"Macro!B6991","v":0},{"$f":"Macro!E6991","v":{"$error":"#DIV/0!"}}]
[null,{"$f":"Macro!A6992","v":0},{"$f":"Macro!B6992","v":0},{"$f":"Macro!E6992","v":{"$error":"#DIV/0!"}}]
[null,{"$f":"Macro!A6993","v":0},{"$f":"Macro!B6993","v":0},{"$f":"Macro!E6993","v":{"$error":"#DIV/0!"}}]
[null,{"$f":"Macro!A6994","v":0},{"$f":"Macro!B6994","v":0},{"$f":"Macro!E6994","v":{"$error":"#DIV/0!"}}]
[null,{"$f":"Macro!A6995","v":0},{"$f":"Macro!B6995","v":0},{"$f":"Macro!E6995","v":{"$error":"#DIV/0!"}}]
[null,{"$f":"Macro!A6996","v":0},{"$f":"Macro!B6996","v":0},{"$f":"Macro!E6996","v":{"$error":"#DIV/0!"}}]
[null,{"$f":"Macro!A6997","v":0},{"$f":"Macro!B6997","v":0},{"$f":"Macro!E6997","v":{"$error":"#DIV/0!"}}]
[null,{"$f":"Macro!A6998","v":0},{"$f":"Macro!B6998","v":0},{"$f":"Macro!E6998","v":{"$error":"#DIV/0!"}}]
[null,{"$f":"Macro!A6999","v":0},{"$f":"Macro!B6999","v":0},{"$f":"Macro!E6999","v":{"$error":"#DIV/0!"}}]
[null,{"$f":"Macro!A7000","v":0},{"$f":"Macro!B7000","v":0},{"$f":"Macro!E7000","v":{"$error":"#DIV/0!"}}]
[null,{"$f":"Macro!A7001","v":0},{"$f":"Macro!B7001","v":0},{"$f":"Macro!E7001","v":{"$error":"#DIV/0!"}}]
[null,{"$f":"Macro!A7002","v":0},{"$f":"Macro!B7002","v":0},{"$f":"Macro!E7002","v":{"$error":"#DIV/0!"}}]
[null,{"$f":"Macro!A7003","v":0},{"$f":"Macro!B7003","v":0},{"$f":"Macro!E7003","v":{"$error":"#DIV/0!"}}]
[null,{"$f":"Macro!A7004","v":0},{"$f":"Macro!B7004","v":0},{"$f":"Macro!E7004","v":{"$error":"#DIV/0!"}}]
[null,{"$f":"Macro!A7005","v":0},{"$f":"Macro!B7005","v":0},{"$f":"Macro!E7005","v":{"$error":"#DIV/0!"}}]
[null,{"$f":"Macro!A7006","v":0},{"$f":"Macro!B7006","v":0},{"$f":"Macro!E7006","v":{"$error":"#DIV/0!"}}]
[null,{"$f":"Macro!A7007","v":0},{"$f":"Macro!B7007","v":0},{"$f":"Macro!E7007","v":{"$error":"#DIV/0!"}}]
[null,{"$f":"Macro!A7008","v":0},{"$f":"Macro!B7008","v":0},{"$f":"Macro!E7008","v":{"$error":"#DIV/0!"}}]
[null,{"$f":"Macro!A7009","v":0},{"$f":"Macro!B7009","v":0},{"$f":"Macro!E7009","v":{"$error":"#DIV/0!"}}]
[null,{"$f":"Macro!A7010","v":0},{"$f":"Macro!B7010","v":0},{"$f":"Macro!E7010","v":{"$error":"#DIV/0!"}}]
[null,{"$f":"Macro!A7011","v":0},{"$f":"Macro!B7011","v":0},{"$f":"Macro!E7011","v":{"$error":"#DIV/0!"}}]
[null,{"$f":"Macro!A7012","v":0},{"$f":"Macro!B7012","v":0},{"$f":"Macro!E7012","v":{"$error":"#DIV/0!"}}]
[null,{"$f":"Macro!A7013","v":0},{"$f":"Macro!B7013","v":0},{"$f":"Macro!E7013","v":{"$error":"#DIV/0!"}}]
[null,{"$f":"Macro!A7014","v":0},{"$f":"Macro!B7014","v":0},{"$f":"Macro!E7014","v":{"$error":"#DIV/0!"}}]
[null,{"$f":"Macro!A7015","v":0},{"$f":"Macro!B7015","v":0},{"$f":"Macro!E7015","v":{"$error":"#DIV/0!"}}]
[null,{"$f":"Macro!A7016","v":0},{"$f":"Macro!B7016","v":0},{"$f":"Macro!E7016","v":{"$error":"#DIV/0!"}}]
[null,{"$f":"Macro!A7017","v":0},{"$f":"Macro!B7017","v":0},{"$f":"Macro!E7017","v":{"$error":"#DIV/0!"}}]
[null,{"$f":"Macro!A7018","v":0},{"$f":"Macro!B7018","v":0},{"$f":"Macro!E7018","v":{"$error":"#DIV/0!"}}]
[null,{"$f":"Macro!A7019","v":0},{"$f":"Macro!B7019","v":0},{"$f":"Macro!E7019","v":{"$error":"#DIV/0!"}}]
[null,{"$f":"Macro!A7020","v":0},{"$f":"Macro!B7020","v":0},{"$f":"Macro!E7020","v":{"$error":"#DIV/0!"}}]
[null,{"$f":"Macro!A7021","v":0},{"$f":"Macro!B7021","v":0},{"$f":"Macro!E7021","v":{"$error":"#DIV/0!"}}]
[null,{"$f":"Macro!A7022","v":0},{"$f":"Macro!B7022","v":0},{"$f":"Macro!E7022","v":{"$error":"#DIV/0!"}}]
[null,{"$f":"Macro!A7023","v":0},{"$f":"Macro!B7023","v":0},{"$f":"Macro!E7023","v":{"$error":"#DIV/0!"}}]
[null,{"$f":"Macro!A7024","v":0},{"$f":"Macro!B7024","v":0},{"$f":"Macro!E7024","v":{"$error":"#DIV/0!"}}]
[null,{"$f":"Macro!A7025","v":0},{"$f":"Macro!B7025","v":0},{"$f":"Macro!E7025","v":{"$error":"#DIV/0!"}}]
[null,{"$f":"Macro!A7026","v":0},{"$f":"Macro!B7026","v":0},{"$f":"Macro!E7026","v":{"$error":"#DIV/0!"}}]
[null,{"$f":"Macro!A7027","v":0},{"$f":"Macro!B7027","v":0},{"$f":"Macro!E7027","v":{"$error":"#DIV/0!"}}]
[null,{"$f":"Macro!A7028","v":0},{"$f":"Macro!B7028","v":0},{"$f":"Macro!E7028","v":{"$error":"#DIV/0!"}}]
[null,{"$f":"Macro!A7029","v":0},{"$f":"Macro!B7029","v":0},{"$f":"Macro!E7029","v":{"$error":"#DIV/0!"}}]
[null,{"$f":"Macro!A7030","v":0},{"$f":"Macro!B7030","v":0},{"$f":"Macro!E7030","v":{"$error":"#DIV/0!"}}]
[null,{"$f":"Macro!A7031","v":0},{"$f":"Macro!B7031","v":0},{"$f":"Macro!E7031","v":{"$error":"#DIV/0!"}}]
[null,{"$f":"Macro!A7032","v":0},{"$f":"Macro!B7032","v":0},{"$f":"Macro!E7032","v":{"$error":"#DIV/0!"}}]
[null,{"$f":"Macro!A7033","v":0},{"$f":"Macro!B7033","v":0},{"$f":"Macro!E7033","v":{"$error":"#DIV/0!"}}]
[null,{"$f":"Macro!A7034","v":0},{"$f":"Macro!B7034","v":0},{"$f":"Macro!E7034","v":{"$error":"#DIV/0!"}}]
[null,{"$f":"Macro!A7035","v":0},{"$f":"Macro!B7035","v":0},{"$f":"Macro!E7035","v":{"$error":"#DIV/0!"}}]
[null,{"$f":"Macro!A7036","v":0},{"$f":"Macro!B7036","v":0},{"$f":"Macro!E7036","v":{"$error":"#DIV/0!"}}]
[null,{"$f":"Macro!A7037","v":0},{"$f":"Macro!B7037","v":0},{"$f":"Macro!E7037","v":{"$error":"#DIV/0!"}}]
[null,{"$f":"Macro!A7038","v":0},{"$f":"Macro!B7038","v":0},{"$f":"Macro!E7038","v":{"$error":"#DIV/0!"}}]
[null,{"$f":"Macro!A7039","v":0},{"$f":"Macro!B7039","v":0},{"$f":"Macro!E7039","v":{"$error":"#DIV/0!"}}]
[null,{"$f":"Macro!A7040","v":0},{"$f":"Macro!B7040","v":0},{"$f":"Macro!E7040","v":{"$error":"#DIV/0!"}}]
[null,{"$f":"Macro!A7041","v":0},{"$f":"Macro!B7041","v":0},{"$f":"Macro!E7041","v":{"$error":"#DIV/0!"}}]
[null,{"$f":"Macro!A7042","v":0},{"$f":"Macro!B7042","v":0},{"$f":"Macro!E7042","v":{"$error":"#DIV/0!"}}]
[null,{"$f":"Macro!A7043","v":0},{"$f":"Macro!B7043","v":0},{"$f":"Macro!E7043","v":{"$error":"#DIV/0!"}}]
[null,{"$f":"Macro!A7044","v":0},{"$f":"Macro!B7044","v":0},{"$f":"Macro!E7044","v":{"$error":"#DIV/0!"}}]
[null,{"$f":"Macro!A7045","v":0},{"$f":"Macro!B7045","v":0},{"$f":"Macro!E7045","v":{"$error":"#DIV/0!"}}]
[null,{"$f":"Macro!A7046","v":0},{"$f":"Macro!B7046","v":0},{"$f":"Macro!E7046","v":{"$error":"#DIV/0!"}}]
[null,{"$f":"Macro!A7047","v":0},{"$f":"Macro!B7047","v":0},{"$f":"Macro!E7047","v":{"$error":"#DIV/0!"}}]
[null,{"$f":"Macro!A7048","v":0},{"$f":"Macro!B7048","v":0},{"$f":"Macro!E7048","v":{"$error":"#DIV/0!"}}]
[null,{"$f":"Macro!A7049","v":0},{"$f":"Macro!B7049","v":0},{"$f":"Macro!E7049","v":{"$error":"#DIV/0!"}}]
[null,{"$f":"Macro!A7050","v":0},{"$f":"Macro!B7050","v":0},{"$f":"Macro!E7050","v":{"$error":"#DIV/0!"}}]
[null,{"$f":"Macro!A7051","v":0},{"$f":"Macro!B7051","v":0},{"$f":"Macro!E7051","v":{"$error":"#DIV/0!"}}]
[null,{"$f":"Macro!A7052","v":0},{"$f":"Macro!B7052","v":0},{"$f":"Macro!E7052","v":{"$error":"#DIV/0!"}}]
[null,{"$f":"Macro!A7053","v":0},{"$f":"Macro!B7053","v":0},{"$f":"Macro!E7053","v":{"$error":"#DIV/0!"}}]
[null,{"$f":"Macro!A7054","v":0},{"$f":"Macro!B7054","v":0},{"$f":"Macro!E7054","v":{"$error":"#DIV/0!"}}]
[null,{"$f":"Macro!A7055","v":0},{"$f":"Macro!B7055","v":0},{"$f":"Macro!E7055","v":{"$error":"#DIV/0!"}}]
[null,{"$f":"Macro!A7056","v":0},{"$f":"Macro!B7056","v":0},{"$f":"Macro!E7056","v":{"$error":"#DIV/0!"}}]
[null,{"$f":"Macro!A7057","v":0},{"$f":"Macro!B7057","v":0},{"$f":"Macro!E7057","v":{"$error":"#DIV/0!"}}]
[null,{"$f":"Macro!A7058","v":0},{"$f":"Macro!B7058","v":0},{"$f":"Macro!E7058","v":{"$error":"#DIV/0!"}}]
[null,{"$f":"Macro!A7059","v":0},{"$f":"Macro!B7059","v":0},{"$f":"Macro!E7059","v":{"$error":"#DIV/0!"}}]
[null,{"$f":"Macro!A7060","v":0},{"$f":"Macro!B7060","v":0},{"$f":"Macro!E7060","v":{"$error":"#DIV/0!"}}]
[null,{"$f":"Macro!A7061","v":0},{"$f":"Macro!B7061","v":0},{"$f":"Macro!E7061","v":{"$error":"#DIV/0!"}}]
[null,{"$f":"Macro!A7062","v":0},{"$f":"Macro!B7062","v":0},{"$f":"Macro!E7062","v":{"$error":"#DIV/0!"}}]
[null,{"$f":"Macro!A7063","v":0},{"$f":"Macro!B7063","v":0},{"$f":"Macro!E7063","v":{"$error":"#DIV/0!"}}]
[null,{"$f":"Macro!A7064","v":0},{"$f":"Macro!B7064","v":0},{"$f":"Macro!E7064","v":{"$error":"#DIV/0!"}}]
[null,{"$f":"Macro!A7065","v":0},{"$f":"Macro!B7065","v":0},{"$f":"Macro!E7065","v":{"$error":"#DIV/0!"}}]
[null,{"$f":"Macro!A7066","v":0},{"$f":"Macro!B7066","v":0},{"$f":"Macro!E7066","v":{"$error":"#DIV/0!"}}]
[null,{"$f":"Macro!A7067","v":0},{"$f":"Macro!B7067","v":0},{"$f":"Macro!E7067","v":{"$error":"#DIV/0!"}}]
[null,{"$f":"Macro!A7068","v":0},{"$f":"Macro!B7068","v":0},{"$f":"Macro!E7068","v":{"$error":"#DIV/0!"}}]
[null,{"$f":"Macro!A7069","v":0},{"$f":"Macro!B7069","v":0},{"$f":"Macro!E7069","v":{"$error":"#DIV/0!"}}]
[null,{"$f":"Macro!A7070","v":0},{"$f":"Macro!B7070","v":0},{"$f":"Macro!E7070","v":{"$error":"#DIV/0!"}}]
[null,{"$f":"Macro!A7071","v":0},{"$f":"Macro!B7071","v":0},{"$f":"Macro!E7071","v":{"$error":"#DIV/0!"}}]
[null,{"$f":"Macro!A7072","v":0},{"$f":"Macro!B7072","v":0},{"$f":"Macro!E7072","v":{"$error":"#DIV/0!"}}]
[null,{"$f":"Macro!A7073","v":0},{"$f":"Macro!B7073","v":0},{"$f":"Macro!E7073","v":{"$error":"#DIV/0!"}}]
[null,{"$f":"Macro!A7074","v":0},{"$f":"Macro!B7074","v":0},{"$f":"Macro!E7074","v":{"$error":"#DIV/0!"}}]
[null,{"$f":"Macro!A7075","v":0},{"$f":"Macro!B7075","v":0},{"$f":"Macro!E7075","v":{"$error":"#DIV/0!"}}]
[null,{"$f":"Macro!A7076","v":0},{"$f":"Macro!B7076","v":0},{"$f":"Macro!E7076","v":{"$error":"#DIV/0!"}}]
[null,{"$f":"Macro!A7077","v":0},{"$f":"Macro!B7077","v":0},{"$f":"Macro!E7077","v":{"$error":"#DIV/0!"}}]
[null,{"$f":"Macro!A7078","v":0},{"$f":"Macro!B7078","v":0},{"$f":"Macro!E7078","v":{"$error":"#DIV/0!"}}]
[null,{"$f":"Macro!A7079","v":0},{"$f":"Macro!B7079","v":0},{"$f":"Macro!E7079","v":{"$error":"#DIV/0!"}}]
[null,{"$f":"Macro!A7080","v":0},{"$f":"Macro!B7080","v":0},{"$f":"Macro!E7080","v":{"$error":"#DIV/0!"}}]
[null,{"$f":"Macro!A7081","v":0},{"$f":"Macro!B7081","v":0},{"$f":"Macro!E7081","v":{"$error":"#DIV/0!"}}]
[null,{"$f":"Macro!A7082","v":0},{"$f":"Macro!B7082","v":0},{"$f":"Macro!E7082","v":{"$error":"#DIV/0!"}}]
[null,{"$f":"Macro!A7083","v":0},{"$f":"Macro!B7083","v":0},{"$f":"Macro!E7083","v":{"$error":"#DIV/0!"}}]
[null,{"$f":"Macro!A7084","v":0},{"$f":"Macro!B7084","v":0},{"$f":"Macro!E7084","v":{"$error":"#DIV/0!"}}]
[null,{"$f":"Macro!A7085","v":0},{"$f":"Macro!B7085","v":0},{"$f":"Macro!E7085","v":{"$error":"#DIV/0!"}}]
[null,{"$f":"Macro!A7086","v":0},{"$f":"Macro!B7086","v":0},{"$f":"Macro!E7086","v":{"$error":"#DIV/0!"}}]
[null,{"$f":"Macro!A7087","v":0},{"$f":"Macro!B7087","v":0},{"$f":"Macro!E7087","v":{"$error":"#DIV/0!"}}]
[null,{"$f":"Macro!A7088","v":0},{"$f":"Macro!B7088","v":0},{"$f":"Macro!E7088","v":{"$error":"#DIV/0!"}}]
[null,{"$f":"Macro!A7089","v":0},{"$f":"Macro!B7089","v":0},{"$f":"Macro!E7089","v":{"$error":"#DIV/0!"}}]
[null,{"$f":"Macro!A7090","v":0},{"$f":"Macro!B7090","v":0},{"$f":"Macro!E7090","v":{"$error":"#DIV/0!"}}]
[null,{"$f":"Macro!A7091","v":0},{"$f":"Macro!B7091","v":0},{"$f":"Macro!E7091","v":{"$error":"#DIV/0!"}}]
[null,{"$f":"Macro!A7092","v":0},{"$f":"Macro!B7092","v":0},{"$f":"Macro!E7092","v":{"$error":"#DIV/0!"}}]
[null,{"$f":"Macro!A7093","v":0},{"$f":"Macro!B7093","v":0},{"$f":"Macro!E7093","v":{"$error":"#DIV/0!"}}]
[null,{"$f":"Macro!A7094","v":0},{"$f":"Macro!B7094","v":0},{"$f":"Macro!E7094","v":{"$error":"#DIV/0!"}}]
[null,{"$f":"Macro!A7095","v":0},{"$f":"Macro!B7095","v":0},{"$f":"Macro!E7095","v":{"$error":"#DIV/0!"}}]
[null,{"$f":"Macro!A7096","v":0},{"$f":"Macro!B7096","v":0},{"$f":"Macro!E7096","v":{"$error":"#DIV/0!"}}]
[null,{"$f":"Macro!A7097","v":0},{"$f":"Macro!B7097","v":0},{"$f":"Macro!E7097","v":{"$error":"#DIV/0!"}}]
[null,{"$f":"Macro!A7098","v":0},{"$f":"Macro!B7098","v":0},{"$f":"Macro!E7098","v":{"$error":"#DIV/0!"}}]
[null,{"$f":"Macro!A7099","v":0},{"$f":"Macro!B7099","v":0},{"$f":"Macro!E7099","v":{"$error":"#DIV/0!"}}]
[null,{"$f":"Macro!A7100","v":0},{"$f":"Macro!B7100","v":0},{"$f":"Macro!E7100","v":{"$error":"#DIV/0!"}}]
[null,{"$f":"Macro!A7101","v":0},{"$f":"Macro!B7101","v":0},{"$f":"Macro!E7101","v":{"$error":"#DIV/0!"}}]
[null,{"$f":"Macro!A7102","v":0},{"$f":"Macro!B7102","v":0},{"$f":"Macro!E7102","v":{"$error":"#DIV/0!"}}]
[null,{"$f":"Macro!A7103","v":0},{"$f":"Macro!B7103","v":0},{"$f":"Macro!E7103","v":{"$error":"#DIV/0!"}}]
[null,{"$f":"Macro!A7104","v":0},{"$f":"Macro!B7104","v":0},{"$f":"Macro!E7104","v":{"$error":"#DIV/0!"}}]
[null,{"$f":"Macro!A7105","v":0},{"$f":"Macro!B7105","v":0},{"$f":"Macro!E7105","v":{"$error":"#DIV/0!"}}]
[null,{"$f":"Macro!A7106","v":0},{"$f":"Macro!B7106","v":0},{"$f":"Macro!E7106","v":{"$error":"#DIV/0!"}}]
[null,{"$f":"Macro!A7107","v":0},{"$f":"Macro!B7107","v":0},{"$f":"Macro!E7107","v":{"$error":"#DIV/0!"}}]
[null,{"$f":"Macro!A7108","v":0},{"$f":"Macro!B7108","v":0},{"$f":"Macro!E7108","v":{"$error":"#DIV/0!"}}]
[null,{"$f":"Macro!A7109","v":0},{"$f":"Macro!B7109","v":0},{"$f":"Macro!E7109","v":{"$error":"#DIV/0!"}}]
[null,{"$f":"Macro!A7110","v":0},{"$f":"Macro!B7110","v":0},{"$f":"Macro!E7110","v":{"$error":"#DIV/0!"}}]
[null,{"$f":"Macro!A7111","v":0},{"$f":"Macro!B7111","v":0},{"$f":"Macro!E7111","v":{"$error":"#DIV/0!"}}]
[null,{"$f":"Macro!A7112","v":0},{"$f":"Macro!B7112","v":0},{"$f":"Macro!E7112","v":{"$error":"#DIV/0!"}}]
[null,{"$f":"Macro!A7113","v":0},{"$f":"Macro!B7113","v":0},{"$f":"Macro!E7113","v":{"$error":"#DIV/0!"}}]
[null,{"$f":"Macro!A7114","v":0},{"$f":"Macro!B7114","v":0},{"$f":"Macro!E7114","v":{"$error":"#DIV/0!"}}]
[null,{"$f":"Macro!A7115","v":0},{"$f":"Macro!B7115","v":0},{"$f":"Macro!E7115","v":{"$error":"#DIV/0!"}}]
[null,{"$f":"Macro!A7116","v":0},{"$f":"Macro!B7116","v":0},{"$f":"Macro!E7116","v":{"$error":"#DIV/0!"}}]
[null,{"$f":"Macro!A7117","v":0},{"$f":"Macro!B7117","v":0},{"$f":"Macro!E7117","v":{"$error":"#DIV/0!"}}]
[null,{"$f":"Macro!A7118","v":0},{"$f":"Macro!B7118","v":0},{"$f":"Macro!E7118","v":{"$error":"#DIV/0!"}}]
[null,{"$f":"Macro!A7119","v":0},{"$f":"Macro!B7119","v":0},{"$f":"Macro!E7119","v":{"$error":"#DIV/0!"}}]
[null,{"$f":"Macro!A7120","v":0},{"$f":"Macro!B7120","v":0},{"$f":"Macro!E7120","v":{"$error":"#DIV/0!"}}]
[null,{"$f":"Macro!A7121","v":0},{"$f":"Macro!B7121","v":0},{"$f":"Macro!E7121","v":{"$error":"#DIV/0!"}}]
[null,{"$f":"Macro!A7122","v":0},{"$f":"Macro!B7122","v":0},{"$f":"Macro!E7122","v":{"$error":"#DIV/0!"}}]
[null,{"$f":"Macro!A7123","v":0},{"$f":"Macro!B7123","v":0},{"$f":"Macro!E7123","v":{"$error":"#DIV/0!"}}]
[null,{"$f":"Macro!A7124","v":0},{"$f":"Macro!B7124","v":0},{"$f":"Macro!E7124","v":{"$error":"#DIV/0!"}}]
[null,{"$f":"Macro!A7125","v":0},{"$f":"Macro!B7125","v":0},{"$f":"Macro!E7125","v":{"$error":"#DIV/0!"}}]
[null,{"$f":"Macro!A7126","v":0},{"$f":"Macro!B7126","v":0},{"$f":"Macro!E7126","v":{"$error":"#DIV/0!"}}]
[null,{"$f":"Macro!A7127","v":0},{"$f":"Macro!B7127","v":0},{"$f":"Macro!E7127","v":{"$error":"#DIV/0!"}}]
[null,{"$f":"Macro!A7128","v":0},{"$f":"Macro!B7128","v":0},{"$f":"Macro!E7128","v":{"$error":"#DIV/0!"}}]
[null,{"$f":"Macro!A7129","v":0},{"$f":"Macro!B7129","v":0},{"$f":"Macro!E7129","v":{"$error":"#DIV/0!"}}]
[null,{"$f":"Macro!A7130","v":0},{"$f":"Macro!B7130","v":0},{"$f":"Macro!E7130","v":{"$error":"#DIV/0!"}}]
[null,{"$f":"Macro!A7131","v":0},{"$f":"Macro!B7131","v":0},{"$f":"Macro!E7131","v":{"$error":"#DIV/0!"}}]
[null,{"$f":"Macro!A7132","v":0},{"$f":"Macro!B7132","v":0},{"$f":"Macro!E7132","v":{"$error":"#DIV/0!"}}]
[null,{"$f":"Macro!A7133","v":0},{"$f":"Macro!B7133","v":0},{"$f":"Macro!E7133","v":{"$error":"#DIV/0!"}}]
[null,{"$f":"Macro!A7134","v":0},{"$f":"Macro!B7134","v":0},{"$f":"Macro!E7134","v":{"$error":"#DIV/0!"}}]
[null,{"$f":"Macro!A7135","v":0},{"$f":"Macro!B7135","v":0},{"$f":"Macro!E7135","v":{"$error":"#DIV/0!"}}]
[null,{"$f":"Macro!A7136","v":0},{"$f":"Macro!B7136","v":0},{"$f":"Macro!E7136","v":{"$error":"#DIV/0!"}}]
[null,{"$f":"Macro!A7137","v":0},{"$f":"Macro!B7137","v":0},{"$f":"Macro!E7137","v":{"$error":"#DIV/0!"}}]
[null,{"$f":"Macro!A7138","v":0},{"$f":"Macro!B7138","v":0},{"$f":"Macro!E7138","v":{"$error":"#DIV/0!"}}]
[null,{"$f":"Macro!A7139","v":0},{"$f":"Macro!B7139","v":0},{"$f":"Macro!E7139","v":{"$error":"#DIV/0!"}}]
[null,{"$f":"Macro!A7140","v":0},{"$f":"Macro!B7140","v":0},{"$f":"Macro!E7140","v":{"$error":"#DIV/0!"}}]
[null,{"$f":"Macro!A7141","v":0},{"$f":"Macro!B7141","v":0},{"$f":"Macro!E7141","v":{"$error":"#DIV/0!"}}]
[null,{"$f":"Macro!A7142","v":0},{"$f":"Macro!B7142","v":0},{"$f":"Macro!E7142","v":{"$error":"#DIV/0!"}}]
[null,{"$f":"Macro!A7143","v":0},{"$f":"Macro!B7143","v":0},{"$f":"Macro!E7143","v":{"$error":"#DIV/0!"}}]
[null,{"$f":"Macro!A7144","v":0},{"$f":"Macro!B7144","v":0},{"$f":"Macro!E7144","v":{"$error":"#DIV/0!"}}]
[null,{"$f":"Macro!A7145","v":0},{"$f":"Macro!B7145","v":0},{"$f":"Macro!E7145","v":{"$error":"#DIV/0!"}}]
[null,{"$f":"Macro!A7146","v":0},{"$f":"Macro!B7146","v":0},{"$f":"Macro!E7146","v":{"$error":"#DIV/0!"}}]
[null,{"$f":"Macro!A7147","v":0},{"$f":"Macro!B7147","v":0},{"$f":"Macro!E7147","v":{"$error":"#DIV/0!"}}]
[null,{"$f":"Macro!A7148","v":0},{"$f":"Macro!B7148","v":0},{"$f":"Macro!E7148","v":{"$error":"#DIV/0!"}}]
[null,{"$f":"Macro!A7149","v":0},{"$f":"Macro!B7149","v":0},{"$f":"Macro!E7149","v":{"$error":"#DIV/0!"}}]
[null,{"$f":"Macro!A7150","v":0},{"$f":"Macro!B7150","v":0},{"$f":"Macro!E7150","v":{"$error":"#DIV/0!"}}]
[null,{"$f":"Macro!A7151","v":0},{"$f":"Macro!B7151","v":0},{"$f":"Macro!E7151","v":{"$error":"#DIV/0!"}}]
[null,{"$f":"Macro!A7152","v":0},{"$f":"Macro!B7152","v":0},{"$f":"Macro!E7152","v":{"$error":"#DIV/0!"}}]
[null,{"$f":"Macro!A7153","v":0},{"$f":"Macro!B7153","v":0},{"$f":"Macro!E7153","v":{"$error":"#DIV/0!"}}]
[null,{"$f":"Macro!A7154","v":0},{"$f":"Macro!B7154","v":0},{"$f":"Macro!E7154","v":{"$error":"#DIV/0!"}}]
[null,{"$f":"Macro!A7155","v":0},{"$f":"Macro!B7155","v":0},{"$f":"Macro!E7155","v":{"$error":"#DIV/0!"}}]
[null,{"$f":"Macro!A7156","v":0},{"$f":"Macro!B7156","v":0},{"$f":"Macro!E7156","v":{"$error":"#DIV/0!"}}]
[null,{"$f":"Macro!A7157","v":0},{"$f":"Macro!B7157","v":0},{"$f":"Macro!E7157","v":{"$error":"#DIV/0!"}}]
[null,{"$f":"Macro!A7158","v":0},{"$f":"Macro!B7158","v":0},{"$f":"Macro!E7158","v":{"$error":"#DIV/0!"}}]
[null,{"$f":"Macro!A7159","v":0},{"$f":"Macro!B7159","v":0},{"$f":"Macro!E7159","v":{"$error":"#DIV/0!"}}]
[null,{"$f":"Macro!A7160","v":0},{"$f":"Macro!B7160","v":0},{"$f":"Macro!E7160","v":{"$error":"#DIV/0!"}}]
[null,{"$f":"Macro!A7161","v":0},{"$f":"Macro!B7161","v":0},{"$f":"Macro!E7161","v":{"$error":"#DIV/0!"}}]
[null,{"$f":"Macro!A7162","v":0},{"$f":"Macro!B7162","v":0},{"$f":"Macro!E7162","v":{"$error":"#DIV/0!"}}]
[null,{"$f":"Macro!A7163","v":0},{"$f":"Macro!B7163","v":0},{"$f":"Macro!E7163","v":{"$error":"#DIV/0!"}}]
[null,{"$f":"Macro!A7164","v":0},{"$f":"Macro!B7164","v":0},{"$f":"Macro!E7164","v":{"$error":"#DIV/0!"}}]
[null,{"$f":"Macro!A7165","v":0},{"$f":"Macro!B7165","v":0},{"$f":"Macro!E7165","v":{"$error":"#DIV/0!"}}]
[null,{"$f":"Macro!A7166","v":0},{"$f":"Macro!B7166","v":0},{"$f":"Macro!E7166","v":{"$error":"#DIV/0!"}}]
[null,{"$f":"Macro!A7167","v":0},{"$f":"Macro!B7167","v":0},{"$f":"Macro!E7167","v":{"$error":"#DIV/0!"}}]
[null,{"$f":"Macro!A7168","v":0},{"$f":"Macro!B7168","v":0},{"$f":"Macro!E7168","v":{"$error":"#DIV/0!"}}]
[null,{"$f":"Macro!A7169","v":0},{"$f":"Macro!B7169","v":0},{"$f":"Macro!E7169","v":{"$error":"#DIV/0!"}}]
[null,{"$f":"Macro!A7170","v":0},{"$f":"Macro!B7170","v":0},{"$f":"Macro!E7170","v":{"$error":"#DIV/0!"}}]
[null,{"$f":"Macro!A7171","v":0},{"$f":"Macro!B7171","v":0},{"$f":"Macro!E7171","v":{"$error":"#DIV/0!"}}]
[null,{"$f":"Macro!A7172","v":0},{"$f":"Macro!B7172","v":0},{"$f":"Macro!E7172","v":{"$error":"#DIV/0!"}}]
[null,{"$f":"Macro!A7173","v":0},{"$f":"Macro!B7173","v":0},{"$f":"Macro!E7173","v":{"$error":"#DIV/0!"}}]
[null,{"$f":"Macro!A7174","v":0},{"$f":"Macro!B7174","v":0},{"$f":"Macro!E7174","v":{"$error":"#DIV/0!"}}]
[null,{"$f":"Macro!A7175","v":0},{"$f":"Macro!B7175","v":0},{"$f":"Macro!E7175","v":{"$error":"#DIV/0!"}}]
[null,{"$f":"Macro!A7176","v":0},{"$f":"Macro!B7176","v":0},{"$f":"Macro!E7176","v":{"$error":"#DIV/0!"}}]
[null,{"$f":"Macro!A7177","v":0},{"$f":"Macro!B7177","v":0},{"$f":"Macro!E7177","v":{"$error":"#DIV/0!"}}]
[null,{"$f":"Macro!A7178","v":0},{"$f":"Macro!B7178","v":0},{"$f":"Macro!E7178","v":{"$error":"#DIV/0!"}}]
[null,{"$f":"Macro!A7179","v":0},{"$f":"Macro!B7179","v":0},{"$f":"Macro!E7179","v":{"$error":"#DIV/0!"}}]
[null,{"$f":"Macro!A7180","v":0},{"$f":"Macro!B7180","v":0},{"$f":"Macro!E7180","v":{"$error":"#DIV/0!"}}]
[null,{"$f":"Macro!A7181","v":0},{"$f":"Macro!B7181","v":0},{"$f":"Macro!E7181","v":{"$error":"#DIV/0!"}}]
[null,{"$f":"Macro!A7182","v":0},{"$f":"Macro!B7182","v":0},{"$f":"Macro!E7182","v":{"$error":"#DIV/0!"}}]
[null,{"$f":"Macro!A7183","v":0},{"$f":"Macro!B7183","v":0},{"$f":"Macro!E7183","v":{"$error":"#DIV/0!"}}]
[null,{"$f":"Macro!A7184","v":0},{"$f":"Macro!B7184","v":0},{"$f":"Macro!E7184","v":{"$error":"#DIV/0!"}}]
[null,{"$f":"Macro!A7185","v":0},{"$f":"Macro!B7185","v":0},{"$f":"Macro!E7185","v":{"$error":"#DIV/0!"}}]
[null,{"$f":"Macro!A7186","v":0},{"$f":"Macro!B7186","v":0},{"$f":"Macro!E7186","v":{"$error":"#DIV/0!"}}]
[null,{"$f":"Macro!A7187","v":0},{"$f":"Macro!B7187","v":0},{"$f":"Macro!E7187","v":{"$error":"#DIV/0!"}}]
[null,{"$f":"Macro!A7188","v":0},{"$f":"Macro!B7188","v":0},{"$f":"Macro!E7188","v":{"$error":"#DIV/0!"}}]
[null,{"$f":"Macro!A7189","v":0},{"$f":"Macro!B7189","v":0},{"$f":"Macro!E7189","v":{"$error":"#DIV/0!"}}]
[null,{"$f":"Macro!A7190","v":0},{"$f":"Macro!B7190","v":0},{"$f":"Macro!E7190","v":{"$error":"#DIV/0!"}}]
[null,{"$f":"Macro!A7191","v":0},{"$f":"Macro!B7191","v":0},{"$f":"Macro!E7191","v":{"$error":"#DIV/0!"}}]
[null,{"$f":"Macro!A7192","v":0},{"$f":"Macro!B7192","v":0},{"$f":"Macro!E7192","v":{"$error":"#DIV/0!"}}]
[null,{"$f":"Macro!A7193","v":0},{"$f":"Macro!B7193","v":0},{"$f":"Macro!E7193","v":{"$error":"#DIV/0!"}}]
[null,{"$f":"Macro!A7194","v":0},{"$f":"Macro!B7194","v":0},{"$f":"Macro!E7194","v":{"$error":"#DIV/0!"}}]
[null,{"$f":"Macro!A7195","v":0},{"$f":"Macro!B7195","v":0},{"$f":"Macro!E7195","v":{"$error":"#DIV/0!"}}]
[null,{"$f":"Macro!A7196","v":0},{"$f":"Macro!B7196","v":0},{"$f":"Macro!E7196","v":{"$error":"#DIV/0!"}}]
[null,{"$f":"Macro!A7197","v":0},{"$f":"Macro!B7197","v":0},{"$f":"Macro!E7197","v":{"$error":"#DIV/0!"}}]
[null,{"$f":"Macro!A7198","v":0},{"$f":"Macro!B7198","v":0},{"$f":"Macro!E7198","v":{"$error":"#DIV/0!"}}]
[null,{"$f":"Macro!A7199","v":0},{"$f":"Macro!B7199","v":0},{"$f":"Macro!E7199","v":{"$error":"#DIV/0!"}}]
[null,{"$f":"Macro!A7200","v":0},{"$f":"Macro!B7200","v":0},{"$f":"Macro!E7200","v":{"$error":"#DIV/0!"}}]
[null,{"$f":"Macro!A7201","v":0},{"$f":"Macro!B7201","v":0},{"$f":"Macro!E7201","v":{"$error":"#DIV/0!"}}]
[null,{"$f":"Macro!A7202","v":0},{"$f":"Macro!B7202","v":0},{"$f":"Macro!E7202","v":{"$error":"#DIV/0!"}}]
[null,{"$f":"Macro!A7203","v":0},{"$f":"Macro!B7203","v":0},{"$f":"Macro!E7203","v":{"$error":"#DIV/0!"}}]
[null,{"$f":"Macro!A7204","v":0},{"$f":"Macro!B7204","v":0},{"$f":"Macro!E7204","v":{"$error":"#DIV/0!"}}]
[null,{"$f":"Macro!A7205","v":0},{"$f":"Macro!B7205","v":0},{"$f":"Macro!E7205","v":{"$error":"#DIV/0!"}}]
[null,{"$f":"Macro!A7206","v":0},{"$f":"Macro!B7206","v":0},{"$f":"Macro!E7206","v":{"$error":"#DIV/0!"}}]
[null,{"$f":"Macro!A7207","v":0},{"$f":"Macro!B7207","v":0},{"$f":"Macro!E7207","v":{"$error":"#DIV/0!"}}]
[null,{"$f":"Macro!A7208","v":0},{"$f":"Macro!B7208","v":0},{"$f":"Macro!E7208","v":{"$error":"#DIV/0!"}}]
[null,{"$f":"Macro!A7209","v":0},{"$f":"Macro!B7209","v":0},{"$f":"Macro!E7209","v":{"$error":"#DIV/0!"}}]
[null,{"$f":"Macro!A7210","v":0},{"$f":"Macro!B7210","v":0},{"$f":"Macro!E7210","v":{"$error":"#DIV/0!"}}]
[null,{"$f":"Macro!A7211","v":0},{"$f":"Macro!B7211","v":0},{"$f":"Macro!E7211","v":{"$error":"#DIV/0!"}}]
[null,{"$f":"Macro!A7212","v":0},{"$f":"Macro!B7212","v":0},{"$f":"Macro!E7212","v":{"$error":"#DIV/0!"}}]
[null,{"$f":"Macro!A7213","v":0},{"$f":"Macro!B7213","v":0},{"$f":"Macro!E7213","v":{"$error":"#DIV/0!"}}]
[null,{"$f":"Macro!A7214","v":0},{"$f":"Macro!B7214","v":0},{"$f":"Macro!E7214","v":{"$error":"#DIV/0!"}}]
[null,{"$f":"Macro!A7215","v":0},{"$f":"Macro!B7215","v":0},{"$f":"Macro!E7215","v":{"$error":"#DIV/0!"}}]
[null,{"$f":"Macro!A7216","v":0},{"$f":"Macro!B7216","v":0},{"$f":"Macro!E7216","v":{"$error":"#DIV/0!"}}]
[null,{"$f":"Macro!A7217","v":0},{"$f":"Macro!B7217","v":0},{"$f":"Macro!E7217","v":{"$error":"#DIV/0!"}}]
[null,{"$f":"Macro!A7218","v":0},{"$f":"Macro!B7218","v":0},{"$f":"Macro!E7218","v":{"$error":"#DIV/0!"}}]
[null,{"$f":"Macro!A7219","v":0},{"$f":"Macro!B7219","v":0},{"$f":"Macro!E7219","v":{"$error":"#DIV/0!"}}]
[null,{"$f":"Macro!A7220","v":0},{"$f":"Macro!B7220","v":0},{"$f":"Macro!E7220","v":{"$error":"#DIV/0!"}}]
[null,{"$f":"Macro!A7221","v":0},{"$f":"Macro!B7221","v":0},{"$f":"Macro!E7221","v":{"$error":"#DIV/0!"}}]
[null,{"$f":"Macro!A7222","v":0},{"$f":"Macro!B7222","v":0},{"$f":"Macro!E7222","v":{"$error":"#DIV/0!"}}]
[null,{"$f":"Macro!A7223","v":0},{"$f":"Macro!B7223","v":0},{"$f":"Macro!E7223","v":{"$error":"#DIV/0!"}}]
[null,{"$f":"Macro!A7224","v":0},{"$f":"Macro!B7224","v":0},{"$f":"Macro!E7224","v":{"$error":"#DIV/0!"}}]
[null,{"$f":"Macro!A7225","v":0},{"$f":"Macro!B7225","v":0},{"$f":"Macro!E7225","v":{"$error":"#DIV/0!"}}]
[null,{"$f":"Macro!A7226","v":0},{"$f":"Macro!B7226","v":0},{"$f":"Macro!E7226","v":{"$error":"#DIV/0!"}}]
[null,{"$f":"Macro!A7227","v":0},{"$f":"Macro!B7227","v":0},{"$f":"Macro!E7227","v":{"$error":"#DIV/0!"}}]
[null,{"$f":"Macro!A7228","v":0},{"$f":"Macro!B7228","v":0},{"$f":"Macro!E7228","v":{"$error":"#DIV/0!"}}]
[null,{"$f":"Macro!A7229","v":0},{"$f":"Macro!B7229","v":0},{"$f":"Macro!E7229","v":{"$error":"#DIV/0!"}}]
[null,{"$f":"Macro!A7230","v":0},{"$f":"Macro!B7230","v":0},{"$f":"Macro!E7230","v":{"$error":"#DIV/0!"}}]
[null,{"$f":"Macro!A7231","v":0},{"$f":"Macro!B7231","v":0},{"$f":"Macro!E7231","v":{"$error":"#DIV/0!"}}]
[null,{"$f":"Macro!A7232","v":0},{"$f":"Macro!B7232","v":0},{"$f":"Macro!E7232","v":{"$error":"#DIV/0!"}}]
[null,{"$f":"Macro!A7233","v":0},{"$f":"Macro!B7233","v":0},{"$f":"Macro!E7233","v":{"$error":"#DIV/0!"}}]
[null,{"$f":"Macro!A7234","v":0},{"$f":"Macro!B7234","v":0},{"$f":"Macro!E7234","v":{"$error":"#DIV/0!"}}]
[null,{"$f":"Macro!A7235","v":0},{"$f":"Macro!B7235","v":0},{"$f":"Macro!E7235","v":{"$error":"#DIV/0!"}}]
[null,{"$f":"Macro!A7236","v":0},{"$f":"Macro!B7236","v":0},{"$f":"Macro!E7236","v":{"$error":"#DIV/0!"}}]
[null,{"$f":"Macro!A7237","v":0},{"$f":"Macro!B7237","v":0},{"$f":"Macro!E7237","v":{"$error":"#DIV/0!"}}]
[null,{"$f":"Macro!A7238","v":0},{"$f":"Macro!B7238","v":0},{"$f":"Macro!E7238","v":{"$error":"#DIV/0!"}}]
[null,{"$f":"Macro!A7239","v":0},{"$f":"Macro!B7239","v":0},{"$f":"Macro!E7239","v":{"$error":"#DIV/0!"}}]
[null,{"$f":"Macro!A7240","v":0},{"$f":"Macro!B7240","v":0},{"$f":"Macro!E7240","v":{"$error":"#DIV/0!"}}]
[null,{"$f":"Macro!A7241","v":0},{"$f":"Macro!B7241","v":0},{"$f":"Macro!E7241","v":{"$error":"#DIV/0!"}}]
[null,{"$f":"Macro!A7242","v":0},{"$f":"Macro!B7242","v":0},{"$f":"Macro!E7242","v":{"$error":"#DIV/0!"}}]
[null,{"$f":"Macro!A7243","v":0},{"$f":"Macro!B7243","v":0},{"$f":"Macro!E7243","v":{"$error":"#DIV/0!"}}]
[null,{"$f":"Macro!A7244","v":0},{"$f":"Macro!B7244","v":0},{"$f":"Macro!E7244","v":{"$error":"#DIV/0!"}}]
[null,{"$f":"Macro!A7245","v":0},{"$f":"Macro!B7245","v":0},{"$f":"Macro!E7245","v":{"$error":"#DIV/0!"}}]
[null,{"$f":"Macro!A7246","v":0},{"$f":"Macro!B7246","v":0},{"$f":"Macro!E7246","v":{"$error":"#DIV/0!"}}]
[null,{"$f":"Macro!A7247","v":0},{"$f":"Macro!B7247","v":0},{"$f":"Macro!E7247","v":{"$error":"#DIV/0!"}}]
[null,{"$f":"Macro!A7248","v":0},{"$f":"Macro!B7248","v":0},{"$f":"Macro!E7248","v":{"$error":"#DIV/0!"}}]
[null,{"$f":"Macro!A7249","v":0},{"$f":"Macro!B7249","v":0},{"$f":"Macro!E7249","v":{"$error":"#DIV/0!"}}]
[null,{"$f":"Macro!A7250","v":0},{"$f":"Macro!B7250","v":0},{"$f":"Macro!E7250","v":{"$error":"#DIV/0!"}}]
[null,{"$f":"Macro!A7251","v":0},{"$f":"Macro!B7251","v":0},{"$f":"Macro!E7251","v":{"$error":"#DIV/0!"}}]
[null,{"$f":"Macro!A7252","v":0},{"$f":"Macro!B7252","v":0},{"$f":"Macro!E7252","v":{"$error":"#DIV/0!"}}]
[null,{"$f":"Macro!A7253","v":0},{"$f":"Macro!B7253","v":0},{"$f":"Macro!E7253","v":{"$error":"#DIV/0!"}}]
[null,{"$f":"Macro!A7254","v":0},{"$f":"Macro!B7254","v":0},{"$f":"Macro!E7254","v":{"$error":"#DIV/0!"}}]
[null,{"$f":"Macro!A7255","v":0},{"$f":"Macro!B7255","v":0},{"$f":"Macro!E7255","v":{"$error":"#DIV/0!"}}]
[null,{"$f":"Macro!A7256","v":0},{"$f":"Macro!B7256","v":0},{"$f":"Macro!E7256","v":{"$error":"#DIV/0!"}}]
[null,{"$f":"Macro!A7257","v":0},{"$f":"Macro!B7257","v":0},{"$f":"Macro!E7257","v":{"$error":"#DIV/0!"}}]
[null,{"$f":"Macro!A7258","v":0},{"$f":"Macro!B7258","v":0},{"$f":"Macro!E7258","v":{"$error":"#DIV/0!"}}]
[null,{"$f":"Macro!A7259","v":0},{"$f":"Macro!B7259","v":0},{"$f":"Macro!E7259","v":{"$error":"#DIV/0!"}}]
[null,{"$f":"Macro!A7260","v":0},{"$f":"Macro!B7260","v":0},{"$f":"Macro!E7260","v":{"$error":"#DIV/0!"}}]
[null,{"$f":"Macro!A7261","v":0},{"$f":"Macro!B7261","v":0},{"$f":"Macro!E7261","v":{"$error":"#DIV/0!"}}]
[null,{"$f":"Macro!A7262","v":0},{"$f":"Macro!B7262","v":0},{"$f":"Macro!E7262","v":{"$error":"#DIV/0!"}}]
[null,{"$f":"Macro!A7263","v":0},{"$f":"Macro!B7263","v":0},{"$f":"Macro!E7263","v":{"$error":"#DIV/0!"}}]
[null,{"$f":"Macro!A7264","v":0},{"$f":"Macro!B7264","v":0},{"$f":"Macro!E7264","v":{"$error":"#DIV/0!"}}]
[null,{"$f":"Macro!A7265","v":0},{"$f":"Macro!B7265","v":0},{"$f":"Macro!E7265","v":{"$error":"#DIV/0!"}}]
[null,{"$f":"Macro!A7266","v":0},{"$f":"Macro!B7266","v":0},{"$f":"Macro!E7266","v":{"$error":"#DIV/0!"}}]
[null,{"$f":"Macro!A7267","v":0},{"$f":"Macro!B7267","v":0},{"$f":"Macro!E7267","v":{"$error":"#DIV/0!"}}]
[null,{"$f":"Macro!A7268","v":0},{"$f":"Macro!B7268","v":0},{"$f":"Macro!E7268","v":{"$error":"#DIV/0!"}}]
[null,{"$f":"Macro!A7269","v":0},{"$f":"Macro!B7269","v":0},{"$f":"Macro!E7269","v":{"$error":"#DIV/0!"}}]
[null,{"$f":"Macro!A7270","v":0},{"$f":"Macro!B7270","v":0},{"$f":"Macro!E7270","v":{"$error":"#DIV/0!"}}]
[null,{"$f":"Macro!A7271","v":0},{"$f":"Macro!B7271","v":0},{"$f":"Macro!E7271","v":{"$error":"#DIV/0!"}}]
[null,{"$f":"Macro!A7272","v":0},{"$f":"Macro!B7272","v":0},{"$f":"Macro!E7272","v":{"$error":"#DIV/0!"}}]
[null,{"$f":"Macro!A7273","v":0},{"$f":"Macro!B7273","v":0},{"$f":"Macro!E7273","v":{"$error":"#DIV/0!"}}]
[null,{"$f":"Macro!A7274","v":0},{"$f":"Macro!B7274","v":0},{"$f":"Macro!E7274","v":{"$error":"#DIV/0!"}}]
[null,{"$f":"Macro!A7275","v":0},{"$f":"Macro!B7275","v":0},{"$f":"Macro!E7275","v":{"$error":"#DIV/0!"}}]
[null,{"$f":"Macro!A7276","v":0},{"$f":"Macro!B7276","v":0},{"$f":"Macro!E7276","v":{"$error":"#DIV/0!"}}]
[null,{"$f":"Macro!A7277","v":0},{"$f":"Macro!B7277","v":0},{"$f":"Macro!E7277","v":{"$error":"#DIV/0!"}}]
[null,{"$f":"Macro!A7278","v":0},{"$f":"Macro!B7278","v":0},{"$f":"Macro!E7278","v":{"$error":"#DIV/0!"}}]
[null,{"$f":"Macro!A7279","v":0},{"$f":"Macro!B7279","v":0},{"$f":"Macro!E7279","v":{"$error":"#DIV/0!"}}]
[null,{"$f":"Macro!A7280","v":0},{"$f":"Macro!B7280","v":0},{"$f":"Macro!E7280","v":{"$error":"#DIV/0!"}}]
[null,{"$f":"Macro!A7281","v":0},{"$f":"Macro!B7281","v":0},{"$f":"Macro!E7281","v":{"$error":"#DIV/0!"}}]
[null,{"$f":"Macro!A7282","v":0},{"$f":"Macro!B7282","v":0},{"$f":"Macro!E7282","v":{"$error":"#DIV/0!"}}]
[null,{"$f":"Macro!A7283","v":0},{"$f":"Macro!B7283","v":0},{"$f":"Macro!E7283","v":{"$error":"#DIV/0!"}}]
[null,{"$f":"Macro!A7284","v":0},{"$f":"Macro!B7284","v":0},{"$f":"Macro!E7284","v":{"$error":"#DIV/0!"}}]
[null,{"$f":"Macro!A7285","v":0},{"$f":"Macro!B7285","v":0},{"$f":"Macro!E7285","v":{"$error":"#DIV/0!"}}]
[null,{"$f":"Macro!A7286","v":0},{"$f":"Macro!B7286","v":0},{"$f":"Macro!E7286","v":{"$error":"#DIV/0!"}}]
[null,{"$f":"Macro!A7287","v":0},{"$f":"Macro!B7287","v":0},{"$f":"Macro!E7287","v":{"$error":"#DIV/0!"}}]
[null,{"$f":"Macro!A7288","v":0},{"$f":"Macro!B7288","v":0},{"$f":"Macro!E7288","v":{"$error":"#DIV/0!"}}]
[null,{"$f":"Macro!A7289","v":0},{"$f":"Macro!B7289","v":0},{"$f":"Macro!E7289","v":{"$error":"#DIV/0!"}}]
[null,{"$f":"Macro!A7290","v":0},{"$f":"Macro!B7290","v":0},{"$f":"Macro!E7290","v":{"$error":"#DIV/0!"}}]
[null,{"$f":"Macro!A7291","v":0},{"$f":"Macro!B7291","v":0},{"$f":"Macro!E7291","v":{"$error":"#DIV/0!"}}]
[null,{"$f":"Macro!A7292","v":0},{"$f":"Macro!B7292","v":0},{"$f":"Macro!E7292","v":{"$error":"#DIV/0!"}}]
[null,{"$f":"Macro!A7293","v":0},{"$f":"Macro!B7293","v":0},{"$f":"Macro!E7293","v":{"$error":"#DIV/0!"}}]
[null,{"$f":"Macro!A7294","v":0},{"$f":"Macro!B7294","v":0},{"$f":"Macro!E7294","v":{"$error":"#DIV/0!"}}]
[null,{"$f":"Macro!A7295","v":0},{"$f":"Macro!B7295","v":0},{"$f":"Macro!E7295","v":{"$error":"#DIV/0!"}}]
[null,{"$f":"Macro!A7296","v":0},{"$f":"Macro!B7296","v":0},{"$f":"Macro!E7296","v":{"$error":"#DIV/0!"}}]
[null,{"$f":"Macro!A7297","v":0},{"$f":"Macro!B7297","v":0},{"$f":"Macro!E7297","v":{"$error":"#DIV/0!"}}]
[null,{"$f":"Macro!A7298","v":0},{"$f":"Macro!B7298","v":0},{"$f":"Macro!E7298","v":{"$error":"#DIV/0!"}}]
[null,{"$f":"Macro!A7299","v":0},{"$f":"Macro!B7299","v":0},{"$f":"Macro!E7299","v":{"$error":"#DIV/0!"}}]
[null,{"$f":"Macro!A7300","v":0},{"$f":"Macro!B7300","v":0},{"$f":"Macro!E7300","v":{"$error":"#DIV/0!"}}]
[null,{"$f":"Macro!A7301","v":0},{"$f":"Macro!B7301","v":0},{"$f":"Macro!E7301","v":{"$error":"#DIV/0!"}}]
[null,{"$f":"Macro!A7302","v":0},{"$f":"Macro!B7302","v":0},{"$f":"Macro!E7302","v":{"$error":"#DIV/0!"}}]
[null,{"$f":"Macro!A7303","v":0},{"$f":"Macro!B7303","v":0},{"$f":"Macro!E7303","v":{"$error":"#DIV/0!"}}]
[null,{"$f":"Macro!A7304","v":0},{"$f":"Macro!B7304","v":0},{"$f":"Macro!E7304","v":{"$error":"#DIV/0!"}}]
[null,{"$f":"Macro!A7305","v":0},{"$f":"Macro!B7305","v":0},{"$f":"Macro!E7305","v":{"$error":"#DIV/0!"}}]
[null,{"$f":"Macro!A7306","v":0},{"$f":"Macro!B7306","v":0},{"$f":"Macro!E7306","v":{"$error":"#DIV/0!"}}]
[null,{"$f":"Macro!A7307","v":0},{"$f":"Macro!B7307","v":0},{"$f":"Macro!E7307","v":{"$error":"#DIV/0!"}}]
[null,{"$f":"Macro!A7308","v":0},{"$f":"Macro!B7308","v":0},{"$f":"Macro!E7308","v":{"$error":"#DIV/0!"}}]
[null,{"$f":"Macro!A7309","v":0},{"$f":"Macro!B7309","v":0},{"$f":"Macro!E7309","v":{"$error":"#DIV/0!"}}]
[null,{"$f":"Macro!A7310","v":0},{"$f":"Macro!B7310","v":0},{"$f":"Macro!E7310","v":{"$error":"#DIV/0!"}}]
[null,{"$f":"Macro!A7311","v":0},{"$f":"Macro!B7311","v":0},{"$f":"Macro!E7311","v":{"$error":"#DIV/0!"}}]
[null,{"$f":"Macro!A7312","v":0},{"$f":"Macro!B7312","v":0},{"$f":"Macro!E7312","v":{"$error":"#DIV/0!"}}]
[null,{"$f":"Macro!A7313","v":0},{"$f":"Macro!B7313","v":0},{"$f":"Macro!E7313","v":{"$error":"#DIV/0!"}}]
[null,{"$f":"Macro!A7314","v":0},{"$f":"Macro!B7314","v":0},{"$f":"Macro!E7314","v":{"$error":"#DIV/0!"}}]
[null,{"$f":"Macro!A7315","v":0},{"$f":"Macro!B7315","v":0},{"$f":"Macro!E7315","v":{"$error":"#DIV/0!"}}]
[null,{"$f":"Macro!A7316","v":0},{"$f":"Macro!B7316","v":0},{"$f":"Macro!E7316","v":{"$error":"#DIV/0!"}}]
[null,{"$f":"Macro!A7317","v":0},{"$f":"Macro!B7317","v":0},{"$f":"Macro!E7317","v":{"$error":"#DIV/0!"}}]
[null,{"$f":"Macro!A7318","v":0},{"$f":"Macro!B7318","v":0},{"$f":"Macro!E7318","v":{"$error":"#DIV/0!"}}]
[null,{"$f":"Macro!A7319","v":0},{"$f":"Macro!B7319","v":0},{"$f":"Macro!E7319","v":{"$error":"#DIV/0!"}}]
[null,{"$f":"Macro!A7320","v":0},{"$f":"Macro!B7320","v":0},{"$f":"Macro!E7320","v":{"$error":"#DIV/0!"}}]
[null,{"$f":"Macro!A7321","v":0},{"$f":"Macro!B7321","v":0},{"$f":"Macro!E7321","v":{"$error":"#DIV/0!"}}]
[null,{"$f":"Macro!A7322","v":0},{"$f":"Macro!B7322","v":0},{"$f":"Macro!E7322","v":{"$error":"#DIV/0!"}}]
[null,{"$f":"Macro!A7323","v":0},{"$f":"Macro!B7323","v":0},{"$f":"Macro!E7323","v":{"$error":"#DIV/0!"}}]
[null,{"$f":"Macro!A7324","v":0},{"$f":"Macro!B7324","v":0},{"$f":"Macro!E7324","v":{"$error":"#DIV/0!"}}]
[null,{"$f":"Macro!A7325","v":0},{"$f":"Macro!B7325","v":0},{"$f":"Macro!E7325","v":{"$error":"#DIV/0!"}}]
[null,{"$f":"Macro!A7326","v":0},{"$f":"Macro!B7326","v":0},{"$f":"Macro!E7326","v":{"$error":"#DIV/0!"}}]
[null,{"$f":"Macro!A7327","v":0},{"$f":"Macro!B7327","v":0},{"$f":"Macro!E7327","v":{"$error":"#DIV/0!"}}]
[null,{"$f":"Macro!A7328","v":0},{"$f":"Macro!B7328","v":0},{"$f":"Macro!E7328","v":{"$error":"#DIV/0!"}}]
[null,{"$f":"Macro!A7329","v":0},{"$f":"Macro!B7329","v":0},{"$f":"Macro!E7329","v":{"$error":"#DIV/0!"}}]
[null,{"$f":"Macro!A7330","v":0},{"$f":"Macro!B7330","v":0},{"$f":"Macro!E7330","v":{"$error":"#DIV/0!"}}]
[null,{"$f":"Macro!A7331","v":0},{"$f":"Macro!B7331","v":0},{"$f":"Macro!E7331","v":{"$error":"#DIV/0!"}}]
[null,{"$f":"Macro!A7332","v":0},{"$f":"Macro!B7332","v":0},{"$f":"Macro!E7332","v":{"$error":"#DIV/0!"}}]
[null,{"$f":"Macro!A7333","v":0},{"$f":"Macro!B7333","v":0},{"$f":"Macro!E7333","v":{"$error":"#DIV/0!"}}]
[null,{"$f":"Macro!A7334","v":0},{"$f":"Macro!B7334","v":0},{"$f":"Macro!E7334","v":{"$error":"#DIV/0!"}}]
[null,{"$f":"Macro!A7335","v":0},{"$f":"Macro!B7335","v":0},{"$f":"Macro!E7335","v":{"$error":"#DIV/0!"}}]
[null,{"$f":"Macro!A7336","v":0},{"$f":"Macro!B7336","v":0},{"$f":"Macro!E7336","v":{"$error":"#DIV/0!"}}]
[null,{"$f":"Macro!A7337","v":0},{"$f":"Macro!B7337","v":0},{"$f":"Macro!E7337","v":{"$error":"#DIV/0!"}}]
[null,{"$f":"Macro!A7338","v":0},{"$f":"Macro!B7338","v":0},{"$f":"Macro!E7338","v":{"$error":"#DIV/0!"}}]
[null,{"$f":"Macro!A7339","v":0},{"$f":"Macro!B7339","v":0},{"$f":"Macro!E7339","v":{"$error":"#DIV/0!"}}]
[null,{"$f":"Macro!A7340","v":0},{"$f":"Macro!B7340","v":0},{"$f":"Macro!E7340","v":{"$error":"#DIV/0!"}}]
[null,{"$f":"Macro!A7341","v":0},{"$f":"Macro!B7341","v":0},{"$f":"Macro!E7341","v":{"$error":"#DIV/0!"}}]
[null,{"$f":"Macro!A7342","v":0},{"$f":"Macro!B7342","v":0},{"$f":"Macro!E7342","v":{"$error":"#DIV/0!"}}]
[null,{"$f":"Macro!A7343","v":0},{"$f":"Macro!B7343","v":0},{"$f":"Macro!E7343","v":{"$error":"#DIV/0!"}}]
[null,{"$f":"Macro!A7344","v":0},{"$f":"Macro!B7344","v":0},{"$f":"Macro!E7344","v":{"$error":"#DIV/0!"}}]
[null,{"$f":"Macro!A7345","v":0},{"$f":"Macro!B7345","v":0},{"$f":"Macro!E7345","v":{"$error":"#DIV/0!"}}]
[null,{"$f":"Macro!A7346","v":0},{"$f":"Macro!B7346","v":0},{"$f":"Macro!E7346","v":{"$error":"#DIV/0!"}}]
[null,{"$f":"Macro!A7347","v":0},{"$f":"Macro!B7347","v":0},{"$f":"Macro!E7347","v":{"$error":"#DIV/0!"}}]
[null,{"$f":"Macro!A7348","v":0},{"$f":"Macro!B7348","v":0},{"$f":"Macro!E7348","v":{"$error":"#DIV/0!"}}]
[null,{"$f":"Macro!A7349","v":0},{"$f":"Macro!B7349","v":0},{"$f":"Macro!E7349","v":{"$error":"#DIV/0!"}}]
[null,{"$f":"Macro!A7350","v":0},{"$f":"Macro!B7350","v":0},{"$f":"Macro!E7350","v":{"$error":"#DIV/0!"}}]
[null,{"$f":"Macro!A7351","v":0},{"$f":"Macro!B7351","v":0},{"$f":"Macro!E7351","v":{"$error":"#DIV/0!"}}]
[null,{"$f":"Macro!A7352","v":0},{"$f":"Macro!B7352","v":0},{"$f":"Macro!E7352","v":{"$error":"#DIV/0!"}}]
[null,{"$f":"Macro!A7353","v":0},{"$f":"Macro!B7353","v":0},{"$f":"Macro!E7353","v":{"$error":"#DIV/0!"}}]
[null,{"$f":"Macro!A7354","v":0},{"$f":"Macro!B7354","v":0},{"$f":"Macro!E7354","v":{"$error":"#DIV/0!"}}]
[null,{"$f":"Macro!A7355","v":0},{"$f":"Macro!B7355","v":0},{"$f":"Macro!E7355","v":{"$error":"#DIV/0!"}}]
[null,{"$f":"Macro!A7356","v":0},{"$f":"Macro!B7356","v":0},{"$f":"Macro!E7356","v":{"$error":"#DIV/0!"}}]
[null,{"$f":"Macro!A7357","v":0},{"$f":"Macro!B7357","v":0},{"$f":"Macro!E7357","v":{"$error":"#DIV/0!"}}]
[null,{"$f":"Macro!A7358","v":0},{"$f":"Macro!B7358","v":0},{"$f":"Macro!E7358","v":{"$error":"#DIV/0!"}}]
[null,{"$f":"Macro!A7359","v":0},{"$f":"Macro!B7359","v":0},{"$f":"Macro!E7359","v":{"$error":"#DIV/0!"}}]
[null,{"$f":"Macro!A7360","v":0},{"$f":"Macro!B7360","v":0},{"$f":"Macro!E7360","v":{"$error":"#DIV/0!"}}]
[null,{"$f":"Macro!A7361","v":0},{"$f":"Macro!B7361","v":0},{"$f":"Macro!E7361","v":{"$error":"#DIV/0!"}}]
[null,{"$f":"Macro!A7362","v":0},{"$f":"Macro!B7362","v":0},{"$f":"Macro!E7362","v":{"$error":"#DIV/0!"}}]
[null,{"$f":"Macro!A7363","v":0},{"$f":"Macro!B7363","v":0},{"$f":"Macro!E7363","v":{"$error":"#DIV/0!"}}]
[null,{"$f":"Macro!A7364","v":0},{"$f":"Macro!B7364","v":0},{"$f":"Macro!E7364","v":{"$error":"#DIV/0!"}}]
[null,{"$f":"Macro!A7365","v":0},{"$f":"Macro!B7365","v":0},{"$f":"Macro!E7365","v":{"$error":"#DIV/0!"}}]
[null,{"$f":"Macro!A7366","v":0},{"$f":"Macro!B7366","v":0},{"$f":"Macro!E7366","v":{"$error":"#DIV/0!"}}]
[null,{"$f":"Macro!A7367","v":0},{"$f":"Macro!B7367","v":0},{"$f":"Macro!E7367","v":{"$error":"#DIV/0!"}}]
[null,{"$f":"Macro!A7368","v":0},{"$f":"Macro!B7368","v":0},{"$f":"Macro!E7368","v":{"$error":"#DIV/0!"}}]
[null,{"$f":"Macro!A7369","v":0},{"$f":"Macro!B7369","v":0},{"$f":"Macro!E7369","v":{"$error":"#DIV/0!"}}]
[null,{"$f":"Macro!A7370","v":0},{"$f":"Macro!B7370","v":0},{"$f":"Macro!E7370","v":{"$error":"#DIV/0!"}}]
[null,{"$f":"Macro!A7371","v":0},{"$f":"Macro!B7371","v":0},{"$f":"Macro!E7371","v":{"$error":"#DIV/0!"}}]
[null,{"$f":"Macro!A7372","v":0},{"$f":"Macro!B7372","v":0},{"$f":"Macro!E7372","v":{"$error":"#DIV/0!"}}]
[null,{"$f":"Macro!A7373","v":0},{"$f":"Macro!B7373","v":0},{"$f":"Macro!E7373","v":{"$error":"#DIV/0!"}}]
[null,{"$f":"Macro!A7374","v":0},{"$f":"Macro!B7374","v":0},{"$f":"Macro!E7374","v":{"$error":"#DIV/0!"}}]
[null,{"$f":"Macro!A7375","v":0},{"$f":"Macro!B7375","v":0},{"$f":"Macro!E7375","v":{"$error":"#DIV/0!"}}]
[null,{"$f":"Macro!A7376","v":0},{"$f":"Macro!B7376","v":0},{"$f":"Macro!E7376","v":{"$error":"#DIV/0!"}}]
[null,{"$f":"Macro!A7377","v":0},{"$f":"Macro!B7377","v":0},{"$f":"Macro!E7377","v":{"$error":"#DIV/0!"}}]
[null,{"$f":"Macro!A7378","v":0},{"$f":"Macro!B7378","v":0},{"$f":"Macro!E7378","v":{"$error":"#DIV/0!"}}]
[null,{"$f":"Macro!A7379","v":0},{"$f":"Macro!B7379","v":0},{"$f":"Macro!E7379","v":{"$error":"#DIV/0!"}}]
[null,{"$f":"Macro!A7380","v":0},{"$f":"Macro!B7380","v":0},{"$f":"Macro!E7380","v":{"$error":"#DIV/0!"}}]
[null,{"$f":"Macro!A7381","v":0},{"$f":"Macro!B7381","v":0},{"$f":"Macro!E7381","v":{"$error":"#DIV/0!"}}]
[null,{"$f":"Macro!A7382","v":0},{"$f":"Macro!B7382","v":0},{"$f":"Macro!E7382","v":{"$error":"#DIV/0!"}}]
[null,{"$f":"Macro!A7383","v":0},{"$f":"Macro!B7383","v":0},{"$f":"Macro!E7383","v":{"$error":"#DIV/0!"}}]
[null,{"$f":"Macro!A7384","v":0},{"$f":"Macro!B7384","v":0},{"$f":"Macro!E7384","v":{"$error":"#DIV/0!"}}]
[null,{"$f":"Macro!A7385","v":0},{"$f":"Macro!B7385","v":0},{"$f":"Macro!E7385","v":{"$error":"#DIV/0!"}}]
[null,{"$f":"Macro!A7386","v":0},{"$f":"Macro!B7386","v":0},{"$f":"Macro!E7386","v":{"$error":"#DIV/0!"}}]
[null,{"$f":"Macro!A7387","v":0},{"$f":"Macro!B7387","v":0},{"$f":"Macro!E7387","v":{"$error":"#DIV/0!"}}]
[null,{"$f":"Macro!A7388","v":0},{"$f":"Macro!B7388","v":0},{"$f":"Macro!E7388","v":{"$error":"#DIV/0!"}}]
[null,{"$f":"Macro!A7389","v":0},{"$f":"Macro!B7389","v":0},{"$f":"Macro!E7389","v":{"$error":"#DIV/0!"}}]
[null,{"$f":"Macro!A7390","v":0},{"$f":"Macro!B7390","v":0},{"$f":"Macro!E7390","v":{"$error":"#DIV/0!"}}]
[null,{"$f":"Macro!A7391","v":0},{"$f":"Macro!B7391","v":0},{"$f":"Macro!E7391","v":{"$error":"#DIV/0!"}}]
[null,{"$f":"Macro!A7392","v":0},{"$f":"Macro!B7392","v":0},{"$f":"Macro!E7392","v":{"$error":"#DIV/0!"}}]
[null,{"$f":"Macro!A7393","v":0},{"$f":"Macro!B7393","v":0},{"$f":"Macro!E7393","v":{"$error":"#DIV/0!"}}]
[null,{"$f":"Macro!A7394","v":0},{"$f":"Macro!B7394","v":0},{"$f":"Macro!E7394","v":{"$error":"#DIV/0!"}}]
[null,{"$f":"Macro!A7395","v":0},{"$f":"Macro!B7395","v":0},{"$f":"Macro!E7395","v":{"$error":"#DIV/0!"}}]
[null,{"$f":"Macro!A7396","v":0},{"$f":"Macro!B7396","v":0},{"$f":"Macro!E7396","v":{"$error":"#DIV/0!"}}]
[null,{"$f":"Macro!A7397","v":0},{"$f":"Macro!B7397","v":0},{"$f":"Macro!E7397","v":{"$error":"#DIV/0!"}}]
[null,{"$f":"Macro!A7398","v":0},{"$f":"Macro!B7398","v":0},{"$f":"Macro!E7398","v":{"$error":"#DIV/0!"}}]
[null,{"$f":"Macro!A7399","v":0},{"$f":"Macro!B7399","v":0},{"$f":"Macro!E7399","v":{"$error":"#DIV/0!"}}]
[null,{"$f":"Macro!A7400","v":0},{"$f":"Macro!B7400","v":0},{"$f":"Macro!E7400","v":{"$error":"#DIV/0!"}}]
[null,{"$f":"Macro!A7401","v":0},{"$f":"Macro!B7401","v":0},{"$f":"Macro!E7401","v":{"$error":"#DIV/0!"}}]
[null,{"$f":"Macro!A7402","v":0},{"$f":"Macro!B7402","v":0},{"$f":"Macro!E7402","v":{"$error":"#DIV/0!"}}]
[null,{"$f":"Macro!A7403","v":0},{"$f":"Macro!B7403","v":0},{"$f":"Macro!E7403","v":{"$error":"#DIV/0!"}}]
[null,{"$f":"Macro!A7404","v":0},{"$f":"Macro!B7404","v":0},{"$f":"Macro!E7404","v":{"$error":"#DIV/0!"}}]
[null,{"$f":"Macro!A7405","v":0},{"$f":"Macro!B7405","v":0},{"$f":"Macro!E7405","v":{"$error":"#DIV/0!"}}]
[null,{"$f":"Macro!A7406","v":0},{"$f":"Macro!B7406","v":0},{"$f":"Macro!E7406","v":{"$error":"#DIV/0!"}}]
[null,{"$f":"Macro!A7407","v":0},{"$f":"Macro!B7407","v":0},{"$f":"Macro!E7407","v":{"$error":"#DIV/0!"}}]
[null,{"$f":"Macro!A7408","v":0},{"$f":"Macro!B7408","v":0},{"$f":"Macro!E7408","v":{"$error":"#DIV/0!"}}]
[null,{"$f":"Macro!A7409","v":0},{"$f":"Macro!B7409","v":0},{"$f":"Macro!E7409","v":{"$error":"#DIV/0!"}}]
[null,{"$f":"Macro!A7410","v":0},{"$f":"Macro!B7410","v":0},{"$f":"Macro!E7410","v":{"$error":"#DIV/0!"}}]
[null,{"$f":"Macro!A7411","v":0},{"$f":"Macro!B7411","v":0},{"$f":"Macro!E7411","v":{"$error":"#DIV/0!"}}]
[null,{"$f":"Macro!A7412","v":0},{"$f":"Macro!B7412","v":0},{"$f":"Macro!E7412","v":{"$error":"#DIV/0!"}}]
[null,{"$f":"Macro!A7413","v":0},{"$f":"Macro!B7413","v":0},{"$f":"Macro!E7413","v":{"$error":"#DIV/0!"}}]
[null,{"$f":"Macro!A7414","v":0},{"$f":"Macro!B7414","v":0},{"$f":"Macro!E7414","v":{"$error":"#DIV/0!"}}]
[null,{"$f":"Macro!A7415","v":0},{"$f":"Macro!B7415","v":0},{"$f":"Macro!E7415","v":{"$error":"#DIV/0!"}}]
[null,{"$f":"Macro!A7416","v":0},{"$f":"Macro!B7416","v":0},{"$f":"Macro!E7416","v":{"$error":"#DIV/0!"}}]
[null,{"$f":"Macro!A7417","v":0},{"$f":"Macro!B7417","v":0},{"$f":"Macro!E7417","v":{"$error":"#DIV/0!"}}]
[null,{"$f":"Macro!A7418","v":0},{"$f":"Macro!B7418","v":0},{"$f":"Macro!E7418","v":{"$error":"#DIV/0!"}}]
[null,{"$f":"Macro!A7419","v":0},{"$f":"Macro!B7419","v":0},{"$f":"Macro!E7419","v":{"$error":"#DIV/0!"}}]
[null,{"$f":"Macro!A7420","v":0},{"$f":"Macro!B7420","v":0},{"$f":"Macro!E7420","v":{"$error":"#DIV/0!"}}]
[null,{"$f":"Macro!A7421","v":0},{"$f":"Macro!B7421","v":0},{"$f":"Macro!E7421","v":{"$error":"#DIV/0!"}}]
[null,{"$f":"Macro!A7422","v":0},{"$f":"Macro!B7422","v":0},{"$f":"Macro!E7422","v":{"$error":"#DIV/0!"}}]
[null,{"$f":"Macro!A7423","v":0},{"$f":"Macro!B7423","v":0},{"$f":"Macro!E7423","v":{"$error":"#DIV/0!"}}]
[null,{"$f":"Macro!A7424","v":0},{"$f":"Macro!B7424","v":0},{"$f":"Macro!E7424","v":{"$error":"#DIV/0!"}}]
[null,{"$f":"Macro!A7425","v":0},{"$f":"Macro!B7425","v":0},{"$f":"Macro!E7425","v":{"$error":"#DIV/0!"}}]
[null,{"$f":"Macro!A7426","v":0},{"$f":"Macro!B7426","v":0},{"$f":"Macro!E7426","v":{"$error":"#DIV/0!"}}]
[null,{"$f":"Macro!A7427","v":0},{"$f":"Macro!B7427","v":0},{"$f":"Macro!E7427","v":{"$error":"#DIV/0!"}}]
[null,{"$f":"Macro!A7428","v":0},{"$f":"Macro!B7428","v":0},{"$f":"Macro!E7428","v":{"$error":"#DIV/0!"}}]
[null,{"$f":"Macro!A7429","v":0},{"$f":"Macro!B7429","v":0},{"$f":"Macro!E7429","v":{"$error":"#DIV/0!"}}]
[null,{"$f":"Macro!A7430","v":0},{"$f":"Macro!B7430","v":0},{"$f":"Macro!E7430","v":{"$error":"#DIV/0!"}}]
[null,{"$f":"Macro!A7431","v":0},{"$f":"Macro!B7431","v":0},{"$f":"Macro!E7431","v":{"$error":"#DIV/0!"}}]
[null,{"$f":"Macro!A7432","v":0},{"$f":"Macro!B7432","v":0},{"$f":"Macro!E7432","v":{"$error":"#DIV/0!"}}]
[null,{"$f":"Macro!A7433","v":0},{"$f":"Macro!B7433","v":0},{"$f":"Macro!E7433","v":{"$error":"#DIV/0!"}}]
[null,{"$f":"Macro!A7434","v":0},{"$f":"Macro!B7434","v":0},{"$f":"Macro!E7434","v":{"$error":"#DIV/0!"}}]
[null,{"$f":"Macro!A7435","v":0},{"$f":"Macro!B7435","v":0},{"$f":"Macro!E7435","v":{"$error":"#DIV/0!"}}]
[null,{"$f":"Macro!A7436","v":0},{"$f":"Macro!B7436","v":0},{"$f":"Macro!E7436","v":{"$error":"#DIV/0!"}}]
[null,{"$f":"Macro!A7437","v":0},{"$f":"Macro!B7437","v":0},{"$f":"Macro!E7437","v":{"$error":"#DIV/0!"}}]
[null,{"$f":"Macro!A7438","v":0},{"$f":"Macro!B7438","v":0},{"$f":"Macro!E7438","v":{"$error":"#DIV/0!"}}]
[null,{"$f":"Macro!A7439","v":0},{"$f":"Macro!B7439","v":0},{"$f":"Macro!E7439","v":{"$error":"#DIV/0!"}}]
[null,{"$f":"Macro!A7440","v":0},{"$f":"Macro!B7440","v":0},{"$f":"Macro!E7440","v":{"$error":"#DIV/0!"}}]
[null,{"$f":"Macro!A7441","v":0},{"$f":"Macro!B7441","v":0},{"$f":"Macro!E7441","v":{"$error":"#DIV/0!"}}]
[null,{"$f":"Macro!A7442","v":0},{"$f":"Macro!B7442","v":0},{"$f":"Macro!E7442","v":{"$error":"#DIV/0!"}}]
[null,{"$f":"Macro!A7443","v":0},{"$f":"Macro!B7443","v":0},{"$f":"Macro!E7443","v":{"$error":"#DIV/0!"}}]
[null,{"$f":"Macro!A7444","v":0},{"$f":"Macro!B7444","v":0},{"$f":"Macro!E7444","v":{"$error":"#DIV/0!"}}]
[null,{"$f":"Macro!A7445","v":0},{"$f":"Macro!B7445","v":0},{"$f":"Macro!E7445","v":{"$error":"#DIV/0!"}}]
[null,{"$f":"Macro!A7446","v":0},{"$f":"Macro!B7446","v":0},{"$f":"Macro!E7446","v":{"$error":"#DIV/0!"}}]
[null,{"$f":"Macro!A7447","v":0},{"$f":"Macro!B7447","v":0},{"$f":"Macro!E7447","v":{"$error":"#DIV/0!"}}]
[null,{"$f":"Macro!A7448","v":0},{"$f":"Macro!B7448","v":0},{"$f":"Macro!E7448","v":{"$error":"#DIV/0!"}}]
[null,{"$f":"Macro!A7449","v":0},{"$f":"Macro!B7449","v":0},{"$f":"Macro!E7449","v":{"$error":"#DIV/0!"}}]
[null,{"$f":"Macro!A7450","v":0},{"$f":"Macro!B7450","v":0},{"$f":"Macro!E7450","v":{"$error":"#DIV/0!"}}]
[null,{"$f":"Macro!A7451","v":0},{"$f":"Macro!B7451","v":0},{"$f":"Macro!E7451","v":{"$error":"#DIV/0!"}}]
[null,{"$f":"Macro!A7452","v":0},{"$f":"Macro!B7452","v":0},{"$f":"Macro!E7452","v":{"$error":"#DIV/0!"}}]
[null,{"$f":"Macro!A7453","v":0},{"$f":"Macro!B7453","v":0},{"$f":"Macro!E7453","v":{"$error":"#DIV/0!"}}]
[null,{"$f":"Macro!A7454","v":0},{"$f":"Macro!B7454","v":0},{"$f":"Macro!E7454","v":{"$error":"#DIV/0!"}}]
[null,{"$f":"Macro!A7455","v":0},{"$f":"Macro!B7455","v":0},{"$f":"Macro!E7455","v":{"$error":"#DIV/0!"}}]
[null,{"$f":"Macro!A7456","v":0},{"$f":"Macro!B7456","v":0},{"$f":"Macro!E7456","v":{"$error":"#DIV/0!"}}]
[null,{"$f":"Macro!A7457","v":0},{"$f":"Macro!B7457","v":0},{"$f":"Macro!E7457","v":{"$error":"#DIV/0!"}}]
[null,{"$f":"Macro!A7458","v":0},{"$f":"Macro!B7458","v":0},{"$f":"Macro!E7458","v":{"$error":"#DIV/0!"}}]
[null,{"$f":"Macro!A7459","v":0},{"$f":"Macro!B7459","v":0},{"$f":"Macro!E7459","v":{"$error":"#DIV/0!"}}]
[null,{"$f":"Macro!A7460","v":0},{"$f":"Macro!B7460","v":0},{"$f":"Macro!E7460","v":{"$error":"#DIV/0!"}}]
[null,{"$f":"Macro!A7461","v":0},{"$f":"Macro!B7461","v":0},{"$f":"Macro!E7461","v":{"$error":"#DIV/0!"}}]
[null,{"$f":"Macro!A7462","v":0},{"$f":"Macro!B7462","v":0},{"$f":"Macro!E7462","v":{"$error":"#DIV/0!"}}]
[null,{"$f":"Macro!A7463","v":0},{"$f":"Macro!B7463","v":0},{"$f":"Macro!E7463","v":{"$error":"#DIV/0!"}}]
[null,{"$f":"Macro!A7464","v":0},{"$f":"Macro!B7464","v":0},{"$f":"Macro!E7464","v":{"$error":"#DIV/0!"}}]
[null,{"$f":"Macro!A7465","v":0},{"$f":"Macro!B7465","v":0},{"$f":"Macro!E7465","v":{"$error":"#DIV/0!"}}]
[null,{"$f":"Macro!A7466","v":0},{"$f":"Macro!B7466","v":0},{"$f":"Macro!E7466","v":{"$error":"#DIV/0!"}}]
[null,{"$f":"Macro!A7467","v":0},{"$f":"Macro!B7467","v":0},{"$f":"Macro!E7467","v":{"$error":"#DIV/0!"}}]
[null,{"$f":"Macro!A7468","v":0},{"$f":"Macro!B7468","v":0},{"$f":"Macro!E7468","v":{"$error":"#DIV/0!"}}]
[null,{"$f":"Macro!A7469","v":0},{"$f":"Macro!B7469","v":0},{"$f":"Macro!E7469","v":{"$error":"#DIV/0!"}}]
[null,{"$f":"Macro!A7470","v":0},{"$f":"Macro!B7470","v":0},{"$f":"Macro!E7470","v":{"$error":"#DIV/0!"}}]
[null,{"$f":"Macro!A7471","v":0},{"$f":"Macro!B7471","v":0},{"$f":"Macro!E7471","v":{"$error":"#DIV/0!"}}]
[null,{"$f":"Macro!A7472","v":0},{"$f":"Macro!B7472","v":0},{"$f":"Macro!E7472","v":{"$error":"#DIV/0!"}}]
[null,{"$f":"Macro!A7473","v":0},{"$f":"Macro!B7473","v":0},{"$f":"Macro!E7473","v":{"$error":"#DIV/0!"}}]
[null,{"$f":"Macro!A7474","v":0},{"$f":"Macro!B7474","v":0},{"$f":"Macro!E7474","v":{"$error":"#DIV/0!"}}]
[null,{"$f":"Macro!A7475","v":0},{"$f":"Macro!B7475","v":0},{"$f":"Macro!E7475","v":{"$error":"#DIV/0!"}}]
[null,{"$f":"Macro!A7476","v":0},{"$f":"Macro!B7476","v":0},{"$f":"Macro!E7476","v":{"$error":"#DIV/0!"}}]
[null,{"$f":"Macro!A7477","v":0},{"$f":"Macro!B7477","v":0},{"$f":"Macro!E7477","v":{"$error":"#DIV/0!"}}]
[null,{"$f":"Macro!A7478","v":0},{"$f":"Macro!B7478","v":0},{"$f":"Macro!E7478","v":{"$error":"#DIV/0!"}}]
[null,{"$f":"Macro!A7479","v":0},{"$f":"Macro!B7479","v":0},{"$f":"Macro!E7479","v":{"$error":"#DIV/0!"}}]
[null,{"$f":"Macro!A7480","v":0},{"$f":"Macro!B7480","v":0},{"$f":"Macro!E7480","v":{"$error":"#DIV/0!"}}]
[null,{"$f":"Macro!A7481","v":0},{"$f":"Macro!B7481","v":0},{"$f":"Macro!E7481","v":{"$error":"#DIV/0!"}}]
[null,{"$f":"Macro!A7482","v":0},{"$f":"Macro!B7482","v":0},{"$f":"Macro!E7482","v":{"$error":"#DIV/0!"}}]
[null,{"$f":"Macro!A7483","v":0},{"$f":"Macro!B7483","v":0},{"$f":"Macro!E7483","v":{"$error":"#DIV/0!"}}]
[null,{"$f":"Macro!A7484","v":0},{"$f":"Macro!B7484","v":0},{"$f":"Macro!E7484","v":{"$error":"#DIV/0!"}}]
[null,{"$f":"Macro!A7485","v":0},{"$f":"Macro!B7485","v":0},{"$f":"Macro!E7485","v":{"$error":"#DIV/0!"}}]
[null,{"$f":"Macro!A7486","v":0},{"$f":"Macro!B7486","v":0},{"$f":"Macro!E7486","v":{"$error":"#DIV/0!"}}]
[null,{"$f":"Macro!A7487","v":0},{"$f":"Macro!B7487","v":0},{"$f":"Macro!E7487","v":{"$error":"#DIV/0!"}}]
[null,{"$f":"Macro!A7488","v":0},{"$f":"Macro!B7488","v":0},{"$f":"Macro!E7488","v":{"$error":"#DIV/0!"}}]
[null,{"$f":"Macro!A7489","v":0},{"$f":"Macro!B7489","v":0},{"$f":"Macro!E7489","v":{"$error":"#DIV/0!"}}]
[null,{"$f":"Macro!A7490","v":0},{"$f":"Macro!B7490","v":0},{"$f":"Macro!E7490","v":{"$error":"#DIV/0!"}}]
[null,{"$f":"Macro!A7491","v":0},{"$f":"Macro!B7491","v":0},{"$f":"Macro!E7491","v":{"$error":"#DIV/0!"}}]
[null,{"$f":"Macro!A7492","v":0},{"$f":"Macro!B7492","v":0},{"$f":"Macro!E7492","v":{"$error":"#DIV/0!"}}]
[null,{"$f":"Macro!A7493","v":0},{"$f":"Macro!B7493","v":0},{"$f":"Macro!E7493","v":{"$error":"#DIV/0!"}}]
[null,{"$f":"Macro!A7494","v":0},{"$f":"Macro!B7494","v":0},{"$f":"Macro!E7494","v":{"$error":"#DIV/0!"}}]
[null,{"$f":"Macro!A7495","v":0},{"$f":"Macro!B7495","v":0},{"$f":"Macro!E7495","v":{"$error":"#DIV/0!"}}]
[null,{"$f":"Macro!A7496","v":0},{"$f":"Macro!B7496","v":0},{"$f":"Macro!E7496","v":{"$error":"#DIV/0!"}}]
[null,{"$f":"Macro!A7497","v":0},{"$f":"Macro!B7497","v":0},{"$f":"Macro!E7497","v":{"$error":"#DIV/0!"}}]
[null,{"$f":"Macro!A7498","v":0},{"$f":"Macro!B7498","v":0},{"$f":"Macro!E7498","v":{"$error":"#DIV/0!"}}]
[null,{"$f":"Macro!A7499","v":0},{"$f":"Macro!B7499","v":0},{"$f":"Macro!E7499","v":{"$error":"#DIV/0!"}}]
[null,{"$f":"Macro!A7500","v":0},{"$f":"Macro!B7500","v":0},{"$f":"Macro!E7500","v":{"$error":"#DIV/0!"}}]
[null,{"$f":"Macro!A7501","v":0},{"$f":"Macro!B7501","v":0},{"$f":"Macro!E7501","v":{"$error":"#DIV/0!"}}]
[null,{"$f":"Macro!A7502","v":0},{"$f":"Macro!B7502","v":0},{"$f":"Macro!E7502","v":{"$error":"#DIV/0!"}}]
[null,{"$f":"Macro!A7503","v":0},{"$f":"Macro!B7503","v":0},{"$f":"Macro!E7503","v":{"$error":"#DIV/0!"}}]
[null,{"$f":"Macro!A7504","v":0},{"$f":"Macro!B7504","v":0},{"$f":"Macro!E7504","v":{"$error":"#DIV/0!"}}]
[null,{"$f":"Macro!A7505","v":0},{"$f":"Macro!B7505","v":0},{"$f":"Macro!E7505","v":{"$error":"#DIV/0!"}}]
[null,{"$f":"Macro!A7506","v":0},{"$f":"Macro!B7506","v":0},{"$f":"Macro!E7506","v":{"$error":"#DIV/0!"}}]
[null,{"$f":"Macro!A7507","v":0},{"$f":"Macro!B7507","v":0},{"$f":"Macro!E7507","v":{"$error":"#DIV/0!"}}]
[null,{"$f":"Macro!A7508","v":0},{"$f":"Macro!B7508","v":0},{"$f":"Macro!E7508","v":{"$error":"#DIV/0!"}}]
[null,{"$f":"Macro!A7509","v":0},{"$f":"Macro!B7509","v":0},{"$f":"Macro!E7509","v":{"$error":"#DIV/0!"}}]
[null,{"$f":"Macro!A7510","v":0},{"$f":"Macro!B7510","v":0},{"$f":"Macro!E7510","v":{"$error":"#DIV/0!"}}]
[null,{"$f":"Macro!A7511","v":0},{"$f":"Macro!B7511","v":0},{"$f":"Macro!E7511","v":{"$error":"#DIV/0!"}}]
[null,{"$f":"Macro!A7512","v":0},{"$f":"Macro!B7512","v":0},{"$f":"Macro!E7512","v":{"$error":"#DIV/0!"}}]
[null,{"$f":"Macro!A7513","v":0},{"$f":"Macro!B7513","v":0},{"$f":"Macro!E7513","v":{"$error":"#DIV/0!"}}]
[null,{"$f":"Macro!A7514","v":0},{"$f":"Macro!B7514","v":0},{"$f":"Macro!E7514","v":{"$error":"#DIV/0!"}}]
[null,{"$f":"Macro!A7515","v":0},{"$f":"Macro!B7515","v":0},{"$f":"Macro!E7515","v":{"$error":"#DIV/0!"}}]
[null,{"$f":"Macro!A7516","v":0},{"$f":"Macro!B7516","v":0},{"$f":"Macro!E7516","v":{"$error":"#DIV/0!"}}]
[null,{"$f":"Macro!A7517","v":0},{"$f":"Macro!B7517","v":0},{"$f":"Macro!E7517","v":{"$error":"#DIV/0!"}}]
[null,{"$f":"Macro!A7518","v":0},{"$f":"Macro!B7518","v":0},{"$f":"Macro!E7518","v":{"$error":"#DIV/0!"}}]
[null,{"$f":"Macro!A7519","v":0},{"$f":"Macro!B7519","v":0},{"$f":"Macro!E7519","v":{"$error":"#DIV/0!"}}]
[null,{"$f":"Macro!A7520","v":0},{"$f":"Macro!B7520","v":0},{"$f":"Macro!E7520","v":{"$error":"#DIV/0!"}}]
[null,{"$f":"Macro!A7521","v":0},{"$f":"Macro!B7521","v":0},{"$f":"Macro!E7521","v":{"$error":"#DIV/0!"}}]
[null,{"$f":"Macro!A7522","v":0},{"$f":"Macro!B7522","v":0},{"$f":"Macro!E7522","v":{"$error":"#DIV/0!"}}]
[null,{"$f":"Macro!A7523","v":0},{"$f":"Macro!B7523","v":0},{"$f":"Macro!E7523","v":{"$error":"#DIV/0!"}}]
[null,{"$f":"Macro!A7524","v":0},{"$f":"Macro!B7524","v":0},{"$f":"Macro!E7524","v":{"$error":"#DIV/0!"}}]
[null,{"$f":"Macro!A7525","v":0},{"$f":"Macro!B7525","v":0},{"$f":"Macro!E7525","v":{"$error":"#DIV/0!"}}]
[null,{"$f":"Macro!A7526","v":0},{"$f":"Macro!B7526","v":0},{"$f":"Macro!E7526","v":{"$error":"#DIV/0!"}}]
[null,{"$f":"Macro!A7527","v":0},{"$f":"Macro!B7527","v":0},{"$f":"Macro!E7527","v":{"$error":"#DIV/0!"}}]
[null,{"$f":"Macro!A7528","v":0},{"$f":"Macro!B7528","v":0},{"$f":"Macro!E7528","v":{"$error":"#DIV/0!"}}]
[null,{"$f":"Macro!A7529","v":0},{"$f":"Macro!B7529","v":0},{"$f":"Macro!E7529","v":{"$error":"#DIV/0!"}}]
[null,{"$f":"Macro!A7530","v":0},{"$f":"Macro!B7530","v":0},{"$f":"Macro!E7530","v":{"$error":"#DIV/0!"}}]
[null,{"$f":"Macro!A7531","v":0},{"$f":"Macro!B7531","v":0},{"$f":"Macro!E7531","v":{"$error":"#DIV/0!"}}]
[null,{"$f":"Macro!A7532","v":0},{"$f":"Macro!B7532","v":0},{"$f":"Macro!E7532","v":{"$error":"#DIV/0!"}}]
[null,{"$f":"Macro!A7533","v":0},{"$f":"Macro!B7533","v":0},{"$f":"Macro!E7533","v":{"$error":"#DIV/0!"}}]
[null,{"$f":"Macro!A7534","v":0},{"$f":"Macro!B7534","v":0},{"$f":"Macro!E7534","v":{"$error":"#DIV/0!"}}]
[null,{"$f":"Macro!A7535","v":0},{"$f":"Macro!B7535","v":0},{"$f":"Macro!E7535","v":{"$error":"#DIV/0!"}}]
[null,{"$f":"Macro!A7536","v":0},{"$f":"Macro!B7536","v":0},{"$f":"Macro!E7536","v":{"$error":"#DIV/0!"}}]
[null,{"$f":"Macro!A7537","v":0},{"$f":"Macro!B7537","v":0},{"$f":"Macro!E7537","v":{"$error":"#DIV/0!"}}]
[null,{"$f":"Macro!A7538","v":0},{"$f":"Macro!B7538","v":0},{"$f":"Macro!E7538","v":{"$error":"#DIV/0!"}}]
[null,{"$f":"Macro!A7539","v":0},{"$f":"Macro!B7539","v":0},{"$f":"Macro!E7539","v":{"$error":"#DIV/0!"}}]
[null,{"$f":"Macro!A7540","v":0},{"$f":"Macro!B7540","v":0},{"$f":"Macro!E7540","v":{"$error":"#DIV/0!"}}]
[null,{"$f":"Macro!A7541","v":0},{"$f":"Macro!B7541","v":0},{"$f":"Macro!E7541","v":{"$error":"#DIV/0!"}}]
[null,{"$f":"Macro!A7542","v":0},{"$f":"Macro!B7542","v":0},{"$f":"Macro!E7542","v":{"$error":"#DIV/0!"}}]
[null,{"$f":"Macro!A7543","v":0},{"$f":"Macro!B7543","v":0},{"$f":"Macro!E7543","v":{"$error":"#DIV/0!"}}]
[null,{"$f":"Macro!A7544","v":0},{"$f":"Macro!B7544","v":0},{"$f":"Macro!E7544","v":{"$error":"#DIV/0!"}}]
[null,{"$f":"Macro!A7545","v":0},{"$f":"Macro!B7545","v":0},{"$f":"Macro!E7545","v":{"$error":"#DIV/0!"}}]
[null,{"$f":"Macro!A7546","v":0},{"$f":"Macro!B7546","v":0},{"$f":"Macro!E7546","v":{"$error":"#DIV/0!"}}]
[null,{"$f":"Macro!A7547","v":0},{"$f":"Macro!B7547","v":0},{"$f":"Macro!E7547","v":{"$error":"#DIV/0!"}}]
[null,{"$f":"Macro!A7548","v":0},{"$f":"Macro!B7548","v":0},{"$f":"Macro!E7548","v":{"$error":"#DIV/0!"}}]
[null,{"$f":"Macro!A7549","v":0},{"$f":"Macro!B7549","v":0},{"$f":"Macro!E7549","v":{"$error":"#DIV/0!"}}]
[null,{"$f":"Macro!A7550","v":0},{"$f":"Macro!B7550","v":0},{"$f":"Macro!E7550","v":{"$error":"#DIV/0!"}}]
[null,{"$f":"Macro!A7551","v":0},{"$f":"Macro!B7551","v":0},{"$f":"Macro!E7551","v":{"$error":"#DIV/0!"}}]
[null,{"$f":"Macro!A7552","v":0},{"$f":"Macro!B7552","v":0},{"$f":"Macro!E7552","v":{"$error":"#DIV/0!"}}]
[null,{"$f":"Macro!A7553","v":0},{"$f":"Macro!B7553","v":0},{"$f":"Macro!E7553","v":{"$error":"#DIV/0!"}}]
[null,{"$f":"Macro!A7554","v":0},{"$f":"Macro!B7554","v":0},{"$f":"Macro!E7554","v":{"$error":"#DIV/0!"}}]
[null,{"$f":"Macro!A7555","v":0},{"$f":"Macro!B7555","v":0},{"$f":"Macro!E7555","v":{"$error":"#DIV/0!"}}]
[null,{"$f":"Macro!A7556","v":0},{"$f":"Macro!B7556","v":0},{"$f":"Macro!E7556","v":{"$error":"#DIV/0!"}}]
[null,{"$f":"Macro!A7557","v":0},{"$f":"Macro!B7557","v":0},{"$f":"Macro!E7557","v":{"$error":"#DIV/0!"}}]
[null,{"$f":"Macro!A7558","v":0},{"$f":"Macro!B7558","v":0},{"$f":"Macro!E7558","v":{"$error":"#DIV/0!"}}]
[null,{"$f":"Macro!A7559","v":0},{"$f":"Macro!B7559","v":0},{"$f":"Macro!E7559","v":{"$error":"#DIV/0!"}}]
[null,{"$f":"Macro!A7560","v":0},{"$f":"Macro!B7560","v":0},{"$f":"Macro!E7560","v":{"$error":"#DIV/0!"}}]
[null,{"$f":"Macro!A7561","v":0},{"$f":"Macro!B7561","v":0},{"$f":"Macro!E7561","v":{"$error":"#DIV/0!"}}]
[null,{"$f":"Macro!A7562","v":0},{"$f":"Macro!B7562","v":0},{"$f":"Macro!E7562","v":{"$error":"#DIV/0!"}}]
[null,{"$f":"Macro!A7563","v":0},{"$f":"Macro!B7563","v":0},{"$f":"Macro!E7563","v":{"$error":"#DIV/0!"}}]
[null,{"$f":"Macro!A7564","v":0},{"$f":"Macro!B7564","v":0},{"$f":"Macro!E7564","v":{"$error":"#DIV/0!"}}]
[null,{"$f":"Macro!A7565","v":0},{"$f":"Macro!B7565","v":0},{"$f":"Macro!E7565","v":{"$error":"#DIV/0!"}}]
[null,{"$f":"Macro!A7566","v":0},{"$f":"Macro!B7566","v":0},{"$f":"Macro!E7566","v":{"$error":"#DIV/0!"}}]
[null,{"$f":"Macro!A7567","v":0},{"$f":"Macro!B7567","v":0},{"$f":"Macro!E7567","v":{"$error":"#DIV/0!"}}]
[null,{"$f":"Macro!A7568","v":0},{"$f":"Macro!B7568","v":0},{"$f":"Macro!E7568","v":{"$error":"#DIV/0!"}}]
[null,{"$f":"Macro!A7569","v":0},{"$f":"Macro!B7569","v":0},{"$f":"Macro!E7569","v":{"$error":"#DIV/0!"}}]
[null,{"$f":"Macro!A7570","v":0},{"$f":"Macro!B7570","v":0},{"$f":"Macro!E7570","v":{"$error":"#DIV/0!"}}]
[null,{"$f":"Macro!A7571","v":0},{"$f":"Macro!B7571","v":0},{"$f":"Macro!E7571","v":{"$error":"#DIV/0!"}}]
[null,{"$f":"Macro!A7572","v":0},{"$f":"Macro!B7572","v":0},{"$f":"Macro!E7572","v":{"$error":"#DIV/0!"}}]
[null,{"$f":"Macro!A7573","v":0},{"$f":"Macro!B7573","v":0},{"$f":"Macro!E7573","v":{"$error":"#DIV/0!"}}]
[null,{"$f":"Macro!A7574","v":0},{"$f":"Macro!B7574","v":0},{"$f":"Macro!E7574","v":{"$error":"#DIV/0!"}}]
[null,{"$f":"Macro!A7575","v":0},{"$f":"Macro!B7575","v":0},{"$f":"Macro!E7575","v":{"$error":"#DIV/0!"}}]
[null,{"$f":"Macro!A7576","v":0},{"$f":"Macro!B7576","v":0},{"$f":"Macro!E7576","v":{"$error":"#DIV/0!"}}]
[null,{"$f":"Macro!A7577","v":0},{"$f":"Macro!B7577","v":0},{"$f":"Macro!E7577","v":{"$error":"#DIV/0!"}}]
[null,{"$f":"Macro!A7578","v":0},{"$f":"Macro!B7578","v":0},{"$f":"Macro!E7578","v":{"$error":"#DIV/0!"}}]
[null,{"$f":"Macro!A7579","v":0},{"$f":"Macro!B7579","v":0},{"$f":"Macro!E7579","v":{"$error":"#DIV/0!"}}]
[null,{"$f":"Macro!A7580","v":0},{"$f":"Macro!B7580","v":0},{"$f":"Macro!E7580","v":{"$error":"#DIV/0!"}}]
[null,{"$f":"Macro!A7581","v":0},{"$f":"Macro!B7581","v":0},{"$f":"Macro!E7581","v":{"$error":"#DIV/0!"}}]
[null,{"$f":"Macro!A7582","v":0},{"$f":"Macro!B7582","v":0},{"$f":"Macro!E7582","v":{"$error":"#DIV/0!"}}]
[null,{"$f":"Macro!A7583","v":0},{"$f":"Macro!B7583","v":0},{"$f":"Macro!E7583","v":{"$error":"#DIV/0!"}}]
[null,{"$f":"Macro!A7584","v":0},{"$f":"Macro!B7584","v":0},{"$f":"Macro!E7584","v":{"$error":"#DIV/0!"}}]
[null,{"$f":"Macro!A7585","v":0},{"$f":"Macro!B7585","v":0},{"$f":"Macro!E7585","v":{"$error":"#DIV/0!"}}]
[null,{"$f":"Macro!A7586","v":0},{"$f":"Macro!B7586","v":0},{"$f":"Macro!E7586","v":{"$error":"#DIV/0!"}}]
[null,{"$f":"Macro!A7587","v":0},{"$f":"Macro!B7587","v":0},{"$f":"Macro!E7587","v":{"$error":"#DIV/0!"}}]
[null,{"$f":"Macro!A7588","v":0},{"$f":"Macro!B7588","v":0},{"$f":"Macro!E7588","v":{"$error":"#DIV/0!"}}]
[null,{"$f":"Macro!A7589","v":0},{"$f":"Macro!B7589","v":0},{"$f":"Macro!E7589","v":{"$error":"#DIV/0!"}}]
[null,{"$f":"Macro!A7590","v":0},{"$f":"Macro!B7590","v":0},{"$f":"Macro!E7590","v":{"$error":"#DIV/0!"}}]
[null,{"$f":"Macro!A7591","v":0},{"$f":"Macro!B7591","v":0},{"$f":"Macro!E7591","v":{"$error":"#DIV/0!"}}]
[null,{"$f":"Macro!A7592","v":0},{"$f":"Macro!B7592","v":0},{"$f":"Macro!E7592","v":{"$error":"#DIV/0!"}}]
[null,{"$f":"Macro!A7593","v":0},{"$f":"Macro!B7593","v":0},{"$f":"Macro!E7593","v":{"$error":"#DIV/0!"}}]
[null,{"$f":"Macro!A7594","v":0},{"$f":"Macro!B7594","v":0},{"$f":"Macro!E7594","v":{"$error":"#DIV/0!"}}]
[null,{"$f":"Macro!A7595","v":0},{"$f":"Macro!B7595","v":0},{"$f":"Macro!E7595","v":{"$error":"#DIV/0!"}}]
[null,{"$f":"Macro!A7596","v":0},{"$f":"Macro!B7596","v":0},{"$f":"Macro!E7596","v":{"$error":"#DIV/0!"}}]
[null,{"$f":"Macro!A7597","v":0},{"$f":"Macro!B7597","v":0},{"$f":"Macro!E7597","v":{"$error":"#DIV/0!"}}]
[null,{"$f":"Macro!A7598","v":0},{"$f":"Macro!B7598","v":0},{"$f":"Macro!E7598","v":{"$error":"#DIV/0!"}}]
[null,{"$f":"Macro!A7599","v":0},{"$f":"Macro!B7599","v":0},{"$f":"Macro!E7599","v":{"$error":"#DIV/0!"}}]
[null,{"$f":"Macro!A7600","v":0},{"$f":"Macro!B7600","v":0},{"$f":"Macro!E7600","v":{"$error":"#DIV/0!"}}]
[null,{"$f":"Macro!A7601","v":0},{"$f":"Macro!B7601","v":0},{"$f":"Macro!E7601","v":{"$error":"#DIV/0!"}}]
[null,{"$f":"Macro!A7602","v":0},{"$f":"Macro!B7602","v":0},{"$f":"Macro!E7602","v":{"$error":"#DIV/0!"}}]
[null,{"$f":"Macro!A7603","v":0},{"$f":"Macro!B7603","v":0},{"$f":"Macro!E7603","v":{"$error":"#DIV/0!"}}]
[null,{"$f":"Macro!A7604","v":0},{"$f":"Macro!B7604","v":0},{"$f":"Macro!E7604","v":{"$error":"#DIV/0!"}}]
[null,{"$f":"Macro!A7605","v":0},{"$f":"Macro!B7605","v":0},{"$f":"Macro!E7605","v":{"$error":"#DIV/0!"}}]
[null,{"$f":"Macro!A7606","v":0},{"$f":"Macro!B7606","v":0},{"$f":"Macro!E7606","v":{"$error":"#DIV/0!"}}]
[null,{"$f":"Macro!A7607","v":0},{"$f":"Macro!B7607","v":0},{"$f":"Macro!E7607","v":{"$error":"#DIV/0!"}}]
[null,{"$f":"Macro!A7608","v":0},{"$f":"Macro!B7608","v":0},{"$f":"Macro!E7608","v":{"$error":"#DIV/0!"}}]
[null,{"$f":"Macro!A7609","v":0},{"$f":"Macro!B7609","v":0},{"$f":"Macro!E7609","v":{"$error":"#DIV/0!"}}]
[null,{"$f":"Macro!A7610","v":0},{"$f":"Macro!B7610","v":0},{"$f":"Macro!E7610","v":{"$error":"#DIV/0!"}}]
[null,{"$f":"Macro!A7611","v":0},{"$f":"Macro!B7611","v":0},{"$f":"Macro!E7611","v":{"$error":"#DIV/0!"}}]
[null,{"$f":"Macro!A7612","v":0},{"$f":"Macro!B7612","v":0},{"$f":"Macro!E7612","v":{"$error":"#DIV/0!"}}]
[null,{"$f":"Macro!A7613","v":0},{"$f":"Macro!B7613","v":0},{"$f":"Macro!E7613","v":{"$error":"#DIV/0!"}}]
[null,{"$f":"Macro!A7614","v":0},{"$f":"Macro!B7614","v":0},{"$f":"Macro!E7614","v":{"$error":"#DIV/0!"}}]
[null,{"$f":"Macro!A7615","v":0},{"$f":"Macro!B7615","v":0},{"$f":"Macro!E7615","v":{"$error":"#DIV/0!"}}]
[null,{"$f":"Macro!A7616","v":0},{"$f":"Macro!B7616","v":0},{"$f":"Macro!E7616","v":{"$error":"#DIV/0!"}}]
[null,{"$f":"Macro!A7617","v":0},{"$f":"Macro!B7617","v":0},{"$f":"Macro!E7617","v":{"$error":"#DIV/0!"}}]
[null,{"$f":"Macro!A7618","v":0},{"$f":"Macro!B7618","v":0},{"$f":"Macro!E7618","v":{"$error":"#DIV/0!"}}]
[null,{"$f":"Macro!A7619","v":0},{"$f":"Macro!B7619","v":0},{"$f":"Macro!E7619","v":{"$error":"#DIV/0!"}}]
[null,{"$f":"Macro!A7620","v":0},{"$f":"Macro!B7620","v":0},{"$f":"Macro!E7620","v":{"$error":"#DIV/0!"}}]
[null,{"$f":"Macro!A7621","v":0},{"$f":"Macro!B7621","v":0},{"$f":"Macro!E7621","v":{"$error":"#DIV/0!"}}]
[null,{"$f":"Macro!A7622","v":0},{"$f":"Macro!B7622","v":0},{"$f":"Macro!E7622","v":{"$error":"#DIV/0!"}}]
[null,{"$f":"Macro!A7623","v":0},{"$f":"Macro!B7623","v":0},{"$f":"Macro!E7623","v":{"$error":"#DIV/0!"}}]
[null,{"$f":"Macro!A7624","v":0},{"$f":"Macro!B7624","v":0},{"$f":"Macro!E7624","v":{"$error":"#DIV/0!"}}]
[null,{"$f":"Macro!A7625","v":0},{"$f":"Macro!B7625","v":0},{"$f":"Macro!E7625","v":{"$error":"#DIV/0!"}}]
[null,{"$f":"Macro!A7626","v":0},{"$f":"Macro!B7626","v":0},{"$f":"Macro!E7626","v":{"$error":"#DIV/0!"}}]
[null,{"$f":"Macro!A7627","v":0},{"$f":"Macro!B7627","v":0},{"$f":"Macro!E7627","v":{"$error":"#DIV/0!"}}]
[null,{"$f":"Macro!A7628","v":0},{"$f":"Macro!B7628","v":0},{"$f":"Macro!E7628","v":{"$error":"#DIV/0!"}}]
[null,{"$f":"Macro!A7629","v":0},{"$f":"Macro!B7629","v":0},{"$f":"Macro!E7629","v":{"$error":"#DIV/0!"}}]
[null,{"$f":"Macro!A7630","v":0},{"$f":"Macro!B7630","v":0},{"$f":"Macro!E7630","v":{"$error":"#DIV/0!"}}]
[null,{"$f":"Macro!A7631","v":0},{"$f":"Macro!B7631","v":0},{"$f":"Macro!E7631","v":{"$error":"#DIV/0!"}}]
[null,{"$f":"Macro!A7632","v":0},{"$f":"Macro!B7632","v":0},{"$f":"Macro!E7632","v":{"$error":"#DIV/0!"}}]
[null,{"$f":"Macro!A7633","v":0},{"$f":"Macro!B7633","v":0},{"$f":"Macro!E7633","v":{"$error":"#DIV/0!"}}]
[null,{"$f":"Macro!A7634","v":0},{"$f":"Macro!B7634","v":0},{"$f":"Macro!E7634","v":{"$error":"#DIV/0!"}}]
[null,{"$f":"Macro!A7635","v":0},{"$f":"Macro!B7635","v":0},{"$f":"Macro!E7635","v":{"$error":"#DIV/0!"}}]
[null,{"$f":"Macro!A7636","v":0},{"$f":"Macro!B7636","v":0},{"$f":"Macro!E7636","v":{"$error":"#DIV/0!"}}]
[null,{"$f":"Macro!A7637","v":0},{"$f":"Macro!B7637","v":0},{"$f":"Macro!E7637","v":{"$error":"#DIV/0!"}}]
[null,{"$f":"Macro!A7638","v":0},{"$f":"Macro!B7638","v":0},{"$f":"Macro!E7638","v":{"$error":"#DIV/0!"}}]
[null,{"$f":"Macro!A7639","v":0},{"$f":"Macro!B7639","v":0},{"$f":"Macro!E7639","v":{"$error":"#DIV/0!"}}]
[null,{"$f":"Macro!A7640","v":0},{"$f":"Macro!B7640","v":0},{"$f":"Macro!E7640","v":{"$error":"#DIV/0!"}}]
[null,{"$f":"Macro!A7641","v":0},{"$f":"Macro!B7641","v":0},{"$f":"Macro!E7641","v":{"$error":"#DIV/0!"}}]
[null,{"$f":"Macro!A7642","v":0},{"$f":"Macro!B7642","v":0},{"$f":"Macro!E7642","v":{"$error":"#DIV/0!"}}]
[null,{"$f":"Macro!A7643","v":0},{"$f":"Macro!B7643","v":0},{"$f":"Macro!E7643","v":{"$error":"#DIV/0!"}}]
[null,{"$f":"Macro!A7644","v":0},{"$f":"Macro!B7644","v":0},{"$f":"Macro!E7644","v":{"$error":"#DIV/0!"}}]
[null,{"$f":"Macro!A7645","v":0},{"$f":"Macro!B7645","v":0},{"$f":"Macro!E7645","v":{"$error":"#DIV/0!"}}]
[null,{"$f":"Macro!A7646","v":0},{"$f":"Macro!B7646","v":0},{"$f":"Macro!E7646","v":{"$error":"#DIV/0!"}}]
[null,{"$f":"Macro!A7647","v":0},{"$f":"Macro!B7647","v":0},{"$f":"Macro!E7647","v":{"$error":"#DIV/0!"}}]
[null,{"$f":"Macro!A7648","v":0},{"$f":"Macro!B7648","v":0},{"$f":"Macro!E7648","v":{"$error":"#DIV/0!"}}]
[null,{"$f":"Macro!A7649","v":0},{"$f":"Macro!B7649","v":0},{"$f":"Macro!E7649","v":{"$error":"#DIV/0!"}}]
[null,{"$f":"Macro!A7650","v":0},{"$f":"Macro!B7650","v":0},{"$f":"Macro!E7650","v":{"$error":"#DIV/0!"}}]
[null,{"$f":"Macro!A7651","v":0},{"$f":"Macro!B7651","v":0},{"$f":"Macro!E7651","v":{"$error":"#DIV/0!"}}]
[null,{"$f":"Macro!A7652","v":0},{"$f":"Macro!B7652","v":0},{"$f":"Macro!E7652","v":{"$error":"#DIV/0!"}}]
[null,{"$f":"Macro!A7653","v":0},{"$f":"Macro!B7653","v":0},{"$f":"Macro!E7653","v":{"$error":"#DIV/0!"}}]
[null,{"$f":"Macro!A7654","v":0},{"$f":"Macro!B7654","v":0},{"$f":"Macro!E7654","v":{"$error":"#DIV/0!"}}]
[null,{"$f":"Macro!A7655","v":0},{"$f":"Macro!B7655","v":0},{"$f":"Macro!E7655","v":{"$error":"#DIV/0!"}}]
[null,{"$f":"Macro!A7656","v":0},{"$f":"Macro!B7656","v":0},{"$f":"Macro!E7656","v":{"$error":"#DIV/0!"}}]
[null,{"$f":"Macro!A7657","v":0},{"$f":"Macro!B7657","v":0},{"$f":"Macro!E7657","v":{"$error":"#DIV/0!"}}]
[null,{"$f":"Macro!A7658","v":0},{"$f":"Macro!B7658","v":0},{"$f":"Macro!E7658","v":{"$error":"#DIV/0!"}}]
[null,{"$f":"Macro!A7659","v":0},{"$f":"Macro!B7659","v":0},{"$f":"Macro!E7659","v":{"$error":"#DIV/0!"}}]
[null,{"$f":"Macro!A7660","v":0},{"$f":"Macro!B7660","v":0},{"$f":"Macro!E7660","v":{"$error":"#DIV/0!"}}]
[null,{"$f":"Macro!A7661","v":0},{"$f":"Macro!B7661","v":0},{"$f":"Macro!E7661","v":{"$error":"#DIV/0!"}}]
[null,{"$f":"Macro!A7662","v":0},{"$f":"Macro!B7662","v":0},{"$f":"Macro!E7662","v":{"$error":"#DIV/0!"}}]
[null,{"$f":"Macro!A7663","v":0},{"$f":"Macro!B7663","v":0},{"$f":"Macro!E7663","v":{"$error":"#DIV/0!"}}]
[null,{"$f":"Macro!A7664","v":0},{"$f":"Macro!B7664","v":0},{"$f":"Macro!E7664","v":{"$error":"#DIV/0!"}}]
[null,{"$f":"Macro!A7665","v":0},{"$f":"Macro!B7665","v":0},{"$f":"Macro!E7665","v":{"$error":"#DIV/0!"}}]
[null,{"$f":"Macro!A7666","v":0},{"$f":"Macro!B7666","v":0},{"$f":"Macro!E7666","v":{"$error":"#DIV/0!"}}]
[null,{"$f":"Macro!A7667","v":0},{"$f":"Macro!B7667","v":0},{"$f":"Macro!E7667","v":{"$error":"#DIV/0!"}}]
[null,{"$f":"Macro!A7668","v":0},{"$f":"Macro!B7668","v":0},{"$f":"Macro!E7668","v":{"$error":"#DIV/0!"}}]
[null,{"$f":"Macro!A7669","v":0},{"$f":"Macro!B7669","v":0},{"$f":"Macro!E7669","v":{"$error":"#DIV/0!"}}]
[null,{"$f":"Macro!A7670","v":0},{"$f":"Macro!B7670","v":0},{"$f":"Macro!E7670","v":{"$error":"#DIV/0!"}}]
[null,{"$f":"Macro!A7671","v":0},{"$f":"Macro!B7671","v":0},{"$f":"Macro!E7671","v":{"$error":"#DIV/0!"}}]
[null,{"$f":"Macro!A7672","v":0},{"$f":"Macro!B7672","v":0},{"$f":"Macro!E7672","v":{"$error":"#DIV/0!"}}]
[null,{"$f":"Macro!A7673","v":0},{"$f":"Macro!B7673","v":0},{"$f":"Macro!E7673","v":{"$error":"#DIV/0!"}}]
[null,{"$f":"Macro!A7674","v":0},{"$f":"Macro!B7674","v":0},{"$f":"Macro!E7674","v":{"$error":"#DIV/0!"}}]
[null,{"$f":"Macro!A7675","v":0},{"$f":"Macro!B7675","v":0},{"$f":"Macro!E7675","v":{"$error":"#DIV/0!"}}]
[null,{"$f":"Macro!A7676","v":0},{"$f":"Macro!B7676","v":0},{"$f":"Macro!E7676","v":{"$error":"#DIV/0!"}}]
[null,{"$f":"Macro!A7677","v":0},{"$f":"Macro!B7677","v":0},{"$f":"Macro!E7677","v":{"$error":"#DIV/0!"}}]
[null,{"$f":"Macro!A7678","v":0},{"$f":"Macro!B7678","v":0},{"$f":"Macro!E7678","v":{"$error":"#DIV/0!"}}]
[null,{"$f":"Macro!A7679","v":0},{"$f":"Macro!B7679","v":0},{"$f":"Macro!E7679","v":{"$error":"#DIV/0!"}}]
[null,{"$f":"Macro!A7680","v":0},{"$f":"Macro!B7680","v":0},{"$f":"Macro!E7680","v":{"$error":"#DIV/0!"}}]
[null,{"$f":"Macro!A7681","v":0},{"$f":"Macro!B7681","v":0},{"$f":"Macro!E7681","v":{"$error":"#DIV/0!"}}]
[null,{"$f":"Macro!A7682","v":0},{"$f":"Macro!B7682","v":0},{"$f":"Macro!E7682","v":{"$error":"#DIV/0!"}}]
[null,{"$f":"Macro!A7683","v":0},{"$f":"Macro!B7683","v":0},{"$f":"Macro!E7683","v":{"$error":"#DIV/0!"}}]
[null,{"$f":"Macro!A7684","v":0},{"$f":"Macro!B7684","v":0},{"$f":"Macro!E7684","v":{"$error":"#DIV/0!"}}]
[null,{"$f":"Macro!A7685","v":0},{"$f":"Macro!B7685","v":0},{"$f":"Macro!E7685","v":{"$error":"#DIV/0!"}}]
[null,{"$f":"Macro!A7686","v":0},{"$f":"Macro!B7686","v":0},{"$f":"Macro!E7686","v":{"$error":"#DIV/0!"}}]
[null,{"$f":"Macro!A7687","v":0},{"$f":"Macro!B7687","v":0},{"$f":"Macro!E7687","v":{"$error":"#DIV/0!"}}]
[null,{"$f":"Macro!A7688","v":0},{"$f":"Macro!B7688","v":0},{"$f":"Macro!E7688","v":{"$error":"#DIV/0!"}}]
[null,{"$f":"Macro!A7689","v":0},{"$f":"Macro!B7689","v":0},{"$f":"Macro!E7689","v":{"$error":"#DIV/0!"}}]
[null,{"$f":"Macro!A7690","v":0},{"$f":"Macro!B7690","v":0},{"$f":"Macro!E7690","v":{"$error":"#DIV/0!"}}]
[null,{"$f":"Macro!A7691","v":0},{"$f":"Macro!B7691","v":0},{"$f":"Macro!E7691","v":{"$error":"#DIV/0!"}}]
[null,{"$f":"Macro!A7692","v":0},{"$f":"Macro!B7692","v":0},{"$f":"Macro!E7692","v":{"$error":"#DIV/0!"}}]
[null,{"$f":"Macro!A7693","v":0},{"$f":"Macro!B7693","v":0},{"$f":"Macro!E7693","v":{"$error":"#DIV/0!"}}]
[null,{"$f":"Macro!A7694","v":0},{"$f":"Macro!B7694","v":0},{"$f":"Macro!E7694","v":{"$error":"#DIV/0!"}}]
[null,{"$f":"Macro!A7695","v":0},{"$f":"Macro!B7695","v":0},{"$f":"Macro!E7695","v":{"$error":"#DIV/0!"}}]
[null,{"$f":"Macro!A7696","v":0},{"$f":"Macro!B7696","v":0},{"$f":"Macro!E7696","v":{"$error":"#DIV/0!"}}]
[null,{"$f":"Macro!A7697","v":0},{"$f":"Macro!B7697","v":0},{"$f":"Macro!E7697","v":{"$error":"#DIV/0!"}}]
[null,{"$f":"Macro!A7698","v":0},{"$f":"Macro!B7698","v":0},{"$f":"Macro!E7698","v":{"$error":"#DIV/0!"}}]
[null,{"$f":"Macro!A7699","v":0},{"$f":"Macro!B7699","v":0},{"$f":"Macro!E7699","v":{"$error":"#DIV/0!"}}]
[null,{"$f":"Macro!A7700","v":0},{"$f":"Macro!B7700","v":0},{"$f":"Macro!E7700","v":{"$error":"#DIV/0!"}}]
[null,{"$f":"Macro!A7701","v":0},{"$f":"Macro!B7701","v":0},{"$f":"Macro!E7701","v":{"$error":"#DIV/0!"}}]
[null,{"$f":"Macro!A7702","v":0},{"$f":"Macro!B7702","v":0},{"$f":"Macro!E7702","v":{"$error":"#DIV/0!"}}]
[null,{"$f":"Macro!A7703","v":0},{"$f":"Macro!B7703","v":0},{"$f":"Macro!E7703","v":{"$error":"#DIV/0!"}}]
[null,{"$f":"Macro!A7704","v":0},{"$f":"Macro!B7704","v":0},{"$f":"Macro!E7704","v":{"$error":"#DIV/0!"}}]
[null,{"$f":"Macro!A7705","v":0},{"$f":"Macro!B7705","v":0},{"$f":"Macro!E7705","v":{"$error":"#DIV/0!"}}]
[null,{"$f":"Macro!A7706","v":0},{"$f":"Macro!B7706","v":0},{"$f":"Macro!E7706","v":{"$error":"#DIV/0!"}}]
[null,{"$f":"Macro!A7707","v":0},{"$f":"Macro!B7707","v":0},{"$f":"Macro!E7707","v":{"$error":"#DIV/0!"}}]
[null,{"$f":"Macro!A7708","v":0},{"$f":"Macro!B7708","v":0},{"$f":"Macro!E7708","v":{"$error":"#DIV/0!"}}]
[null,{"$f":"Macro!A7709","v":0},{"$f":"Macro!B7709","v":0},{"$f":"Macro!E7709","v":{"$error":"#DIV/0!"}}]
[null,{"$f":"Macro!A7710","v":0},{"$f":"Macro!B7710","v":0},{"$f":"Macro!E7710","v":{"$error":"#DIV/0!"}}]
[null,{"$f":"Macro!A7711","v":0},{"$f":"Macro!B7711","v":0},{"$f":"Macro!E7711","v":{"$error":"#DIV/0!"}}]
[null,{"$f":"Macro!A7712","v":0},{"$f":"Macro!B7712","v":0},{"$f":"Macro!E7712","v":{"$error":"#DIV/0!"}}]
[null,{"$f":"Macro!A7713","v":0},{"$f":"Macro!B7713","v":0},{"$f":"Macro!E7713","v":{"$error":"#DIV/0!"}}]
[null,{"$f":"Macro!A7714","v":0},{"$f":"Macro!B7714","v":0},{"$f":"Macro!E7714","v":{"$error":"#DIV/0!"}}]
[null,{"$f":"Macro!A7715","v":0},{"$f":"Macro!B7715","v":0},{"$f":"Macro!E7715","v":{"$error":"#DIV/0!"}}]
[null,{"$f":"Macro!A7716","v":0},{"$f":"Macro!B7716","v":0},{"$f":"Macro!E7716","v":{"$error":"#DIV/0!"}}]
[null,{"$f":"Macro!A7717","v":0},{"$f":"Macro!B7717","v":0},{"$f":"Macro!E7717","v":{"$error":"#DIV/0!"}}]
[null,{"$f":"Macro!A7718","v":0},{"$f":"Macro!B7718","v":0},{"$f":"Macro!E7718","v":{"$error":"#DIV/0!"}}]
[null,{"$f":"Macro!A7719","v":0},{"$f":"Macro!B7719","v":0},{"$f":"Macro!E7719","v":{"$error":"#DIV/0!"}}]
[null,{"$f":"Macro!A7720","v":0},{"$f":"Macro!B7720","v":0},{"$f":"Macro!E7720","v":{"$error":"#DIV/0!"}}]
[null,{"$f":"Macro!A7721","v":0},{"$f":"Macro!B7721","v":0},{"$f":"Macro!E7721","v":{"$error":"#DIV/0!"}}]
[null,{"$f":"Macro!A7722","v":0},{"$f":"Macro!B7722","v":0},{"$f":"Macro!E7722","v":{"$error":"#DIV/0!"}}]
[null,{"$f":"Macro!A7723","v":0},{"$f":"Macro!B7723","v":0},{"$f":"Macro!E7723","v":{"$error":"#DIV/0!"}}]
[null,{"$f":"Macro!A7724","v":0},{"$f":"Macro!B7724","v":0},{"$f":"Macro!E7724","v":{"$error":"#DIV/0!"}}]
[null,{"$f":"Macro!A7725","v":0},{"$f":"Macro!B7725","v":0},{"$f":"Macro!E7725","v":{"$error":"#DIV/0!"}}]
[null,{"$f":"Macro!A7726","v":0},{"$f":"Macro!B7726","v":0},{"$f":"Macro!E7726","v":{"$error":"#DIV/0!"}}]
[null,{"$f":"Macro!A7727","v":0},{"$f":"Macro!B7727","v":0},{"$f":"Macro!E7727","v":{"$error":"#DIV/0!"}}]
[null,{"$f":"Macro!A7728","v":0},{"$f":"Macro!B7728","v":0},{"$f":"Macro!E7728","v":{"$error":"#DIV/0!"}}]
[null,{"$f":"Macro!A7729","v":0},{"$f":"Macro!B7729","v":0},{"$f":"Macro!E7729","v":{"$error":"#DIV/0!"}}]
[null,{"$f":"Macro!A7730","v":0},{"$f":"Macro!B7730","v":0},{"$f":"Macro!E7730","v":{"$error":"#DIV/0!"}}]
[null,{"$f":"Macro!A7731","v":0},{"$f":"Macro!B7731","v":0},{"$f":"Macro!E7731","v":{"$error":"#DIV/0!"}}]
[null,{"$f":"Macro!A7732","v":0},{"$f":"Macro!B7732","v":0},{"$f":"Macro!E7732","v":{"$error":"#DIV/0!"}}]
[null,{"$f":"Macro!A7733","v":0},{"$f":"Macro!B7733","v":0},{"$f":"Macro!E7733","v":{"$error":"#DIV/0!"}}]
[null,{"$f":"Macro!A7734","v":0},{"$f":"Macro!B7734","v":0},{"$f":"Macro!E7734","v":{"$error":"#DIV/0!"}}]
[null,{"$f":"Macro!A7735","v":0},{"$f":"Macro!B7735","v":0},{"$f":"Macro!E7735","v":{"$error":"#DIV/0!"}}]
[null,{"$f":"Macro!A7736","v":0},{"$f":"Macro!B7736","v":0},{"$f":"Macro!E7736","v":{"$error":"#DIV/0!"}}]
[null,{"$f":"Macro!A7737","v":0},{"$f":"Macro!B7737","v":0},{"$f":"Macro!E7737","v":{"$error":"#DIV/0!"}}]
[null,{"$f":"Macro!A7738","v":0},{"$f":"Macro!B7738","v":0},{"$f":"Macro!E7738","v":{"$error":"#DIV/0!"}}]
[null,{"$f":"Macro!A7739","v":0},{"$f":"Macro!B7739","v":0},{"$f":"Macro!E7739","v":{"$error":"#DIV/0!"}}]
[null,{"$f":"Macro!A7740","v":0},{"$f":"Macro!B7740","v":0},{"$f":"Macro!E7740","v":{"$error":"#DIV/0!"}}]
[null,{"$f":"Macro!A7741","v":0},{"$f":"Macro!B7741","v":0},{"$f":"Macro!E7741","v":{"$error":"#DIV/0!"}}]
[null,{"$f":"Macro!A7742","v":0},{"$f":"Macro!B7742","v":0},{"$f":"Macro!E7742","v":{"$error":"#DIV/0!"}}]
[null,{"$f":"Macro!A7743","v":0},{"$f":"Macro!B7743","v":0},{"$f":"Macro!E7743","v":{"$error":"#DIV/0!"}}]
[null,{"$f":"Macro!A7744","v":0},{"$f":"Macro!B7744","v":0},{"$f":"Macro!E7744","v":{"$error":"#DIV/0!"}}]
[null,{"$f":"Macro!A7745","v":0},{"$f":"Macro!B7745","v":0},{"$f":"Macro!E7745","v":{"$error":"#DIV/0!"}}]
[null,{"$f":"Macro!A7746","v":0},{"$f":"Macro!B7746","v":0},{"$f":"Macro!E7746","v":{"$error":"#DIV/0!"}}]
[null,{"$f":"Macro!A7747","v":0},{"$f":"Macro!B7747","v":0},{"$f":"Macro!E7747","v":{"$error":"#DIV/0!"}}]
[null,{"$f":"Macro!A7748","v":0},{"$f":"Macro!B7748","v":0},{"$f":"Macro!E7748","v":{"$error":"#DIV/0!"}}]
[null,{"$f":"Macro!A7749","v":0},{"$f":"Macro!B7749","v":0},{"$f":"Macro!E7749","v":{"$error":"#DIV/0!"}}]
[null,{"$f":"Macro!A7750","v":0},{"$f":"Macro!B7750","v":0},{"$f":"Macro!E7750","v":{"$error":"#DIV/0!"}}]
[null,{"$f":"Macro!A7751","v":0},{"$f":"Macro!B7751","v":0},{"$f":"Macro!E7751","v":{"$error":"#DIV/0!"}}]
[null,{"$f":"Macro!A7752","v":0},{"$f":"Macro!B7752","v":0},{"$f":"Macro!E7752","v":{"$error":"#DIV/0!"}}]
[null,{"$f":"Macro!A7753","v":0},{"$f":"Macro!B7753","v":0},{"$f":"Macro!E7753","v":{"$error":"#DIV/0!"}}]
[null,{"$f":"Macro!A7754","v":0},{"$f":"Macro!B7754","v":0},{"$f":"Macro!E7754","v":{"$error":"#DIV/0!"}}]
[null,{"$f":"Macro!A7755","v":0},{"$f":"Macro!B7755","v":0},{"$f":"Macro!E7755","v":{"$error":"#DIV/0!"}}]
[null,{"$f":"Macro!A7756","v":0},{"$f":"Macro!B7756","v":0},{"$f":"Macro!E7756","v":{"$error":"#DIV/0!"}}]
[null,{"$f":"Macro!A7757","v":0},{"$f":"Macro!B7757","v":0},{"$f":"Macro!E7757","v":{"$error":"#DIV/0!"}}]
[null,{"$f":"Macro!A7758","v":0},{"$f":"Macro!B7758","v":0},{"$f":"Macro!E7758","v":{"$error":"#DIV/0!"}}]
[null,{"$f":"Macro!A7759","v":0},{"$f":"Macro!B7759","v":0},{"$f":"Macro!E7759","v":{"$error":"#DIV/0!"}}]
[null,{"$f":"Macro!A7760","v":0},{"$f":"Macro!B7760","v":0},{"$f":"Macro!E7760","v":{"$error":"#DIV/0!"}}]
[null,{"$f":"Macro!A7761","v":0},{"$f":"Macro!B7761","v":0},{"$f":"Macro!E7761","v":{"$error":"#DIV/0!"}}]
[null,{"$f":"Macro!A7762","v":0},{"$f":"Macro!B7762","v":0},{"$f":"Macro!E7762","v":{"$error":"#DIV/0!"}}]
[null,{"$f":"Macro!A7763","v":0},{"$f":"Macro!B7763","v":0},{"$f":"Macro!E7763","v":{"$error":"#DIV/0!"}}]
[null,{"$f":"Macro!A7764","v":0},{"$f":"Macro!B7764","v":0},{"$f":"Macro!E7764","v":{"$error":"#DIV/0!"}}]
[null,{"$f":"Macro!A7765","v":0},{"$f":"Macro!B7765","v":0},{"$f":"Macro!E7765","v":{"$error":"#DIV/0!"}}]
[null,{"$f":"Macro!A7766","v":0},{"$f":"Macro!B7766","v":0},{"$f":"Macro!E7766","v":{"$error":"#DIV/0!"}}]
[null,{"$f":"Macro!A7767","v":0},{"$f":"Macro!B7767","v":0},{"$f":"Macro!E7767","v":{"$error":"#DIV/0!"}}]
[null,{"$f":"Macro!A7768","v":0},{"$f":"Macro!B7768","v":0},{"$f":"Macro!E7768","v":{"$error":"#DIV/0!"}}]
[null,{"$f":"Macro!A7769","v":0},{"$f":"Macro!B7769","v":0},{"$f":"Macro!E7769","v":{"$error":"#DIV/0!"}}]
[null,{"$f":"Macro!A7770","v":0},{"$f":"Macro!B7770","v":0},{"$f":"Macro!E7770","v":{"$error":"#DIV/0!"}}]
[null,{"$f":"Macro!A7771","v":0},{"$f":"Macro!B7771","v":0},{"$f":"Macro!E7771","v":{"$error":"#DIV/0!"}}]
[null,{"$f":"Macro!A7772","v":0},{"$f":"Macro!B7772","v":0},{"$f":"Macro!E7772","v":{"$error":"#DIV/0!"}}]
[null,{"$f":"Macro!A7773","v":0},{"$f":"Macro!B7773","v":0},{"$f":"Macro!E7773","v":{"$error":"#DIV/0!"}}]
[null,{"$f":"Macro!A7774","v":0},{"$f":"Macro!B7774","v":0},{"$f":"Macro!E7774","v":{"$error":"#DIV/0!"}}]
[null,{"$f":"Macro!A7775","v":0},{"$f":"Macro!B7775","v":0},{"$f":"Macro!E7775","v":{"$error":"#DIV/0!"}}]
[null,{"$f":"Macro!A7776","v":0},{"$f":"Macro!B7776","v":0},{"$f":"Macro!E7776","v":{"$error":"#DIV/0!"}}]
[null,{"$f":"Macro!A7777","v":0},{"$f":"Macro!B7777","v":0},{"$f":"Macro!E7777","v":{"$error":"#DIV/0!"}}]
[null,{"$f":"Macro!A7778","v":0},{"$f":"Macro!B7778","v":0},{"$f":"Macro!E7778","v":{"$error":"#DIV/0!"}}]
[null,{"$f":"Macro!A7779","v":0},{"$f":"Macro!B7779","v":0},{"$f":"Macro!E7779","v":{"$error":"#DIV/0!"}}]
[null,{"$f":"Macro!A7780","v":0},{"$f":"Macro!B7780","v":0},{"$f":"Macro!E7780","v":{"$error":"#DIV/0!"}}]
[null,{"$f":"Macro!A7781","v":0},{"$f":"Macro!B7781","v":0},{"$f":"Macro!E7781","v":{"$error":"#DIV/0!"}}]
[null,{"$f":"Macro!A7782","v":0},{"$f":"Macro!B7782","v":0},{"$f":"Macro!E7782","v":{"$error":"#DIV/0!"}}]
[null,{"$f":"Macro!A7783","v":0},{"$f":"Macro!B7783","v":0},{"$f":"Macro!E7783","v":{"$error":"#DIV/0!"}}]
[null,{"$f":"Macro!A7784","v":0},{"$f":"Macro!B7784","v":0},{"$f":"Macro!E7784","v":{"$error":"#DIV/0!"}}]
[null,{"$f":"Macro!A7785","v":0},{"$f":"Macro!B7785","v":0},{"$f":"Macro!E7785","v":{"$error":"#DIV/0!"}}]
[null,{"$f":"Macro!A7786","v":0},{"$f":"Macro!B7786","v":0},{"$f":"Macro!E7786","v":{"$error":"#DIV/0!"}}]
[null,{"$f":"Macro!A7787","v":0},{"$f":"Macro!B7787","v":0},{"$f":"Macro!E7787","v":{"$error":"#DIV/0!"}}]
[null,{"$f":"Macro!A7788","v":0},{"$f":"Macro!B7788","v":0},{"$f":"Macro!E7788","v":{"$error":"#DIV/0!"}}]
[null,{"$f":"Macro!A7789","v":0},{"$f":"Macro!B7789","v":0},{"$f":"Macro!E7789","v":{"$error":"#DIV/0!"}}]
[null,{"$f":"Macro!A7790","v":0},{"$f":"Macro!B7790","v":0},{"$f":"Macro!E7790","v":{"$error":"#DIV/0!"}}]
[null,{"$f":"Macro!A7791","v":0},{"$f":"Macro!B7791","v":0},{"$f":"Macro!E7791","v":{"$error":"#DIV/0!"}}]
[null,{"$f":"Macro!A7792","v":0},{"$f":"Macro!B7792","v":0},{"$f":"Macro!E7792","v":{"$error":"#DIV/0!"}}]
[null,{"$f":"Macro!A7793","v":0},{"$f":"Macro!B7793","v":0},{"$f":"Macro!E7793","v":{"$error":"#DIV/0!"}}]
[null,{"$f":"Macro!A7794","v":0},{"$f":"Macro!B7794","v":0},{"$f":"Macro!E7794","v":{"$error":"#DIV/0!"}}]
[null,{"$f":"Macro!A7795","v":0},{"$f":"Macro!B7795","v":0},{"$f":"Macro!E7795","v":{"$error":"#DIV/0!"}}]
[null,{"$f":"Macro!A7796","v":0},{"$f":"Macro!B7796","v":0},{"$f":"Macro!E7796","v":{"$error":"#DIV/0!"}}]
[null,{"$f":"Macro!A7797","v":0},{"$f":"Macro!B7797","v":0},{"$f":"Macro!E7797","v":{"$error":"#DIV/0!"}}]
[null,{"$f":"Macro!A7798","v":0},{"$f":"Macro!B7798","v":0},{"$f":"Macro!E7798","v":{"$error":"#DIV/0!"}}]
[null,{"$f":"Macro!A7799","v":0},{"$f":"Macro!B7799","v":0},{"$f":"Macro!E7799","v":{"$error":"#DIV/0!"}}]
[null,{"$f":"Macro!A7800","v":0},{"$f":"Macro!B7800","v":0},{"$f":"Macro!E7800","v":{"$error":"#DIV/0!"}}]
[null,{"$f":"Macro!A7801","v":0},{"$f":"Macro!B7801","v":0},{"$f":"Macro!E7801","v":{"$error":"#DIV/0!"}}]
[null,{"$f":"Macro!A7802","v":0},{"$f":"Macro!B7802","v":0},{"$f":"Macro!E7802","v":{"$error":"#DIV/0!"}}]
[null,{"$f":"Macro!A7803","v":0},{"$f":"Macro!B7803","v":0},{"$f":"Macro!E7803","v":{"$error":"#DIV/0!"}}]
[null,{"$f":"Macro!A7804","v":0},{"$f":"Macro!B7804","v":0},{"$f":"Macro!E7804","v":{"$error":"#DIV/0!"}}]
[null,{"$f":"Macro!A7805","v":0},{"$f":"Macro!B7805","v":0},{"$f":"Macro!E7805","v":{"$error":"#DIV/0!"}}]
[null,{"$f":"Macro!A7806","v":0},{"$f":"Macro!B7806","v":0},{"$f":"Macro!E7806","v":{"$error":"#DIV/0!"}}]
[null,{"$f":"Macro!A7807","v":0},{"$f":"Macro!B7807","v":0},{"$f":"Macro!E7807","v":{"$error":"#DIV/0!"}}]
[null,{"$f":"Macro!A7808","v":0},{"$f":"Macro!B7808","v":0},{"$f":"Macro!E7808","v":{"$error":"#DIV/0!"}}]
[null,{"$f":"Macro!A7809","v":0},{"$f":"Macro!B7809","v":0},{"$f":"Macro!E7809","v":{"$error":"#DIV/0!"}}]
[null,{"$f":"Macro!A7810","v":0},{"$f":"Macro!B7810","v":0},{"$f":"Macro!E7810","v":{"$error":"#DIV/0!"}}]
[null,{"$f":"Macro!A7811","v":0},{"$f":"Macro!B7811","v":0},{"$f":"Macro!E7811","v":{"$error":"#DIV/0!"}}]
[null,{"$f":"Macro!A7812","v":0},{"$f":"Macro!B7812","v":0},{"$f":"Macro!E7812","v":{"$error":"#DIV/0!"}}]
[null,{"$f":"Macro!A7813","v":0},{"$f":"Macro!B7813","v":0},{"$f":"Macro!E7813","v":{"$error":"#DIV/0!"}}]
[null,{"$f":"Macro!A7814","v":0},{"$f":"Macro!B7814","v":0},{"$f":"Macro!E7814","v":{"$error":"#DIV/0!"}}]
[null,{"$f":"Macro!A7815","v":0},{"$f":"Macro!B7815","v":0},{"$f":"Macro!E7815","v":{"$error":"#DIV/0!"}}]
[null,{"$f":"Macro!A7816","v":0},{"$f":"Macro!B7816","v":0},{"$f":"Macro!E7816","v":{"$error":"#DIV/0!"}}]
[null,{"$f":"Macro!A7817","v":0},{"$f":"Macro!B7817","v":0},{"$f":"Macro!E7817","v":{"$error":"#DIV/0!"}}]
[null,{"$f":"Macro!A7818","v":0},{"$f":"Macro!B7818","v":0},{"$f":"Macro!E7818","v":{"$error":"#DIV/0!"}}]
[null,{"$f":"Macro!A7819","v":0},{"$f":"Macro!B7819","v":0},{"$f":"Macro!E7819","v":{"$error":"#DIV/0!"}}]
[null,{"$f":"Macro!A7820","v":0},{"$f":"Macro!B7820","v":0},{"$f":"Macro!E7820","v":{"$error":"#DIV/0!"}}]
[null,{"$f":"Macro!A7821","v":0},{"$f":"Macro!B7821","v":0},{"$f":"Macro!E7821","v":{"$error":"#DIV/0!"}}]
[null,{"$f":"Macro!A7822","v":0},{"$f":"Macro!B7822","v":0},{"$f":"Macro!E7822","v":{"$error":"#DIV/0!"}}]
[null,{"$f":"Macro!A7823","v":0},{"$f":"Macro!B7823","v":0},{"$f":"Macro!E7823","v":{"$error":"#DIV/0!"}}]
[null,{"$f":"Macro!A7824","v":0},{"$f":"Macro!B7824","v":0},{"$f":"Macro!E7824","v":{"$error":"#DIV/0!"}}]
[null,{"$f":"Macro!A7825","v":0},{"$f":"Macro!B7825","v":0},{"$f":"Macro!E7825","v":{"$error":"#DIV/0!"}}]
[null,{"$f":"Macro!A7826","v":0},{"$f":"Macro!B7826","v":0},{"$f":"Macro!E7826","v":{"$error":"#DIV/0!"}}]
[null,{"$f":"Macro!A7827","v":0},{"$f":"Macro!B7827","v":0},{"$f":"Macro!E7827","v":{"$error":"#DIV/0!"}}]
[null,{"$f":"Macro!A7828","v":0},{"$f":"Macro!B7828","v":0},{"$f":"Macro!E7828","v":{"$error":"#DIV/0!"}}]
[null,{"$f":"Macro!A7829","v":0},{"$f":"Macro!B7829","v":0},{"$f":"Macro!E7829","v":{"$error":"#DIV/0!"}}]
[null,{"$f":"Macro!A7830","v":0},{"$f":"Macro!B7830","v":0},{"$f":"Macro!E7830","v":{"$error":"#DIV/0!"}}]
[null,{"$f":"Macro!A7831","v":0},{"$f":"Macro!B7831","v":0},{"$f":"Macro!E7831","v":{"$error":"#DIV/0!"}}]
[null,{"$f":"Macro!A7832","v":0},{"$f":"Macro!B7832","v":0},{"$f":"Macro!E7832","v":{"$error":"#DIV/0!"}}]
[null,{"$f":"Macro!A7833","v":0},{"$f":"Macro!B7833","v":0},{"$f":"Macro!E7833","v":{"$error":"#DIV/0!"}}]
[null,{"$f":"Macro!A7834","v":0},{"$f":"Macro!B7834","v":0},{"$f":"Macro!E7834","v":{"$error":"#DIV/0!"}}]
[null,{"$f":"Macro!A7835","v":0},{"$f":"Macro!B7835","v":0},{"$f":"Macro!E7835","v":{"$error":"#DIV/0!"}}]
[null,{"$f":"Macro!A7836","v":0},{"$f":"Macro!B7836","v":0},{"$f":"Macro!E7836","v":{"$error":"#DIV/0!"}}]
[null,{"$f":"Macro!A7837","v":0},{"$f":"Macro!B7837","v":0},{"$f":"Macro!E7837","v":{"$error":"#DIV/0!"}}]
[null,{"$f":"Macro!A7838","v":0},{"$f":"Macro!B7838","v":0},{"$f":"Macro!E7838","v":{"$error":"#DIV/0!"}}]
[null,{"$f":"Macro!A7839","v":0},{"$f":"Macro!B7839","v":0},{"$f":"Macro!E7839","v":{"$error":"#DIV/0!"}}]
[null,{"$f":"Macro!A7840","v":0},{"$f":"Macro!B7840","v":0},{"$f":"Macro!E7840","v":{"$error":"#DIV/0!"}}]
[null,{"$f":"Macro!A7841","v":0},{"$f":"Macro!B7841","v":0},{"$f":"Macro!E7841","v":{"$error":"#DIV/0!"}}]
[null,{"$f":"Macro!A7842","v":0},{"$f":"Macro!B7842","v":0},{"$f":"Macro!E7842","v":{"$error":"#DIV/0!"}}]
[null,{"$f":"Macro!A7843","v":0},{"$f":"Macro!B7843","v":0},{"$f":"Macro!E7843","v":{"$error":"#DIV/0!"}}]
[null,{"$f":"Macro!A7844","v":0},{"$f":"Macro!B7844","v":0},{"$f":"Macro!E7844","v":{"$error":"#DIV/0!"}}]
[null,{"$f":"Macro!A7845","v":0},{"$f":"Macro!B7845","v":0},{"$f":"Macro!E7845","v":{"$error":"#DIV/0!"}}]
[null,{"$f":"Macro!A7846","v":0},{"$f":"Macro!B7846","v":0},{"$f":"Macro!E7846","v":{"$error":"#DIV/0!"}}]
[null,{"$f":"Macro!A7847","v":0},{"$f":"Macro!B7847","v":0},{"$f":"Macro!E7847","v":{"$error":"#DIV/0!"}}]
[null,{"$f":"Macro!A7848","v":0},{"$f":"Macro!B7848","v":0},{"$f":"Macro!E7848","v":{"$error":"#DIV/0!"}}]
[null,{"$f":"Macro!A7849","v":0},{"$f":"Macro!B7849","v":0},{"$f":"Macro!E7849","v":{"$error":"#DIV/0!"}}]
[null,{"$f":"Macro!A7850","v":0},{"$f":"Macro!B7850","v":0},{"$f":"Macro!E7850","v":{"$error":"#DIV/0!"}}]
[null,{"$f":"Macro!A7851","v":0},{"$f":"Macro!B7851","v":0},{"$f":"Macro!E7851","v":{"$error":"#DIV/0!"}}]
[null,{"$f":"Macro!A7852","v":0},{"$f":"Macro!B7852","v":0},{"$f":"Macro!E7852","v":{"$error":"#DIV/0!"}}]
[null,{"$f":"Macro!A7853","v":0},{"$f":"Macro!B7853","v":0},{"$f":"Macro!E7853","v":{"$error":"#DIV/0!"}}]
[null,{"$f":"Macro!A7854","v":0},{"$f":"Macro!B7854","v":0},{"$f":"Macro!E7854","v":{"$error":"#DIV/0!"}}]
[null,{"$f":"Macro!A7855","v":0},{"$f":"Macro!B7855","v":0},{"$f":"Macro!E7855","v":{"$error":"#DIV/0!"}}]
[null,{"$f":"Macro!A7856","v":0},{"$f":"Macro!B7856","v":0},{"$f":"Macro!E7856","v":{"$error":"#DIV/0!"}}]
[null,{"$f":"Macro!A7857","v":0},{"$f":"Macro!B7857","v":0},{"$f":"Macro!E7857","v":{"$error":"#DIV/0!"}}]
[null,{"$f":"Macro!A7858","v":0},{"$f":"Macro!B7858","v":0},{"$f":"Macro!E7858","v":{"$error":"#DIV/0!"}}]
[null,{"$f":"Macro!A7859","v":0},{"$f":"Macro!B7859","v":0},{"$f":"Macro!E7859","v":{"$error":"#DIV/0!"}}]
[null,{"$f":"Macro!A7860","v":0},{"$f":"Macro!B7860","v":0},{"$f":"Macro!E7860","v":{"$error":"#DIV/0!"}}]
[null,{"$f":"Macro!A7861","v":0},{"$f":"Macro!B7861","v":0},{"$f":"Macro!E7861","v":{"$error":"#DIV/0!"}}]
[null,{"$f":"Macro!A7862","v":0},{"$f":"Macro!B7862","v":0},{"$f":"Macro!E7862","v":{"$error":"#DIV/0!"}}]
[null,{"$f":"Macro!A7863","v":0},{"$f":"Macro!B7863","v":0},{"$f":"Macro!E7863","v":{"$error":"#DIV/0!"}}]
[null,{"$f":"Macro!A7864","v":0},{"$f":"Macro!B7864","v":0},{"$f":"Macro!E7864","v":{"$error":"#DIV/0!"}}]
[null,{"$f":"Macro!A7865","v":0},{"$f":"Macro!B7865","v":0},{"$f":"Macro!E7865","v":{"$error":"#DIV/0!"}}]
[null,{"$f":"Macro!A7866","v":0},{"$f":"Macro!B7866","v":0},{"$f":"Macro!E7866","v":{"$error":"#DIV/0!"}}]
[null,{"$f":"Macro!A7867","v":0},{"$f":"Macro!B7867","v":0},{"$f":"Macro!E7867","v":{"$error":"#DIV/0!"}}]
[null,{"$f":"Macro!A7868","v":0},{"$f":"Macro!B7868","v":0},{"$f":"Macro!E7868","v":{"$error":"#DIV/0!"}}]
[null,{"$f":"Macro!A7869","v":0},{"$f":"Macro!B7869","v":0},{"$f":"Macro!E7869","v":{"$error":"#DIV/0!"}}]
[null,{"$f":"Macro!A7870","v":0},{"$f":"Macro!B7870","v":0},{"$f":"Macro!E7870","v":{"$error":"#DIV/0!"}}]
[null,{"$f":"Macro!A7871","v":0},{"$f":"Macro!B7871","v":0},{"$f":"Macro!E7871","v":{"$error":"#DIV/0!"}}]
[null,{"$f":"Macro!A7872","v":0},{"$f":"Macro!B7872","v":0},{"$f":"Macro!E7872","v":{"$error":"#DIV/0!"}}]
[null,{"$f":"Macro!A7873","v":0},{"$f":"Macro!B7873","v":0},{"$f":"Macro!E7873","v":{"$error":"#DIV/0!"}}]
[null,{"$f":"Macro!A7874","v":0},{"$f":"Macro!B7874","v":0},{"$f":"Macro!E7874","v":{"$error":"#DIV/0!"}}]
[null,{"$f":"Macro!A7875","v":0},{"$f":"Macro!B7875","v":0},{"$f":"Macro!E7875","v":{"$error":"#DIV/0!"}}]
[null,{"$f":"Macro!A7876","v":0},{"$f":"Macro!B7876","v":0},{"$f":"Macro!E7876","v":{"$error":"#DIV/0!"}}]
[null,{"$f":"Macro!A7877","v":0},{"$f":"Macro!B7877","v":0},{"$f":"Macro!E7877","v":{"$error":"#DIV/0!"}}]
[null,{"$f":"Macro!A7878","v":0},{"$f":"Macro!B7878","v":0},{"$f":"Macro!E7878","v":{"$error":"#DIV/0!"}}]
[null,{"$f":"Macro!A7879","v":0},{"$f":"Macro!B7879","v":0},{"$f":"Macro!E7879","v":{"$error":"#DIV/0!"}}]
[null,{"$f":"Macro!A7880","v":0},{"$f":"Macro!B7880","v":0},{"$f":"Macro!E7880","v":{"$error":"#DIV/0!"}}]
[null,{"$f":"Macro!A7881","v":0},{"$f":"Macro!B7881","v":0},{"$f":"Macro!E7881","v":{"$error":"#DIV/0!"}}]
[null,{"$f":"Macro!A7882","v":0},{"$f":"Macro!B7882","v":0},{"$f":"Macro!E7882","v":{"$error":"#DIV/0!"}}]
[null,{"$f":"Macro!A7883","v":0},{"$f":"Macro!B7883","v":0},{"$f":"Macro!E7883","v":{"$error":"#DIV/0!"}}]
[null,{"$f":"Macro!A7884","v":0},{"$f":"Macro!B7884","v":0},{"$f":"Macro!E7884","v":{"$error":"#DIV/0!"}}]
[null,{"$f":"Macro!A7885","v":0},{"$f":"Macro!B7885","v":0},{"$f":"Macro!E7885","v":{"$error":"#DIV/0!"}}]
[null,{"$f":"Macro!A7886","v":0},{"$f":"Macro!B7886","v":0},{"$f":"Macro!E7886","v":{"$error":"#DIV/0!"}}]
[null,{"$f":"Macro!A7887","v":0},{"$f":"Macro!B7887","v":0},{"$f":"Macro!E7887","v":{"$error":"#DIV/0!"}}]
[null,{"$f":"Macro!A7888","v":0},{"$f":"Macro!B7888","v":0},{"$f":"Macro!E7888","v":{"$error":"#DIV/0!"}}]
[null,{"$f":"Macro!A7889","v":0},{"$f":"Macro!B7889","v":0},{"$f":"Macro!E7889","v":{"$error":"#DIV/0!"}}]
[null,{"$f":"Macro!A7890","v":0},{"$f":"Macro!B7890","v":0},{"$f":"Macro!E7890","v":{"$error":"#DIV/0!"}}]
[null,{"$f":"Macro!A7891","v":0},{"$f":"Macro!B7891","v":0},{"$f":"Macro!E7891","v":{"$error":"#DIV/0!"}}]
[null,{"$f":"Macro!A7892","v":0},{"$f":"Macro!B7892","v":0},{"$f":"Macro!E7892","v":{"$error":"#DIV/0!"}}]
[null,{"$f":"Macro!A7893","v":0},{"$f":"Macro!B7893","v":0},{"$f":"Macro!E7893","v":{"$error":"#DIV/0!"}}]
[null,{"$f":"Macro!A7894","v":0},{"$f":"Macro!B7894","v":0},{"$f":"Macro!E7894","v":{"$error":"#DIV/0!"}}]
[null,{"$f":"Macro!A7895","v":0},{"$f":"Macro!B7895","v":0},{"$f":"Macro!E7895","v":{"$error":"#DIV/0!"}}]
[null,{"$f":"Macro!A7896","v":0},{"$f":"Macro!B7896","v":0},{"$f":"Macro!E7896","v":{"$error":"#DIV/0!"}}]
[null,{"$f":"Macro!A7897","v":0},{"$f":"Macro!B7897","v":0},{"$f":"Macro!E7897","v":{"$error":"#DIV/0!"}}]
[null,{"$f":"Macro!A7898","v":0},{"$f":"Macro!B7898","v":0},{"$f":"Macro!E7898","v":{"$error":"#DIV/0!"}}]
[null,{"$f":"Macro!A7899","v":0},{"$f":"Macro!B7899","v":0},{"$f":"Macro!E7899","v":{"$error":"#DIV/0!"}}]
[null,{"$f":"Macro!A7900","v":0},{"$f":"Macro!B7900","v":0},{"$f":"Macro!E7900","v":{"$error":"#DIV/0!"}}]
[null,{"$f":"Macro!A7901","v":0},{"$f":"Macro!B7901","v":0},{"$f":"Macro!E7901","v":{"$error":"#DIV/0!"}}]
[null,{"$f":"Macro!A7902","v":0},{"$f":"Macro!B7902","v":0},{"$f":"Macro!E7902","v":{"$error":"#DIV/0!"}}]
[null,{"$f":"Macro!A7903","v":0},{"$f":"Macro!B7903","v":0},{"$f":"Macro!E7903","v":{"$error":"#DIV/0!"}}]
[null,{"$f":"Macro!A7904","v":0},{"$f":"Macro!B7904","v":0},{"$f":"Macro!E7904","v":{"$error":"#DIV/0!"}}]
[null,{"$f":"Macro!A7905","v":0},{"$f":"Macro!B7905","v":0},{"$f":"Macro!E7905","v":{"$error":"#DIV/0!"}}]
[null,{"$f":"Macro!A7906","v":0},{"$f":"Macro!B7906","v":0},{"$f":"Macro!E7906","v":{"$error":"#DIV/0!"}}]
[null,{"$f":"Macro!A7907","v":0},{"$f":"Macro!B7907","v":0},{"$f":"Macro!E7907","v":{"$error":"#DIV/0!"}}]
[null,{"$f":"Macro!A7908","v":0},{"$f":"Macro!B7908","v":0},{"$f":"Macro!E7908","v":{"$error":"#DIV/0!"}}]
[null,{"$f":"Macro!A7909","v":0},{"$f":"Macro!B7909","v":0},{"$f":"Macro!E7909","v":{"$error":"#DIV/0!"}}]
[null,{"$f":"Macro!A7910","v":0},{"$f":"Macro!B7910","v":0},{"$f":"Macro!E7910","v":{"$error":"#DIV/0!"}}]
[null,{"$f":"Macro!A7911","v":0},{"$f":"Macro!B7911","v":0},{"$f":"Macro!E7911","v":{"$error":"#DIV/0!"}}]
[null,{"$f":"Macro!A7912","v":0},{"$f":"Macro!B7912","v":0},{"$f":"Macro!E7912","v":{"$error":"#DIV/0!"}}]
[null,{"$f":"Macro!A7913","v":0},{"$f":"Macro!B7913","v":0},{"$f":"Macro!E7913","v":{"$error":"#DIV/0!"}}]
[null,{"$f":"Macro!A7914","v":0},{"$f":"Macro!B7914","v":0},{"$f":"Macro!E7914","v":{"$error":"#DIV/0!"}}]
[null,{"$f":"Macro!A7915","v":0},{"$f":"Macro!B7915","v":0},{"$f":"Macro!E7915","v":{"$error":"#DIV/0!"}}]
[null,{"$f":"Macro!A7916","v":0},{"$f":"Macro!B7916","v":0},{"$f":"Macro!E7916","v":{"$error":"#DIV/0!"}}]
[null,{"$f":"Macro!A7917","v":0},{"$f":"Macro!B7917","v":0},{"$f":"Macro!E7917","v":{"$error":"#DIV/0!"}}]
[null,{"$f":"Macro!A7918","v":0},{"$f":"Macro!B7918","v":0},{"$f":"Macro!E7918","v":{"$error":"#DIV/0!"}}]
[null,{"$f":"Macro!A7919","v":0},{"$f":"Macro!B7919","v":0},{"$f":"Macro!E7919","v":{"$error":"#DIV/0!"}}]
[null,{"$f":"Macro!A7920","v":0},{"$f":"Macro!B7920","v":0},{"$f":"Macro!E7920","v":{"$error":"#DIV/0!"}}]
[null,{"$f":"Macro!A7921","v":0},{"$f":"Macro!B7921","v":0},{"$f":"Macro!E7921","v":{"$error":"#DIV/0!"}}]
[null,{"$f":"Macro!A7922","v":0},{"$f":"Macro!B7922","v":0},{"$f":"Macro!E7922","v":{"$error":"#DIV/0!"}}]
[null,{"$f":"Macro!A7923","v":0},{"$f":"Macro!B7923","v":0},{"$f":"Macro!E7923","v":{"$error":"#DIV/0!"}}]
[null,{"$f":"Macro!A7924","v":0},{"$f":"Macro!B7924","v":0},{"$f":"Macro!E7924","v":{"$error":"#DIV/0!"}}]
[null,{"$f":"Macro!A7925","v":0},{"$f":"Macro!B7925","v":0},{"$f":"Macro!E7925","v":{"$error":"#DIV/0!"}}]
[null,{"$f":"Macro!A7926","v":0},{"$f":"Macro!B7926","v":0},{"$f":"Macro!E7926","v":{"$error":"#DIV/0!"}}]
[null,{"$f":"Macro!A7927","v":0},{"$f":"Macro!B7927","v":0},{"$f":"Macro!E7927","v":{"$error":"#DIV/0!"}}]
[null,{"$f":"Macro!A7928","v":0},{"$f":"Macro!B7928","v":0},{"$f":"Macro!E7928","v":{"$error":"#DIV/0!"}}]
[null,{"$f":"Macro!A7929","v":0},{"$f":"Macro!B7929","v":0},{"$f":"Macro!E7929","v":{"$error":"#DIV/0!"}}]
[null,{"$f":"Macro!A7930","v":0},{"$f":"Macro!B7930","v":0},{"$f":"Macro!E7930","v":{"$error":"#DIV/0!"}}]
[null,{"$f":"Macro!A7931","v":0},{"$f":"Macro!B7931","v":0},{"$f":"Macro!E7931","v":{"$error":"#DIV/0!"}}]
[null,{"$f":"Macro!A7932","v":0},{"$f":"Macro!B7932","v":0},{"$f":"Macro!E7932","v":{"$error":"#DIV/0!"}}]
[null,{"$f":"Macro!A7933","v":0},{"$f":"Macro!B7933","v":0},{"$f":"Macro!E7933","v":{"$error":"#DIV/0!"}}]
[null,{"$f":"Macro!A7934","v":0},{"$f":"Macro!B7934","v":0},{"$f":"Macro!E7934","v":{"$error":"#DIV/0!"}}]
[null,{"$f":"Macro!A7935","v":0},{"$f":"Macro!B7935","v":0},{"$f":"Macro!E7935","v":{"$error":"#DIV/0!"}}]
[null,{"$f":"Macro!A7936","v":0},{"$f":"Macro!B7936","v":0},{"$f":"Macro!E7936","v":{"$error":"#DIV/0!"}}]
[null,{"$f":"Macro!A7937","v":0},{"$f":"Macro!B7937","v":0},{"$f":"Macro!E7937","v":{"$error":"#DIV/0!"}}]
[null,{"$f":"Macro!A7938","v":0},{"$f":"Macro!B7938","v":0},{"$f":"Macro!E7938","v":{"$error":"#DIV/0!"}}]
[null,{"$f":"Macro!A7939","v":0},{"$f":"Macro!B7939","v":0},{"$f":"Macro!E7939","v":{"$error":"#DIV/0!"}}]
[null,{"$f":"Macro!A7940","v":0},{"$f":"Macro!B7940","v":0},{"$f":"Macro!E7940","v":{"$error":"#DIV/0!"}}]
[null,{"$f":"Macro!A7941","v":0},{"$f":"Macro!B7941","v":0},{"$f":"Macro!E7941","v":{"$error":"#DIV/0!"}}]
[null,{"$f":"Macro!A7942","v":0},{"$f":"Macro!B7942","v":0},{"$f":"Macro!E7942","v":{"$error":"#DIV/0!"}}]
[null,{"$f":"Macro!A7943","v":0},{"$f":"Macro!B7943","v":0},{"$f":"Macro!E7943","v":{"$error":"#DIV/0!"}}]
[null,{"$f":"Macro!A7944","v":0},{"$f":"Macro!B7944","v":0},{"$f":"Macro!E7944","v":{"$error":"#DIV/0!"}}]
[null,{"$f":"Macro!A7945","v":0},{"$f":"Macro!B7945","v":0},{"$f":"Macro!E7945","v":{"$error":"#DIV/0!"}}]
[null,{"$f":"Macro!A7946","v":0},{"$f":"Macro!B7946","v":0},{"$f":"Macro!E7946","v":{"$error":"#DIV/0!"}}]
[null,{"$f":"Macro!A7947","v":0},{"$f":"Macro!B7947","v":0},{"$f":"Macro!E7947","v":{"$error":"#DIV/0!"}}]
[null,{"$f":"Macro!A7948","v":0},{"$f":"Macro!B7948","v":0},{"$f":"Macro!E7948","v":{"$error":"#DIV/0!"}}]
[null,{"$f":"Macro!A7949","v":0},{"$f":"Macro!B7949","v":0},{"$f":"Macro!E7949","v":{"$error":"#DIV/0!"}}]
[null,{"$f":"Macro!A7950","v":0},{"$f":"Macro!B7950","v":0},{"$f":"Macro!E7950","v":{"$error":"#DIV/0!"}}]
[null,{"$f":"Macro!A7951","v":0},{"$f":"Macro!B7951","v":0},{"$f":"Macro!E7951","v":{"$error":"#DIV/0!"}}]
[null,{"$f":"Macro!A7952","v":0},{"$f":"Macro!B7952","v":0},{"$f":"Macro!E7952","v":{"$error":"#DIV/0!"}}]
[null,{"$f":"Macro!A7953","v":0},{"$f":"Macro!B7953","v":0},{"$f":"Macro!E7953","v":{"$error":"#DIV/0!"}}]
[null,{"$f":"Macro!A7954","v":0},{"$f":"Macro!B7954","v":0},{"$f":"Macro!E7954","v":{"$error":"#DIV/0!"}}]
[null,{"$f":"Macro!A7955","v":0},{"$f":"Macro!B7955","v":0},{"$f":"Macro!E7955","v":{"$error":"#DIV/0!"}}]
[null,{"$f":"Macro!A7956","v":0},{"$f":"Macro!B7956","v":0},{"$f":"Macro!E7956","v":{"$error":"#DIV/0!"}}]
[null,{"$f":"Macro!A7957","v":0},{"$f":"Macro!B7957","v":0},{"$f":"Macro!E7957","v":{"$error":"#DIV/0!"}}]
[null,{"$f":"Macro!A7958","v":0},{"$f":"Macro!B7958","v":0},{"$f":"Macro!E7958","v":{"$error":"#DIV/0!"}}]
[null,{"$f":"Macro!A7959","v":0},{"$f":"Macro!B7959","v":0},{"$f":"Macro!E7959","v":{"$error":"#DIV/0!"}}]
[null,{"$f":"Macro!A7960","v":0},{"$f":"Macro!B7960","v":0},{"$f":"Macro!E7960","v":{"$error":"#DIV/0!"}}]
[null,{"$f":"Macro!A7961","v":0},{"$f":"Macro!B7961","v":0},{"$f":"Macro!E7961","v":{"$error":"#DIV/0!"}}]
[null,{"$f":"Macro!A7962","v":0},{"$f":"Macro!B7962","v":0},{"$f":"Macro!E7962","v":{"$error":"#DIV/0!"}}]
[null,{"$f":"Macro!A7963","v":0},{"$f":"Macro!B7963","v":0},{"$f":"Macro!E7963","v":{"$error":"#DIV/0!"}}]
[null,{"$f":"Macro!A7964","v":0},{"$f":"Macro!B7964","v":0},{"$f":"Macro!E7964","v":{"$error":"#DIV/0!"}}]
[null,{"$f":"Macro!A7965","v":0},{"$f":"Macro!B7965","v":0},{"$f":"Macro!E7965","v":{"$error":"#DIV/0!"}}]
[null,{"$f":"Macro!A7966","v":0},{"$f":"Macro!B7966","v":0},{"$f":"Macro!E7966","v":{"$error":"#DIV/0!"}}]
[null,{"$f":"Macro!A7967","v":0},{"$f":"Macro!B7967","v":0},{"$f":"Macro!E7967","v":{"$error":"#DIV/0!"}}]
[null,{"$f":"Macro!A7968","v":0},{"$f":"Macro!B7968","v":0},{"$f":"Macro!E7968","v":{"$error":"#DIV/0!"}}]
[null,{"$f":"Macro!A7969","v":0},{"$f":"Macro!B7969","v":0},{"$f":"Macro!E7969","v":{"$error":"#DIV/0!"}}]
[null,{"$f":"Macro!A7970","v":0},{"$f":"Macro!B7970","v":0},{"$f":"Macro!E7970","v":{"$error":"#DIV/0!"}}]
[null,{"$f":"Macro!A7971","v":0},{"$f":"Macro!B7971","v":0},{"$f":"Macro!E7971","v":{"$error":"#DIV/0!"}}]
[null,{"$f":"Macro!A7972","v":0},{"$f":"Macro!B7972","v":0},{"$f":"Macro!E7972","v":{"$error":"#DIV/0!"}}]
[null,{"$f":"Macro!A7973","v":0},{"$f":"Macro!B7973","v":0},{"$f":"Macro!E7973","v":{"$error":"#DIV/0!"}}]
[null,{"$f":"Macro!A7974","v":0},{"$f":"Macro!B7974","v":0},{"$f":"Macro!E7974","v":{"$error":"#DIV/0!"}}]
[null,{"$f":"Macro!A7975","v":0},{"$f":"Macro!B7975","v":0},{"$f":"Macro!E7975","v":{"$error":"#DIV/0!"}}]
[null,{"$f":"Macro!A7976","v":0},{"$f":"Macro!B7976","v":0},{"$f":"Macro!E7976","v":{"$error":"#DIV/0!"}}]
[null,{"$f":"Macro!A7977","v":0},{"$f":"Macro!B7977","v":0},{"$f":"Macro!E7977","v":{"$error":"#DIV/0!"}}]
[null,{"$f":"Macro!A7978","v":0},{"$f":"Macro!B7978","v":0},{"$f":"Macro!E7978","v":{"$error":"#DIV/0!"}}]
[null,{"$f":"Macro!A7979","v":0},{"$f":"Macro!B7979","v":0},{"$f":"Macro!E7979","v":{"$error":"#DIV/0!"}}]
[null,{"$f":"Macro!A7980","v":0},{"$f":"Macro!B7980","v":0},{"$f":"Macro!E7980","v":{"$error":"#DIV/0!"}}]
[null,{"$f":"Macro!A7981","v":0},{"$f":"Macro!B7981","v":0},{"$f":"Macro!E7981","v":{"$error":"#DIV/0!"}}]
[null,{"$f":"Macro!A7982","v":0},{"$f":"Macro!B7982","v":0},{"$f":"Macro!E7982","v":{"$error":"#DIV/0!"}}]
[null,{"$f":"Macro!A7983","v":0},{"$f":"Macro!B7983","v":0},{"$f":"Macro!E7983","v":{"$error":"#DIV/0!"}}]
[null,{"$f":"Macro!A7984","v":0},{"$f":"Macro!B7984","v":0},{"$f":"Macro!E7984","v":{"$error":"#DIV/0!"}}]
[null,{"$f":"Macro!A7985","v":0},{"$f":"Macro!B7985","v":0},{"$f":"Macro!E7985","v":{"$error":"#DIV/0!"}}]
[null,{"$f":"Macro!A7986","v":0},{"$f":"Macro!B7986","v":0},{"$f":"Macro!E7986","v":{"$error":"#DIV/0!"}}]
[null,{"$f":"Macro!A7987","v":0},{"$f":"Macro!B7987","v":0},{"$f":"Macro!E7987","v":{"$error":"#DIV/0!"}}]
[null,{"$f":"Macro!A7988","v":0},{"$f":"Macro!B7988","v":0},{"$f":"Macro!E7988","v":{"$error":"#DIV/0!"}}]
[null,{"$f":"Macro!A7989","v":0},{"$f":"Macro!B7989","v":0},{"$f":"Macro!E7989","v":{"$error":"#DIV/0!"}}]
[null,{"$f":"Macro!A7990","v":0},{"$f":"Macro!B7990","v":0},{"$f":"Macro!E7990","v":{"$error":"#DIV/0!"}}]
[null,{"$f":"Macro!A7991","v":0},{"$f":"Macro!B7991","v":0},{"$f":"Macro!E7991","v":{"$error":"#DIV/0!"}}]
[null,{"$f":"Macro!A7992","v":0},{"$f":"Macro!B7992","v":0},{"$f":"Macro!E7992","v":{"$error":"#DIV/0!"}}]
[null,{"$f":"Macro!A7993","v":0},{"$f":"Macro!B7993","v":0},{"$f":"Macro!E7993","v":{"$error":"#DIV/0!"}}]
[null,{"$f":"Macro!A7994","v":0},{"$f":"Macro!B7994","v":0},{"$f":"Macro!E7994","v":{"$error":"#DIV/0!"}}]
[null,{"$f":"Macro!A7995","v":0},{"$f":"Macro!B7995","v":0},{"$f":"Macro!E7995","v":{"$error":"#DIV/0!"}}]
[null,{"$f":"Macro!A7996","v":0},{"$f":"Macro!B7996","v":0},{"$f":"Macro!E7996","v":{"$error":"#DIV/0!"}}]
[null,{"$f":"Macro!A7997","v":0},{"$f":"Macro!B7997","v":0},{"$f":"Macro!E7997","v":{"$error":"#DIV/0!"}}]
[null,{"$f":"Macro!A7998","v":0},{"$f":"Macro!B7998","v":0},{"$f":"Macro!E7998","v":{"$error":"#DIV/0!"}}]
[null,{"$f":"Macro!A7999","v":0},{"$f":"Macro!B7999","v":0},{"$f":"Macro!E7999","v":{"$error":"#DIV/0!"}}]
[null,{"$f":"Macro!A8000","v":0},{"$f":"Macro!B8000","v":0},{"$f":"Macro!E8000","v":{"$error":"#DIV/0!"}}]
[null,{"$f":"Macro!A8001","v":0},{"$f":"Macro!B8001","v":0},{"$f":"Macro!E8001","v":{"$error":"#DIV/0!"}}]
[null,{"$f":"Macro!A8002","v":0},{"$f":"Macro!B8002","v":0},{"$f":"Macro!E8002","v":{"$error":"#DIV/0!"}}]
[null,{"$f":"Macro!A8003","v":0},{"$f":"Macro!B8003","v":0},{"$f":"Macro!E8003","v":{"$error":"#DIV/0!"}}]
[null,{"$f":"Macro!A8004","v":0},{"$f":"Macro!B8004","v":0},{"$f":"Macro!E8004","v":{"$error":"#DIV/0!"}}]
[null,{"$f":"Macro!A8005","v":0},{"$f":"Macro!B8005","v":0},{"$f":"Macro!E8005","v":{"$error":"#DIV/0!"}}]
[null,{"$f":"Macro!A8006","v":0},{"$f":"Macro!B8006","v":0},{"$f":"Macro!E8006","v":{"$error":"#DIV/0!"}}]
[null,{"$f":"Macro!A8007","v":0},{"$f":"Macro!B8007","v":0},{"$f":"Macro!E8007","v":{"$error":"#DIV/0!"}}]
[null,{"$f":"Macro!A8008","v":0},{"$f":"Macro!B8008","v":0},{"$f":"Macro!E8008","v":{"$error":"#DIV/0!"}}]
[null,{"$f":"Macro!A8009","v":0},{"$f":"Macro!B8009","v":0},{"$f":"Macro!E8009","v":{"$error":"#DIV/0!"}}]
[null,{"$f":"Macro!A8010","v":0},{"$f":"Macro!B8010","v":0},{"$f":"Macro!E8010","v":{"$error":"#DIV/0!"}}]
[null,{"$f":"Macro!A8011","v":0},{"$f":"Macro!B8011","v":0},{"$f":"Macro!E8011","v":{"$error":"#DIV/0!"}}]
[null,{"$f":"Macro!A8012","v":0},{"$f":"Macro!B8012","v":0},{"$f":"Macro!E8012","v":{"$error":"#DIV/0!"}}]
[null,{"$f":"Macro!A8013","v":0},{"$f":"Macro!B8013","v":0},{"$f":"Macro!E8013","v":{"$error":"#DIV/0!"}}]
[null,{"$f":"Macro!A8014","v":0},{"$f":"Macro!B8014","v":0},{"$f":"Macro!E8014","v":{"$error":"#DIV/0!"}}]
[null,{"$f":"Macro!A8015","v":0},{"$f":"Macro!B8015","v":0},{"$f":"Macro!E8015","v":{"$error":"#DIV/0!"}}]
[null,{"$f":"Macro!A8016","v":0},{"$f":"Macro!B8016","v":0},{"$f":"Macro!E8016","v":{"$error":"#DIV/0!"}}]
[null,{"$f":"Macro!A8017","v":0},{"$f":"Macro!B8017","v":0},{"$f":"Macro!E8017","v":{"$error":"#DIV/0!"}}]
[null,{"$f":"Macro!A8018","v":0},{"$f":"Macro!B8018","v":0},{"$f":"Macro!E8018","v":{"$error":"#DIV/0!"}}]
[null,{"$f":"Macro!A8019","v":0},{"$f":"Macro!B8019","v":0},{"$f":"Macro!E8019","v":{"$error":"#DIV/0!"}}]
[null,{"$f":"Macro!A8020","v":0},{"$f":"Macro!B8020","v":0},{"$f":"Macro!E8020","v":{"$error":"#DIV/0!"}}]
[null,{"$f":"Macro!A8021","v":0},{"$f":"Macro!B8021","v":0},{"$f":"Macro!E8021","v":{"$error":"#DIV/0!"}}]
[null,{"$f":"Macro!A8022","v":0},{"$f":"Macro!B8022","v":0},{"$f":"Macro!E8022","v":{"$error":"#DIV/0!"}}]
[null,{"$f":"Macro!A8023","v":0},{"$f":"Macro!B8023","v":0},{"$f":"Macro!E8023","v":{"$error":"#DIV/0!"}}]
[null,{"$f":"Macro!A8024","v":0},{"$f":"Macro!B8024","v":0},{"$f":"Macro!E8024","v":{"$error":"#DIV/0!"}}]
[null,{"$f":"Macro!A8025","v":0},{"$f":"Macro!B8025","v":0},{"$f":"Macro!E8025","v":{"$error":"#DIV/0!"}}]
[null,{"$f":"Macro!A8026","v":0},{"$f":"Macro!B8026","v":0},{"$f":"Macro!E8026","v":{"$error":"#DIV/0!"}}]
[null,{"$f":"Macro!A8027","v":0},{"$f":"Macro!B8027","v":0},{"$f":"Macro!E8027","v":{"$error":"#DIV/0!"}}]
[null,{"$f":"Macro!A8028","v":0},{"$f":"Macro!B8028","v":0},{"$f":"Macro!E8028","v":{"$error":"#DIV/0!"}}]
[null,{"$f":"Macro!A8029","v":0},{"$f":"Macro!B8029","v":0},{"$f":"Macro!E8029","v":{"$error":"#DIV/0!"}}]
[null,{"$f":"Macro!A8030","v":0},{"$f":"Macro!B8030","v":0},{"$f":"Macro!E8030","v":{"$error":"#DIV/0!"}}]
[null,{"$f":"Macro!A8031","v":0},{"$f":"Macro!B8031","v":0},{"$f":"Macro!E8031","v":{"$error":"#DIV/0!"}}]
[null,{"$f":"Macro!A8032","v":0},{"$f":"Macro!B8032","v":0},{"$f":"Macro!E8032","v":{"$error":"#DIV/0!"}}]
[null,{"$f":"Macro!A8033","v":0},{"$f":"Macro!B8033","v":0},{"$f":"Macro!E8033","v":{"$error":"#DIV/0!"}}]
[null,{"$f":"Macro!A8034","v":0},{"$f":"Macro!B8034","v":0},{"$f":"Macro!E8034","v":{"$error":"#DIV/0!"}}]
[null,{"$f":"Macro!A8035","v":0},{"$f":"Macro!B8035","v":0},{"$f":"Macro!E8035","v":{"$error":"#DIV/0!"}}]
[null,{"$f":"Macro!A8036","v":0},{"$f":"Macro!B8036","v":0},{"$f":"Macro!E8036","v":{"$error":"#DIV/0!"}}]
[null,{"$f":"Macro!A8037","v":0},{"$f":"Macro!B8037","v":0},{"$f":"Macro!E8037","v":{"$error":"#DIV/0!"}}]
[null,{"$f":"Macro!A8038","v":0},{"$f":"Macro!B8038","v":0},{"$f":"Macro!E8038","v":{"$error":"#DIV/0!"}}]
[null,{"$f":"Macro!A8039","v":0},{"$f":"Macro!B8039","v":0},{"$f":"Macro!E8039","v":{"$error":"#DIV/0!"}}]
[null,{"$f":"Macro!A8040","v":0},{"$f":"Macro!B8040","v":0},{"$f":"Macro!E8040","v":{"$error":"#DIV/0!"}}]
[null,{"$f":"Macro!A8041","v":0},{"$f":"Macro!B8041","v":0},{"$f":"Macro!E8041","v":{"$error":"#DIV/0!"}}]
[null,{"$f":"Macro!A8042","v":0},{"$f":"Macro!B8042","v":0},{"$f":"Macro!E8042","v":{"$error":"#DIV/0!"}}]
[null,{"$f":"Macro!A8043","v":0},{"$f":"Macro!B8043","v":0},{"$f":"Macro!E8043","v":{"$error":"#DIV/0!"}}]
[null,{"$f":"Macro!A8044","v":0},{"$f":"Macro!B8044","v":0},{"$f":"Macro!E8044","v":{"$error":"#DIV/0!"}}]
[null,{"$f":"Macro!A8045","v":0},{"$f":"Macro!B8045","v":0},{"$f":"Macro!E8045","v":{"$error":"#DIV/0!"}}]
[null,{"$f":"Macro!A8046","v":0},{"$f":"Macro!B8046","v":0},{"$f":"Macro!E8046","v":{"$error":"#DIV/0!"}}]
[null,{"$f":"Macro!A8047","v":0},{"$f":"Macro!B8047","v":0},{"$f":"Macro!E8047","v":{"$error":"#DIV/0!"}}]
[null,{"$f":"Macro!A8048","v":0},{"$f":"Macro!B8048","v":0},{"$f":"Macro!E8048","v":{"$error":"#DIV/0!"}}]
[null,{"$f":"Macro!A8049","v":0},{"$f":"Macro!B8049","v":0},{"$f":"Macro!E8049","v":{"$error":"#DIV/0!"}}]
[null,{"$f":"Macro!A8050","v":0},{"$f":"Macro!B8050","v":0},{"$f":"Macro!E8050","v":{"$error":"#DIV/0!"}}]
[null,{"$f":"Macro!A8051","v":0},{"$f":"Macro!B8051","v":0},{"$f":"Macro!E8051","v":{"$error":"#DIV/0!"}}]
[null,{"$f":"Macro!A8052","v":0},{"$f":"Macro!B8052","v":0},{"$f":"Macro!E8052","v":{"$error":"#DIV/0!"}}]
[null,{"$f":"Macro!A8053","v":0},{"$f":"Macro!B8053","v":0},{"$f":"Macro!E8053","v":{"$error":"#DIV/0!"}}]
[null,{"$f":"Macro!A8054","v":0},{"$f":"Macro!B8054","v":0},{"$f":"Macro!E8054","v":{"$error":"#DIV/0!"}}]
[null,{"$f":"Macro!A8055","v":0},{"$f":"Macro!B8055","v":0},{"$f":"Macro!E8055","v":{"$error":"#DIV/0!"}}]
[null,{"$f":"Macro!A8056","v":0},{"$f":"Macro!B8056","v":0},{"$f":"Macro!E8056","v":{"$error":"#DIV/0!"}}]
[null,{"$f":"Macro!A8057","v":0},{"$f":"Macro!B8057","v":0},{"$f":"Macro!E8057","v":{"$error":"#DIV/0!"}}]
[null,{"$f":"Macro!A8058","v":0},{"$f":"Macro!B8058","v":0},{"$f":"Macro!E8058","v":{"$error":"#DIV/0!"}}]
[null,{"$f":"Macro!A8059","v":0},{"$f":"Macro!B8059","v":0},{"$f":"Macro!E8059","v":{"$error":"#DIV/0!"}}]
[null,{"$f":"Macro!A8060","v":0},{"$f":"Macro!B8060","v":0},{"$f":"Macro!E8060","v":{"$error":"#DIV/0!"}}]
[null,{"$f":"Macro!A8061","v":0},{"$f":"Macro!B8061","v":0},{"$f":"Macro!E8061","v":{"$error":"#DIV/0!"}}]
[null,{"$f":"Macro!A8062","v":0},{"$f":"Macro!B8062","v":0},{"$f":"Macro!E8062","v":{"$error":"#DIV/0!"}}]
[null,{"$f":"Macro!A8063","v":0},{"$f":"Macro!B8063","v":0},{"$f":"Macro!E8063","v":{"$error":"#DIV/0!"}}]
[null,{"$f":"Macro!A8064","v":0},{"$f":"Macro!B8064","v":0},{"$f":"Macro!E8064","v":{"$error":"#DIV/0!"}}]
[null,{"$f":"Macro!A8065","v":0},{"$f":"Macro!B8065","v":0},{"$f":"Macro!E8065","v":{"$error":"#DIV/0!"}}]
[null,{"$f":"Macro!A8066","v":0},{"$f":"Macro!B8066","v":0},{"$f":"Macro!E8066","v":{"$error":"#DIV/0!"}}]
[null,{"$f":"Macro!A8067","v":0},{"$f":"Macro!B8067","v":0},{"$f":"Macro!E8067","v":{"$error":"#DIV/0!"}}]
[null,{"$f":"Macro!A8068","v":0},{"$f":"Macro!B8068","v":0},{"$f":"Macro!E8068","v":{"$error":"#DIV/0!"}}]
[null,{"$f":"Macro!A8069","v":0},{"$f":"Macro!B8069","v":0},{"$f":"Macro!E8069","v":{"$error":"#DIV/0!"}}]
[null,{"$f":"Macro!A8070","v":0},{"$f":"Macro!B8070","v":0},{"$f":"Macro!E8070","v":{"$error":"#DIV/0!"}}]
[null,{"$f":"Macro!A8071","v":0},{"$f":"Macro!B8071","v":0},{"$f":"Macro!E8071","v":{"$error":"#DIV/0!"}}]
[null,{"$f":"Macro!A8072","v":0},{"$f":"Macro!B8072","v":0},{"$f":"Macro!E8072","v":{"$error":"#DIV/0!"}}]
[null,{"$f":"Macro!A8073","v":0},{"$f":"Macro!B8073","v":0},{"$f":"Macro!E8073","v":{"$error":"#DIV/0!"}}]
[null,{"$f":"Macro!A8074","v":0},{"$f":"Macro!B8074","v":0},{"$f":"Macro!E8074","v":{"$error":"#DIV/0!"}}]
[null,{"$f":"Macro!A8075","v":0},{"$f":"Macro!B8075","v":0},{"$f":"Macro!E8075","v":{"$error":"#DIV/0!"}}]
[null,{"$f":"Macro!A8076","v":0},{"$f":"Macro!B8076","v":0},{"$f":"Macro!E8076","v":{"$error":"#DIV/0!"}}]
[null,{"$f":"Macro!A8077","v":0},{"$f":"Macro!B8077","v":0},{"$f":"Macro!E8077","v":{"$error":"#DIV/0!"}}]
[null,{"$f":"Macro!A8078","v":0},{"$f":"Macro!B8078","v":0},{"$f":"Macro!E8078","v":{"$error":"#DIV/0!"}}]
[null,{"$f":"Macro!A8079","v":0},{"$f":"Macro!B8079","v":0},{"$f":"Macro!E8079","v":{"$error":"#DIV/0!"}}]
[null,{"$f":"Macro!A8080","v":0},{"$f":"Macro!B8080","v":0},{"$f":"Macro!E8080","v":{"$error":"#DIV/0!"}}]
[null,{"$f":"Macro!A8081","v":0},{"$f":"Macro!B8081","v":0},{"$f":"Macro!E8081","v":{"$error":"#DIV/0!"}}]
[null,{"$f":"Macro!A8082","v":0},{"$f":"Macro!B8082","v":0},{"$f":"Macro!E8082","v":{"$error":"#DIV/0!"}}]
[null,{"$f":"Macro!A8083","v":0},{"$f":"Macro!B8083","v":0},{"$f":"Macro!E8083","v":{"$error":"#DIV/0!"}}]
[null,{"$f":"Macro!A8084","v":0},{"$f":"Macro!B8084","v":0},{"$f":"Macro!E8084","v":{"$error":"#DIV/0!"}}]
[null,{"$f":"Macro!A8085","v":0},{"$f":"Macro!B8085","v":0},{"$f":"Macro!E8085","v":{"$error":"#DIV/0!"}}]
[null,{"$f":"Macro!A8086","v":0},{"$f":"Macro!B8086","v":0},{"$f":"Macro!E8086","v":{"$error":"#DIV/0!"}}]
[null,{"$f":"Macro!A8087","v":0},{"$f":"Macro!B8087","v":0},{"$f":"Macro!E8087","v":{"$error":"#DIV/0!"}}]
[null,{"$f":"Macro!A8088","v":0},{"$f":"Macro!B8088","v":0},{"$f":"Macro!E8088","v":{"$error":"#DIV/0!"}}]
[null,{"$f":"Macro!A8089","v":0},{"$f":"Macro!B8089","v":0},{"$f":"Macro!E8089","v":{"$error":"#DIV/0!"}}]
[null,{"$f":"Macro!A8090","v":0},{"$f":"Macro!B8090","v":0},{"$f":"Macro!E8090","v":{"$error":"#DIV/0!"}}]
[null,{"$f":"Macro!A8091","v":0},{"$f":"Macro!B8091","v":0},{"$f":"Macro!E8091","v":{"$error":"#DIV/0!"}}]
[null,{"$f":"Macro!A8092","v":0},{"$f":"Macro!B8092","v":0},{"$f":"Macro!E8092","v":{"$error":"#DIV/0!"}}]
[null,{"$f":"Macro!A8093","v":0},{"$f":"Macro!B8093","v":0},{"$f":"Macro!E8093","v":{"$error":"#DIV/0!"}}]
[null,{"$f":"Macro!A8094","v":0},{"$f":"Macro!B8094","v":0},{"$f":"Macro!E8094","v":{"$error":"#DIV/0!"}}]
[null,{"$f":"Macro!A8095","v":0},{"$f":"Macro!B8095","v":0},{"$f":"Macro!E8095","v":{"$error":"#DIV/0!"}}]
[null,{"$f":"Macro!A8096","v":0},{"$f":"Macro!B8096","v":0},{"$f":"Macro!E8096","v":{"$error":"#DIV/0!"}}]
[null,{"$f":"Macro!A8097","v":0},{"$f":"Macro!B8097","v":0},{"$f":"Macro!E8097","v":{"$error":"#DIV/0!"}}]
[null,{"$f":"Macro!A8098","v":0},{"$f":"Macro!B8098","v":0},{"$f":"Macro!E8098","v":{"$error":"#DIV/0!"}}]
[null,{"$f":"Macro!A8099","v":0},{"$f":"Macro!B8099","v":0},{"$f":"Macro!E8099","v":{"$error":"#DIV/0!"}}]
[null,{"$f":"Macro!A8100","v":0},{"$f":"Macro!B8100","v":0},{"$f":"Macro!E8100","v":{"$error":"#DIV/0!"}}]
[null,{"$f":"Macro!A8101","v":0},{"$f":"Macro!B8101","v":0},{"$f":"Macro!E8101","v":{"$error":"#DIV/0!"}}]
[null,{"$f":"Macro!A8102","v":0},{"$f":"Macro!B8102","v":0},{"$f":"Macro!E8102","v":{"$error":"#DIV/0!"}}]
[null,{"$f":"Macro!A8103","v":0},{"$f":"Macro!B8103","v":0},{"$f":"Macro!E8103","v":{"$error":"#DIV/0!"}}]
[null,{"$f":"Macro!A8104","v":0},{"$f":"Macro!B8104","v":0},{"$f":"Macro!E8104","v":{"$error":"#DIV/0!"}}]
[null,{"$f":"Macro!A8105","v":0},{"$f":"Macro!B8105","v":0},{"$f":"Macro!E8105","v":{"$error":"#DIV/0!"}}]
[null,{"$f":"Macro!A8106","v":0},{"$f":"Macro!B8106","v":0},{"$f":"Macro!E8106","v":{"$error":"#DIV/0!"}}]
[null,{"$f":"Macro!A8107","v":0},{"$f":"Macro!B8107","v":0},{"$f":"Macro!E8107","v":{"$error":"#DIV/0!"}}]
[null,{"$f":"Macro!A8108","v":0},{"$f":"Macro!B8108","v":0},{"$f":"Macro!E8108","v":{"$error":"#DIV/0!"}}]
[null,{"$f":"Macro!A8109","v":0},{"$f":"Macro!B8109","v":0},{"$f":"Macro!E8109","v":{"$error":"#DIV/0!"}}]
[null,{"$f":"Macro!A8110","v":0},{"$f":"Macro!B8110","v":0},{"$f":"Macro!E8110","v":{"$error":"#DIV/0!"}}]
[null,{"$f":"Macro!A8111","v":0},{"$f":"Macro!B8111","v":0},{"$f":"Macro!E8111","v":{"$error":"#DIV/0!"}}]
[null,{"$f":"Macro!A8112","v":0},{"$f":"Macro!B8112","v":0},{"$f":"Macro!E8112","v":{"$error":"#DIV/0!"}}]
[null,{"$f":"Macro!A8113","v":0},{"$f":"Macro!B8113","v":0},{"$f":"Macro!E8113","v":{"$error":"#DIV/0!"}}]
[null,{"$f":"Macro!A8114","v":0},{"$f":"Macro!B8114","v":0},{"$f":"Macro!E8114","v":{"$error":"#DIV/0!"}}]
[null,{"$f":"Macro!A8115","v":0},{"$f":"Macro!B8115","v":0},{"$f":"Macro!E8115","v":{"$error":"#DIV/0!"}}]
[null,{"$f":"Macro!A8116","v":0},{"$f":"Macro!B8116","v":0},{"$f":"Macro!E8116","v":{"$error":"#DIV/0!"}}]
[null,{"$f":"Macro!A8117","v":0},{"$f":"Macro!B8117","v":0},{"$f":"Macro!E8117","v":{"$error":"#DIV/0!"}}]
[null,{"$f":"Macro!A8118","v":0},{"$f":"Macro!B8118","v":0},{"$f":"Macro!E8118","v":{"$error":"#DIV/0!"}}]
[null,{"$f":"Macro!A8119","v":0},{"$f":"Macro!B8119","v":0},{"$f":"Macro!E8119","v":{"$error":"#DIV/0!"}}]
[null,{"$f":"Macro!A8120","v":0},{"$f":"Macro!B8120","v":0},{"$f":"Macro!E8120","v":{"$error":"#DIV/0!"}}]
[null,{"$f":"Macro!A8121","v":0},{"$f":"Macro!B8121","v":0},{"$f":"Macro!E8121","v":{"$error":"#DIV/0!"}}]
[null,{"$f":"Macro!A8122","v":0},{"$f":"Macro!B8122","v":0},{"$f":"Macro!E8122","v":{"$error":"#DIV/0!"}}]
[null,{"$f":"Macro!A8123","v":0},{"$f":"Macro!B8123","v":0},{"$f":"Macro!E8123","v":{"$error":"#DIV/0!"}}]
[null,{"$f":"Macro!A8124","v":0},{"$f":"Macro!B8124","v":0},{"$f":"Macro!E8124","v":{"$error":"#DIV/0!"}}]
[null,{"$f":"Macro!A8125","v":0},{"$f":"Macro!B8125","v":0},{"$f":"Macro!E8125","v":{"$error":"#DIV/0!"}}]
[null,{"$f":"Macro!A8126","v":0},{"$f":"Macro!B8126","v":0},{"$f":"Macro!E8126","v":{"$error":"#DIV/0!"}}]
[null,{"$f":"Macro!A8127","v":0},{"$f":"Macro!B8127","v":0},{"$f":"Macro!E8127","v":{"$error":"#DIV/0!"}}]
[null,{"$f":"Macro!A8128","v":0},{"$f":"Macro!B8128","v":0},{"$f":"Macro!E8128","v":{"$error":"#DIV/0!"}}]
[null,{"$f":"Macro!A8129","v":0},{"$f":"Macro!B8129","v":0},{"$f":"Macro!E8129","v":{"$error":"#DIV/0!"}}]
[null,{"$f":"Macro!A8130","v":0},{"$f":"Macro!B8130","v":0},{"$f":"Macro!E8130","v":{"$error":"#DIV/0!"}}]
[null,{"$f":"Macro!A8131","v":0},{"$f":"Macro!B8131","v":0},{"$f":"Macro!E8131","v":{"$error":"#DIV/0!"}}]
[null,{"$f":"Macro!A8132","v":0},{"$f":"Macro!B8132","v":0},{"$f":"Macro!E8132","v":{"$error":"#DIV/0!"}}]
[null,{"$f":"Macro!A8133","v":0},{"$f":"Macro!B8133","v":0},{"$f":"Macro!E8133","v":{"$error":"#DIV/0!"}}]
[null,{"$f":"Macro!A8134","v":0},{"$f":"Macro!B8134","v":0},{"$f":"Macro!E8134","v":{"$error":"#DIV/0!"}}]
[null,{"$f":"Macro!A8135","v":0},{"$f":"Macro!B8135","v":0},{"$f":"Macro!E8135","v":{"$error":"#DIV/0!"}}]
[null,{"$f":"Macro!A8136","v":0},{"$f":"Macro!B8136","v":0},{"$f":"Macro!E8136","v":{"$error":"#DIV/0!"}}]
[null,{"$f":"Macro!A8137","v":0},{"$f":"Macro!B8137","v":0},{"$f":"Macro!E8137","v":{"$error":"#DIV/0!"}}]
[null,{"$f":"Macro!A8138","v":0},{"$f":"Macro!B8138","v":0},{"$f":"Macro!E8138","v":{"$error":"#DIV/0!"}}]
[null,{"$f":"Macro!A8139","v":0},{"$f":"Macro!B8139","v":0},{"$f":"Macro!E8139","v":{"$error":"#DIV/0!"}}]
[null,{"$f":"Macro!A8140","v":0},{"$f":"Macro!B8140","v":0},{"$f":"Macro!E8140","v":{"$error":"#DIV/0!"}}]
[null,{"$f":"Macro!A8141","v":0},{"$f":"Macro!B8141","v":0},{"$f":"Macro!E8141","v":{"$error":"#DIV/0!"}}]
[null,{"$f":"Macro!A8142","v":0},{"$f":"Macro!B8142","v":0},{"$f":"Macro!E8142","v":{"$error":"#DIV/0!"}}]
[null,{"$f":"Macro!A8143","v":0},{"$f":"Macro!B8143","v":0},{"$f":"Macro!E8143","v":{"$error":"#DIV/0!"}}]
[null,{"$f":"Macro!A8144","v":0},{"$f":"Macro!B8144","v":0},{"$f":"Macro!E8144","v":{"$error":"#DIV/0!"}}]
[null,{"$f":"Macro!A8145","v":0},{"$f":"Macro!B8145","v":0},{"$f":"Macro!E8145","v":{"$error":"#DIV/0!"}}]
[null,{"$f":"Macro!A8146","v":0},{"$f":"Macro!B8146","v":0},{"$f":"Macro!E8146","v":{"$error":"#DIV/0!"}}]
[null,{"$f":"Macro!A8147","v":0},{"$f":"Macro!B8147","v":0},{"$f":"Macro!E8147","v":{"$error":"#DIV/0!"}}]
[null,{"$f":"Macro!A8148","v":0},{"$f":"Macro!B8148","v":0},{"$f":"Macro!E8148","v":{"$error":"#DIV/0!"}}]
[null,{"$f":"Macro!A8149","v":0},{"$f":"Macro!B8149","v":0},{"$f":"Macro!E8149","v":{"$error":"#DIV/0!"}}]
[null,{"$f":"Macro!A8150","v":0},{"$f":"Macro!B8150","v":0},{"$f":"Macro!E8150","v":{"$error":"#DIV/0!"}}]
[null,{"$f":"Macro!A8151","v":0},{"$f":"Macro!B8151","v":0},{"$f":"Macro!E8151","v":{"$error":"#DIV/0!"}}]
[null,{"$f":"Macro!A8152","v":0},{"$f":"Macro!B8152","v":0},{"$f":"Macro!E8152","v":{"$error":"#DIV/0!"}}]
[null,{"$f":"Macro!A8153","v":0},{"$f":"Macro!B8153","v":0},{"$f":"Macro!E8153","v":{"$error":"#DIV/0!"}}]
[null,{"$f":"Macro!A8154","v":0},{"$f":"Macro!B8154","v":0},{"$f":"Macro!E8154","v":{"$error":"#DIV/0!"}}]
[null,{"$f":"Macro!A8155","v":0},{"$f":"Macro!B8155","v":0},{"$f":"Macro!E8155","v":{"$error":"#DIV/0!"}}]
[null,{"$f":"Macro!A8156","v":0},{"$f":"Macro!B8156","v":0},{"$f":"Macro!E8156","v":{"$error":"#DIV/0!"}}]
[null,{"$f":"Macro!A8157","v":0},{"$f":"Macro!B8157","v":0},{"$f":"Macro!E8157","v":{"$error":"#DIV/0!"}}]
[null,{"$f":"Macro!A8158","v":0},{"$f":"Macro!B8158","v":0},{"$f":"Macro!E8158","v":{"$error":"#DIV/0!"}}]
[null,{"$f":"Macro!A8159","v":0},{"$f":"Macro!B8159","v":0},{"$f":"Macro!E8159","v":{"$error":"#DIV/0!"}}]
[null,{"$f":"Macro!A8160","v":0},{"$f":"Macro!B8160","v":0},{"$f":"Macro!E8160","v":{"$error":"#DIV/0!"}}]
[null,{"$f":"Macro!A8161","v":0},{"$f":"Macro!B8161","v":0},{"$f":"Macro!E8161","v":{"$error":"#DIV/0!"}}]
[null,{"$f":"Macro!A8162","v":0},{"$f":"Macro!B8162","v":0},{"$f":"Macro!E8162","v":{"$error":"#DIV/0!"}}]
[null,{"$f":"Macro!A8163","v":0},{"$f":"Macro!B8163","v":0},{"$f":"Macro!E8163","v":{"$error":"#DIV/0!"}}]
[null,{"$f":"Macro!A8164","v":0},{"$f":"Macro!B8164","v":0},{"$f":"Macro!E8164","v":{"$error":"#DIV/0!"}}]
[null,{"$f":"Macro!A8165","v":0},{"$f":"Macro!B8165","v":0},{"$f":"Macro!E8165","v":{"$error":"#DIV/0!"}}]
[null,{"$f":"Macro!A8166","v":0},{"$f":"Macro!B8166","v":0},{"$f":"Macro!E8166","v":{"$error":"#DIV/0!"}}]
[null,{"$f":"Macro!A8167","v":0},{"$f":"Macro!B8167","v":0},{"$f":"Macro!E8167","v":{"$error":"#DIV/0!"}}]
[null,{"$f":"Macro!A8168","v":0},{"$f":"Macro!B8168","v":0},{"$f":"Macro!E8168","v":{"$error":"#DIV/0!"}}]
[null,{"$f":"Macro!A8169","v":0},{"$f":"Macro!B8169","v":0},{"$f":"Macro!E8169","v":{"$error":"#DIV/0!"}}]
[null,{"$f":"Macro!A8170","v":0},{"$f":"Macro!B8170","v":0},{"$f":"Macro!E8170","v":{"$error":"#DIV/0!"}}]
[null,{"$f":"Macro!A8171","v":0},{"$f":"Macro!B8171","v":0},{"$f":"Macro!E8171","v":{"$error":"#DIV/0!"}}]
[null,{"$f":"Macro!A8172","v":0},{"$f":"Macro!B8172","v":0},{"$f":"Macro!E8172","v":{"$error":"#DIV/0!"}}]
[null,{"$f":"Macro!A8173","v":0},{"$f":"Macro!B8173","v":0},{"$f":"Macro!E8173","v":{"$error":"#DIV/0!"}}]
[null,{"$f":"Macro!A8174","v":0},{"$f":"Macro!B8174","v":0},{"$f":"Macro!E8174","v":{"$error":"#DIV/0!"}}]
[null,{"$f":"Macro!A8175","v":0},{"$f":"Macro!B8175","v":0},{"$f":"Macro!E8175","v":{"$error":"#DIV/0!"}}]
[null,{"$f":"Macro!A8176","v":0},{"$f":"Macro!B8176","v":0},{"$f":"Macro!E8176","v":{"$error":"#DIV/0!"}}]
[null,{"$f":"Macro!A8177","v":0},{"$f":"Macro!B8177","v":0},{"$f":"Macro!E8177","v":{"$error":"#DIV/0!"}}]
[null,{"$f":"Macro!A8178","v":0},{"$f":"Macro!B8178","v":0},{"$f":"Macro!E8178","v":{"$error":"#DIV/0!"}}]
[null,{"$f":"Macro!A8179","v":0},{"$f":"Macro!B8179","v":0},{"$f":"Macro!E8179","v":{"$error":"#DIV/0!"}}]
[null,{"$f":"Macro!A8180","v":0},{"$f":"Macro!B8180","v":0},{"$f":"Macro!E8180","v":{"$error":"#DIV/0!"}}]
[null,{"$f":"Macro!A8181","v":0},{"$f":"Macro!B8181","v":0},{"$f":"Macro!E8181","v":{"$error":"#DIV/0!"}}]
[null,{"$f":"Macro!A8182","v":0},{"$f":"Macro!B8182","v":0},{"$f":"Macro!E8182","v":{"$error":"#DIV/0!"}}]
[null,{"$f":"Macro!A8183","v":0},{"$f":"Macro!B8183","v":0},{"$f":"Macro!E8183","v":{"$error":"#DIV/0!"}}]
[null,{"$f":"Macro!A8184","v":0},{"$f":"Macro!B8184","v":0},{"$f":"Macro!E8184","v":{"$error":"#DIV/0!"}}]
[null,{"$f":"Macro!A8185","v":0},{"$f":"Macro!B8185","v":0},{"$f":"Macro!E8185","v":{"$error":"#DIV/0!"}}]
[null,{"$f":"Macro!A8186","v":0},{"$f":"Macro!B8186","v":0},{"$f":"Macro!E8186","v":{"$error":"#DIV/0!"}}]
[null,{"$f":"Macro!A8187","v":0},{"$f":"Macro!B8187","v":0},{"$f":"Macro!E8187","v":{"$error":"#DIV/0!"}}]
[null,{"$f":"Macro!A8188","v":0},{"$f":"Macro!B8188","v":0},{"$f":"Macro!E8188","v":{"$error":"#DIV/0!"}}]
[null,{"$f":"Macro!A8189","v":0},{"$f":"Macro!B8189","v":0},{"$f":"Macro!E8189","v":{"$error":"#DIV/0!"}}]
[null,{"$f":"Macro!A8190","v":0},{"$f":"Macro!B8190","v":0},{"$f":"Macro!E8190","v":{"$error":"#DIV/0!"}}]
[null,{"$f":"Macro!A8191","v":0},{"$f":"Macro!B8191","v":0},{"$f":"Macro!E8191","v":{"$error":"#DIV/0!"}}]
[null,{"$f":"Macro!A8192","v":0},{"$f":"Macro!B8192","v":0},{"$f":"Macro!E8192","v":{"$error":"#DIV/0!"}}]
[null,{"$f":"Macro!A8193","v":0},{"$f":"Macro!B8193","v":0},{"$f":"Macro!E8193","v":{"$error":"#DIV/0!"}}]
[null,{"$f":"Macro!A8194","v":0},{"$f":"Macro!B8194","v":0},{"$f":"Macro!E8194","v":{"$error":"#DIV/0!"}}]
[null,{"$f":"Macro!A8195","v":0},{"$f":"Macro!B8195","v":0},{"$f":"Macro!E8195","v":{"$error":"#DIV/0!"}}]
[null,{"$f":"Macro!A8196","v":0},{"$f":"Macro!B8196","v":0},{"$f":"Macro!E8196","v":{"$error":"#DIV/0!"}}]
[null,{"$f":"Macro!A8197","v":0},{"$f":"Macro!B8197","v":0},{"$f":"Macro!E8197","v":{"$error":"#DIV/0!"}}]
[null,{"$f":"Macro!A8198","v":0},{"$f":"Macro!B8198","v":0},{"$f":"Macro!E8198","v":{"$error":"#DIV/0!"}}]
[null,{"$f":"Macro!A8199","v":0},{"$f":"Macro!B8199","v":0},{"$f":"Macro!E8199","v":{"$error":"#DIV/0!"}}]
[null,{"$f":"Macro!A8200","v":0},{"$f":"Macro!B8200","v":0},{"$f":"Macro!E8200","v":{"$error":"#DIV/0!"}}]
[null,{"$f":"Macro!A8201","v":0},{"$f":"Macro!B8201","v":0},{"$f":"Macro!E8201","v":{"$error":"#DIV/0!"}}]
[null,{"$f":"Macro!A8202","v":0},{"$f":"Macro!B8202","v":0},{"$f":"Macro!E8202","v":{"$error":"#DIV/0!"}}]
[null,{"$f":"Macro!A8203","v":0},{"$f":"Macro!B8203","v":0},{"$f":"Macro!E8203","v":{"$error":"#DIV/0!"}}]
[null,{"$f":"Macro!A8204","v":0},{"$f":"Macro!B8204","v":0},{"$f":"Macro!E8204","v":{"$error":"#DIV/0!"}}]
[null,{"$f":"Macro!A8205","v":0},{"$f":"Macro!B8205","v":0},{"$f":"Macro!E8205","v":{"$error":"#DIV/0!"}}]
[null,{"$f":"Macro!A8206","v":0},{"$f":"Macro!B8206","v":0},{"$f":"Macro!E8206","v":{"$error":"#DIV/0!"}}]
[null,{"$f":"Macro!A8207","v":0},{"$f":"Macro!B8207","v":0},{"$f":"Macro!E8207","v":{"$error":"#DIV/0!"}}]
[null,{"$f":"Macro!A8208","v":0},{"$f":"Macro!B8208","v":0},{"$f":"Macro!E8208","v":{"$error":"#DIV/0!"}}]
[null,{"$f":"Macro!A8209","v":0},{"$f":"Macro!B8209","v":0},{"$f":"Macro!E8209","v":{"$error":"#DIV/0!"}}]
[null,{"$f":"Macro!A8210","v":0},{"$f":"Macro!B8210","v":0},{"$f":"Macro!E8210","v":{"$error":"#DIV/0!"}}]
[null,{"$f":"Macro!A8211","v":0},{"$f":"Macro!B8211","v":0},{"$f":"Macro!E8211","v":{"$error":"#DIV/0!"}}]
[null,{"$f":"Macro!A8212","v":0},{"$f":"Macro!B8212","v":0},{"$f":"Macro!E8212","v":{"$error":"#DIV/0!"}}]
[null,{"$f":"Macro!A8213","v":0},{"$f":"Macro!B8213","v":0},{"$f":"Macro!E8213","v":{"$error":"#DIV/0!"}}]
[null,{"$f":"Macro!A8214","v":0},{"$f":"Macro!B8214","v":0},{"$f":"Macro!E8214","v":{"$error":"#DIV/0!"}}]
[null,{"$f":"Macro!A8215","v":0},{"$f":"Macro!B8215","v":0},{"$f":"Macro!E8215","v":{"$error":"#DIV/0!"}}]
[null,{"$f":"Macro!A8216","v":0},{"$f":"Macro!B8216","v":0},{"$f":"Macro!E8216","v":{"$error":"#DIV/0!"}}]
[null,{"$f":"Macro!A8217","v":0},{"$f":"Macro!B8217","v":0},{"$f":"Macro!E8217","v":{"$error":"#DIV/0!"}}]
[null,{"$f":"Macro!A8218","v":0},{"$f":"Macro!B8218","v":0},{"$f":"Macro!E8218","v":{"$error":"#DIV/0!"}}]
[null,{"$f":"Macro!A8219","v":0},{"$f":"Macro!B8219","v":0},{"$f":"Macro!E8219","v":{"$error":"#DIV/0!"}}]
[null,{"$f":"Macro!A8220","v":0},{"$f":"Macro!B8220","v":0},{"$f":"Macro!E8220","v":{"$error":"#DIV/0!"}}]
[null,{"$f":"Macro!A8221","v":0},{"$f":"Macro!B8221","v":0},{"$f":"Macro!E8221","v":{"$error":"#DIV/0!"}}]
[null,{"$f":"Macro!A8222","v":0},{"$f":"Macro!B8222","v":0},{"$f":"Macro!E8222","v":{"$error":"#DIV/0!"}}]
[null,{"$f":"Macro!A8223","v":0},{"$f":"Macro!B8223","v":0},{"$f":"Macro!E8223","v":{"$error":"#DIV/0!"}}]
[null,{"$f":"Macro!A8224","v":0},{"$f":"Macro!B8224","v":0},{"$f":"Macro!E8224","v":{"$error":"#DIV/0!"}}]
[null,{"$f":"Macro!A8225","v":0},{"$f":"Macro!B8225","v":0},{"$f":"Macro!E8225","v":{"$error":"#DIV/0!"}}]
[null,{"$f":"Macro!A8226","v":0},{"$f":"Macro!B8226","v":0},{"$f":"Macro!E8226","v":{"$error":"#DIV/0!"}}]
[null,{"$f":"Macro!A8227","v":0},{"$f":"Macro!B8227","v":0},{"$f":"Macro!E8227","v":{"$error":"#DIV/0!"}}]
[null,{"$f":"Macro!A8228","v":0},{"$f":"Macro!B8228","v":0},{"$f":"Macro!E8228","v":{"$error":"#DIV/0!"}}]
[null,{"$f":"Macro!A8229","v":0},{"$f":"Macro!B8229","v":0},{"$f":"Macro!E8229","v":{"$error":"#DIV/0!"}}]
[null,{"$f":"Macro!A8230","v":0},{"$f":"Macro!B8230","v":0},{"$f":"Macro!E8230","v":{"$error":"#DIV/0!"}}]
[null,{"$f":"Macro!A8231","v":0},{"$f":"Macro!B8231","v":0},{"$f":"Macro!E8231","v":{"$error":"#DIV/0!"}}]
[null,{"$f":"Macro!A8232","v":0},{"$f":"Macro!B8232","v":0},{"$f":"Macro!E8232","v":{"$error":"#DIV/0!"}}]
[null,{"$f":"Macro!A8233","v":0},{"$f":"Macro!B8233","v":0},{"$f":"Macro!E8233","v":{"$error":"#DIV/0!"}}]
[null,{"$f":"Macro!A8234","v":0},{"$f":"Macro!B8234","v":0},{"$f":"Macro!E8234","v":{"$error":"#DIV/0!"}}]
[null,{"$f":"Macro!A8235","v":0},{"$f":"Macro!B8235","v":0},{"$f":"Macro!E8235","v":{"$error":"#DIV/0!"}}]
[null,{"$f":"Macro!A8236","v":0},{"$f":"Macro!B8236","v":0},{"$f":"Macro!E8236","v":{"$error":"#DIV/0!"}}]
[null,{"$f":"Macro!A8237","v":0},{"$f":"Macro!B8237","v":0},{"$f":"Macro!E8237","v":{"$error":"#DIV/0!"}}]
[null,{"$f":"Macro!A8238","v":0},{"$f":"Macro!B8238","v":0},{"$f":"Macro!E8238","v":{"$error":"#DIV/0!"}}]
[null,{"$f":"Macro!A8239","v":0},{"$f":"Macro!B8239","v":0},{"$f":"Macro!E8239","v":{"$error":"#DIV/0!"}}]
[null,{"$f":"Macro!A8240","v":0},{"$f":"Macro!B8240","v":0},{"$f":"Macro!E8240","v":{"$error":"#DIV/0!"}}]
[null,{"$f":"Macro!A8241","v":0},{"$f":"Macro!B8241","v":0},{"$f":"Macro!E8241","v":{"$error":"#DIV/0!"}}]
[null,{"$f":"Macro!A8242","v":0},{"$f":"Macro!B8242","v":0},{"$f":"Macro!E8242","v":{"$error":"#DIV/0!"}}]
[null,{"$f":"Macro!A8243","v":0},{"$f":"Macro!B8243","v":0},{"$f":"Macro!E8243","v":{"$error":"#DIV/0!"}}]
[null,{"$f":"Macro!A8244","v":0},{"$f":"Macro!B8244","v":0},{"$f":"Macro!E8244","v":{"$error":"#DIV/0!"}}]
[null,{"$f":"Macro!A8245","v":0},{"$f":"Macro!B8245","v":0},{"$f":"Macro!E8245","v":{"$error":"#DIV/0!"}}]
[null,{"$f":"Macro!A8246","v":0},{"$f":"Macro!B8246","v":0},{"$f":"Macro!E8246","v":{"$error":"#DIV/0!"}}]
[null,{"$f":"Macro!A8247","v":0},{"$f":"Macro!B8247","v":0},{"$f":"Macro!E8247","v":{"$error":"#DIV/0!"}}]
[null,{"$f":"Macro!A8248","v":0},{"$f":"Macro!B8248","v":0},{"$f":"Macro!E8248","v":{"$error":"#DIV/0!"}}]
[null,{"$f":"Macro!A8249","v":0},{"$f":"Macro!B8249","v":0},{"$f":"Macro!E8249","v":{"$error":"#DIV/0!"}}]
[null,{"$f":"Macro!A8250","v":0},{"$f":"Macro!B8250","v":0},{"$f":"Macro!E8250","v":{"$error":"#DIV/0!"}}]
[null,{"$f":"Macro!A8251","v":0},{"$f":"Macro!B8251","v":0},{"$f":"Macro!E8251","v":{"$error":"#DIV/0!"}}]
[null,{"$f":"Macro!A8252","v":0},{"$f":"Macro!B8252","v":0},{"$f":"Macro!E8252","v":{"$error":"#DIV/0!"}}]
[null,{"$f":"Macro!A8253","v":0},{"$f":"Macro!B8253","v":0},{"$f":"Macro!E8253","v":{"$error":"#DIV/0!"}}]
[null,{"$f":"Macro!A8254","v":0},{"$f":"Macro!B8254","v":0},{"$f":"Macro!E8254","v":{"$error":"#DIV/0!"}}]
[null,{"$f":"Macro!A8255","v":0},{"$f":"Macro!B8255","v":0},{"$f":"Macro!E8255","v":{"$error":"#DIV/0!"}}]
[null,{"$f":"Macro!A8256","v":0},{"$f":"Macro!B8256","v":0},{"$f":"Macro!E8256","v":{"$error":"#DIV/0!"}}]
[null,{"$f":"Macro!A8257","v":0},{"$f":"Macro!B8257","v":0},{"$f":"Macro!E8257","v":{"$error":"#DIV/0!"}}]
[null,{"$f":"Macro!A8258","v":0},{"$f":"Macro!B8258","v":0},{"$f":"Macro!E8258","v":{"$error":"#DIV/0!"}}]
[null,{"$f":"Macro!A8259","v":0},{"$f":"Macro!B8259","v":0},{"$f":"Macro!E8259","v":{"$error":"#DIV/0!"}}]
[null,{"$f":"Macro!A8260","v":0},{"$f":"Macro!B8260","v":0},{"$f":"Macro!E8260","v":{"$error":"#DIV/0!"}}]
[null,{"$f":"Macro!A8261","v":0},{"$f":"Macro!B8261","v":0},{"$f":"Macro!E8261","v":{"$error":"#DIV/0!"}}]
[null,{"$f":"Macro!A8262","v":0},{"$f":"Macro!B8262","v":0},{"$f":"Macro!E8262","v":{"$error":"#DIV/0!"}}]
[null,{"$f":"Macro!A8263","v":0},{"$f":"Macro!B8263","v":0},{"$f":"Macro!E8263","v":{"$error":"#DIV/0!"}}]
[null,{"$f":"Macro!A8264","v":0},{"$f":"Macro!B8264","v":0},{"$f":"Macro!E8264","v":{"$error":"#DIV/0!"}}]
[null,{"$f":"Macro!A8265","v":0},{"$f":"Macro!B8265","v":0},{"$f":"Macro!E8265","v":{"$error":"#DIV/0!"}}]
[null,{"$f":"Macro!A8266","v":0},{"$f":"Macro!B8266","v":0},{"$f":"Macro!E8266","v":{"$error":"#DIV/0!"}}]
[null,{"$f":"Macro!A8267","v":0},{"$f":"Macro!B8267","v":0},{"$f":"Macro!E8267","v":{"$error":"#DIV/0!"}}]
[null,{"$f":"Macro!A8268","v":0},{"$f":"Macro!B8268","v":0},{"$f":"Macro!E8268","v":{"$error":"#DIV/0!"}}]
[null,{"$f":"Macro!A8269","v":0},{"$f":"Macro!B8269","v":0},{"$f":"Macro!E8269","v":{"$error":"#DIV/0!"}}]
[null,{"$f":"Macro!A8270","v":0},{"$f":"Macro!B8270","v":0},{"$f":"Macro!E8270","v":{"$error":"#DIV/0!"}}]
[null,{"$f":"Macro!A8271","v":0},{"$f":"Macro!B8271","v":0},{"$f":"Macro!E8271","v":{"$error":"#DIV/0!"}}]
[null,{"$f":"Macro!A8272","v":0},{"$f":"Macro!B8272","v":0},{"$f":"Macro!E8272","v":{"$error":"#DIV/0!"}}]
[null,{"$f":"Macro!A8273","v":0},{"$f":"Macro!B8273","v":0},{"$f":"Macro!E8273","v":{"$error":"#DIV/0!"}}]
[null,{"$f":"Macro!A8274","v":0},{"$f":"Macro!B8274","v":0},{"$f":"Macro!E8274","v":{"$error":"#DIV/0!"}}]
[null,{"$f":"Macro!A8275","v":0},{"$f":"Macro!B8275","v":0},{"$f":"Macro!E8275","v":{"$error":"#DIV/0!"}}]
[null,{"$f":"Macro!A8276","v":0},{"$f":"Macro!B8276","v":0},{"$f":"Macro!E8276","v":{"$error":"#DIV/0!"}}]
[null,{"$f":"Macro!A8277","v":0},{"$f":"Macro!B8277","v":0},{"$f":"Macro!E8277","v":{"$error":"#DIV/0!"}}]
[null,{"$f":"Macro!A8278","v":0},{"$f":"Macro!B8278","v":0},{"$f":"Macro!E8278","v":{"$error":"#DIV/0!"}}]
[null,{"$f":"Macro!A8279","v":0},{"$f":"Macro!B8279","v":0},{"$f":"Macro!E8279","v":{"$error":"#DIV/0!"}}]
[null,{"$f":"Macro!A8280","v":0},{"$f":"Macro!B8280","v":0},{"$f":"Macro!E8280","v":{"$error":"#DIV/0!"}}]
[null,{"$f":"Macro!A8281","v":0},{"$f":"Macro!B8281","v":0},{"$f":"Macro!E8281","v":{"$error":"#DIV/0!"}}]
[null,{"$f":"Macro!A8282","v":0},{"$f":"Macro!B8282","v":0},{"$f":"Macro!E8282","v":{"$error":"#DIV/0!"}}]
[null,{"$f":"Macro!A8283","v":0},{"$f":"Macro!B8283","v":0},{"$f":"Macro!E8283","v":{"$error":"#DIV/0!"}}]
[null,{"$f":"Macro!A8284","v":0},{"$f":"Macro!B8284","v":0},{"$f":"Macro!E8284","v":{"$error":"#DIV/0!"}}]
[null,{"$f":"Macro!A8285","v":0},{"$f":"Macro!B8285","v":0},{"$f":"Macro!E8285","v":{"$error":"#DIV/0!"}}]
[null,{"$f":"Macro!A8286","v":0},{"$f":"Macro!B8286","v":0},{"$f":"Macro!E8286","v":{"$error":"#DIV/0!"}}]
[null,{"$f":"Macro!A8287","v":0},{"$f":"Macro!B8287","v":0},{"$f":"Macro!E8287","v":{"$error":"#DIV/0!"}}]
[null,{"$f":"Macro!A8288","v":0},{"$f":"Macro!B8288","v":0},{"$f":"Macro!E8288","v":{"$error":"#DIV/0!"}}]
[null,{"$f":"Macro!A8289","v":0},{"$f":"Macro!B8289","v":0},{"$f":"Macro!E8289","v":{"$error":"#DIV/0!"}}]
[null,{"$f":"Macro!A8290","v":0},{"$f":"Macro!B8290","v":0},{"$f":"Macro!E8290","v":{"$error":"#DIV/0!"}}]
[null,{"$f":"Macro!A8291","v":0},{"$f":"Macro!B8291","v":0},{"$f":"Macro!E8291","v":{"$error":"#DIV/0!"}}]
[null,{"$f":"Macro!A8292","v":0},{"$f":"Macro!B8292","v":0},{"$f":"Macro!E8292","v":{"$error":"#DIV/0!"}}]
[null,{"$f":"Macro!A8293","v":0},{"$f":"Macro!B8293","v":0},{"$f":"Macro!E8293","v":{"$error":"#DIV/0!"}}]
[null,{"$f":"Macro!A8294","v":0},{"$f":"Macro!B8294","v":0},{"$f":"Macro!E8294","v":{"$error":"#DIV/0!"}}]
[null,{"$f":"Macro!A8295","v":0},{"$f":"Macro!B8295","v":0},{"$f":"Macro!E8295","v":{"$error":"#DIV/0!"}}]
[null,{"$f":"Macro!A8296","v":0},{"$f":"Macro!B8296","v":0},{"$f":"Macro!E8296","v":{"$error":"#DIV/0!"}}]
[null,{"$f":"Macro!A8297","v":0},{"$f":"Macro!B8297","v":0},{"$f":"Macro!E8297","v":{"$error":"#DIV/0!"}}]
[null,{"$f":"Macro!A8298","v":0},{"$f":"Macro!B8298","v":0},{"$f":"Macro!E8298","v":{"$error":"#DIV/0!"}}]
[null,{"$f":"Macro!A8299","v":0},{"$f":"Macro!B8299","v":0},{"$f":"Macro!E8299","v":{"$error":"#DIV/0!"}}]
[null,{"$f":"Macro!A8300","v":0},{"$f":"Macro!B8300","v":0},{"$f":"Macro!E8300","v":{"$error":"#DIV/0!"}}]
[null,{"$f":"Macro!A8301","v":0},{"$f":"Macro!B8301","v":0},{"$f":"Macro!E8301","v":{"$error":"#DIV/0!"}}]
[null,{"$f":"Macro!A8302","v":0},{"$f":"Macro!B8302","v":0},{"$f":"Macro!E8302","v":{"$error":"#DIV/0!"}}]
[null,{"$f":"Macro!A8303","v":0},{"$f":"Macro!B8303","v":0},{"$f":"Macro!E8303","v":{"$error":"#DIV/0!"}}]
[null,{"$f":"Macro!A8304","v":0},{"$f":"Macro!B8304","v":0},{"$f":"Macro!E8304","v":{"$error":"#DIV/0!"}}]
[null,{"$f":"Macro!A8305","v":0},{"$f":"Macro!B8305","v":0},{"$f":"Macro!E8305","v":{"$error":"#DIV/0!"}}]
[null,{"$f":"Macro!A8306","v":0},{"$f":"Macro!B8306","v":0},{"$f":"Macro!E8306","v":{"$error":"#DIV/0!"}}]
[null,{"$f":"Macro!A8307","v":0},{"$f":"Macro!B8307","v":0},{"$f":"Macro!E8307","v":{"$error":"#DIV/0!"}}]
[null,{"$f":"Macro!A8308","v":0},{"$f":"Macro!B8308","v":0},{"$f":"Macro!E8308","v":{"$error":"#DIV/0!"}}]
[null,{"$f":"Macro!A8309","v":0},{"$f":"Macro!B8309","v":0},{"$f":"Macro!E8309","v":{"$error":"#DIV/0!"}}]
[null,{"$f":"Macro!A8310","v":0},{"$f":"Macro!B8310","v":0},{"$f":"Macro!E8310","v":{"$error":"#DIV/0!"}}]
[null,{"$f":"Macro!A8311","v":0},{"$f":"Macro!B8311","v":0},{"$f":"Macro!E8311","v":{"$error":"#DIV/0!"}}]
[null,{"$f":"Macro!A8312","v":0},{"$f":"Macro!B8312","v":0},{"$f":"Macro!E8312","v":{"$error":"#DIV/0!"}}]
[null,{"$f":"Macro!A8313","v":0},{"$f":"Macro!B8313","v":0},{"$f":"Macro!E8313","v":{"$error":"#DIV/0!"}}]
[null,{"$f":"Macro!A8314","v":0},{"$f":"Macro!B8314","v":0},{"$f":"Macro!E8314","v":{"$error":"#DIV/0!"}}]
[null,{"$f":"Macro!A8315","v":0},{"$f":"Macro!B8315","v":0},{"$f":"Macro!E8315","v":{"$error":"#DIV/0!"}}]
[null,{"$f":"Macro!A8316","v":0},{"$f":"Macro!B8316","v":0},{"$f":"Macro!E8316","v":{"$error":"#DIV/0!"}}]
[null,{"$f":"Macro!A8317","v":0},{"$f":"Macro!B8317","v":0},{"$f":"Macro!E8317","v":{"$error":"#DIV/0!"}}]
[null,{"$f":"Macro!A8318","v":0},{"$f":"Macro!B8318","v":0},{"$f":"Macro!E8318","v":{"$error":"#DIV/0!"}}]
[null,{"$f":"Macro!A8319","v":0},{"$f":"Macro!B8319","v":0},{"$f":"Macro!E8319","v":{"$error":"#DIV/0!"}}]
[null,{"$f":"Macro!A8320","v":0},{"$f":"Macro!B8320","v":0},{"$f":"Macro!E8320","v":{"$error":"#DIV/0!"}}]
[null,{"$f":"Macro!A8321","v":0},{"$f":"Macro!B8321","v":0},{"$f":"Macro!E8321","v":{"$error":"#DIV/0!"}}]
[null,{"$f":"Macro!A8322","v":0},{"$f":"Macro!B8322","v":0},{"$f":"Macro!E8322","v":{"$error":"#DIV/0!"}}]
[null,{"$f":"Macro!A8323","v":0},{"$f":"Macro!B8323","v":0},{"$f":"Macro!E8323","v":{"$error":"#DIV/0!"}}]
[null,{"$f":"Macro!A8324","v":0},{"$f":"Macro!B8324","v":0},{"$f":"Macro!E8324","v":{"$error":"#DIV/0!"}}]
[null,{"$f":"Macro!A8325","v":0},{"$f":"Macro!B8325","v":0},{"$f":"Macro!E8325","v":{"$error":"#DIV/0!"}}]
[null,{"$f":"Macro!A8326","v":0},{"$f":"Macro!B8326","v":0},{"$f":"Macro!E8326","v":{"$error":"#DIV/0!"}}]
[null,{"$f":"Macro!A8327","v":0},{"$f":"Macro!B8327","v":0},{"$f":"Macro!E8327","v":{"$error":"#DIV/0!"}}]
[null,{"$f":"Macro!A8328","v":0},{"$f":"Macro!B8328","v":0},{"$f":"Macro!E8328","v":{"$error":"#DIV/0!"}}]
[null,{"$f":"Macro!A8329","v":0},{"$f":"Macro!B8329","v":0},{"$f":"Macro!E8329","v":{"$error":"#DIV/0!"}}]
[null,{"$f":"Macro!A8330","v":0},{"$f":"Macro!B8330","v":0},{"$f":"Macro!E8330","v":{"$error":"#DIV/0!"}}]
[null,{"$f":"Macro!A8331","v":0},{"$f":"Macro!B8331","v":0},{"$f":"Macro!E8331","v":{"$error":"#DIV/0!"}}]
[null,{"$f":"Macro!A8332","v":0},{"$f":"Macro!B8332","v":0},{"$f":"Macro!E8332","v":{"$error":"#DIV/0!"}}]
[null,{"$f":"Macro!A8333","v":0},{"$f":"Macro!B8333","v":0},{"$f":"Macro!E8333","v":{"$error":"#DIV/0!"}}]
[null,{"$f":"Macro!A8334","v":0},{"$f":"Macro!B8334","v":0},{"$f":"Macro!E8334","v":{"$error":"#DIV/0!"}}]
[null,{"$f":"Macro!A8335","v":0},{"$f":"Macro!B8335","v":0},{"$f":"Macro!E8335","v":{"$error":"#DIV/0!"}}]
[null,{"$f":"Macro!A8336","v":0},{"$f":"Macro!B8336","v":0},{"$f":"Macro!E8336","v":{"$error":"#DIV/0!"}}]
[null,{"$f":"Macro!A8337","v":0},{"$f":"Macro!B8337","v":0},{"$f":"Macro!E8337","v":{"$error":"#DIV/0!"}}]
[null,{"$f":"Macro!A8338","v":0},{"$f":"Macro!B8338","v":0},{"$f":"Macro!E8338","v":{"$error":"#DIV/0!"}}]
[null,{"$f":"Macro!A8339","v":0},{"$f":"Macro!B8339","v":0},{"$f":"Macro!E8339","v":{"$error":"#DIV/0!"}}]
[null,{"$f":"Macro!A8340","v":0},{"$f":"Macro!B8340","v":0},{"$f":"Macro!E8340","v":{"$error":"#DIV/0!"}}]
[null,{"$f":"Macro!A8341","v":0},{"$f":"Macro!B8341","v":0},{"$f":"Macro!E8341","v":{"$error":"#DIV/0!"}}]
[null,{"$f":"Macro!A8342","v":0},{"$f":"Macro!B8342","v":0},{"$f":"Macro!E8342","v":{"$error":"#DIV/0!"}}]
[null,{"$f":"Macro!A8343","v":0},{"$f":"Macro!B8343","v":0},{"$f":"Macro!E8343","v":{"$error":"#DIV/0!"}}]
[null,{"$f":"Macro!A8344","v":0},{"$f":"Macro!B8344","v":0},{"$f":"Macro!E8344","v":{"$error":"#DIV/0!"}}]
[null,{"$f":"Macro!A8345","v":0},{"$f":"Macro!B8345","v":0},{"$f":"Macro!E8345","v":{"$error":"#DIV/0!"}}]
[null,{"$f":"Macro!A8346","v":0},{"$f":"Macro!B8346","v":0},{"$f":"Macro!E8346","v":{"$error":"#DIV/0!"}}]
[null,{"$f":"Macro!A8347","v":0},{"$f":"Macro!B8347","v":0},{"$f":"Macro!E8347","v":{"$error":"#DIV/0!"}}]
[null,{"$f":"Macro!A8348","v":0},{"$f":"Macro!B8348","v":0},{"$f":"Macro!E8348","v":{"$error":"#DIV/0!"}}]
[null,{"$f":"Macro!A8349","v":0},{"$f":"Macro!B8349","v":0},{"$f":"Macro!E8349","v":{"$error":"#DIV/0!"}}]
[null,{"$f":"Macro!A8350","v":0},{"$f":"Macro!B8350","v":0},{"$f":"Macro!E8350","v":{"$error":"#DIV/0!"}}]
[null,{"$f":"Macro!A8351","v":0},{"$f":"Macro!B8351","v":0},{"$f":"Macro!E8351","v":{"$error":"#DIV/0!"}}]
[null,{"$f":"Macro!A8352","v":0},{"$f":"Macro!B8352","v":0},{"$f":"Macro!E8352","v":{"$error":"#DIV/0!"}}]
[null,{"$f":"Macro!A8353","v":0},{"$f":"Macro!B8353","v":0},{"$f":"Macro!E8353","v":{"$error":"#DIV/0!"}}]
[null,{"$f":"Macro!A8354","v":0},{"$f":"Macro!B8354","v":0},{"$f":"Macro!E8354","v":{"$error":"#DIV/0!"}}]
[null,{"$f":"Macro!A8355","v":0},{"$f":"Macro!B8355","v":0},{"$f":"Macro!E8355","v":{"$error":"#DIV/0!"}}]
[null,{"$f":"Macro!A8356","v":0},{"$f":"Macro!B8356","v":0},{"$f":"Macro!E8356","v":{"$error":"#DIV/0!"}}]
[null,{"$f":"Macro!A8357","v":0},{"$f":"Macro!B8357","v":0},{"$f":"Macro!E8357","v":{"$error":"#DIV/0!"}}]
[null,{"$f":"Macro!A8358","v":0},{"$f":"Macro!B8358","v":0},{"$f":"Macro!E8358","v":{"$error":"#DIV/0!"}}]
[null,{"$f":"Macro!A8359","v":0},{"$f":"Macro!B8359","v":0},{"$f":"Macro!E8359","v":{"$error":"#DIV/0!"}}]
[null,{"$f":"Macro!A8360","v":0},{"$f":"Macro!B8360","v":0},{"$f":"Macro!E8360","v":{"$error":"#DIV/0!"}}]
[null,{"$f":"Macro!A8361","v":0},{"$f":"Macro!B8361","v":0},{"$f":"Macro!E8361","v":{"$error":"#DIV/0!"}}]
[null,{"$f":"Macro!A8362","v":0},{"$f":"Macro!B8362","v":0},{"$f":"Macro!E8362","v":{"$error":"#DIV/0!"}}]
[null,{"$f":"Macro!A8363","v":0},{"$f":"Macro!B8363","v":0},{"$f":"Macro!E8363","v":{"$error":"#DIV/0!"}}]
[null,{"$f":"Macro!A8364","v":0},{"$f":"Macro!B8364","v":0},{"$f":"Macro!E8364","v":{"$error":"#DIV/0!"}}]
[null,{"$f":"Macro!A8365","v":0},{"$f":"Macro!B8365","v":0},{"$f":"Macro!E8365","v":{"$error":"#DIV/0!"}}]
[null,{"$f":"Macro!A8366","v":0},{"$f":"Macro!B8366","v":0},{"$f":"Macro!E8366","v":{"$error":"#DIV/0!"}}]
[null,{"$f":"Macro!A8367","v":0},{"$f":"Macro!B8367","v":0},{"$f":"Macro!E8367","v":{"$error":"#DIV/0!"}}]
[null,{"$f":"Macro!A8368","v":0},{"$f":"Macro!B8368","v":0},{"$f":"Macro!E8368","v":{"$error":"#DIV/0!"}}]
[null,{"$f":"Macro!A8369","v":0},{"$f":"Macro!B8369","v":0},{"$f":"Macro!E8369","v":{"$error":"#DIV/0!"}}]
[null,{"$f":"Macro!A8370","v":0},{"$f":"Macro!B8370","v":0},{"$f":"Macro!E8370","v":{"$error":"#DIV/0!"}}]
[null,{"$f":"Macro!A8371","v":0},{"$f":"Macro!B8371","v":0},{"$f":"Macro!E8371","v":{"$error":"#DIV/0!"}}]
[null,{"$f":"Macro!A8372","v":0},{"$f":"Macro!B8372","v":0},{"$f":"Macro!E8372","v":{"$error":"#DIV/0!"}}]
[null,{"$f":"Macro!A8373","v":0},{"$f":"Macro!B8373","v":0},{"$f":"Macro!E8373","v":{"$error":"#DIV/0!"}}]
[null,{"$f":"Macro!A8374","v":0},{"$f":"Macro!B8374","v":0},{"$f":"Macro!E8374","v":{"$error":"#DIV/0!"}}]
[null,{"$f":"Macro!A8375","v":0},{"$f":"Macro!B8375","v":0},{"$f":"Macro!E8375","v":{"$error":"#DIV/0!"}}]
[null,{"$f":"Macro!A8376","v":0},{"$f":"Macro!B8376","v":0},{"$f":"Macro!E8376","v":{"$error":"#DIV/0!"}}]
[null,{"$f":"Macro!A8377","v":0},{"$f":"Macro!B8377","v":0},{"$f":"Macro!E8377","v":{"$error":"#DIV/0!"}}]
[null,{"$f":"Macro!A8378","v":0},{"$f":"Macro!B8378","v":0},{"$f":"Macro!E8378","v":{"$error":"#DIV/0!"}}]
[null,{"$f":"Macro!A8379","v":0},{"$f":"Macro!B8379","v":0},{"$f":"Macro!E8379","v":{"$error":"#DIV/0!"}}]
[null,{"$f":"Macro!A8380","v":0},{"$f":"Macro!B8380","v":0},{"$f":"Macro!E8380","v":{"$error":"#DIV/0!"}}]
[null,{"$f":"Macro!A8381","v":0},{"$f":"Macro!B8381","v":0},{"$f":"Macro!E8381","v":{"$error":"#DIV/0!"}}]
[null,{"$f":"Macro!A8382","v":0},{"$f":"Macro!B8382","v":0},{"$f":"Macro!E8382","v":{"$error":"#DIV/0!"}}]
[null,{"$f":"Macro!A8383","v":0},{"$f":"Macro!B8383","v":0},{"$f":"Macro!E8383","v":{"$error":"#DIV/0!"}}]
[null,{"$f":"Macro!A8384","v":0},{"$f":"Macro!B8384","v":0},{"$f":"Macro!E8384","v":{"$error":"#DIV/0!"}}]
[null,{"$f":"Macro!A8385","v":0},{"$f":"Macro!B8385","v":0},{"$f":"Macro!E8385","v":{"$error":"#DIV/0!"}}]
[null,{"$f":"Macro!A8386","v":0},{"$f":"Macro!B8386","v":0},{"$f":"Macro!E8386","v":{"$error":"#DIV/0!"}}]
[null,{"$f":"Macro!A8387","v":0},{"$f":"Macro!B8387","v":0},{"$f":"Macro!E8387","v":{"$error":"#DIV/0!"}}]
[null,{"$f":"Macro!A8388","v":0},{"$f":"Macro!B8388","v":0},{"$f":"Macro!E8388","v":{"$error":"#DIV/0!"}}]
[null,{"$f":"Macro!A8389","v":0},{"$f":"Macro!B8389","v":0},{"$f":"Macro!E8389","v":{"$error":"#DIV/0!"}}]
[null,{"$f":"Macro!A8390","v":0},{"$f":"Macro!B8390","v":0},{"$f":"Macro!E8390","v":{"$error":"#DIV/0!"}}]
[null,{"$f":"Macro!A8391","v":0},{"$f":"Macro!B8391","v":0},{"$f":"Macro!E8391","v":{"$error":"#DIV/0!"}}]
[null,{"$f":"Macro!A8392","v":0},{"$f":"Macro!B8392","v":0},{"$f":"Macro!E8392","v":{"$error":"#DIV/0!"}}]
[null,{"$f":"Macro!A8393","v":0},{"$f":"Macro!B8393","v":0},{"$f":"Macro!E8393","v":{"$error":"#DIV/0!"}}]
[null,{"$f":"Macro!A8394","v":0},{"$f":"Macro!B8394","v":0},{"$f":"Macro!E8394","v":{"$error":"#DIV/0!"}}]
[null,{"$f":"Macro!A8395","v":0},{"$f":"Macro!B8395","v":0},{"$f":"Macro!E8395","v":{"$error":"#DIV/0!"}}]
[null,{"$f":"Macro!A8396","v":0},{"$f":"Macro!B8396","v":0},{"$f":"Macro!E8396","v":{"$error":"#DIV/0!"}}]
[null,{"$f":"Macro!A8397","v":0},{"$f":"Macro!B8397","v":0},{"$f":"Macro!E8397","v":{"$error":"#DIV/0!"}}]
[null,{"$f":"Macro!A8398","v":0},{"$f":"Macro!B8398","v":0},{"$f":"Macro!E8398","v":{"$error":"#DIV/0!"}}]
[null,{"$f":"Macro!A8399","v":0},{"$f":"Macro!B8399","v":0},{"$f":"Macro!E8399","v":{"$error":"#DIV/0!"}}]
[null,{"$f":"Macro!A8400","v":0},{"$f":"Macro!B8400","v":0},{"$f":"Macro!E8400","v":{"$error":"#DIV/0!"}}]
[null,{"$f":"Macro!A8401","v":0},{"$f":"Macro!B8401","v":0},{"$f":"Macro!E8401","v":{"$error":"#DIV/0!"}}]
[null,{"$f":"Macro!A8402","v":0},{"$f":"Macro!B8402","v":0},{"$f":"Macro!E8402","v":{"$error":"#DIV/0!"}}]
[null,{"$f":"Macro!A8403","v":0},{"$f":"Macro!B8403","v":0},{"$f":"Macro!E8403","v":{"$error":"#DIV/0!"}}]
[null,{"$f":"Macro!A8404","v":0},{"$f":"Macro!B8404","v":0},{"$f":"Macro!E8404","v":{"$error":"#DIV/0!"}}]
[null,{"$f":"Macro!A8405","v":0},{"$f":"Macro!B8405","v":0},{"$f":"Macro!E8405","v":{"$error":"#DIV/0!"}}]
[null,{"$f":"Macro!A8406","v":0},{"$f":"Macro!B8406","v":0},{"$f":"Macro!E8406","v":{"$error":"#DIV/0!"}}]
[null,{"$f":"Macro!A8407","v":0},{"$f":"Macro!B8407","v":0},{"$f":"Macro!E8407","v":{"$error":"#DIV/0!"}}]
[null,{"$f":"Macro!A8408","v":0},{"$f":"Macro!B8408","v":0},{"$f":"Macro!E8408","v":{"$error":"#DIV/0!"}}]
[null,{"$f":"Macro!A8409","v":0},{"$f":"Macro!B8409","v":0},{"$f":"Macro!E8409","v":{"$error":"#DIV/0!"}}]
[null,{"$f":"Macro!A8410","v":0},{"$f":"Macro!B8410","v":0},{"$f":"Macro!E8410","v":{"$error":"#DIV/0!"}}]
[null,{"$f":"Macro!A8411","v":0},{"$f":"Macro!B8411","v":0},{"$f":"Macro!E8411","v":{"$error":"#DIV/0!"}}]
[null,{"$f":"Macro!A8412","v":0},{"$f":"Macro!B8412","v":0},{"$f":"Macro!E8412","v":{"$error":"#DIV/0!"}}]
[null,{"$f":"Macro!A8413","v":0},{"$f":"Macro!B8413","v":0},{"$f":"Macro!E8413","v":{"$error":"#DIV/0!"}}]
[null,{"$f":"Macro!A8414","v":0},{"$f":"Macro!B8414","v":0},{"$f":"Macro!E8414","v":{"$error":"#DIV/0!"}}]
[null,{"$f":"Macro!A8415","v":0},{"$f":"Macro!B8415","v":0},{"$f":"Macro!E8415","v":{"$error":"#DIV/0!"}}]
[null,{"$f":"Macro!A8416","v":0},{"$f":"Macro!B8416","v":0},{"$f":"Macro!E8416","v":{"$error":"#DIV/0!"}}]
[null,{"$f":"Macro!A8417","v":0},{"$f":"Macro!B8417","v":0},{"$f":"Macro!E8417","v":{"$error":"#DIV/0!"}}]
[null,{"$f":"Macro!A8418","v":0},{"$f":"Macro!B8418","v":0},{"$f":"Macro!E8418","v":{"$error":"#DIV/0!"}}]
[null,{"$f":"Macro!A8419","v":0},{"$f":"Macro!B8419","v":0},{"$f":"Macro!E8419","v":{"$error":"#DIV/0!"}}]
[null,{"$f":"Macro!A8420","v":0},{"$f":"Macro!B8420","v":0},{"$f":"Macro!E8420","v":{"$error":"#DIV/0!"}}]
[null,{"$f":"Macro!A8421","v":0},{"$f":"Macro!B8421","v":0},{"$f":"Macro!E8421","v":{"$error":"#DIV/0!"}}]
[null,{"$f":"Macro!A8422","v":0},{"$f":"Macro!B8422","v":0},{"$f":"Macro!E8422","v":{"$error":"#DIV/0!"}}]
[null,{"$f":"Macro!A8423","v":0},{"$f":"Macro!B8423","v":0},{"$f":"Macro!E8423","v":{"$error":"#DIV/0!"}}]
[null,{"$f":"Macro!A8424","v":0},{"$f":"Macro!B8424","v":0},{"$f":"Macro!E8424","v":{"$error":"#DIV/0!"}}]
[null,{"$f":"Macro!A8425","v":0},{"$f":"Macro!B8425","v":0},{"$f":"Macro!E8425","v":{"$error":"#DIV/0!"}}]
[null,{"$f":"Macro!A8426","v":0},{"$f":"Macro!B8426","v":0},{"$f":"Macro!E8426","v":{"$error":"#DIV/0!"}}]
[null,{"$f":"Macro!A8427","v":0},{"$f":"Macro!B8427","v":0},{"$f":"Macro!E8427","v":{"$error":"#DIV/0!"}}]
[null,{"$f":"Macro!A8428","v":0},{"$f":"Macro!B8428","v":0},{"$f":"Macro!E8428","v":{"$error":"#DIV/0!"}}]
[null,{"$f":"Macro!A8429","v":0},{"$f":"Macro!B8429","v":0},{"$f":"Macro!E8429","v":{"$error":"#DIV/0!"}}]
[null,{"$f":"Macro!A8430","v":0},{"$f":"Macro!B8430","v":0},{"$f":"Macro!E8430","v":{"$error":"#DIV/0!"}}]
[null,{"$f":"Macro!A8431","v":0},{"$f":"Macro!B8431","v":0},{"$f":"Macro!E8431","v":{"$error":"#DIV/0!"}}]
[null,{"$f":"Macro!A8432","v":0},{"$f":"Macro!B8432","v":0},{"$f":"Macro!E8432","v":{"$error":"#DIV/0!"}}]
[null,{"$f":"Macro!A8433","v":0},{"$f":"Macro!B8433","v":0},{"$f":"Macro!E8433","v":{"$error":"#DIV/0!"}}]
[null,{"$f":"Macro!A8434","v":0},{"$f":"Macro!B8434","v":0},{"$f":"Macro!E8434","v":{"$error":"#DIV/0!"}}]
[null,{"$f":"Macro!A8435","v":0},{"$f":"Macro!B8435","v":0},{"$f":"Macro!E8435","v":{"$error":"#DIV/0!"}}]
[null,{"$f":"Macro!A8436","v":0},{"$f":"Macro!B8436","v":0},{"$f":"Macro!E8436","v":{"$error":"#DIV/0!"}}]
[null,{"$f":"Macro!A8437","v":0},{"$f":"Macro!B8437","v":0},{"$f":"Macro!E8437","v":{"$error":"#DIV/0!"}}]
[null,{"$f":"Macro!A8438","v":0},{"$f":"Macro!B8438","v":0},{"$f":"Macro!E8438","v":{"$error":"#DIV/0!"}}]
[null,{"$f":"Macro!A8439","v":0},{"$f":"Macro!B8439","v":0},{"$f":"Macro!E8439","v":{"$error":"#DIV/0!"}}]
[null,{"$f":"Macro!A8440","v":0},{"$f":"Macro!B8440","v":0},{"$f":"Macro!E8440","v":{"$error":"#DIV/0!"}}]
[null,{"$f":"Macro!A8441","v":0},{"$f":"Macro!B8441","v":0},{"$f":"Macro!E8441","v":{"$error":"#DIV/0!"}}]
[null,{"$f":"Macro!A8442","v":0},{"$f":"Macro!B8442","v":0},{"$f":"Macro!E8442","v":{"$error":"#DIV/0!"}}]
[null,{"$f":"Macro!A8443","v":0},{"$f":"Macro!B8443","v":0},{"$f":"Macro!E8443","v":{"$error":"#DIV/0!"}}]
[null,{"$f":"Macro!A8444","v":0},{"$f":"Macro!B8444","v":0},{"$f":"Macro!E8444","v":{"$error":"#DIV/0!"}}]
[null,{"$f":"Macro!A8445","v":0},{"$f":"Macro!B8445","v":0},{"$f":"Macro!E8445","v":{"$error":"#DIV/0!"}}]
[null,{"$f":"Macro!A8446","v":0},{"$f":"Macro!B8446","v":0},{"$f":"Macro!E8446","v":{"$error":"#DIV/0!"}}]
[null,{"$f":"Macro!A8447","v":0},{"$f":"Macro!B8447","v":0},{"$f":"Macro!E8447","v":{"$error":"#DIV/0!"}}]
[null,{"$f":"Macro!A8448","v":0},{"$f":"Macro!B8448","v":0},{"$f":"Macro!E8448","v":{"$error":"#DIV/0!"}}]
[null,{"$f":"Macro!A8449","v":0},{"$f":"Macro!B8449","v":0},{"$f":"Macro!E8449","v":{"$error":"#DIV/0!"}}]
[null,{"$f":"Macro!A8450","v":0},{"$f":"Macro!B8450","v":0},{"$f":"Macro!E8450","v":{"$error":"#DIV/0!"}}]
[null,{"$f":"Macro!A8451","v":0},{"$f":"Macro!B8451","v":0},{"$f":"Macro!E8451","v":{"$error":"#DIV/0!"}}]
[null,{"$f":"Macro!A8452","v":0},{"$f":"Macro!B8452","v":0},{"$f":"Macro!E8452","v":{"$error":"#DIV/0!"}}]
[null,{"$f":"Macro!A8453","v":0},{"$f":"Macro!B8453","v":0},{"$f":"Macro!E8453","v":{"$error":"#DIV/0!"}}]
[null,{"$f":"Macro!A8454","v":0},{"$f":"Macro!B8454","v":0},{"$f":"Macro!E8454","v":{"$error":"#DIV/0!"}}]
[null,{"$f":"Macro!A8455","v":0},{"$f":"Macro!B8455","v":0},{"$f":"Macro!E8455","v":{"$error":"#DIV/0!"}}]
[null,{"$f":"Macro!A8456","v":0},{"$f":"Macro!B8456","v":0},{"$f":"Macro!E8456","v":{"$error":"#DIV/0!"}}]
[null,{"$f":"Macro!A8457","v":0},{"$f":"Macro!B8457","v":0},{"$f":"Macro!E8457","v":{"$error":"#DIV/0!"}}]
[null,{"$f":"Macro!A8458","v":0},{"$f":"Macro!B8458","v":0},{"$f":"Macro!E8458","v":{"$error":"#DIV/0!"}}]
[null,{"$f":"Macro!A8459","v":0},{"$f":"Macro!B8459","v":0},{"$f":"Macro!E8459","v":{"$error":"#DIV/0!"}}]
[null,{"$f":"Macro!A8460","v":0},{"$f":"Macro!B8460","v":0},{"$f":"Macro!E8460","v":{"$error":"#DIV/0!"}}]
[null,{"$f":"Macro!A8461","v":0},{"$f":"Macro!B8461","v":0},{"$f":"Macro!E8461","v":{"$error":"#DIV/0!"}}]
[null,{"$f":"Macro!A8462","v":0},{"$f":"Macro!B8462","v":0},{"$f":"Macro!E8462","v":{"$error":"#DIV/0!"}}]
[null,{"$f":"Macro!A8463","v":0},{"$f":"Macro!B8463","v":0},{"$f":"Macro!E8463","v":{"$error":"#DIV/0!"}}]
[null,{"$f":"Macro!A8464","v":0},{"$f":"Macro!B8464","v":0},{"$f":"Macro!E8464","v":{"$error":"#DIV/0!"}}]
[null,{"$f":"Macro!A8465","v":0},{"$f":"Macro!B8465","v":0},{"$f":"Macro!E8465","v":{"$error":"#DIV/0!"}}]
[null,{"$f":"Macro!A8466","v":0},{"$f":"Macro!B8466","v":0},{"$f":"Macro!E8466","v":{"$error":"#DIV/0!"}}]
[null,{"$f":"Macro!A8467","v":0},{"$f":"Macro!B8467","v":0},{"$f":"Macro!E8467","v":{"$error":"#DIV/0!"}}]
[null,{"$f":"Macro!A8468","v":0},{"$f":"Macro!B8468","v":0},{"$f":"Macro!E8468","v":{"$error":"#DIV/0!"}}]
[null,{"$f":"Macro!A8469","v":0},{"$f":"Macro!B8469","v":0},{"$f":"Macro!E8469","v":{"$error":"#DIV/0!"}}]
[null,{"$f":"Macro!A8470","v":0},{"$f":"Macro!B8470","v":0},{"$f":"Macro!E8470","v":{"$error":"#DIV/0!"}}]
[null,{"$f":"Macro!A8471","v":0},{"$f":"Macro!B8471","v":0},{"$f":"Macro!E8471","v":{"$error":"#DIV/0!"}}]
[null,{"$f":"Macro!A8472","v":0},{"$f":"Macro!B8472","v":0},{"$f":"Macro!E8472","v":{"$error":"#DIV/0!"}}]
[null,{"$f":"Macro!A8473","v":0},{"$f":"Macro!B8473","v":0},{"$f":"Macro!E8473","v":{"$error":"#DIV/0!"}}]
[null,{"$f":"Macro!A8474","v":0},{"$f":"Macro!B8474","v":0},{"$f":"Macro!E8474","v":{"$error":"#DIV/0!"}}]
[null,{"$f":"Macro!A8475","v":0},{"$f":"Macro!B8475","v":0},{"$f":"Macro!E8475","v":{"$error":"#DIV/0!"}}]
[null,{"$f":"Macro!A8476","v":0},{"$f":"Macro!B8476","v":0},{"$f":"Macro!E8476","v":{"$error":"#DIV/0!"}}]
[null,{"$f":"Macro!A8477","v":0},{"$f":"Macro!B8477","v":0},{"$f":"Macro!E8477","v":{"$error":"#DIV/0!"}}]
[null,{"$f":"Macro!A8478","v":0},{"$f":"Macro!B8478","v":0},{"$f":"Macro!E8478","v":{"$error":"#DIV/0!"}}]
[null,{"$f":"Macro!A8479","v":0},{"$f":"Macro!B8479","v":0},{"$f":"Macro!E8479","v":{"$error":"#DIV/0!"}}]
[null,{"$f":"Macro!A8480","v":0},{"$f":"Macro!B8480","v":0},{"$f":"Macro!E8480","v":{"$error":"#DIV/0!"}}]
[null,{"$f":"Macro!A8481","v":0},{"$f":"Macro!B8481","v":0},{"$f":"Macro!E8481","v":{"$error":"#DIV/0!"}}]
[null,{"$f":"Macro!A8482","v":0},{"$f":"Macro!B8482","v":0},{"$f":"Macro!E8482","v":{"$error":"#DIV/0!"}}]
[null,{"$f":"Macro!A8483","v":0},{"$f":"Macro!B8483","v":0},{"$f":"Macro!E8483","v":{"$error":"#DIV/0!"}}]
[null,{"$f":"Macro!A8484","v":0},{"$f":"Macro!B8484","v":0},{"$f":"Macro!E8484","v":{"$error":"#DIV/0!"}}]
[null,{"$f":"Macro!A8485","v":0},{"$f":"Macro!B8485","v":0},{"$f":"Macro!E8485","v":{"$error":"#DIV/0!"}}]
[null,{"$f":"Macro!A8486","v":0},{"$f":"Macro!B8486","v":0},{"$f":"Macro!E8486","v":{"$error":"#DIV/0!"}}]
[null,{"$f":"Macro!A8487","v":0},{"$f":"Macro!B8487","v":0},{"$f":"Macro!E8487","v":{"$error":"#DIV/0!"}}]
[null,{"$f":"Macro!A8488","v":0},{"$f":"Macro!B8488","v":0},{"$f":"Macro!E8488","v":{"$error":"#DIV/0!"}}]
[null,{"$f":"Macro!A8489","v":0},{"$f":"Macro!B8489","v":0},{"$f":"Macro!E8489","v":{"$error":"#DIV/0!"}}]
[null,{"$f":"Macro!A8490","v":0},{"$f":"Macro!B8490","v":0},{"$f":"Macro!E8490","v":{"$error":"#DIV/0!"}}]
[null,{"$f":"Macro!A8491","v":0},{"$f":"Macro!B8491","v":0},{"$f":"Macro!E8491","v":{"$error":"#DIV/0!"}}]
[null,{"$f":"Macro!A8492","v":0},{"$f":"Macro!B8492","v":0},{"$f":"Macro!E8492","v":{"$error":"#DIV/0!"}}]
[null,{"$f":"Macro!A8493","v":0},{"$f":"Macro!B8493","v":0},{"$f":"Macro!E8493","v":{"$error":"#DIV/0!"}}]
[null,{"$f":"Macro!A8494","v":0},{"$f":"Macro!B8494","v":0},{"$f":"Macro!E8494","v":{"$error":"#DIV/0!"}}]
[null,{"$f":"Macro!A8495","v":0},{"$f":"Macro!B8495","v":0},{"$f":"Macro!E8495","v":{"$error":"#DIV/0!"}}]
[null,{"$f":"Macro!A8496","v":0},{"$f":"Macro!B8496","v":0},{"$f":"Macro!E8496","v":{"$error":"#DIV/0!"}}]
[null,{"$f":"Macro!A8497","v":0},{"$f":"Macro!B8497","v":0},{"$f":"Macro!E8497","v":{"$error":"#DIV/0!"}}]
[null,{"$f":"Macro!A8498","v":0},{"$f":"Macro!B8498","v":0},{"$f":"Macro!E8498","v":{"$error":"#DIV/0!"}}]
[null,{"$f":"Macro!A8499","v":0},{"$f":"Macro!B8499","v":0},{"$f":"Macro!E8499","v":{"$error":"#DIV/0!"}}]
[null,{"$f":"Macro!A8500","v":0},{"$f":"Macro!B8500","v":0},{"$f":"Macro!E8500","v":{"$error":"#DIV/0!"}}]
[null,{"$f":"Macro!A8501","v":0},{"$f":"Macro!B8501","v":0},{"$f":"Macro!E8501","v":{"$error":"#DIV/0!"}}]
[null,{"$f":"Macro!A8502","v":0},{"$f":"Macro!B8502","v":0},{"$f":"Macro!E8502","v":{"$error":"#DIV/0!"}}]
[null,{"$f":"Macro!A8503","v":0},{"$f":"Macro!B8503","v":0},{"$f":"Macro!E8503","v":{"$error":"#DIV/0!"}}]
[null,{"$f":"Macro!A8504","v":0},{"$f":"Macro!B8504","v":0},{"$f":"Macro!E8504","v":{"$error":"#DIV/0!"}}]
[null,{"$f":"Macro!A8505","v":0},{"$f":"Macro!B8505","v":0},{"$f":"Macro!E8505","v":{"$error":"#DIV/0!"}}]
[null,{"$f":"Macro!A8506","v":0},{"$f":"Macro!B8506","v":0},{"$f":"Macro!E8506","v":{"$error":"#DIV/0!"}}]
[null,{"$f":"Macro!A8507","v":0},{"$f":"Macro!B8507","v":0},{"$f":"Macro!E8507","v":{"$error":"#DIV/0!"}}]
[null,{"$f":"Macro!A8508","v":0},{"$f":"Macro!B8508","v":0},{"$f":"Macro!E8508","v":{"$error":"#DIV/0!"}}]
[null,{"$f":"Macro!A8509","v":0},{"$f":"Macro!B8509","v":0},{"$f":"Macro!E8509","v":{"$error":"#DIV/0!"}}]
[null,{"$f":"Macro!A8510","v":0},{"$f":"Macro!B8510","v":0},{"$f":"Macro!E8510","v":{"$error":"#DIV/0!"}}]
[null,{"$f":"Macro!A8511","v":0},{"$f":"Macro!B8511","v":0},{"$f":"Macro!E8511","v":{"$error":"#DIV/0!"}}]
[null,{"$f":"Macro!A8512","v":0},{"$f":"Macro!B8512","v":0},{"$f":"Macro!E8512","v":{"$error":"#DIV/0!"}}]
[null,{"$f":"Macro!A8513","v":0},{"$f":"Macro!B8513","v":0},{"$f":"Macro!E8513","v":{"$error":"#DIV/0!"}}]
[null,{"$f":"Macro!A8514","v":0},{"$f":"Macro!B8514","v":0},{"$f":"Macro!E8514","v":{"$error":"#DIV/0!"}}]
[null,{"$f":"Macro!A8515","v":0},{"$f":"Macro!B8515","v":0},{"$f":"Macro!E8515","v":{"$error":"#DIV/0!"}}]
[null,{"$f":"Macro!A8516","v":0},{"$f":"Macro!B8516","v":0},{"$f":"Macro!E8516","v":{"$error":"#DIV/0!"}}]
[null,{"$f":"Macro!A8517","v":0},{"$f":"Macro!B8517","v":0},{"$f":"Macro!E8517","v":{"$error":"#DIV/0!"}}]
[null,{"$f":"Macro!A8518","v":0},{"$f":"Macro!B8518","v":0},{"$f":"Macro!E8518","v":{"$error":"#DIV/0!"}}]
[null,{"$f":"Macro!A8519","v":0},{"$f":"Macro!B8519","v":0},{"$f":"Macro!E8519","v":{"$error":"#DIV/0!"}}]
[null,{"$f":"Macro!A8520","v":0},{"$f":"Macro!B8520","v":0},{"$f":"Macro!E8520","v":{"$error":"#DIV/0!"}}]
[null,{"$f":"Macro!A8521","v":0},{"$f":"Macro!B8521","v":0},{"$f":"Macro!E8521","v":{"$error":"#DIV/0!"}}]
[null,{"$f":"Macro!A8522","v":0},{"$f":"Macro!B8522","v":0},{"$f":"Macro!E8522","v":{"$error":"#DIV/0!"}}]
[null,{"$f":"Macro!A8523","v":0},{"$f":"Macro!B8523","v":0},{"$f":"Macro!E8523","v":{"$error":"#DIV/0!"}}]
[null,{"$f":"Macro!A8524","v":0},{"$f":"Macro!B8524","v":0},{"$f":"Macro!E8524","v":{"$error":"#DIV/0!"}}]
[null,{"$f":"Macro!A8525","v":0},{"$f":"Macro!B8525","v":0},{"$f":"Macro!E8525","v":{"$error":"#DIV/0!"}}]
[null,{"$f":"Macro!A8526","v":0},{"$f":"Macro!B8526","v":0},{"$f":"Macro!E8526","v":{"$error":"#DIV/0!"}}]
[null,{"$f":"Macro!A8527","v":0},{"$f":"Macro!B8527","v":0},{"$f":"Macro!E8527","v":{"$error":"#DIV/0!"}}]
[null,{"$f":"Macro!A8528","v":0},{"$f":"Macro!B8528","v":0},{"$f":"Macro!E8528","v":{"$error":"#DIV/0!"}}]
[null,{"$f":"Macro!A8529","v":0},{"$f":"Macro!B8529","v":0},{"$f":"Macro!E8529","v":{"$error":"#DIV/0!"}}]
[null,{"$f":"Macro!A8530","v":0},{"$f":"Macro!B8530","v":0},{"$f":"Macro!E8530","v":{"$error":"#DIV/0!"}}]
[null,{"$f":"Macro!A8531","v":0},{"$f":"Macro!B8531","v":0},{"$f":"Macro!E8531","v":{"$error":"#DIV/0!"}}]
[null,{"$f":"Macro!A8532","v":0},{"$f":"Macro!B8532","v":0},{"$f":"Macro!E8532","v":{"$error":"#DIV/0!"}}]
[null,{"$f":"Macro!A8533","v":0},{"$f":"Macro!B8533","v":0},{"$f":"Macro!E8533","v":{"$error":"#DIV/0!"}}]
[null,{"$f":"Macro!A8534","v":0},{"$f":"Macro!B8534","v":0},{"$f":"Macro!E8534","v":{"$error":"#DIV/0!"}}]
[null,{"$f":"Macro!A8535","v":0},{"$f":"Macro!B8535","v":0},{"$f":"Macro!E8535","v":{"$error":"#DIV/0!"}}]
[null,{"$f":"Macro!A8536","v":0},{"$f":"Macro!B8536","v":0},{"$f":"Macro!E8536","v":{"$error":"#DIV/0!"}}]
[null,{"$f":"Macro!A8537","v":0},{"$f":"Macro!B8537","v":0},{"$f":"Macro!E8537","v":{"$error":"#DIV/0!"}}]
[null,{"$f":"Macro!A8538","v":0},{"$f":"Macro!B8538","v":0},{"$f":"Macro!E8538","v":{"$error":"#DIV/0!"}}]
[null,{"$f":"Macro!A8539","v":0},{"$f":"Macro!B8539","v":0},{"$f":"Macro!E8539","v":{"$error":"#DIV/0!"}}]
[null,{"$f":"Macro!A8540","v":0},{"$f":"Macro!B8540","v":0},{"$f":"Macro!E8540","v":{"$error":"#DIV/0!"}}]
[null,{"$f":"Macro!A8541","v":0},{"$f":"Macro!B8541","v":0},{"$f":"Macro!E8541","v":{"$error":"#DIV/0!"}}]
[null,{"$f":"Macro!A8542","v":0},{"$f":"Macro!B8542","v":0},{"$f":"Macro!E8542","v":{"$error":"#DIV/0!"}}]
[null,{"$f":"Macro!A8543","v":0},{"$f":"Macro!B8543","v":0},{"$f":"Macro!E8543","v":{"$error":"#DIV/0!"}}]
[null,{"$f":"Macro!A8544","v":0},{"$f":"Macro!B8544","v":0},{"$f":"Macro!E8544","v":{"$error":"#DIV/0!"}}]
[null,{"$f":"Macro!A8545","v":0},{"$f":"Macro!B8545","v":0},{"$f":"Macro!E8545","v":{"$error":"#DIV/0!"}}]
[null,{"$f":"Macro!A8546","v":0},{"$f":"Macro!B8546","v":0},{"$f":"Macro!E8546","v":{"$error":"#DIV/0!"}}]
[null,{"$f":"Macro!A8547","v":0},{"$f":"Macro!B8547","v":0},{"$f":"Macro!E8547","v":{"$error":"#DIV/0!"}}]
[null,{"$f":"Macro!A8548","v":0},{"$f":"Macro!B8548","v":0},{"$f":"Macro!E8548","v":{"$error":"#DIV/0!"}}]
[null,{"$f":"Macro!A8549","v":0},{"$f":"Macro!B8549","v":0},{"$f":"Macro!E8549","v":{"$error":"#DIV/0!"}}]
[null,{"$f":"Macro!A8550","v":0},{"$f":"Macro!B8550","v":0},{"$f":"Macro!E8550","v":{"$error":"#DIV/0!"}}]
[null,{"$f":"Macro!A8551","v":0},{"$f":"Macro!B8551","v":0},{"$f":"Macro!E8551","v":{"$error":"#DIV/0!"}}]
[null,{"$f":"Macro!A8552","v":0},{"$f":"Macro!B8552","v":0},{"$f":"Macro!E8552","v":{"$error":"#DIV/0!"}}]
[null,{"$f":"Macro!A8553","v":0},{"$f":"Macro!B8553","v":0},{"$f":"Macro!E8553","v":{"$error":"#DIV/0!"}}]
[null,{"$f":"Macro!A8554","v":0},{"$f":"Macro!B8554","v":0},{"$f":"Macro!E8554","v":{"$error":"#DIV/0!"}}]
[null,{"$f":"Macro!A8555","v":0},{"$f":"Macro!B8555","v":0},{"$f":"Macro!E8555","v":{"$error":"#DIV/0!"}}]
[null,{"$f":"Macro!A8556","v":0},{"$f":"Macro!B8556","v":0},{"$f":"Macro!E8556","v":{"$error":"#DIV/0!"}}]
[null,{"$f":"Macro!A8557","v":0},{"$f":"Macro!B8557","v":0},{"$f":"Macro!E8557","v":{"$error":"#DIV/0!"}}]
[null,{"$f":"Macro!A8558","v":0},{"$f":"Macro!B8558","v":0},{"$f":"Macro!E8558","v":{"$error":"#DIV/0!"}}]
[null,{"$f":"Macro!A8559","v":0},{"$f":"Macro!B8559","v":0},{"$f":"Macro!E8559","v":{"$error":"#DIV/0!"}}]
[null,{"$f":"Macro!A8560","v":0},{"$f":"Macro!B8560","v":0},{"$f":"Macro!E8560","v":{"$error":"#DIV/0!"}}]
[null,{"$f":"Macro!A8561","v":0},{"$f":"Macro!B8561","v":0},{"$f":"Macro!E8561","v":{"$error":"#DIV/0!"}}]
[null,{"$f":"Macro!A8562","v":0},{"$f":"Macro!B8562","v":0},{"$f":"Macro!E8562","v":{"$error":"#DIV/0!"}}]
[null,{"$f":"Macro!A8563","v":0},{"$f":"Macro!B8563","v":0},{"$f":"Macro!E8563","v":{"$error":"#DIV/0!"}}]
[null,{"$f":"Macro!A8564","v":0},{"$f":"Macro!B8564","v":0},{"$f":"Macro!E8564","v":{"$error":"#DIV/0!"}}]
[null,{"$f":"Macro!A8565","v":0},{"$f":"Macro!B8565","v":0},{"$f":"Macro!E8565","v":{"$error":"#DIV/0!"}}]
[null,{"$f":"Macro!A8566","v":0},{"$f":"Macro!B8566","v":0},{"$f":"Macro!E8566","v":{"$error":"#DIV/0!"}}]
[null,{"$f":"Macro!A8567","v":0},{"$f":"Macro!B8567","v":0},{"$f":"Macro!E8567","v":{"$error":"#DIV/0!"}}]
[null,{"$f":"Macro!A8568","v":0},{"$f":"Macro!B8568","v":0},{"$f":"Macro!E8568","v":{"$error":"#DIV/0!"}}]
[null,{"$f":"Macro!A8569","v":0},{"$f":"Macro!B8569","v":0},{"$f":"Macro!E8569","v":{"$error":"#DIV/0!"}}]
[null,{"$f":"Macro!A8570","v":0},{"$f":"Macro!B8570","v":0},{"$f":"Macro!E8570","v":{"$error":"#DIV/0!"}}]
[null,{"$f":"Macro!A8571","v":0},{"$f":"Macro!B8571","v":0},{"$f":"Macro!E8571","v":{"$error":"#DIV/0!"}}]
[null,{"$f":"Macro!A8572","v":0},{"$f":"Macro!B8572","v":0},{"$f":"Macro!E8572","v":{"$error":"#DIV/0!"}}]
[null,{"$f":"Macro!A8573","v":0},{"$f":"Macro!B8573","v":0},{"$f":"Macro!E8573","v":{"$error":"#DIV/0!"}}]
[null,{"$f":"Macro!A8574","v":0},{"$f":"Macro!B8574","v":0},{"$f":"Macro!E8574","v":{"$error":"#DIV/0!"}}]
[null,{"$f":"Macro!A8575","v":0},{"$f":"Macro!B8575","v":0},{"$f":"Macro!E8575","v":{"$error":"#DIV/0!"}}]
[null,{"$f":"Macro!A8576","v":0},{"$f":"Macro!B8576","v":0},{"$f":"Macro!E8576","v":{"$error":"#DIV/0!"}}]
[null,{"$f":"Macro!A8577","v":0},{"$f":"Macro!B8577","v":0},{"$f":"Macro!E8577","v":{"$error":"#DIV/0!"}}]
[null,{"$f":"Macro!A8578","v":0},{"$f":"Macro!B8578","v":0},{"$f":"Macro!E8578","v":{"$error":"#DIV/0!"}}]
[null,{"$f":"Macro!A8579","v":0},{"$f":"Macro!B8579","v":0},{"$f":"Macro!E8579","v":{"$error":"#DIV/0!"}}]
[null,{"$f":"Macro!A8580","v":0},{"$f":"Macro!B8580","v":0},{"$f":"Macro!E8580","v":{"$error":"#DIV/0!"}}]
[null,{"$f":"Macro!A8581","v":0},{"$f":"Macro!B8581","v":0},{"$f":"Macro!E8581","v":{"$error":"#DIV/0!"}}]
[null,{"$f":"Macro!A8582","v":0},{"$f":"Macro!B8582","v":0},{"$f":"Macro!E8582","v":{"$error":"#DIV/0!"}}]
[null,{"$f":"Macro!A8583","v":0},{"$f":"Macro!B8583","v":0},{"$f":"Macro!E8583","v":{"$error":"#DIV/0!"}}]
[null,{"$f":"Macro!A8584","v":0},{"$f":"Macro!B8584","v":0},{"$f":"Macro!E8584","v":{"$error":"#DIV/0!"}}]
[null,{"$f":"Macro!A8585","v":0},{"$f":"Macro!B8585","v":0},{"$f":"Macro!E8585","v":{"$error":"#DIV/0!"}}]
[null,{"$f":"Macro!A8586","v":0},{"$f":"Macro!B8586","v":0},{"$f":"Macro!E8586","v":{"$error":"#DIV/0!"}}]
[null,{"$f":"Macro!A8587","v":0},{"$f":"Macro!B8587","v":0},{"$f":"Macro!E8587","v":{"$error":"#DIV/0!"}}]
[null,{"$f":"Macro!A8588","v":0},{"$f":"Macro!B8588","v":0},{"$f":"Macro!E8588","v":{"$error":"#DIV/0!"}}]
[null,{"$f":"Macro!A8589","v":0},{"$f":"Macro!B8589","v":0},{"$f":"Macro!E8589","v":{"$error":"#DIV/0!"}}]
[null,{"$f":"Macro!A8590","v":0},{"$f":"Macro!B8590","v":0},{"$f":"Macro!E8590","v":{"$error":"#DIV/0!"}}]
[null,{"$f":"Macro!A8591","v":0},{"$f":"Macro!B8591","v":0},{"$f":"Macro!E8591","v":{"$error":"#DIV/0!"}}]
[null,{"$f":"Macro!A8592","v":0},{"$f":"Macro!B8592","v":0},{"$f":"Macro!E8592","v":{"$error":"#DIV/0!"}}]
[null,{"$f":"Macro!A8593","v":0},{"$f":"Macro!B8593","v":0},{"$f":"Macro!E8593","v":{"$error":"#DIV/0!"}}]
[null,{"$f":"Macro!A8594","v":0},{"$f":"Macro!B8594","v":0},{"$f":"Macro!E8594","v":{"$error":"#DIV/0!"}}]
[null,{"$f":"Macro!A8595","v":0},{"$f":"Macro!B8595","v":0},{"$f":"Macro!E8595","v":{"$error":"#DIV/0!"}}]
[null,{"$f":"Macro!A8596","v":0},{"$f":"Macro!B8596","v":0},{"$f":"Macro!E8596","v":{"$error":"#DIV/0!"}}]
[null,{"$f":"Macro!A8597","v":0},{"$f":"Macro!B8597","v":0},{"$f":"Macro!E8597","v":{"$error":"#DIV/0!"}}]
[null,{"$f":"Macro!A8598","v":0},{"$f":"Macro!B8598","v":0},{"$f":"Macro!E8598","v":{"$error":"#DIV/0!"}}]
[null,{"$f":"Macro!A8599","v":0},{"$f":"Macro!B8599","v":0},{"$f":"Macro!E8599","v":{"$error":"#DIV/0!"}}]
[null,{"$f":"Macro!A8600","v":0},{"$f":"Macro!B8600","v":0},{"$f":"Macro!E8600","v":{"$error":"#DIV/0!"}}]
[null,{"$f":"Macro!A8601","v":0},{"$f":"Macro!B8601","v":0},{"$f":"Macro!E8601","v":{"$error":"#DIV/0!"}}]
[null,{"$f":"Macro!A8602","v":0},{"$f":"Macro!B8602","v":0},{"$f":"Macro!E8602","v":{"$error":"#DIV/0!"}}]
[null,{"$f":"Macro!A8603","v":0},{"$f":"Macro!B8603","v":0},{"$f":"Macro!E8603","v":{"$error":"#DIV/0!"}}]
[null,{"$f":"Macro!A8604","v":0},{"$f":"Macro!B8604","v":0},{"$f":"Macro!E8604","v":{"$error":"#DIV/0!"}}]
[null,{"$f":"Macro!A8605","v":0},{"$f":"Macro!B8605","v":0},{"$f":"Macro!E8605","v":{"$error":"#DIV/0!"}}]
[null,{"$f":"Macro!A8606","v":0},{"$f":"Macro!B8606","v":0},{"$f":"Macro!E8606","v":{"$error":"#DIV/0!"}}]
[null,{"$f":"Macro!A8607","v":0},{"$f":"Macro!B8607","v":0},{"$f":"Macro!E8607","v":{"$error":"#DIV/0!"}}]
[null,{"$f":"Macro!A8608","v":0},{"$f":"Macro!B8608","v":0},{"$f":"Macro!E8608","v":{"$error":"#DIV/0!"}}]
[null,{"$f":"Macro!A8609","v":0},{"$f":"Macro!B8609","v":0},{"$f":"Macro!E8609","v":{"$error":"#DIV/0!"}}]
[null,{"$f":"Macro!A8610","v":0},{"$f":"Macro!B8610","v":0},{"$f":"Macro!E8610","v":{"$error":"#DIV/0!"}}]
[null,{"$f":"Macro!A8611","v":0},{"$f":"Macro!B8611","v":0},{"$f":"Macro!E8611","v":{"$error":"#DIV/0!"}}]
[null,{"$f":"Macro!A8612","v":0},{"$f":"Macro!B8612","v":0},{"$f":"Macro!E8612","v":{"$error":"#DIV/0!"}}]
[null,{"$f":"Macro!A8613","v":0},{"$f":"Macro!B8613","v":0},{"$f":"Macro!E8613","v":{"$error":"#DIV/0!"}}]
[null,{"$f":"Macro!A8614","v":0},{"$f":"Macro!B8614","v":0},{"$f":"Macro!E8614","v":{"$error":"#DIV/0!"}}]
[null,{"$f":"Macro!A8615","v":0},{"$f":"Macro!B8615","v":0},{"$f":"Macro!E8615","v":{"$error":"#DIV/0!"}}]
[null,{"$f":"Macro!A8616","v":0},{"$f":"Macro!B8616","v":0},{"$f":"Macro!E8616","v":{"$error":"#DIV/0!"}}]
[null,{"$f":"Macro!A8617","v":0},{"$f":"Macro!B8617","v":0},{"$f":"Macro!E8617","v":{"$error":"#DIV/0!"}}]
[null,{"$f":"Macro!A8618","v":0},{"$f":"Macro!B8618","v":0},{"$f":"Macro!E8618","v":{"$error":"#DIV/0!"}}]
[null,{"$f":"Macro!A8619","v":0},{"$f":"Macro!B8619","v":0},{"$f":"Macro!E8619","v":{"$error":"#DIV/0!"}}]
[null,{"$f":"Macro!A8620","v":0},{"$f":"Macro!B8620","v":0},{"$f":"Macro!E8620","v":{"$error":"#DIV/0!"}}]
[null,{"$f":"Macro!A8621","v":0},{"$f":"Macro!B8621","v":0},{"$f":"Macro!E8621","v":{"$error":"#DIV/0!"}}]
[null,{"$f":"Macro!A8622","v":0},{"$f":"Macro!B8622","v":0},{"$f":"Macro!E8622","v":{"$error":"#DIV/0!"}}]
[null,{"$f":"Macro!A8623","v":0},{"$f":"Macro!B8623","v":0},{"$f":"Macro!E8623","v":{"$error":"#DIV/0!"}}]
[null,{"$f":"Macro!A8624","v":0},{"$f":"Macro!B8624","v":0},{"$f":"Macro!E8624","v":{"$error":"#DIV/0!"}}]
[null,{"$f":"Macro!A8625","v":0},{"$f":"Macro!B8625","v":0},{"$f":"Macro!E8625","v":{"$error":"#DIV/0!"}}]
[null,{"$f":"Macro!A8626","v":0},{"$f":"Macro!B8626","v":0},{"$f":"Macro!E8626","v":{"$error":"#DIV/0!"}}]
[null,{"$f":"Macro!A8627","v":0},{"$f":"Macro!B8627","v":0},{"$f":"Macro!E8627","v":{"$error":"#DIV/0!"}}]
[null,{"$f":"Macro!A8628","v":0},{"$f":"Macro!B8628","v":0},{"$f":"Macro!E8628","v":{"$error":"#DIV/0!"}}]
[null,{"$f":"Macro!A8629","v":0},{"$f":"Macro!B8629","v":0},{"$f":"Macro!E8629","v":{"$error":"#DIV/0!"}}]
[null,{"$f":"Macro!A8630","v":0},{"$f":"Macro!B8630","v":0},{"$f":"Macro!E8630","v":{"$error":"#DIV/0!"}}]
[null,{"$f":"Macro!A8631","v":0},{"$f":"Macro!B8631","v":0},{"$f":"Macro!E8631","v":{"$error":"#DIV/0!"}}]
[null,{"$f":"Macro!A8632","v":0},{"$f":"Macro!B8632","v":0},{"$f":"Macro!E8632","v":{"$error":"#DIV/0!"}}]
[null,{"$f":"Macro!A8633","v":0},{"$f":"Macro!B8633","v":0},{"$f":"Macro!E8633","v":{"$error":"#DIV/0!"}}]
[null,{"$f":"Macro!A8634","v":0},{"$f":"Macro!B8634","v":0},{"$f":"Macro!E8634","v":{"$error":"#DIV/0!"}}]
[null,{"$f":"Macro!A8635","v":0},{"$f":"Macro!B8635","v":0},{"$f":"Macro!E8635","v":{"$error":"#DIV/0!"}}]
[null,{"$f":"Macro!A8636","v":0},{"$f":"Macro!B8636","v":0},{"$f":"Macro!E8636","v":{"$error":"#DIV/0!"}}]
[null,{"$f":"Macro!A8637","v":0},{"$f":"Macro!B8637","v":0},{"$f":"Macro!E8637","v":{"$error":"#DIV/0!"}}]
[null,{"$f":"Macro!A8638","v":0},{"$f":"Macro!B8638","v":0},{"$f":"Macro!E8638","v":{"$error":"#DIV/0!"}}]
[null,{"$f":"Macro!A8639","v":0},{"$f":"Macro!B8639","v":0},{"$f":"Macro!E8639","v":{"$error":"#DIV/0!"}}]
[null,{"$f":"Macro!A8640","v":0},{"$f":"Macro!B8640","v":0},{"$f":"Macro!E8640","v":{"$error":"#DIV/0!"}}]
[null,{"$f":"Macro!A8641","v":0},{"$f":"Macro!B8641","v":0},{"$f":"Macro!E8641","v":{"$error":"#DIV/0!"}}]
[null,{"$f":"Macro!A8642","v":0},{"$f":"Macro!B8642","v":0},{"$f":"Macro!E8642","v":{"$error":"#DIV/0!"}}]
[null,{"$f":"Macro!A8643","v":0},{"$f":"Macro!B8643","v":0},{"$f":"Macro!E8643","v":{"$error":"#DIV/0!"}}]
[null,{"$f":"Macro!A8644","v":0},{"$f":"Macro!B8644","v":0},{"$f":"Macro!E8644","v":{"$error":"#DIV/0!"}}]
[null,{"$f":"Macro!A8645","v":0},{"$f":"Macro!B8645","v":0},{"$f":"Macro!E8645","v":{"$error":"#DIV/0!"}}]
[null,{"$f":"Macro!A8646","v":0},{"$f":"Macro!B8646","v":0},{"$f":"Macro!E8646","v":{"$error":"#DIV/0!"}}]
[null,{"$f":"Macro!A8647","v":0},{"$f":"Macro!B8647","v":0},{"$f":"Macro!E8647","v":{"$error":"#DIV/0!"}}]
[null,{"$f":"Macro!A8648","v":0},{"$f":"Macro!B8648","v":0},{"$f":"Macro!E8648","v":{"$error":"#DIV/0!"}}]
[null,{"$f":"Macro!A8649","v":0},{"$f":"Macro!B8649","v":0},{"$f":"Macro!E8649","v":{"$error":"#DIV/0!"}}]
[null,{"$f":"Macro!A8650","v":0},{"$f":"Macro!B8650","v":0},{"$f":"Macro!E8650","v":{"$error":"#DIV/0!"}}]
[null,{"$f":"Macro!A8651","v":0},{"$f":"Macro!B8651","v":0},{"$f":"Macro!E8651","v":{"$error":"#DIV/0!"}}]
[null,{"$f":"Macro!A8652","v":0},{"$f":"Macro!B8652","v":0},{"$f":"Macro!E8652","v":{"$error":"#DIV/0!"}}]
[null,{"$f":"Macro!A8653","v":0},{"$f":"Macro!B8653","v":0},{"$f":"Macro!E8653","v":{"$error":"#DIV/0!"}}]
[null,{"$f":"Macro!A8654","v":0},{"$f":"Macro!B8654","v":0},{"$f":"Macro!E8654","v":{"$error":"#DIV/0!"}}]
[null,{"$f":"Macro!A8655","v":0},{"$f":"Macro!B8655","v":0},{"$f":"Macro!E8655","v":{"$error":"#DIV/0!"}}]
[null,{"$f":"Macro!A8656","v":0},{"$f":"Macro!B8656","v":0},{"$f":"Macro!E8656","v":{"$error":"#DIV/0!"}}]
[null,{"$f":"Macro!A8657","v":0},{"$f":"Macro!B8657","v":0},{"$f":"Macro!E8657","v":{"$error":"#DIV/0!"}}]
[null,{"$f":"Macro!A8658","v":0},{"$f":"Macro!B8658","v":0},{"$f":"Macro!E8658","v":{"$error":"#DIV/0!"}}]
[null,{"$f":"Macro!A8659","v":0},{"$f":"Macro!B8659","v":0},{"$f":"Macro!E8659","v":{"$error":"#DIV/0!"}}]
[null,{"$f":"Macro!A8660","v":0},{"$f":"Macro!B8660","v":0},{"$f":"Macro!E8660","v":{"$error":"#DIV/0!"}}]
[null,{"$f":"Macro!A8661","v":0},{"$f":"Macro!B8661","v":0},{"$f":"Macro!E8661","v":{"$error":"#DIV/0!"}}]
[null,{"$f":"Macro!A8662","v":0},{"$f":"Macro!B8662","v":0},{"$f":"Macro!E8662","v":{"$error":"#DIV/0!"}}]
[null,{"$f":"Macro!A8663","v":0},{"$f":"Macro!B8663","v":0},{"$f":"Macro!E8663","v":{"$error":"#DIV/0!"}}]
[null,{"$f":"Macro!A8664","v":0},{"$f":"Macro!B8664","v":0},{"$f":"Macro!E8664","v":{"$error":"#DIV/0!"}}]
[null,{"$f":"Macro!A8665","v":0},{"$f":"Macro!B8665","v":0},{"$f":"Macro!E8665","v":{"$error":"#DIV/0!"}}]
[null,{"$f":"Macro!A8666","v":0},{"$f":"Macro!B8666","v":0},{"$f":"Macro!E8666","v":{"$error":"#DIV/0!"}}]
[null,{"$f":"Macro!A8667","v":0},{"$f":"Macro!B8667","v":0},{"$f":"Macro!E8667","v":{"$error":"#DIV/0!"}}]
[null,{"$f":"Macro!A8668","v":0},{"$f":"Macro!B8668","v":0},{"$f":"Macro!E8668","v":{"$error":"#DIV/0!"}}]
[null,{"$f":"Macro!A8669","v":0},{"$f":"Macro!B8669","v":0},{"$f":"Macro!E8669","v":{"$error":"#DIV/0!"}}]
[null,{"$f":"Macro!A8670","v":0},{"$f":"Macro!B8670","v":0},{"$f":"Macro!E8670","v":{"$error":"#DIV/0!"}}]
[null,{"$f":"Macro!A8671","v":0},{"$f":"Macro!B8671","v":0},{"$f":"Macro!E8671","v":{"$error":"#DIV/0!"}}]
[null,{"$f":"Macro!A8672","v":0},{"$f":"Macro!B8672","v":0},{"$f":"Macro!E8672","v":{"$error":"#DIV/0!"}}]
[null,{"$f":"Macro!A8673","v":0},{"$f":"Macro!B8673","v":0},{"$f":"Macro!E8673","v":{"$error":"#DIV/0!"}}]
[null,{"$f":"Macro!A8674","v":0},{"$f":"Macro!B8674","v":0},{"$f":"Macro!E8674","v":{"$error":"#DIV/0!"}}]
[null,{"$f":"Macro!A8675","v":0},{"$f":"Macro!B8675","v":0},{"$f":"Macro!E8675","v":{"$error":"#DIV/0!"}}]
[null,{"$f":"Macro!A8676","v":0},{"$f":"Macro!B8676","v":0},{"$f":"Macro!E8676","v":{"$error":"#DIV/0!"}}]
[null,{"$f":"Macro!A8677","v":0},{"$f":"Macro!B8677","v":0},{"$f":"Macro!E8677","v":{"$error":"#DIV/0!"}}]
[null,{"$f":"Macro!A8678","v":0},{"$f":"Macro!B8678","v":0},{"$f":"Macro!E8678","v":{"$error":"#DIV/0!"}}]
[null,{"$f":"Macro!A8679","v":0},{"$f":"Macro!B8679","v":0},{"$f":"Macro!E8679","v":{"$error":"#DIV/0!"}}]
[null,{"$f":"Macro!A8680","v":0},{"$f":"Macro!B8680","v":0},{"$f":"Macro!E8680","v":{"$error":"#DIV/0!"}}]
[null,{"$f":"Macro!A8681","v":0},{"$f":"Macro!B8681","v":0},{"$f":"Macro!E8681","v":{"$error":"#DIV/0!"}}]
[null,{"$f":"Macro!A8682","v":0},{"$f":"Macro!B8682","v":0},{"$f":"Macro!E8682","v":{"$error":"#DIV/0!"}}]
[null,{"$f":"Macro!A8683","v":0},{"$f":"Macro!B8683","v":0},{"$f":"Macro!E8683","v":{"$error":"#DIV/0!"}}]
[null,{"$f":"Macro!A8684","v":0},{"$f":"Macro!B8684","v":0},{"$f":"Macro!E8684","v":{"$error":"#DIV/0!"}}]
[null,{"$f":"Macro!A8685","v":0},{"$f":"Macro!B8685","v":0},{"$f":"Macro!E8685","v":{"$error":"#DIV/0!"}}]
[null,{"$f":"Macro!A8686","v":0},{"$f":"Macro!B8686","v":0},{"$f":"Macro!E8686","v":{"$error":"#DIV/0!"}}]
[null,{"$f":"Macro!A8687","v":0},{"$f":"Macro!B8687","v":0},{"$f":"Macro!E8687","v":{"$error":"#DIV/0!"}}]
[null,{"$f":"Macro!A8688","v":0},{"$f":"Macro!B8688","v":0},{"$f":"Macro!E8688","v":{"$error":"#DIV/0!"}}]
[null,{"$f":"Macro!A8689","v":0},{"$f":"Macro!B8689","v":0},{"$f":"Macro!E8689","v":{"$error":"#DIV/0!"}}]
[null,{"$f":"Macro!A8690","v":0},{"$f":"Macro!B8690","v":0},{"$f":"Macro!E8690","v":{"$error":"#DIV/0!"}}]
[null,{"$f":"Macro!A8691","v":0},{"$f":"Macro!B8691","v":0},{"$f":"Macro!E8691","v":{"$error":"#DIV/0!"}}]
[null,{"$f":"Macro!A8692","v":0},{"$f":"Macro!B8692","v":0},{"$f":"Macro!E8692","v":{"$error":"#DIV/0!"}}]
[null,{"$f":"Macro!A8693","v":0},{"$f":"Macro!B8693","v":0},{"$f":"Macro!E8693","v":{"$error":"#DIV/0!"}}]
[null,{"$f":"Macro!A8694","v":0},{"$f":"Macro!B8694","v":0},{"$f":"Macro!E8694","v":{"$error":"#DIV/0!"}}]
[null,{"$f":"Macro!A8695","v":0},{"$f":"Macro!B8695","v":0},{"$f":"Macro!E8695","v":{"$error":"#DIV/0!"}}]
[null,{"$f":"Macro!A8696","v":0},{"$f":"Macro!B8696","v":0},{"$f":"Macro!E8696","v":{"$error":"#DIV/0!"}}]
[null,{"$f":"Macro!A8697","v":0},{"$f":"Macro!B8697","v":0},{"$f":"Macro!E8697","v":{"$error":"#DIV/0!"}}]
[null,{"$f":"Macro!A8698","v":0},{"$f":"Macro!B8698","v":0},{"$f":"Macro!E8698","v":{"$error":"#DIV/0!"}}]
[null,{"$f":"Macro!A8699","v":0},{"$f":"Macro!B8699","v":0},{"$f":"Macro!E8699","v":{"$error":"#DIV/0!"}}]
[null,{"$f":"Macro!A8700","v":0},{"$f":"Macro!B8700","v":0},{"$f":"Macro!E8700","v":{"$error":"#DIV/0!"}}]
[null,{"$f":"Macro!A8701","v":0},{"$f":"Macro!B8701","v":0},{"$f":"Macro!E8701","v":{"$error":"#DIV/0!"}}]
[null,{"$f":"Macro!A8702","v":0},{"$f":"Macro!B8702","v":0},{"$f":"Macro!E8702","v":{"$error":"#DIV/0!"}}]
[null,{"$f":"Macro!A8703","v":0},{"$f":"Macro!B8703","v":0},{"$f":"Macro!E8703","v":{"$error":"#DIV/0!"}}]
[null,{"$f":"Macro!A8704","v":0},{"$f":"Macro!B8704","v":0},{"$f":"Macro!E8704","v":{"$error":"#DIV/0!"}}]
[null,{"$f":"Macro!A8705","v":0},{"$f":"Macro!B8705","v":0},{"$f":"Macro!E8705","v":{"$error":"#DIV/0!"}}]
[null,{"$f":"Macro!A8706","v":0},{"$f":"Macro!B8706","v":0},{"$f":"Macro!E8706","v":{"$error":"#DIV/0!"}}]
[null,{"$f":"Macro!A8707","v":0},{"$f":"Macro!B8707","v":0},{"$f":"Macro!E8707","v":{"$error":"#DIV/0!"}}]
[null,{"$f":"Macro!A8708","v":0},{"$f":"Macro!B8708","v":0},{"$f":"Macro!E8708","v":{"$error":"#DIV/0!"}}]
[null,{"$f":"Macro!A8709","v":0},{"$f":"Macro!B8709","v":0},{"$f":"Macro!E8709","v":{"$error":"#DIV/0!"}}]
[null,{"$f":"Macro!A8710","v":0},{"$f":"Macro!B8710","v":0},{"$f":"Macro!E8710","v":{"$error":"#DIV/0!"}}]
[null,{"$f":"Macro!A8711","v":0},{"$f":"Macro!B8711","v":0},{"$f":"Macro!E8711","v":{"$error":"#DIV/0!"}}]
[null,{"$f":"Macro!A8712","v":0},{"$f":"Macro!B8712","v":0},{"$f":"Macro!E8712","v":{"$error":"#DIV/0!"}}]
[null,{"$f":"Macro!A8713","v":0},{"$f":"Macro!B8713","v":0},{"$f":"Macro!E8713","v":{"$error":"#DIV/0!"}}]
[null,{"$f":"Macro!A8714","v":0},{"$f":"Macro!B8714","v":0},{"$f":"Macro!E8714","v":{"$error":"#DIV/0!"}}]
[null,{"$f":"Macro!A8715","v":0},{"$f":"Macro!B8715","v":0},{"$f":"Macro!E8715","v":{"$error":"#DIV/0!"}}]
[null,{"$f":"Macro!A8716","v":0},{"$f":"Macro!B8716","v":0},{"$f":"Macro!E8716","v":{"$error":"#DIV/0!"}}]
[null,{"$f":"Macro!A8717","v":0},{"$f":"Macro!B8717","v":0},{"$f":"Macro!E8717","v":{"$error":"#DIV/0!"}}]
[null,{"$f":"Macro!A8718","v":0},{"$f":"Macro!B8718","v":0},{"$f":"Macro!E8718","v":{"$error":"#DIV/0!"}}]
[null,{"$f":"Macro!A8719","v":0},{"$f":"Macro!B8719","v":0},{"$f":"Macro!E8719","v":{"$error":"#DIV/0!"}}]
[null,{"$f":"Macro!A8720","v":0},{"$f":"Macro!B8720","v":0},{"$f":"Macro!E8720","v":{"$error":"#DIV/0!"}}]
[null,{"$f":"Macro!A8721","v":0},{"$f":"Macro!B8721","v":0},{"$f":"Macro!E8721","v":{"$error":"#DIV/0!"}}]
[null,{"$f":"Macro!A8722","v":0},{"$f":"Macro!B8722","v":0},{"$f":"Macro!E8722","v":{"$error":"#DIV/0!"}}]
[null,{"$f":"Macro!A8723","v":0},{"$f":"Macro!B8723","v":0},{"$f":"Macro!E8723","v":{"$error":"#DIV/0!"}}]
[null,{"$f":"Macro!A8724","v":0},{"$f":"Macro!B8724","v":0},{"$f":"Macro!E8724","v":{"$error":"#DIV/0!"}}]
[null,{"$f":"Macro!A8725","v":0},{"$f":"Macro!B8725","v":0},{"$f":"Macro!E8725","v":{"$error":"#DIV/0!"}}]
[null,{"$f":"Macro!A8726","v":0},{"$f":"Macro!B8726","v":0},{"$f":"Macro!E8726","v":{"$error":"#DIV/0!"}}]
[null,{"$f":"Macro!A8727","v":0},{"$f":"Macro!B8727","v":0},{"$f":"Macro!E8727","v":{"$error":"#DIV/0!"}}]
[null,{"$f":"Macro!A8728","v":0},{"$f":"Macro!B8728","v":0},{"$f":"Macro!E8728","v":{"$error":"#DIV/0!"}}]
[null,{"$f":"Macro!A8729","v":0},{"$f":"Macro!B8729","v":0},{"$f":"Macro!E8729","v":{"$error":"#DIV/0!"}}]
[null,{"$f":"Macro!A8730","v":0},{"$f":"Macro!B8730","v":0},{"$f":"Macro!E8730","v":{"$error":"#DIV/0!"}}]
[null,{"$f":"Macro!A8731","v":0},{"$f":"Macro!B8731","v":0},{"$f":"Macro!E8731","v":{"$error":"#DIV/0!"}}]
[null,{"$f":"Macro!A8732","v":0},{"$f":"Macro!B8732","v":0},{"$f":"Macro!E8732","v":{"$error":"#DIV/0!"}}]
[null,{"$f":"Macro!A8733","v":0},{"$f":"Macro!B8733","v":0},{"$f":"Macro!E8733","v":{"$error":"#DIV/0!"}}]
[null,{"$f":"Macro!A8734","v":0},{"$f":"Macro!B8734","v":0},{"$f":"Macro!E8734","v":{"$error":"#DIV/0!"}}]
[null,{"$f":"Macro!A8735","v":0},{"$f":"Macro!B8735","v":0},{"$f":"Macro!E8735","v":{"$error":"#DIV/0!"}}]
[null,{"$f":"Macro!A8736","v":0},{"$f":"Macro!B8736","v":0},{"$f":"Macro!E8736","v":{"$error":"#DIV/0!"}}]
[null,{"$f":"Macro!A8737","v":0},{"$f":"Macro!B8737","v":0},{"$f":"Macro!E8737","v":{"$error":"#DIV/0!"}}]
[null,{"$f":"Macro!A8738","v":0},{"$f":"Macro!B8738","v":0},{"$f":"Macro!E8738","v":{"$error":"#DIV/0!"}}]
[null,{"$f":"Macro!A8739","v":0},{"$f":"Macro!B8739","v":0},{"$f":"Macro!E8739","v":{"$error":"#DIV/0!"}}]
[null,{"$f":"Macro!A8740","v":0},{"$f":"Macro!B8740","v":0},{"$f":"Macro!E8740","v":{"$error":"#DIV/0!"}}]
[null,{"$f":"Macro!A8741","v":0},{"$f":"Macro!B8741","v":0},{"$f":"Macro!E8741","v":{"$error":"#DIV/0!"}}]
[null,{"$f":"Macro!A8742","v":0},{"$f":"Macro!B8742","v":0},{"$f":"Macro!E8742","v":{"$error":"#DIV/0!"}}]
[null,{"$f":"Macro!A8743","v":0},{"$f":"Macro!B8743","v":0},{"$f":"Macro!E8743","v":{"$error":"#DIV/0!"}}]
[null,{"$f":"Macro!A8744","v":0},{"$f":"Macro!B8744","v":0},{"$f":"Macro!E8744","v":{"$error":"#DIV/0!"}}]
[null,{"$f":"Macro!A8745","v":0},{"$f":"Macro!B8745","v":0},{"$f":"Macro!E8745","v":{"$error":"#DIV/0!"}}]
[null,{"$f":"Macro!A8746","v":0},{"$f":"Macro!B8746","v":0},{"$f":"Macro!E8746","v":{"$error":"#DIV/0!"}}]
[null,{"$f":"Macro!A8747","v":0},{"$f":"Macro!B8747","v":0},{"$f":"Macro!E8747","v":{"$error":"#DIV/0!"}}]
[null,{"$f":"Macro!A8748","v":0},{"$f":"Macro!B8748","v":0},{"$f":"Macro!E8748","v":{"$error":"#DIV/0!"}}]
[null,{"$f":"Macro!A8749","v":0},{"$f":"Macro!B8749","v":0},{"$f":"Macro!E8749","v":{"$error":"#DIV/0!"}}]
[null,{"$f":"Macro!A8750","v":0},{"$f":"Macro!B8750","v":0},{"$f":"Macro!E8750","v":{"$error":"#DIV/0!"}}]
[null,{"$f":"Macro!A8751","v":0},{"$f":"Macro!B8751","v":0},{"$f":"Macro!E8751","v":{"$error":"#DIV/0!"}}]
[null,{"$f":"Macro!A8752","v":0},{"$f":"Macro!B8752","v":0},{"$f":"Macro!E8752","v":{"$error":"#DIV/0!"}}]
[null,{"$f":"Macro!A8753","v":0},{"$f":"Macro!B8753","v":0},{"$f":"Macro!E8753","v":{"$error":"#DIV/0!"}}]
[null,{"$f":"Macro!A8754","v":0},{"$f":"Macro!B8754","v":0},{"$f":"Macro!E8754","v":{"$error":"#DIV/0!"}}]
[null,{"$f":"Macro!A8755","v":0},{"$f":"Macro!B8755","v":0},{"$f":"Macro!E8755","v":{"$error":"#DIV/0!"}}]
[null,{"$f":"Macro!A8756","v":0},{"$f":"Macro!B8756","v":0},{"$f":"Macro!E8756","v":{"$error":"#DIV/0!"}}]
[null,{"$f":"Macro!A8757","v":0},{"$f":"Macro!B8757","v":0},{"$f":"Macro!E8757","v":{"$error":"#DIV/0!"}}]
[null,{"$f":"Macro!A8758","v":0},{"$f":"Macro!B8758","v":0},{"$f":"Macro!E8758","v":{"$error":"#DIV/0!"}}]
[null,{"$f":"Macro!A8759","v":0},{"$f":"Macro!B8759","v":0},{"$f":"Macro!E8759","v":{"$error":"#DIV/0!"}}]
[null,{"$f":"Macro!A8760","v":0},{"$f":"Macro!B8760","v":0},{"$f":"Macro!E8760","v":{"$error":"#DIV/0!"}}]
[null,{"$f":"Macro!A8761","v":0},{"$f":"Macro!B8761","v":0},{"$f":"Macro!E8761","v":{"$error":"#DIV/0!"}}]
[null,{"$f":"Macro!A8762","v":0},{"$f":"Macro!B8762","v":0},{"$f":"Macro!E8762","v":{"$error":"#DIV/0!"}}]
[null,{"$f":"Macro!A8763","v":0},{"$f":"Macro!B8763","v":0},{"$f":"Macro!E8763","v":{"$error":"#DIV/0!"}}]
[null,{"$f":"Macro!A8764","v":0},{"$f":"Macro!B8764","v":0},{"$f":"Macro!E8764","v":{"$error":"#DIV/0!"}}]
[null,{"$f":"Macro!A8765","v":0},{"$f":"Macro!B8765","v":0},{"$f":"Macro!E8765","v":{"$error":"#DIV/0!"}}]
[null,{"$f":"Macro!A8766","v":0},{"$f":"Macro!B8766","v":0},{"$f":"Macro!E8766","v":{"$error":"#DIV/0!"}}]
[null,{"$f":"Macro!A8767","v":0},{"$f":"Macro!B8767","v":0},{"$f":"Macro!E8767","v":{"$error":"#DIV/0!"}}]
[null,{"$f":"Macro!A8768","v":0},{"$f":"Macro!B8768","v":0},{"$f":"Macro!E8768","v":{"$error":"#DIV/0!"}}]
[null,{"$f":"Macro!A8769","v":0},{"$f":"Macro!B8769","v":0},{"$f":"Macro!E8769","v":{"$error":"#DIV/0!"}}]
[null,{"$f":"Macro!A8770","v":0},{"$f":"Macro!B8770","v":0},{"$f":"Macro!E8770","v":{"$error":"#DIV/0!"}}]
[null,{"$f":"Macro!A8771","v":0},{"$f":"Macro!B8771","v":0},{"$f":"Macro!E8771","v":{"$error":"#DIV/0!"}}]
[null,{"$f":"Macro!A8772","v":0},{"$f":"Macro!B8772","v":0},{"$f":"Macro!E8772","v":{"$error":"#DIV/0!"}}]
[null,{"$f":"Macro!A8773","v":0},{"$f":"Macro!B8773","v":0},{"$f":"Macro!E8773","v":{"$error":"#DIV/0!"}}]
[null,{"$f":"Macro!A8774","v":0},{"$f":"Macro!B8774","v":0},{"$f":"Macro!E8774","v":{"$error":"#DIV/0!"}}]
[null,{"$f":"Macro!A8775","v":0},{"$f":"Macro!B8775","v":0},{"$f":"Macro!E8775","v":{"$error":"#DIV/0!"}}]
[null,{"$f":"Macro!A8776","v":0},{"$f":"Macro!B8776","v":0},{"$f":"Macro!E8776","v":{"$error":"#DIV/0!"}}]
[null,{"$f":"Macro!A8777","v":0},{"$f":"Macro!B8777","v":0},{"$f":"Macro!E8777","v":{"$error":"#DIV/0!"}}]
[null,{"$f":"Macro!A8778","v":0},{"$f":"Macro!B8778","v":0},{"$f":"Macro!E8778","v":{"$error":"#DIV/0!"}}]
[null,{"$f":"Macro!A8779","v":0},{"$f":"Macro!B8779","v":0},{"$f":"Macro!E8779","v":{"$error":"#DIV/0!"}}]
[null,{"$f":"Macro!A8780","v":0},{"$f":"Macro!B8780","v":0},{"$f":"Macro!E8780","v":{"$error":"#DIV/0!"}}]
[null,{"$f":"Macro!A8781","v":0},{"$f":"Macro!B8781","v":0},{"$f":"Macro!E8781","v":{"$error":"#DIV/0!"}}]
[null,{"$f":"Macro!A8782","v":0},{"$f":"Macro!B8782","v":0},{"$f":"Macro!E8782","v":{"$error":"#DIV/0!"}}]
[null,{"$f":"Macro!A8783","v":0},{"$f":"Macro!B8783","v":0},{"$f":"Macro!E8783","v":{"$error":"#DIV/0!"}}]
[null,{"$f":"Macro!A8784","v":0},{"$f":"Macro!B8784","v":0},{"$f":"Macro!E8784","v":{"$error":"#DIV/0!"}}]
[null,{"$f":"Macro!A8785","v":0},{"$f":"Macro!B8785","v":0},{"$f":"Macro!E8785","v":{"$error":"#DIV/0!"}}]
[null,{"$f":"Macro!A8786","v":0},{"$f":"Macro!B8786","v":0},{"$f":"Macro!E8786","v":{"$error":"#DIV/0!"}}]
[null,{"$f":"Macro!A8787","v":0},{"$f":"Macro!B8787","v":0},{"$f":"Macro!E8787","v":{"$error":"#DIV/0!"}}]
[null,{"$f":"Macro!A8788","v":0},{"$f":"Macro!B8788","v":0},{"$f":"Macro!E8788","v":{"$error":"#DIV/0!"}}]
[null,{"$f":"Macro!A8789","v":0},{"$f":"Macro!B8789","v":0},{"$f":"Macro!E8789","v":{"$error":"#DIV/0!"}}]
[null,{"$f":"Macro!A8790","v":0},{"$f":"Macro!B8790","v":0},{"$f":"Macro!E8790","v":{"$error":"#DIV/0!"}}]
[null,{"$f":"Macro!A8791","v":0},{"$f":"Macro!B8791","v":0},{"$f":"Macro!E8791","v":{"$error":"#DIV/0!"}}]
[null,{"$f":"Macro!A8792","v":0},{"$f":"Macro!B8792","v":0},{"$f":"Macro!E8792","v":{"$error":"#DIV/0!"}}]
[null,{"$f":"Macro!A8793","v":0},{"$f":"Macro!B8793","v":0},{"$f":"Macro!E8793","v":{"$error":"#DIV/0!"}}]
[null,{"$f":"Macro!A8794","v":0},{"$f":"Macro!B8794","v":0},{"$f":"Macro!E8794","v":{"$error":"#DIV/0!"}}]
[null,{"$f":"Macro!A8795","v":0},{"$f":"Macro!B8795","v":0},{"$f":"Macro!E8795","v":{"$error":"#DIV/0!"}}]
[null,{"$f":"Macro!A8796","v":0},{"$f":"Macro!B8796","v":0},{"$f":"Macro!E8796","v":{"$error":"#DIV/0!"}}]
[null,{"$f":"Macro!A8797","v":0},{"$f":"Macro!B8797","v":0},{"$f":"Macro!E8797","v":{"$error":"#DIV/0!"}}]
[null,{"$f":"Macro!A8798","v":0},{"$f":"Macro!B8798","v":0},{"$f":"Macro!E8798","v":{"$error":"#DIV/0!"}}]
[null,{"$f":"Macro!A8799","v":0},{"$f":"Macro!B8799","v":0},{"$f":"Macro!E8799","v":{"$error":"#DIV/0!"}}]
[null,{"$f":"Macro!A8800","v":0},{"$f":"Macro!B8800","v":0},{"$f":"Macro!E8800","v":{"$error":"#DIV/0!"}}]
[null,{"$f":"Macro!A8801","v":0},{"$f":"Macro!B8801","v":0},{"$f":"Macro!E8801","v":{"$error":"#DIV/0!"}}]
[null,{"$f":"Macro!A8802","v":0},{"$f":"Macro!B8802","v":0},{"$f":"Macro!E8802","v":{"$error":"#DIV/0!"}}]
[null,{"$f":"Macro!A8803","v":0},{"$f":"Macro!B8803","v":0},{"$f":"Macro!E8803","v":{"$error":"#DIV/0!"}}]
[null,{"$f":"Macro!A8804","v":0},{"$f":"Macro!B8804","v":0},{"$f":"Macro!E8804","v":{"$error":"#DIV/0!"}}]
[null,{"$f":"Macro!A8805","v":0},{"$f":"Macro!B8805","v":0},{"$f":"Macro!E8805","v":{"$error":"#DIV/0!"}}]
[null,{"$f":"Macro!A8806","v":0},{"$f":"Macro!B8806","v":0},{"$f":"Macro!E8806","v":{"$error":"#DIV/0!"}}]
[null,{"$f":"Macro!A8807","v":0},{"$f":"Macro!B8807","v":0},{"$f":"Macro!E8807","v":{"$error":"#DIV/0!"}}]
[null,{"$f":"Macro!A8808","v":0},{"$f":"Macro!B8808","v":0},{"$f":"Macro!E8808","v":{"$error":"#DIV/0!"}}]
[null,{"$f":"Macro!A8809","v":0},{"$f":"Macro!B8809","v":0},{"$f":"Macro!E8809","v":{"$error":"#DIV/0!"}}]
[null,{"$f":"Macro!A8810","v":0},{"$f":"Macro!B8810","v":0},{"$f":"Macro!E8810","v":{"$error":"#DIV/0!"}}]
[null,{"$f":"Macro!A8811","v":0},{"$f":"Macro!B8811","v":0},{"$f":"Macro!E8811","v":{"$error":"#DIV/0!"}}]
[null,{"$f":"Macro!A8812","v":0},{"$f":"Macro!B8812","v":0},{"$f":"Macro!E8812","v":{"$error":"#DIV/0!"}}]
[null,{"$f":"Macro!A8813","v":0},{"$f":"Macro!B8813","v":0},{"$f":"Macro!E8813","v":{"$error":"#DIV/0!"}}]
[null,{"$f":"Macro!A8814","v":0},{"$f":"Macro!B8814","v":0},{"$f":"Macro!E8814","v":{"$error":"#DIV/0!"}}]
[null,{"$f":"Macro!A8815","v":0},{"$f":"Macro!B8815","v":0},{"$f":"Macro!E8815","v":{"$error":"#DIV/0!"}}]
[null,{"$f":"Macro!A8816","v":0},{"$f":"Macro!B8816","v":0},{"$f":"Macro!E8816","v":{"$error":"#DIV/0!"}}]
[null,{"$f":"Macro!A8817","v":0},{"$f":"Macro!B8817","v":0},{"$f":"Macro!E8817","v":{"$error":"#DIV/0!"}}]
[null,{"$f":"Macro!A8818","v":0},{"$f":"Macro!B8818","v":0},{"$f":"Macro!E8818","v":{"$error":"#DIV/0!"}}]
[null,{"$f":"Macro!A8819","v":0},{"$f":"Macro!B8819","v":0},{"$f":"Macro!E8819","v":{"$error":"#DIV/0!"}}]
[null,{"$f":"Macro!A8820","v":0},{"$f":"Macro!B8820","v":0},{"$f":"Macro!E8820","v":{"$error":"#DIV/0!"}}]
[null,{"$f":"Macro!A8821","v":0},{"$f":"Macro!B8821","v":0},{"$f":"Macro!E8821","v":{"$error":"#DIV/0!"}}]
[null,{"$f":"Macro!A8822","v":0},{"$f":"Macro!B8822","v":0},{"$f":"Macro!E8822","v":{"$error":"#DIV/0!"}}]
[null,{"$f":"Macro!A8823","v":0},{"$f":"Macro!B8823","v":0},{"$f":"Macro!E8823","v":{"$error":"#DIV/0!"}}]
[null,{"$f":"Macro!A8824","v":0},{"$f":"Macro!B8824","v":0},{"$f":"Macro!E8824","v":{"$error":"#DIV/0!"}}]
[null,{"$f":"Macro!A8825","v":0},{"$f":"Macro!B8825","v":0},{"$f":"Macro!E8825","v":{"$error":"#DIV/0!"}}]
[null,{"$f":"Macro!A8826","v":0},{"$f":"Macro!B8826","v":0},{"$f":"Macro!E8826","v":{"$error":"#DIV/0!"}}]
[null,{"$f":"Macro!A8827","v":0},{"$f":"Macro!B8827","v":0},{"$f":"Macro!E8827","v":{"$error":"#DIV/0!"}}]
[null,{"$f":"Macro!A8828","v":0},{"$f":"Macro!B8828","v":0},{"$f":"Macro!E8828","v":{"$error":"#DIV/0!"}}]
[null,{"$f":"Macro!A8829","v":0},{"$f":"Macro!B8829","v":0},{"$f":"Macro!E8829","v":{"$error":"#DIV/0!"}}]
[null,{"$f":"Macro!A8830","v":0},{"$f":"Macro!B8830","v":0},{"$f":"Macro!E8830","v":{"$error":"#DIV/0!"}}]
[null,{"$f":"Macro!A8831","v":0},{"$f":"Macro!B8831","v":0},{"$f":"Macro!E8831","v":{"$error":"#DIV/0!"}}]
[null,{"$f":"Macro!A8832","v":0},{"$f":"Macro!B8832","v":0},{"$f":"Macro!E8832","v":{"$error":"#DIV/0!"}}]
[null,{"$f":"Macro!A8833","v":0},{"$f":"Macro!B8833","v":0},{"$f":"Macro!E8833","v":{"$error":"#DIV/0!"}}]
[null,{"$f":"Macro!A8834","v":0},{"$f":"Macro!B8834","v":0},{"$f":"Macro!E8834","v":{"$error":"#DIV/0!"}}]
[null,{"$f":"Macro!A8835","v":0},{"$f":"Macro!B8835","v":0},{"$f":"Macro!E8835","v":{"$error":"#DIV/0!"}}]
[null,{"$f":"Macro!A8836","v":0},{"$f":"Macro!B8836","v":0},{"$f":"Macro!E8836","v":{"$error":"#DIV/0!"}}]
[null,{"$f":"Macro!A8837","v":0},{"$f":"Macro!B8837","v":0},{"$f":"Macro!E8837","v":{"$error":"#DIV/0!"}}]
[null,{"$f":"Macro!A8838","v":0},{"$f":"Macro!B8838","v":0},{"$f":"Macro!E8838","v":{"$error":"#DIV/0!"}}]
[null,{"$f":"Macro!A8839","v":0},{"$f":"Macro!B8839","v":0},{"$f":"Macro!E8839","v":{"$error":"#DIV/0!"}}]
[null,{"$f":"Macro!A8840","v":0},{"$f":"Macro!B8840","v":0},{"$f":"Macro!E8840","v":{"$error":"#DIV/0!"}}]
[null,{"$f":"Macro!A8841","v":0},{"$f":"Macro!B8841","v":0},{"$f":"Macro!E8841","v":{"$error":"#DIV/0!"}}]
[null,{"$f":"Macro!A8842","v":0},{"$f":"Macro!B8842","v":0},{"$f":"Macro!E8842","v":{"$error":"#DIV/0!"}}]
[null,{"$f":"Macro!A8843","v":0},{"$f":"Macro!B8843","v":0},{"$f":"Macro!E8843","v":{"$error":"#DIV/0!"}}]
[null,{"$f":"Macro!A8844","v":0},{"$f":"Macro!B8844","v":0},{"$f":"Macro!E8844","v":{"$error":"#DIV/0!"}}]
[null,{"$f":"Macro!A8845","v":0},{"$f":"Macro!B8845","v":0},{"$f":"Macro!E8845","v":{"$error":"#DIV/0!"}}]
[null,{"$f":"Macro!A8846","v":0},{"$f":"Macro!B8846","v":0},{"$f":"Macro!E8846","v":{"$error":"#DIV/0!"}}]
[null,{"$f":"Macro!A8847","v":0},{"$f":"Macro!B8847","v":0},{"$f":"Macro!E8847","v":{"$error":"#DIV/0!"}}]
[null,{"$f":"Macro!A8848","v":0},{"$f":"Macro!B8848","v":0},{"$f":"Macro!E8848","v":{"$error":"#DIV/0!"}}]
[null,{"$f":"Macro!A8849","v":0},{"$f":"Macro!B8849","v":0},{"$f":"Macro!E8849","v":{"$error":"#DIV/0!"}}]
[null,{"$f":"Macro!A8850","v":0},{"$f":"Macro!B8850","v":0},{"$f":"Macro!E8850","v":{"$error":"#DIV/0!"}}]
[null,{"$f":"Macro!A8851","v":0},{"$f":"Macro!B8851","v":0},{"$f":"Macro!E8851","v":{"$error":"#DIV/0!"}}]
[null,{"$f":"Macro!A8852","v":0},{"$f":"Macro!B8852","v":0},{"$f":"Macro!E8852","v":{"$error":"#DIV/0!"}}]
[null,{"$f":"Macro!A8853","v":0},{"$f":"Macro!B8853","v":0},{"$f":"Macro!E8853","v":{"$error":"#DIV/0!"}}]
[null,{"$f":"Macro!A8854","v":0},{"$f":"Macro!B8854","v":0},{"$f":"Macro!E8854","v":{"$error":"#DIV/0!"}}]
[null,{"$f":"Macro!A8855","v":0},{"$f":"Macro!B8855","v":0},{"$f":"Macro!E8855","v":{"$error":"#DIV/0!"}}]
[null,{"$f":"Macro!A8856","v":0},{"$f":"Macro!B8856","v":0},{"$f":"Macro!E8856","v":{"$error":"#DIV/0!"}}]
[null,{"$f":"Macro!A8857","v":0},{"$f":"Macro!B8857","v":0},{"$f":"Macro!E8857","v":{"$error":"#DIV/0!"}}]
[null,{"$f":"Macro!A8858","v":0},{"$f":"Macro!B8858","v":0},{"$f":"Macro!E8858","v":{"$error":"#DIV/0!"}}]
[null,{"$f":"Macro!A8859","v":0},{"$f":"Macro!B8859","v":0},{"$f":"Macro!E8859","v":{"$error":"#DIV/0!"}}]
[null,{"$f":"Macro!A8860","v":0},{"$f":"Macro!B8860","v":0},{"$f":"Macro!E8860","v":{"$error":"#DIV/0!"}}]
[null,{"$f":"Macro!A8861","v":0},{"$f":"Macro!B8861","v":0},{"$f":"Macro!E8861","v":{"$error":"#DIV/0!"}}]
[null,{"$f":"Macro!A8862","v":0},{"$f":"Macro!B8862","v":0},{"$f":"Macro!E8862","v":{"$error":"#DIV/0!"}}]
[null,{"$f":"Macro!A8863","v":0},{"$f":"Macro!B8863","v":0},{"$f":"Macro!E8863","v":{"$error":"#DIV/0!"}}]
[null,{"$f":"Macro!A8864","v":0},{"$f":"Macro!B8864","v":0},{"$f":"Macro!E8864","v":{"$error":"#DIV/0!"}}]
[null,{"$f":"Macro!A8865","v":0},{"$f":"Macro!B8865","v":0},{"$f":"Macro!E8865","v":{"$error":"#DIV/0!"}}]
[null,{"$f":"Macro!A8866","v":0},{"$f":"Macro!B8866","v":0},{"$f":"Macro!E8866","v":{"$error":"#DIV/0!"}}]
[null,{"$f":"Macro!A8867","v":0},{"$f":"Macro!B8867","v":0},{"$f":"Macro!E8867","v":{"$error":"#DIV/0!"}}]
[null,{"$f":"Macro!A8868","v":0},{"$f":"Macro!B8868","v":0},{"$f":"Macro!E8868","v":{"$error":"#DIV/0!"}}]
[null,{"$f":"Macro!A8869","v":0},{"$f":"Macro!B8869","v":0},{"$f":"Macro!E8869","v":{"$error":"#DIV/0!"}}]
[null,{"$f":"Macro!A8870","v":0},{"$f":"Macro!B8870","v":0},{"$f":"Macro!E8870","v":{"$error":"#DIV/0!"}}]
[null,{"$f":"Macro!A8871","v":0},{"$f":"Macro!B8871","v":0},{"$f":"Macro!E8871","v":{"$error":"#DIV/0!"}}]
[null,{"$f":"Macro!A8872","v":0},{"$f":"Macro!B8872","v":0},{"$f":"Macro!E8872","v":{"$error":"#DIV/0!"}}]
[null,{"$f":"Macro!A8873","v":0},{"$f":"Macro!B8873","v":0},{"$f":"Macro!E8873","v":{"$error":"#DIV/0!"}}]
[null,{"$f":"Macro!A8874","v":0},{"$f":"Macro!B8874","v":0},{"$f":"Macro!E8874","v":{"$error":"#DIV/0!"}}]
[null,{"$f":"Macro!A8875","v":0},{"$f":"Macro!B8875","v":0},{"$f":"Macro!E8875","v":{"$error":"#DIV/0!"}}]
[null,{"$f":"Macro!A8876","v":0},{"$f":"Macro!B8876","v":0},{"$f":"Macro!E8876","v":{"$error":"#DIV/0!"}}]
[null,{"$f":"Macro!A8877","v":0},{"$f":"Macro!B8877","v":0},{"$f":"Macro!E8877","v":{"$error":"#DIV/0!"}}]
[null,{"$f":"Macro!A8878","v":0},{"$f":"Macro!B8878","v":0},{"$f":"Macro!E8878","v":{"$error":"#DIV/0!"}}]
[null,{"$f":"Macro!A8879","v":0},{"$f":"Macro!B8879","v":0},{"$f":"Macro!E8879","v":{"$error":"#DIV/0!"}}]
[null,{"$f":"Macro!A8880","v":0},{"$f":"Macro!B8880","v":0},{"$f":"Macro!E8880","v":{"$error":"#DIV/0!"}}]
[null,{"$f":"Macro!A8881","v":0},{"$f":"Macro!B8881","v":0},{"$f":"Macro!E8881","v":{"$error":"#DIV/0!"}}]
[null,{"$f":"Macro!A8882","v":0},{"$f":"Macro!B8882","v":0},{"$f":"Macro!E8882","v":{"$error":"#DIV/0!"}}]
[null,{"$f":"Macro!A8883","v":0},{"$f":"Macro!B8883","v":0},{"$f":"Macro!E8883","v":{"$error":"#DIV/0!"}}]
[null,{"$f":"Macro!A8884","v":0},{"$f":"Macro!B8884","v":0},{"$f":"Macro!E8884","v":{"$error":"#DIV/0!"}}]
[null,{"$f":"Macro!A8885","v":0},{"$f":"Macro!B8885","v":0},{"$f":"Macro!E8885","v":{"$error":"#DIV/0!"}}]
[null,{"$f":"Macro!A8886","v":0},{"$f":"Macro!B8886","v":0},{"$f":"Macro!E8886","v":{"$error":"#DIV/0!"}}]
[null,{"$f":"Macro!A8887","v":0},{"$f":"Macro!B8887","v":0},{"$f":"Macro!E8887","v":{"$error":"#DIV/0!"}}]
[null,{"$f":"Macro!A8888","v":0},{"$f":"Macro!B8888","v":0},{"$f":"Macro!E8888","v":{"$error":"#DIV/0!"}}]
[null,{"$f":"Macro!A8889","v":0},{"$f":"Macro!B8889","v":0},{"$f":"Macro!E8889","v":{"$error":"#DIV/0!"}}]
[null,{"$f":"Macro!A8890","v":0},{"$f":"Macro!B8890","v":0},{"$f":"Macro!E8890","v":{"$error":"#DIV/0!"}}]
[null,{"$f":"Macro!A8891","v":0},{"$f":"Macro!B8891","v":0},{"$f":"Macro!E8891","v":{"$error":"#DIV/0!"}}]
[null,{"$f":"Macro!A8892","v":0},{"$f":"Macro!B8892","v":0},{"$f":"Macro!E8892","v":{"$error":"#DIV/0!"}}]
[null,{"$f":"Macro!A8893","v":0},{"$f":"Macro!B8893","v":0},{"$f":"Macro!E8893","v":{"$error":"#DIV/0!"}}]
[null,{"$f":"Macro!A8894","v":0},{"$f":"Macro!B8894","v":0},{"$f":"Macro!E8894","v":{"$error":"#DIV/0!"}}]
[null,{"$f":"Macro!A8895","v":0},{"$f":"Macro!B8895","v":0},{"$f":"Macro!E8895","v":{"$error":"#DIV/0!"}}]
[null,{"$f":"Macro!A8896","v":0},{"$f":"Macro!B8896","v":0},{"$f":"Macro!E8896","v":{"$error":"#DIV/0!"}}]
[null,{"$f":"Macro!A8897","v":0},{"$f":"Macro!B8897","v":0},{"$f":"Macro!E8897","v":{"$error":"#DIV/0!"}}]
[null,{"$f":"Macro!A8898","v":0},{"$f":"Macro!B8898","v":0},{"$f":"Macro!E8898","v":{"$error":"#DIV/0!"}}]
[null,{"$f":"Macro!A8899","v":0},{"$f":"Macro!B8899","v":0},{"$f":"Macro!E8899","v":{"$error":"#DIV/0!"}}]
[null,{"$f":"Macro!A8900","v":0},{"$f":"Macro!B8900","v":0},{"$f":"Macro!E8900","v":{"$error":"#DIV/0!"}}]
[null,{"$f":"Macro!A8901","v":0},{"$f":"Macro!B8901","v":0},{"$f":"Macro!E8901","v":{"$error":"#DIV/0!"}}]
[null,{"$f":"Macro!A8902","v":0},{"$f":"Macro!B8902","v":0},{"$f":"Macro!E8902","v":{"$error":"#DIV/0!"}}]
[null,{"$f":"Macro!A8903","v":0},{"$f":"Macro!B8903","v":0},{"$f":"Macro!E8903","v":{"$error":"#DIV/0!"}}]
[null,{"$f":"Macro!A8904","v":0},{"$f":"Macro!B8904","v":0},{"$f":"Macro!E8904","v":{"$error":"#DIV/0!"}}]
[null,{"$f":"Macro!A8905","v":0},{"$f":"Macro!B8905","v":0},{"$f":"Macro!E8905","v":{"$error":"#DIV/0!"}}]
[null,{"$f":"Macro!A8906","v":0},{"$f":"Macro!B8906","v":0},{"$f":"Macro!E8906","v":{"$error":"#DIV/0!"}}]
[null,{"$f":"Macro!A8907","v":0},{"$f":"Macro!B8907","v":0},{"$f":"Macro!E8907","v":{"$error":"#DIV/0!"}}]
[null,{"$f":"Macro!A8908","v":0},{"$f":"Macro!B8908","v":0},{"$f":"Macro!E8908","v":{"$error":"#DIV/0!"}}]
[null,{"$f":"Macro!A8909","v":0},{"$f":"Macro!B8909","v":0},{"$f":"Macro!E8909","v":{"$error":"#DIV/0!"}}]
[null,{"$f":"Macro!A8910","v":0},{"$f":"Macro!B8910","v":0},{"$f":"Macro!E8910","v":{"$error":"#DIV/0!"}}]
[null,{"$f":"Macro!A8911","v":0},{"$f":"Macro!B8911","v":0},{"$f":"Macro!E8911","v":{"$error":"#DIV/0!"}}]
[null,{"$f":"Macro!A8912","v":0},{"$f":"Macro!B8912","v":0},{"$f":"Macro!E8912","v":{"$error":"#DIV/0!"}}]
[null,{"$f":"Macro!A8913","v":0},{"$f":"Macro!B8913","v":0},{"$f":"Macro!E8913","v":{"$error":"#DIV/0!"}}]
[null,{"$f":"Macro!A8914","v":0},{"$f":"Macro!B8914","v":0},{"$f":"Macro!E8914","v":{"$error":"#DIV/0!"}}]
[null,{"$f":"Macro!A8915","v":0},{"$f":"Macro!B8915","v":0},{"$f":"Macro!E8915","v":{"$error":"#DIV/0!"}}]
[null,{"$f":"Macro!A8916","v":0},{"$f":"Macro!B8916","v":0},{"$f":"Macro!E8916","v":{"$error":"#DIV/0!"}}]
[null,{"$f":"Macro!A8917","v":0},{"$f":"Macro!B8917","v":0},{"$f":"Macro!E8917","v":{"$error":"#DIV/0!"}}]
[null,{"$f":"Macro!A8918","v":0},{"$f":"Macro!B8918","v":0},{"$f":"Macro!E8918","v":{"$error":"#DIV/0!"}}]
[null,{"$f":"Macro!A8919","v":0},{"$f":"Macro!B8919","v":0},{"$f":"Macro!E8919","v":{"$error":"#DIV/0!"}}]
[null,{"$f":"Macro!A8920","v":0},{"$f":"Macro!B8920","v":0},{"$f":"Macro!E8920","v":{"$error":"#DIV/0!"}}]
[null,{"$f":"Macro!A8921","v":0},{"$f":"Macro!B8921","v":0},{"$f":"Macro!E8921","v":{"$error":"#DIV/0!"}}]
[null,{"$f":"Macro!A8922","v":0},{"$f":"Macro!B8922","v":0},{"$f":"Macro!E8922","v":{"$error":"#DIV/0!"}}]
[null,{"$f":"Macro!A8923","v":0},{"$f":"Macro!B8923","v":0},{"$f":"Macro!E8923","v":{"$error":"#DIV/0!"}}]
[null,{"$f":"Macro!A8924","v":0},{"$f":"Macro!B8924","v":0},{"$f":"Macro!E8924","v":{"$error":"#DIV/0!"}}]
[null,{"$f":"Macro!A8925","v":0},{"$f":"Macro!B8925","v":0},{"$f":"Macro!E8925","v":{"$error":"#DIV/0!"}}]
[null,{"$f":"Macro!A8926","v":0},{"$f":"Macro!B8926","v":0},{"$f":"Macro!E8926","v":{"$error":"#DIV/0!"}}]
[null,{"$f":"Macro!A8927","v":0},{"$f":"Macro!B8927","v":0},{"$f":"Macro!E8927","v":{"$error":"#DIV/0!"}}]
[null,{"$f":"Macro!A8928","v":0},{"$f":"Macro!B8928","v":0},{"$f":"Macro!E8928","v":{"$error":"#DIV/0!"}}]
[null,{"$f":"Macro!A8929","v":0},{"$f":"Macro!B8929","v":0},{"$f":"Macro!E8929","v":{"$error":"#DIV/0!"}}]
[null,{"$f":"Macro!A8930","v":0},{"$f":"Macro!B8930","v":0},{"$f":"Macro!E8930","v":{"$error":"#DIV/0!"}}]
[null,{"$f":"Macro!A8931","v":0},{"$f":"Macro!B8931","v":0},{"$f":"Macro!E8931","v":{"$error":"#DIV/0!"}}]
[null,{"$f":"Macro!A8932","v":0},{"$f":"Macro!B8932","v":0},{"$f":"Macro!E8932","v":{"$error":"#DIV/0!"}}]
[null,{"$f":"Macro!A8933","v":0},{"$f":"Macro!B8933","v":0},{"$f":"Macro!E8933","v":{"$error":"#DIV/0!"}}]
[null,{"$f":"Macro!A8934","v":0},{"$f":"Macro!B8934","v":0},{"$f":"Macro!E8934","v":{"$error":"#DIV/0!"}}]
[null,{"$f":"Macro!A8935","v":0},{"$f":"Macro!B8935","v":0},{"$f":"Macro!E8935","v":{"$error":"#DIV/0!"}}]
[null,{"$f":"Macro!A8936","v":0},{"$f":"Macro!B8936","v":0},{"$f":"Macro!E8936","v":{"$error":"#DIV/0!"}}]
[null,{"$f":"Macro!A8937","v":0},{"$f":"Macro!B8937","v":0},{"$f":"Macro!E8937","v":{"$error":"#DIV/0!"}}]
[null,{"$f":"Macro!A8938","v":0},{"$f":"Macro!B8938","v":0},{"$f":"Macro!E8938","v":{"$error":"#DIV/0!"}}]
[null,{"$f":"Macro!A8939","v":0},{"$f":"Macro!B8939","v":0},{"$f":"Macro!E8939","v":{"$error":"#DIV/0!"}}]
[null,{"$f":"Macro!A8940","v":0},{"$f":"Macro!B8940","v":0},{"$f":"Macro!E8940","v":{"$error":"#DIV/0!"}}]
[null,{"$f":"Macro!A8941","v":0},{"$f":"Macro!B8941","v":0},{"$f":"Macro!E8941","v":{"$error":"#DIV/0!"}}]
[null,{"$f":"Macro!A8942","v":0},{"$f":"Macro!B8942","v":0},{"$f":"Macro!E8942","v":{"$error":"#DIV/0!"}}]
[null,{"$f":"Macro!A8943","v":0},{"$f":"Macro!B8943","v":0},{"$f":"Macro!E8943","v":{"$error":"#DIV/0!"}}]
[null,{"$f":"Macro!A8944","v":0},{"$f":"Macro!B8944","v":0},{"$f":"Macro!E8944","v":{"$error":"#DIV/0!"}}]
[null,{"$f":"Macro!A8945","v":0},{"$f":"Macro!B8945","v":0},{"$f":"Macro!E8945","v":{"$error":"#DIV/0!"}}]
[null,{"$f":"Macro!A8946","v":0},{"$f":"Macro!B8946","v":0},{"$f":"Macro!E8946","v":{"$error":"#DIV/0!"}}]
[null,{"$f":"Macro!A8947","v":0},{"$f":"Macro!B8947","v":0},{"$f":"Macro!E8947","v":{"$error":"#DIV/0!"}}]
[null,{"$f":"Macro!A8948","v":0},{"$f":"Macro!B8948","v":0},{"$f":"Macro!E8948","v":{"$error":"#DIV/0!"}}]
[null,{"$f":"Macro!A8949","v":0},{"$f":"Macro!B8949","v":0},{"$f":"Macro!E8949","v":{"$error":"#DIV/0!"}}]
[null,{"$f":"Macro!A8950","v":0},{"$f":"Macro!B8950","v":0},{"$f":"Macro!E8950","v":{"$error":"#DIV/0!"}}]
[null,{"$f":"Macro!A8951","v":0},{"$f":"Macro!B8951","v":0},{"$f":"Macro!E8951","v":{"$error":"#DIV/0!"}}]
[null,{"$f":"Macro!A8952","v":0},{"$f":"Macro!B8952","v":0},{"$f":"Macro!E8952","v":{"$error":"#DIV/0!"}}]
[null,{"$f":"Macro!A8953","v":0},{"$f":"Macro!B8953","v":0},{"$f":"Macro!E8953","v":{"$error":"#DIV/0!"}}]
[null,{"$f":"Macro!A8954","v":0},{"$f":"Macro!B8954","v":0},{"$f":"Macro!E8954","v":{"$error":"#DIV/0!"}}]
[null,{"$f":"Macro!A8955","v":0},{"$f":"Macro!B8955","v":0},{"$f":"Macro!E8955","v":{"$error":"#DIV/0!"}}]
[null,{"$f":"Macro!A8956","v":0},{"$f":"Macro!B8956","v":0},{"$f":"Macro!E8956","v":{"$error":"#DIV/0!"}}]
[null,{"$f":"Macro!A8957","v":0},{"$f":"Macro!B8957","v":0},{"$f":"Macro!E8957","v":{"$error":"#DIV/0!"}}]
[null,{"$f":"Macro!A8958","v":0},{"$f":"Macro!B8958","v":0},{"$f":"Macro!E8958","v":{"$error":"#DIV/0!"}}]
[null,{"$f":"Macro!A8959","v":0},{"$f":"Macro!B8959","v":0},{"$f":"Macro!E8959","v":{"$error":"#DIV/0!"}}]
[null,{"$f":"Macro!A8960","v":0},{"$f":"Macro!B8960","v":0},{"$f":"Macro!E8960","v":{"$error":"#DIV/0!"}}]
[null,{"$f":"Macro!A8961","v":0},{"$f":"Macro!B8961","v":0},{"$f":"Macro!E8961","v":{"$error":"#DIV/0!"}}]
[null,{"$f":"Macro!A8962","v":0},{"$f":"Macro!B8962","v":0},{"$f":"Macro!E8962","v":{"$error":"#DIV/0!"}}]
[null,{"$f":"Macro!A8963","v":0},{"$f":"Macro!B8963","v":0},{"$f":"Macro!E8963","v":{"$error":"#DIV/0!"}}]
[null,{"$f":"Macro!A8964","v":0},{"$f":"Macro!B8964","v":0},{"$f":"Macro!E8964","v":{"$error":"#DIV/0!"}}]
[null,{"$f":"Macro!A8965","v":0},{"$f":"Macro!B8965","v":0},{"$f":"Macro!E8965","v":{"$error":"#DIV/0!"}}]
[null,{"$f":"Macro!A8966","v":0},{"$f":"Macro!B8966","v":0},{"$f":"Macro!E8966","v":{"$error":"#DIV/0!"}}]
[null,{"$f":"Macro!A8967","v":0},{"$f":"Macro!B8967","v":0},{"$f":"Macro!E8967","v":{"$error":"#DIV/0!"}}]
[null,{"$f":"Macro!A8968","v":0},{"$f":"Macro!B8968","v":0},{"$f":"Macro!E8968","v":{"$error":"#DIV/0!"}}]
[null,{"$f":"Macro!A8969","v":0},{"$f":"Macro!B8969","v":0},{"$f":"Macro!E8969","v":{"$error":"#DIV/0!"}}]
[null,{"$f":"Macro!A8970","v":0},{"$f":"Macro!B8970","v":0},{"$f":"Macro!E8970","v":{"$error":"#DIV/0!"}}]
[null,{"$f":"Macro!A8971","v":0},{"$f":"Macro!B8971","v":0},{"$f":"Macro!E8971","v":{"$error":"#DIV/0!"}}]
[null,{"$f":"Macro!A8972","v":0},{"$f":"Macro!B8972","v":0},{"$f":"Macro!E8972","v":{"$error":"#DIV/0!"}}]
[null,{"$f":"Macro!A8973","v":0},{"$f":"Macro!B8973","v":0},{"$f":"Macro!E8973","v":{"$error":"#DIV/0!"}}]
[null,{"$f":"Macro!A8974","v":0},{"$f":"Macro!B8974","v":0},{"$f":"Macro!E8974","v":{"$error":"#DIV/0!"}}]
[null,{"$f":"Macro!A8975","v":0},{"$f":"Macro!B8975","v":0},{"$f":"Macro!E8975","v":{"$error":"#DIV/0!"}}]
[null,{"$f":"Macro!A8976","v":0},{"$f":"Macro!B8976","v":0},{"$f":"Macro!E8976","v":{"$error":"#DIV/0!"}}]
[null,{"$f":"Macro!A8977","v":0},{"$f":"Macro!B8977","v":0},{"$f":"Macro!E8977","v":{"$error":"#DIV/0!"}}]
[null,{"$f":"Macro!A8978","v":0},{"$f":"Macro!B8978","v":0},{"$f":"Macro!E8978","v":{"$error":"#DIV/0!"}}]
[null,{"$f":"Macro!A8979","v":0},{"$f":"Macro!B8979","v":0},{"$f":"Macro!E8979","v":{"$error":"#DIV/0!"}}]
[null,{"$f":"Macro!A8980","v":0},{"$f":"Macro!B8980","v":0},{"$f":"Macro!E8980","v":{"$error":"#DIV/0!"}}]
[null,{"$f":"Macro!A8981","v":0},{"$f":"Macro!B8981","v":0},{"$f":"Macro!E8981","v":{"$error":"#DIV/0!"}}]
[null,{"$f":"Macro!A8982","v":0},{"$f":"Macro!B8982","v":0},{"$f":"Macro!E8982","v":{"$error":"#DIV/0!"}}]
[null,{"$f":"Macro!A8983","v":0},{"$f":"Macro!B8983","v":0},{"$f":"Macro!E8983","v":{"$error":"#DIV/0!"}}]
[null,{"$f":"Macro!A8984","v":0},{"$f":"Macro!B8984","v":0},{"$f":"Macro!E8984","v":{"$error":"#DIV/0!"}}]
[null,{"$f":"Macro!A8985","v":0},{"$f":"Macro!B8985","v":0},{"$f":"Macro!E8985","v":{"$error":"#DIV/0!"}}]
[null,{"$f":"Macro!A8986","v":0},{"$f":"Macro!B8986","v":0},{"$f":"Macro!E8986","v":{"$error":"#DIV/0!"}}]
[null,{"$f":"Macro!A8987","v":0},{"$f":"Macro!B8987","v":0},{"$f":"Macro!E8987","v":{"$error":"#DIV/0!"}}]
[null,{"$f":"Macro!A8988","v":0},{"$f":"Macro!B8988","v":0},{"$f":"Macro!E8988","v":{"$error":"#DIV/0!"}}]
[null,{"$f":"Macro!A8989","v":0},{"$f":"Macro!B8989","v":0},{"$f":"Macro!E8989","v":{"$error":"#DIV/0!"}}]
[null,{"$f":"Macro!A8990","v":0},{"$f":"Macro!B8990","v":0},{"$f":"Macro!E8990","v":{"$error":"#DIV/0!"}}]
[null,{"$f":"Macro!A8991","v":0},{"$f":"Macro!B8991","v":0},{"$f":"Macro!E8991","v":{"$error":"#DIV/0!"}}]
[null,{"$f":"Macro!A8992","v":0},{"$f":"Macro!B8992","v":0},{"$f":"Macro!E8992","v":{"$error":"#DIV/0!"}}]
[null,{"$f":"Macro!A8993","v":0},{"$f":"Macro!B8993","v":0},{"$f":"Macro!E8993","v":{"$error":"#DIV/0!"}}]
[null,{"$f":"Macro!A8994","v":0},{"$f":"Macro!B8994","v":0},{"$f":"Macro!E8994","v":{"$error":"#DIV/0!"}}]
[null,{"$f":"Macro!A8995","v":0},{"$f":"Macro!B8995","v":0},{"$f":"Macro!E8995","v":{"$error":"#DIV/0!"}}]
[null,{"$f":"Macro!A8996","v":0},{"$f":"Macro!B8996","v":0},{"$f":"Macro!E8996","v":{"$error":"#DIV/0!"}}]
[null,{"$f":"Macro!A8997","v":0},{"$f":"Macro!B8997","v":0},{"$f":"Macro!E8997","v":{"$error":"#DIV/0!"}}]
[null,{"$f":"Macro!A8998","v":0},{"$f":"Macro!B8998","v":0},{"$f":"Macro!E8998","v":{"$error":"#DIV/0!"}}]
[null,{"$f":"Macro!A8999","v":0},{"$f":"Macro!B8999","v":0},{"$f":"Macro!E8999","v":{"$error":"#DIV/0!"}}]
[null,{"$f":"Macro!A9000","v":0},{"$f":"Macro!B9000","v":0},{"$f":"Macro!E9000","v":{"$error":"#DIV/0!"}}]
[null,{"$f":"Macro!A9001","v":0},{"$f":"Macro!B9001","v":0},{"$f":"Macro!E9001","v":{"$error":"#DIV/0!"}}]
[null,{"$f":"Macro!A9002","v":0},{"$f":"Macro!B9002","v":0},{"$f":"Macro!E9002","v":{"$error":"#DIV/0!"}}]
[null,{"$f":"Macro!A9003","v":0},{"$f":"Macro!B9003","v":0},{"$f":"Macro!E9003","v":{"$error":"#DIV/0!"}}]
[null,{"$f":"Macro!A9004","v":0},{"$f":"Macro!B9004","v":0},{"$f":"Macro!E9004","v":{"$error":"#DIV/0!"}}]
[null,{"$f":"Macro!A9005","v":0},{"$f":"Macro!B9005","v":0},{"$f":"Macro!E9005","v":{"$error":"#DIV/0!"}}]
[null,{"$f":"Macro!A9006","v":0},{"$f":"Macro!B9006","v":0},{"$f":"Macro!E9006","v":{"$error":"#DIV/0!"}}]
[null,{"$f":"Macro!A9007","v":0},{"$f":"Macro!B9007","v":0},{"$f":"Macro!E9007","v":{"$error":"#DIV/0!"}}]
[null,{"$f":"Macro!A9008","v":0},{"$f":"Macro!B9008","v":0},{"$f":"Macro!E9008","v":{"$error":"#DIV/0!"}}]
[null,{"$f":"Macro!A9009","v":0},{"$f":"Macro!B9009","v":0},{"$f":"Macro!E9009","v":{"$error":"#DIV/0!"}}]
[null,{"$f":"Macro!A9010","v":0},{"$f":"Macro!B9010","v":0},{"$f":"Macro!E9010","v":{"$error":"#DIV/0!"}}]
[null,{"$f":"Macro!A9011","v":0},{"$f":"Macro!B9011","v":0},{"$f":"Macro!E9011","v":{"$error":"#DIV/0!"}}]
[null,{"$f":"Macro!A9012","v":0},{"$f":"Macro!B9012","v":0},{"$f":"Macro!E9012","v":{"$error":"#DIV/0!"}}]
[null,{"$f":"Macro!A9013","v":0},{"$f":"Macro!B9013","v":0},{"$f":"Macro!E9013","v":{"$error":"#DIV/0!"}}]
[null,{"$f":"Macro!A9014","v":0},{"$f":"Macro!B9014","v":0},{"$f":"Macro!E9014","v":{"$error":"#DIV/0!"}}]
[null,{"$f":"Macro!A9015","v":0},{"$f":"Macro!B9015","v":0},{"$f":"Macro!E9015","v":{"$error":"#DIV/0!"}}]
[null,{"$f":"Macro!A9016","v":0},{"$f":"Macro!B9016","v":0},{"$f":"Macro!E9016","v":{"$error":"#DIV/0!"}}]
[null,{"$f":"Macro!A9017","v":0},{"$f":"Macro!B9017","v":0},{"$f":"Macro!E9017","v":{"$error":"#DIV/0!"}}]
[null,{"$f":"Macro!A9018","v":0},{"$f":"Macro!B9018","v":0},{"$f":"Macro!E9018","v":{"$error":"#DIV/0!"}}]
[null,{"$f":"Macro!A9019","v":0},{"$f":"Macro!B9019","v":0},{"$f":"Macro!E9019","v":{"$error":"#DIV/0!"}}]
[null,{"$f":"Macro!A9020","v":0},{"$f":"Macro!B9020","v":0},{"$f":"Macro!E9020","v":{"$error":"#DIV/0!"}}]
[null,{"$f":"Macro!A9021","v":0},{"$f":"Macro!B9021","v":0},{"$f":"Macro!E9021","v":{"$error":"#DIV/0!"}}]
[null,{"$f":"Macro!A9022","v":0},{"$f":"Macro!B9022","v":0},{"$f":"Macro!E9022","v":{"$error":"#DIV/0!"}}]
[null,{"$f":"Macro!A9023","v":0},{"$f":"Macro!B9023","v":0},{"$f":"Macro!E9023","v":{"$error":"#DIV/0!"}}]
[null,{"$f":"Macro!A9024","v":0},{"$f":"Macro!B9024","v":0},{"$f":"Macro!E9024","v":{"$error":"#DIV/0!"}}]
[null,{"$f":"Macro!A9025","v":0},{"$f":"Macro!B9025","v":0},{"$f":"Macro!E9025","v":{"$error":"#DIV/0!"}}]
[null,{"$f":"Macro!A9026","v":0},{"$f":"Macro!B9026","v":0},{"$f":"Macro!E9026","v":{"$error":"#DIV/0!"}}]
[null,{"$f":"Macro!A9027","v":0},{"$f":"Macro!B9027","v":0},{"$f":"Macro!E9027","v":{"$error":"#DIV/0!"}}]
[null,{"$f":"Macro!A9028","v":0},{"$f":"Macro!B9028","v":0},{"$f":"Macro!E9028","v":{"$error":"#DIV/0!"}}]
[null,{"$f":"Macro!A9029","v":0},{"$f":"Macro!B9029","v":0},{"$f":"Macro!E9029","v":{"$error":"#DIV/0!"}}]
[null,{"$f":"Macro!A9030","v":0},{"$f":"Macro!B9030","v":0},{"$f":"Macro!E9030","v":{"$error":"#DIV/0!"}}]
[null,{"$f":"Macro!A9031","v":0},{"$f":"Macro!B9031","v":0},{"$f":"Macro!E9031","v":{"$error":"#DIV/0!"}}]
[null,{"$f":"Macro!A9032","v":0},{"$f":"Macro!B9032","v":0},{"$f":"Macro!E9032","v":{"$error":"#DIV/0!"}}]
[null,{"$f":"Macro!A9033","v":0},{"$f":"Macro!B9033","v":0},{"$f":"Macro!E9033","v":{"$error":"#DIV/0!"}}]
[null,{"$f":"Macro!A9034","v":0},{"$f":"Macro!B9034","v":0},{"$f":"Macro!E9034","v":{"$error":"#DIV/0!"}}]
[null,{"$f":"Macro!A9035","v":0},{"$f":"Macro!B9035","v":0},{"$f":"Macro!E9035","v":{"$error":"#DIV/0!"}}]
[null,{"$f":"Macro!A9036","v":0},{"$f":"Macro!B9036","v":0},{"$f":"Macro!E9036","v":{"$error":"#DIV/0!"}}]
[null,{"$f":"Macro!A9037","v":0},{"$f":"Macro!B9037","v":0},{"$f":"Macro!E9037","v":{"$error":"#DIV/0!"}}]
[null,{"$f":"Macro!A9038","v":0},{"$f":"Macro!B9038","v":0},{"$f":"Macro!E9038","v":{"$error":"#DIV/0!"}}]
[null,{"$f":"Macro!A9039","v":0},{"$f":"Macro!B9039","v":0},{"$f":"Macro!E9039","v":{"$error":"#DIV/0!"}}]
[null,{"$f":"Macro!A9040","v":0},{"$f":"Macro!B9040","v":0},{"$f":"Macro!E9040","v":{"$error":"#DIV/0!"}}]
[null,{"$f":"Macro!A9041","v":0},{"$f":"Macro!B9041","v":0},{"$f":"Macro!E9041","v":{"$error":"#DIV/0!"}}]
[null,{"$f":"Macro!A9042","v":0},{"$f":"Macro!B9042","v":0},{"$f":"Macro!E9042","v":{"$error":"#DIV/0!"}}]
[null,{"$f":"Macro!A9043","v":0},{"$f":"Macro!B9043","v":0},{"$f":"Macro!E9043","v":{"$error":"#DIV/0!"}}]
[null,{"$f":"Macro!A9044","v":0},{"$f":"Macro!B9044","v":0},{"$f":"Macro!E9044","v":{"$error":"#DIV/0!"}}]
[null,{"$f":"Macro!A9045","v":0},{"$f":"Macro!B9045","v":0},{"$f":"Macro!E9045","v":{"$error":"#DIV/0!"}}]
[null,{"$f":"Macro!A9046","v":0},{"$f":"Macro!B9046","v":0},{"$f":"Macro!E9046","v":{"$error":"#DIV/0!"}}]
[null,{"$f":"Macro!A9047","v":0},{"$f":"Macro!B9047","v":0},{"$f":"Macro!E9047","v":{"$error":"#DIV/0!"}}]
[null,{"$f":"Macro!A9048","v":0},{"$f":"Macro!B9048","v":0},{"$f":"Macro!E9048","v":{"$error":"#DIV/0!"}}]
[null,{"$f":"Macro!A9049","v":0},{"$f":"Macro!B9049","v":0},{"$f":"Macro!E9049","v":{"$error":"#DIV/0!"}}]
[null,{"$f":"Macro!A9050","v":0},{"$f":"Macro!B9050","v":0},{"$f":"Macro!E9050","v":{"$error":"#DIV/0!"}}]
[null,{"$f":"Macro!A9051","v":0},{"$f":"Macro!B9051","v":0},{"$f":"Macro!E9051","v":{"$error":"#DIV/0!"}}]
[null,{"$f":"Macro!A9052","v":0},{"$f":"Macro!B9052","v":0},{"$f":"Macro!E9052","v":{"$error":"#DIV/0!"}}]
[null,{"$f":"Macro!A9053","v":0},{"$f":"Macro!B9053","v":0},{"$f":"Macro!E9053","v":{"$error":"#DIV/0!"}}]
[null,{"$f":"Macro!A9054","v":0},{"$f":"Macro!B9054","v":0},{"$f":"Macro!E9054","v":{"$error":"#DIV/0!"}}]
[null,{"$f":"Macro!A9055","v":0},{"$f":"Macro!B9055","v":0},{"$f":"Macro!E9055","v":{"$error":"#DIV/0!"}}]
[null,{"$f":"Macro!A9056","v":0},{"$f":"Macro!B9056","v":0},{"$f":"Macro!E9056","v":{"$error":"#DIV/0!"}}]
[null,{"$f":"Macro!A9057","v":0},{"$f":"Macro!B9057","v":0},{"$f":"Macro!E9057","v":{"$error":"#DIV/0!"}}]
[null,{"$f":"Macro!A9058","v":0},{"$f":"Macro!B9058","v":0},{"$f":"Macro!E9058","v":{"$error":"#DIV/0!"}}]
[null,{"$f":"Macro!A9059","v":0},{"$f":"Macro!B9059","v":0},{"$f":"Macro!E9059","v":{"$error":"#DIV/0!"}}]
[null,{"$f":"Macro!A9060","v":0},{"$f":"Macro!B9060","v":0},{"$f":"Macro!E9060","v":{"$error":"#DIV/0!"}}]
[null,{"$f":"Macro!A9061","v":0},{"$f":"Macro!B9061","v":0},{"$f":"Macro!E9061","v":{"$error":"#DIV/0!"}}]
[null,{"$f":"Macro!A9062","v":0},{"$f":"Macro!B9062","v":0},{"$f":"Macro!E9062","v":{"$error":"#DIV/0!"}}]
[null,{"$f":"Macro!A9063","v":0},{"$f":"Macro!B9063","v":0},{"$f":"Macro!E9063","v":{"$error":"#DIV/0!"}}]
[null,{"$f":"Macro!A9064","v":0},{"$f":"Macro!B9064","v":0},{"$f":"Macro!E9064","v":{"$error":"#DIV/0!"}}]
[null,{"$f":"Macro!A9065","v":0},{"$f":"Macro!B9065","v":0},{"$f":"Macro!E9065","v":{"$error":"#DIV/0!"}}]
[null,{"$f":"Macro!A9066","v":0},{"$f":"Macro!B9066","v":0},{"$f":"Macro!E9066","v":{"$error":"#DIV/0!"}}]
[null,{"$f":"Macro!A9067","v":0},{"$f":"Macro!B9067","v":0},{"$f":"Macro!E9067","v":{"$error":"#DIV/0!"}}]
[null,{"$f":"Macro!A9068","v":0},{"$f":"Macro!B9068","v":0},{"$f":"Macro!E9068","v":{"$error":"#DIV/0!"}}]
[null,{"$f":"Macro!A9069","v":0},{"$f":"Macro!B9069","v":0},{"$f":"Macro!E9069","v":{"$error":"#DIV/0!"}}]
[null,{"$f":"Macro!A9070","v":0},{"$f":"Macro!B9070","v":0},{"$f":"Macro!E9070","v":{"$error":"#DIV/0!"}}]
[null,{"$f":"Macro!A9071","v":0},{"$f":"Macro!B9071","v":0},{"$f":"Macro!E9071","v":{"$error":"#DIV/0!"}}]
[null,{"$f":"Macro!A9072","v":0},{"$f":"Macro!B9072","v":0},{"$f":"Macro!E9072","v":{"$error":"#DIV/0!"}}]
[null,{"$f":"Macro!A9073","v":0},{"$f":"Macro!B9073","v":0},{"$f":"Macro!E9073","v":{"$error":"#DIV/0!"}}]
[null,{"$f":"Macro!A9074","v":0},{"$f":"Macro!B9074","v":0},{"$f":"Macro!E9074","v":{"$error":"#DIV/0!"}}]
[null,{"$f":"Macro!A9075","v":0},{"$f":"Macro!B9075","v":0},{"$f":"Macro!E9075","v":{"$error":"#DIV/0!"}}]
[null,{"$f":"Macro!A9076","v":0},{"$f":"Macro!B9076","v":0},{"$f":"Macro!E9076","v":{"$error":"#DIV/0!"}}]
[null,{"$f":"Macro!A9077","v":0},{"$f":"Macro!B9077","v":0},{"$f":"Macro!E9077","v":{"$error":"#DIV/0!"}}]
[null,{"$f":"Macro!A9078","v":0},{"$f":"Macro!B9078","v":0},{"$f":"Macro!E9078","v":{"$error":"#DIV/0!"}}]
[null,{"$f":"Macro!A9079","v":0},{"$f":"Macro!B9079","v":0},{"$f":"Macro!E9079","v":{"$error":"#DIV/0!"}}]
[null,{"$f":"Macro!A9080","v":0},{"$f":"Macro!B9080","v":0},{"$f":"Macro!E9080","v":{"$error":"#DIV/0!"}}]
[null,{"$f":"Macro!A9081","v":0},{"$f":"Macro!B9081","v":0},{"$f":"Macro!E9081","v":{"$error":"#DIV/0!"}}]
[null,{"$f":"Macro!A9082","v":0},{"$f":"Macro!B9082","v":0},{"$f":"Macro!E9082","v":{"$error":"#DIV/0!"}}]
[null,{"$f":"Macro!A9083","v":0},{"$f":"Macro!B9083","v":0},{"$f":"Macro!E9083","v":{"$error":"#DIV/0!"}}]
[null,{"$f":"Macro!A9084","v":0},{"$f":"Macro!B9084","v":0},{"$f":"Macro!E9084","v":{"$error":"#DIV/0!"}}]
[null,{"$f":"Macro!A9085","v":0},{"$f":"Macro!B9085","v":0},{"$f":"Macro!E9085","v":{"$error":"#DIV/0!"}}]
[null,{"$f":"Macro!A9086","v":0},{"$f":"Macro!B9086","v":0},{"$f":"Macro!E9086","v":{"$error":"#DIV/0!"}}]
[null,{"$f":"Macro!A9087","v":0},{"$f":"Macro!B9087","v":0},{"$f":"Macro!E9087","v":{"$error":"#DIV/0!"}}]
[null,{"$f":"Macro!A9088","v":0},{"$f":"Macro!B9088","v":0},{"$f":"Macro!E9088","v":{"$error":"#DIV/0!"}}]
[null,{"$f":"Macro!A9089","v":0},{"$f":"Macro!B9089","v":0},{"$f":"Macro!E9089","v":{"$error":"#DIV/0!"}}]
[null,{"$f":"Macro!A9090","v":0},{"$f":"Macro!B9090","v":0},{"$f":"Macro!E9090","v":{"$error":"#DIV/0!"}}]
[null,{"$f":"Macro!A9091","v":0},{"$f":"Macro!B9091","v":0},{"$f":"Macro!E9091","v":{"$error":"#DIV/0!"}}]
[null,{"$f":"Macro!A9092","v":0},{"$f":"Macro!B9092","v":0},{"$f":"Macro!E9092","v":{"$error":"#DIV/0!"}}]
[null,{"$f":"Macro!A9093","v":0},{"$f":"Macro!B9093","v":0},{"$f":"Macro!E9093","v":{"$error":"#DIV/0!"}}]
[null,{"$f":"Macro!A9094","v":0},{"$f":"Macro!B9094","v":0},{"$f":"Macro!E9094","v":{"$error":"#DIV/0!"}}]
[null,{"$f":"Macro!A9095","v":0},{"$f":"Macro!B9095","v":0},{"$f":"Macro!E9095","v":{"$error":"#DIV/0!"}}]
[null,{"$f":"Macro!A9096","v":0},{"$f":"Macro!B9096","v":0},{"$f":"Macro!E9096","v":{"$error":"#DIV/0!"}}]
[null,{"$f":"Macro!A9097","v":0},{"$f":"Macro!B9097","v":0},{"$f":"Macro!E9097","v":{"$error":"#DIV/0!"}}]
[null,{"$f":"Macro!A9098","v":0},{"$f":"Macro!B9098","v":0},{"$f":"Macro!E9098","v":{"$error":"#DIV/0!"}}]
[null,{"$f":"Macro!A9099","v":0},{"$f":"Macro!B9099","v":0},{"$f":"Macro!E9099","v":{"$error":"#DIV/0!"}}]
[null,{"$f":"Macro!A9100","v":0},{"$f":"Macro!B9100","v":0},{"$f":"Macro!E9100","v":{"$error":"#DIV/0!"}}]
[null,{"$f":"Macro!A9101","v":0},{"$f":"Macro!B9101","v":0},{"$f":"Macro!E9101","v":{"$error":"#DIV/0!"}}]
[null,{"$f":"Macro!A9102","v":0},{"$f":"Macro!B9102","v":0},{"$f":"Macro!E9102","v":{"$error":"#DIV/0!"}}]
[null,{"$f":"Macro!A9103","v":0},{"$f":"Macro!B9103","v":0},{"$f":"Macro!E9103","v":{"$error":"#DIV/0!"}}]
[null,{"$f":"Macro!A9104","v":0},{"$f":"Macro!B9104","v":0},{"$f":"Macro!E9104","v":{"$error":"#DIV/0!"}}]
[null,{"$f":"Macro!A9105","v":0},{"$f":"Macro!B9105","v":0},{"$f":"Macro!E9105","v":{"$error":"#DIV/0!"}}]
[null,{"$f":"Macro!A9106","v":0},{"$f":"Macro!B9106","v":0},{"$f":"Macro!E9106","v":{"$error":"#DIV/0!"}}]
[null,{"$f":"Macro!A9107","v":0},{"$f":"Macro!B9107","v":0},{"$f":"Macro!E9107","v":{"$error":"#DIV/0!"}}]
[null,{"$f":"Macro!A9108","v":0},{"$f":"Macro!B9108","v":0},{"$f":"Macro!E9108","v":{"$error":"#DIV/0!"}}]
[null,{"$f":"Macro!A9109","v":0},{"$f":"Macro!B9109","v":0},{"$f":"Macro!E9109","v":{"$error":"#DIV/0!"}}]
[null,{"$f":"Macro!A9110","v":0},{"$f":"Macro!B9110","v":0},{"$f":"Macro!E9110","v":{"$error":"#DIV/0!"}}]
[null,{"$f":"Macro!A9111","v":0},{"$f":"Macro!B9111","v":0},{"$f":"Macro!E9111","v":{"$error":"#DIV/0!"}}]
[null,{"$f":"Macro!A9112","v":0},{"$f":"Macro!B9112","v":0},{"$f":"Macro!E9112","v":{"$error":"#DIV/0!"}}]
[null,{"$f":"Macro!A9113","v":0},{"$f":"Macro!B9113","v":0},{"$f":"Macro!E9113","v":{"$error":"#DIV/0!"}}]
[null,{"$f":"Macro!A9114","v":0},{"$f":"Macro!B9114","v":0},{"$f":"Macro!E9114","v":{"$error":"#DIV/0!"}}]
[null,{"$f":"Macro!A9115","v":0},{"$f":"Macro!B9115","v":0},{"$f":"Macro!E9115","v":{"$error":"#DIV/0!"}}]
[null,{"$f":"Macro!A9116","v":0},{"$f":"Macro!B9116","v":0},{"$f":"Macro!E9116","v":{"$error":"#DIV/0!"}}]
[null,{"$f":"Macro!A9117","v":0},{"$f":"Macro!B9117","v":0},{"$f":"Macro!E9117","v":{"$error":"#DIV/0!"}}]
[null,{"$f":"Macro!A9118","v":0},{"$f":"Macro!B9118","v":0},{"$f":"Macro!E9118","v":{"$error":"#DIV/0!"}}]
[null,{"$f":"Macro!A9119","v":0},{"$f":"Macro!B9119","v":0},{"$f":"Macro!E9119","v":{"$error":"#DIV/0!"}}]
[null,{"$f":"Macro!A9120","v":0},{"$f":"Macro!B9120","v":0},{"$f":"Macro!E9120","v":{"$error":"#DIV/0!"}}]
[null,{"$f":"Macro!A9121","v":0},{"$f":"Macro!B9121","v":0},{"$f":"Macro!E9121","v":{"$error":"#DIV/0!"}}]
[null,{"$f":"Macro!A9122","v":0},{"$f":"Macro!B9122","v":0},{"$f":"Macro!E9122","v":{"$error":"#DIV/0!"}}]
[null,{"$f":"Macro!A9123","v":0},{"$f":"Macro!B9123","v":0},{"$f":"Macro!E9123","v":{"$error":"#DIV/0!"}}]
[null,{"$f":"Macro!A9124","v":0},{"$f":"Macro!B9124","v":0},{"$f":"Macro!E9124","v":{"$error":"#DIV/0!"}}]
[null,{"$f":"Macro!A9125","v":0},{"$f":"Macro!B9125","v":0},{"$f":"Macro!E9125","v":{"$error":"#DIV/0!"}}]
[null,{"$f":"Macro!A9126","v":0},{"$f":"Macro!B9126","v":0},{"$f":"Macro!E9126","v":{"$error":"#DIV/0!"}}]
[null,{"$f":"Macro!A9127","v":0},{"$f":"Macro!B9127","v":0},{"$f":"Macro!E9127","v":{"$error":"#DIV/0!"}}]
[null,{"$f":"Macro!A9128","v":0},{"$f":"Macro!B9128","v":0},{"$f":"Macro!E9128","v":{"$error":"#DIV/0!"}}]
[null,{"$f":"Macro!A9129","v":0},{"$f":"Macro!B9129","v":0},{"$f":"Macro!E9129","v":{"$error":"#DIV/0!"}}]
[null,{"$f":"Macro!A9130","v":0},{"$f":"Macro!B9130","v":0},{"$f":"Macro!E9130","v":{"$error":"#DIV/0!"}}]
[null,{"$f":"Macro!A9131","v":0},{"$f":"Macro!B9131","v":0},{"$f":"Macro!E9131","v":{"$error":"#DIV/0!"}}]
[null,{"$f":"Macro!A9132","v":0},{"$f":"Macro!B9132","v":0},{"$f":"Macro!E9132","v":{"$error":"#DIV/0!"}}]
[null,{"$f":"Macro!A9133","v":0},{"$f":"Macro!B9133","v":0},{"$f":"Macro!E9133","v":{"$error":"#DIV/0!"}}]
[null,{"$f":"Macro!A9134","v":0},{"$f":"Macro!B9134","v":0},{"$f":"Macro!E9134","v":{"$error":"#DIV/0!"}}]
[null,{"$f":"Macro!A9135","v":0},{"$f":"Macro!B9135","v":0},{"$f":"Macro!E9135","v":{"$error":"#DIV/0!"}}]
[null,{"$f":"Macro!A9136","v":0},{"$f":"Macro!B9136","v":0},{"$f":"Macro!E9136","v":{"$error":"#DIV/0!"}}]
[null,{"$f":"Macro!A9137","v":0},{"$f":"Macro!B9137","v":0},{"$f":"Macro!E9137","v":{"$error":"#DIV/0!"}}]
[null,{"$f":"Macro!A9138","v":0},{"$f":"Macro!B9138","v":0},{"$f":"Macro!E9138","v":{"$error":"#DIV/0!"}}]
[null,{"$f":"Macro!A9139","v":0},{"$f":"Macro!B9139","v":0},{"$f":"Macro!E9139","v":{"$error":"#DIV/0!"}}]
[null,{"$f":"Macro!A9140","v":0},{"$f":"Macro!B9140","v":0},{"$f":"Macro!E9140","v":{"$error":"#DIV/0!"}}]
[null,{"$f":"Macro!A9141","v":0},{"$f":"Macro!B9141","v":0},{"$f":"Macro!E9141","v":{"$error":"#DIV/0!"}}]
[null,{"$f":"Macro!A9142","v":0},{"$f":"Macro!B9142","v":0},{"$f":"Macro!E9142","v":{"$error":"#DIV/0!"}}]
[null,{"$f":"Macro!A9143","v":0},{"$f":"Macro!B9143","v":0},{"$f":"Macro!E9143","v":{"$error":"#DIV/0!"}}]
[null,{"$f":"Macro!A9144","v":0},{"$f":"Macro!B9144","v":0},{"$f":"Macro!E9144","v":{"$error":"#DIV/0!"}}]
[null,{"$f":"Macro!A9145","v":0},{"$f":"Macro!B9145","v":0},{"$f":"Macro!E9145","v":{"$error":"#DIV/0!"}}]
[null,{"$f":"Macro!A9146","v":0},{"$f":"Macro!B9146","v":0},{"$f":"Macro!E9146","v":{"$error":"#DIV/0!"}}]
[null,{"$f":"Macro!A9147","v":0},{"$f":"Macro!B9147","v":0},{"$f":"Macro!E9147","v":{"$error":"#DIV/0!"}}]
[null,{"$f":"Macro!A9148","v":0},{"$f":"Macro!B9148","v":0},{"$f":"Macro!E9148","v":{"$error":"#DIV/0!"}}]
[null,{"$f":"Macro!A9149","v":0},{"$f":"Macro!B9149","v":0},{"$f":"Macro!E9149","v":{"$error":"#DIV/0!"}}]
[null,{"$f":"Macro!A9150","v":0},{"$f":"Macro!B9150","v":0},{"$f":"Macro!E9150","v":{"$error":"#DIV/0!"}}]
[null,{"$f":"Macro!A9151","v":0},{"$f":"Macro!B9151","v":0},{"$f":"Macro!E9151","v":{"$error":"#DIV/0!"}}]
[null,{"$f":"Macro!A9152","v":0},{"$f":"Macro!B9152","v":0},{"$f":"Macro!E9152","v":{"$error":"#DIV/0!"}}]
[null,{"$f":"Macro!A9153","v":0},{"$f":"Macro!B9153","v":0},{"$f":"Macro!E9153","v":{"$error":"#DIV/0!"}}]
[null,{"$f":"Macro!A9154","v":0},{"$f":"Macro!B9154","v":0},{"$f":"Macro!E9154","v":{"$error":"#DIV/0!"}}]
[null,{"$f":"Macro!A9155","v":0},{"$f":"Macro!B9155","v":0},{"$f":"Macro!E9155","v":{"$error":"#DIV/0!"}}]
[null,{"$f":"Macro!A9156","v":0},{"$f":"Macro!B9156","v":0},{"$f":"Macro!E9156","v":{"$error":"#DIV/0!"}}]
[null,{"$f":"Macro!A9157","v":0},{"$f":"Macro!B9157","v":0},{"$f":"Macro!E9157","v":{"$error":"#DIV/0!"}}]
[null,{"$f":"Macro!A9158","v":0},{"$f":"Macro!B9158","v":0},{"$f":"Macro!E9158","v":{"$error":"#DIV/0!"}}]
[null,{"$f":"Macro!A9159","v":0},{"$f":"Macro!B9159","v":0},{"$f":"Macro!E9159","v":{"$error":"#DIV/0!"}}]
[null,{"$f":"Macro!A9160","v":0},{"$f":"Macro!B9160","v":0},{"$f":"Macro!E9160","v":{"$error":"#DIV/0!"}}]
[null,{"$f":"Macro!A9161","v":0},{"$f":"Macro!B9161","v":0},{"$f":"Macro!E9161","v":{"$error":"#DIV/0!"}}]
[null,{"$f":"Macro!A9162","v":0},{"$f":"Macro!B9162","v":0},{"$f":"Macro!E9162","v":{"$error":"#DIV/0!"}}]
[null,{"$f":"Macro!A9163","v":0},{"$f":"Macro!B9163","v":0},{"$f":"Macro!E9163","v":{"$error":"#DIV/0!"}}]
[null,{"$f":"Macro!A9164","v":0},{"$f":"Macro!B9164","v":0},{"$f":"Macro!E9164","v":{"$error":"#DIV/0!"}}]
[null,{"$f":"Macro!A9165","v":0},{"$f":"Macro!B9165","v":0},{"$f":"Macro!E9165","v":{"$error":"#DIV/0!"}}]
[null,{"$f":"Macro!A9166","v":0},{"$f":"Macro!B9166","v":0},{"$f":"Macro!E9166","v":{"$error":"#DIV/0!"}}]
[null,{"$f":"Macro!A9167","v":0},{"$f":"Macro!B9167","v":0},{"$f":"Macro!E9167","v":{"$error":"#DIV/0!"}}]
[null,{"$f":"Macro!A9168","v":0},{"$f":"Macro!B9168","v":0},{"$f":"Macro!E9168","v":{"$error":"#DIV/0!"}}]
[null,{"$f":"Macro!A9169","v":0},{"$f":"Macro!B9169","v":0},{"$f":"Macro!E9169","v":{"$error":"#DIV/0!"}}]
[null,{"$f":"Macro!A9170","v":0},{"$f":"Macro!B9170","v":0},{"$f":"Macro!E9170","v":{"$error":"#DIV/0!"}}]
[null,{"$f":"Macro!A9171","v":0},{"$f":"Macro!B9171","v":0},{"$f":"Macro!E9171","v":{"$error":"#DIV/0!"}}]
[null,{"$f":"Macro!A9172","v":0},{"$f":"Macro!B9172","v":0},{"$f":"Macro!E9172","v":{"$error":"#DIV/0!"}}]
[null,{"$f":"Macro!A9173","v":0},{"$f":"Macro!B9173","v":0},{"$f":"Macro!E9173","v":{"$error":"#DIV/0!"}}]
[null,{"$f":"Macro!A9174","v":0},{"$f":"Macro!B9174","v":0},{"$f":"Macro!E9174","v":{"$error":"#DIV/0!"}}]
[null,{"$f":"Macro!A9175","v":0},{"$f":"Macro!B9175","v":0},{"$f":"Macro!E9175","v":{"$error":"#DIV/0!"}}]
[null,{"$f":"Macro!A9176","v":0},{"$f":"Macro!B9176","v":0},{"$f":"Macro!E9176","v":{"$error":"#DIV/0!"}}]
[null,{"$f":"Macro!A9177","v":0},{"$f":"Macro!B9177","v":0},{"$f":"Macro!E9177","v":{"$error":"#DIV/0!"}}]
[null,{"$f":"Macro!A9178","v":0},{"$f":"Macro!B9178","v":0},{"$f":"Macro!E9178","v":{"$error":"#DIV/0!"}}]
[null,{"$f":"Macro!A9179","v":0},{"$f":"Macro!B9179","v":0},{"$f":"Macro!E9179","v":{"$error":"#DIV/0!"}}]
[null,{"$f":"Macro!A9180","v":0},{"$f":"Macro!B9180","v":0},{"$f":"Macro!E9180","v":{"$error":"#DIV/0!"}}]
[null,{"$f":"Macro!A9181","v":0},{"$f":"Macro!B9181","v":0},{"$f":"Macro!E9181","v":{"$error":"#DIV/0!"}}]
[null,{"$f":"Macro!A9182","v":0},{"$f":"Macro!B9182","v":0},{"$f":"Macro!E9182","v":{"$error":"#DIV/0!"}}]
[null,{"$f":"Macro!A9183","v":0},{"$f":"Macro!B9183","v":0},{"$f":"Macro!E9183","v":{"$error":"#DIV/0!"}}]
[null,{"$f":"Macro!A9184","v":0},{"$f":"Macro!B9184","v":0},{"$f":"Macro!E9184","v":{"$error":"#DIV/0!"}}]
[null,{"$f":"Macro!A9185","v":0},{"$f":"Macro!B9185","v":0},{"$f":"Macro!E9185","v":{"$error":"#DIV/0!"}}]
[null,{"$f":"Macro!A9186","v":0},{"$f":"Macro!B9186","v":0},{"$f":"Macro!E9186","v":{"$error":"#DIV/0!"}}]
[null,{"$f":"Macro!A9187","v":0},{"$f":"Macro!B9187","v":0},{"$f":"Macro!E9187","v":{"$error":"#DIV/0!"}}]
[null,{"$f":"Macro!A9188","v":0},{"$f":"Macro!B9188","v":0},{"$f":"Macro!E9188","v":{"$error":"#DIV/0!"}}]
[null,{"$f":"Macro!A9189","v":0},{"$f":"Macro!B9189","v":0},{"$f":"Macro!E9189","v":{"$error":"#DIV/0!"}}]
[null,{"$f":"Macro!A9190","v":0},{"$f":"Macro!B9190","v":0},{"$f":"Macro!E9190","v":{"$error":"#DIV/0!"}}]
[null,{"$f":"Macro!A9191","v":0},{"$f":"Macro!B9191","v":0},{"$f":"Macro!E9191","v":{"$error":"#DIV/0!"}}]
[null,{"$f":"Macro!A9192","v":0},{"$f":"Macro!B9192","v":0},{"$f":"Macro!E9192","v":{"$error":"#DIV/0!"}}]
[null,{"$f":"Macro!A9193","v":0},{"$f":"Macro!B9193","v":0},{"$f":"Macro!E9193","v":{"$error":"#DIV/0!"}}]
[null,{"$f":"Macro!A9194","v":0},{"$f":"Macro!B9194","v":0},{"$f":"Macro!E9194","v":{"$error":"#DIV/0!"}}]
[null,{"$f":"Macro!A9195","v":0},{"$f":"Macro!B9195","v":0},{"$f":"Macro!E9195","v":{"$error":"#DIV/0!"}}]
[null,{"$f":"Macro!A9196","v":0},{"$f":"Macro!B9196","v":0},{"$f":"Macro!E9196","v":{"$error":"#DIV/0!"}}]
[null,{"$f":"Macro!A9197","v":0},{"$f":"Macro!B9197","v":0},{"$f":"Macro!E9197","v":{"$error":"#DIV/0!"}}]
[null,{"$f":"Macro!A9198","v":0},{"$f":"Macro!B9198","v":0},{"$f":"Macro!E9198","v":{"$error":"#DIV/0!"}}]
[null,{"$f":"Macro!A9199","v":0},{"$f":"Macro!B9199","v":0},{"$f":"Macro!E9199","v":{"$error":"#DIV/0!"}}]
[null,{"$f":"Macro!A9200","v":0},{"$f":"Macro!B9200","v":0},{"$f":"Macro!E9200","v":{"$error":"#DIV/0!"}}]
[null,{"$f":"Macro!A9201","v":0},{"$f":"Macro!B9201","v":0},{"$f":"Macro!E9201","v":{"$error":"#DIV/0!"}}]
[null,{"$f":"Macro!A9202","v":0},{"$f":"Macro!B9202","v":0},{"$f":"Macro!E9202","v":{"$error":"#DIV/0!"}}]
[null,{"$f":"Macro!A9203","v":0},{"$f":"Macro!B9203","v":0},{"$f":"Macro!E9203","v":{"$error":"#DIV/0!"}}]
[null,{"$f":"Macro!A9204","v":0},{"$f":"Macro!B9204","v":0},{"$f":"Macro!E9204","v":{"$error":"#DIV/0!"}}]
[null,{"$f":"Macro!A9205","v":0},{"$f":"Macro!B9205","v":0},{"$f":"Macro!E9205","v":{"$error":"#DIV/0!"}}]
[null,{"$f":"Macro!A9206","v":0},{"$f":"Macro!B9206","v":0},{"$f":"Macro!E9206","v":{"$error":"#DIV/0!"}}]
[null,{"$f":"Macro!A9207","v":0},{"$f":"Macro!B9207","v":0},{"$f":"Macro!E9207","v":{"$error":"#DIV/0!"}}]
[null,{"$f":"Macro!A9208","v":0},{"$f":"Macro!B9208","v":0},{"$f":"Macro!E9208","v":{"$error":"#DIV/0!"}}]
[null,{"$f":"Macro!A9209","v":0},{"$f":"Macro!B9209","v":0},{"$f":"Macro!E9209","v":{"$error":"#DIV/0!"}}]
[null,{"$f":"Macro!A9210","v":0},{"$f":"Macro!B9210","v":0},{"$f":"Macro!E9210","v":{"$error":"#DIV/0!"}}]
[null,{"$f":"Macro!A9211","v":0},{"$f":"Macro!B9211","v":0},{"$f":"Macro!E9211","v":{"$error":"#DIV/0!"}}]
[null,{"$f":"Macro!A9212","v":0},{"$f":"Macro!B9212","v":0},{"$f":"Macro!E9212","v":{"$error":"#DIV/0!"}}]
[null,{"$f":"Macro!A9213","v":0},{"$f":"Macro!B9213","v":0},{"$f":"Macro!E9213","v":{"$error":"#DIV/0!"}}]
[null,{"$f":"Macro!A9214","v":0},{"$f":"Macro!B9214","v":0},{"$f":"Macro!E9214","v":{"$error":"#DIV/0!"}}]
[null,{"$f":"Macro!A9215","v":0},{"$f":"Macro!B9215","v":0},{"$f":"Macro!E9215","v":{"$error":"#DIV/0!"}}]
[null,{"$f":"Macro!A9216","v":0},{"$f":"Macro!B9216","v":0},{"$f":"Macro!E9216","v":{"$error":"#DIV/0!"}}]
[null,{"$f":"Macro!A9217","v":0},{"$f":"Macro!B9217","v":0},{"$f":"Macro!E9217","v":{"$error":"#DIV/0!"}}]
[null,{"$f":"Macro!A9218","v":0},{"$f":"Macro!B9218","v":0},{"$f":"Macro!E9218","v":{"$error":"#DIV/0!"}}]
[null,{"$f":"Macro!A9219","v":0},{"$f":"Macro!B9219","v":0},{"$f":"Macro!E9219","v":{"$error":"#DIV/0!"}}]
[null,{"$f":"Macro!A9220","v":0},{"$f":"Macro!B9220","v":0},{"$f":"Macro!E9220","v":{"$error":"#DIV/0!"}}]
[null,{"$f":"Macro!A9221","v":0},{"$f":"Macro!B9221","v":0},{"$f":"Macro!E9221","v":{"$error":"#DIV/0!"}}]
[null,{"$f":"Macro!A9222","v":0},{"$f":"Macro!B9222","v":0},{"$f":"Macro!E9222","v":{"$error":"#DIV/0!"}}]
[null,{"$f":"Macro!A9223","v":0},{"$f":"Macro!B9223","v":0},{"$f":"Macro!E9223","v":{"$error":"#DIV/0!"}}]
[null,{"$f":"Macro!A9224","v":0},{"$f":"Macro!B9224","v":0},{"$f":"Macro!E9224","v":{"$error":"#DIV/0!"}}]
[null,{"$f":"Macro!A9225","v":0},{"$f":"Macro!B9225","v":0},{"$f":"Macro!E9225","v":{"$error":"#DIV/0!"}}]
[null,{"$f":"Macro!A9226","v":0},{"$f":"Macro!B9226","v":0},{"$f":"Macro!E9226","v":{"$error":"#DIV/0!"}}]
[null,{"$f":"Macro!A9227","v":0},{"$f":"Macro!B9227","v":0},{"$f":"Macro!E9227","v":{"$error":"#DIV/0!"}}]
[null,{"$f":"Macro!A9228","v":0},{"$f":"Macro!B9228","v":0},{"$f":"Macro!E9228","v":{"$error":"#DIV/0!"}}]
[null,{"$f":"Macro!A9229","v":0},{"$f":"Macro!B9229","v":0},{"$f":"Macro!E9229","v":{"$error":"#DIV/0!"}}]
[null,{"$f":"Macro!A9230","v":0},{"$f":"Macro!B9230","v":0},{"$f":"Macro!E9230","v":{"$error":"#DIV/0!"}}]
[null,{"$f":"Macro!A9231","v":0},{"$f":"Macro!B9231","v":0},{"$f":"Macro!E9231","v":{"$error":"#DIV/0!"}}]
[null,{"$f":"Macro!A9232","v":0},{"$f":"Macro!B9232","v":0},{"$f":"Macro!E9232","v":{"$error":"#DIV/0!"}}]
[null,{"$f":"Macro!A9233","v":0},{"$f":"Macro!B9233","v":0},{"$f":"Macro!E9233","v":{"$error":"#DIV/0!"}}]
[null,{"$f":"Macro!A9234","v":0},{"$f":"Macro!B9234","v":0},{"$f":"Macro!E9234","v":{"$error":"#DIV/0!"}}]
[null,{"$f":"Macro!A9235","v":0},{"$f":"Macro!B9235","v":0},{"$f":"Macro!E9235","v":{"$error":"#DIV/0!"}}]
[null,{"$f":"Macro!A9236","v":0},{"$f":"Macro!B9236","v":0},{"$f":"Macro!E9236","v":{"$error":"#DIV/0!"}}]
[null,{"$f":"Macro!A9237","v":0},{"$f":"Macro!B9237","v":0},{"$f":"Macro!E9237","v":{"$error":"#DIV/0!"}}]
[null,{"$f":"Macro!A9238","v":0},{"$f":"Macro!B9238","v":0},{"$f":"Macro!E9238","v":{"$error":"#DIV/0!"}}]
[null,{"$f":"Macro!A9239","v":0},{"$f":"Macro!B9239","v":0},{"$f":"Macro!E9239","v":{"$error":"#DIV/0!"}}]
[null,{"$f":"Macro!A9240","v":0},{"$f":"Macro!B9240","v":0},{"$f":"Macro!E9240","v":{"$error":"#DIV/0!"}}]
[null,{"$f":"Macro!A9241","v":0},{"$f":"Macro!B9241","v":0},{"$f":"Macro!E9241","v":{"$error":"#DIV/0!"}}]
[null,{"$f":"Macro!A9242","v":0},{"$f":"Macro!B9242","v":0},{"$f":"Macro!E9242","v":{"$error":"#DIV/0!"}}]
[null,{"$f":"Macro!A9243","v":0},{"$f":"Macro!B9243","v":0},{"$f":"Macro!E9243","v":{"$error":"#DIV/0!"}}]
[null,{"$f":"Macro!A9244","v":0},{"$f":"Macro!B9244","v":0},{"$f":"Macro!E9244","v":{"$error":"#DIV/0!"}}]
[null,{"$f":"Macro!A9245","v":0},{"$f":"Macro!B9245","v":0},{"$f":"Macro!E9245","v":{"$error":"#DIV/0!"}}]
[null,{"$f":"Macro!A9246","v":0},{"$f":"Macro!B9246","v":0},{"$f":"Macro!E9246","v":{"$error":"#DIV/0!"}}]
[null,{"$f":"Macro!A9247","v":0},{"$f":"Macro!B9247","v":0},{"$f":"Macro!E9247","v":{"$error":"#DIV/0!"}}]
[null,{"$f":"Macro!A9248","v":0},{"$f":"Macro!B9248","v":0},{"$f":"Macro!E9248","v":{"$error":"#DIV/0!"}}]
[null,{"$f":"Macro!A9249","v":0},{"$f":"Macro!B9249","v":0},{"$f":"Macro!E9249","v":{"$error":"#DIV/0!"}}]
[null,{"$f":"Macro!A9250","v":0},{"$f":"Macro!B9250","v":0},{"$f":"Macro!E9250","v":{"$error":"#DIV/0!"}}]
[null,{"$f":"Macro!A9251","v":0},{"$f":"Macro!B9251","v":0},{"$f":"Macro!E9251","v":{"$error":"#DIV/0!"}}]
[null,{"$f":"Macro!A9252","v":0},{"$f":"Macro!B9252","v":0},{"$f":"Macro!E9252","v":{"$error":"#DIV/0!"}}]
[null,{"$f":"Macro!A9253","v":0},{"$f":"Macro!B9253","v":0},{"$f":"Macro!E9253","v":{"$error":"#DIV/0!"}}]
[null,{"$f":"Macro!A9254","v":0},{"$f":"Macro!B9254","v":0},{"$f":"Macro!E9254","v":{"$error":"#DIV/0!"}}]
[null,{"$f":"Macro!A9255","v":0},{"$f":"Macro!B9255","v":0},{"$f":"Macro!E9255","v":{"$error":"#DIV/0!"}}]
[null,{"$f":"Macro!A9256","v":0},{"$f":"Macro!B9256","v":0},{"$f":"Macro!E9256","v":{"$error":"#DIV/0!"}}]
[null,{"$f":"Macro!A9257","v":0},{"$f":"Macro!B9257","v":0},{"$f":"Macro!E9257","v":{"$error":"#DIV/0!"}}]
[null,{"$f":"Macro!A9258","v":0},{"$f":"Macro!B9258","v":0},{"$f":"Macro!E9258","v":{"$error":"#DIV/0!"}}]
[null,{"$f":"Macro!A9259","v":0},{"$f":"Macro!B9259","v":0},{"$f":"Macro!E9259","v":{"$error":"#DIV/0!"}}]
[null,{"$f":"Macro!A9260","v":0},{"$f":"Macro!B9260","v":0},{"$f":"Macro!E9260","v":{"$error":"#DIV/0!"}}]
[null,{"$f":"Macro!A9261","v":0},{"$f":"Macro!B9261","v":0},{"$f":"Macro!E9261","v":{"$error":"#DIV/0!"}}]
[null,{"$f":"Macro!A9262","v":0},{"$f":"Macro!B9262","v":0},{"$f":"Macro!E9262","v":{"$error":"#DIV/0!"}}]
[null,{"$f":"Macro!A9263","v":0},{"$f":"Macro!B9263","v":0},{"$f":"Macro!E9263","v":{"$error":"#DIV/0!"}}]
[null,{"$f":"Macro!A9264","v":0},{"$f":"Macro!B9264","v":0},{"$f":"Macro!E9264","v":{"$error":"#DIV/0!"}}]
[null,{"$f":"Macro!A9265","v":0},{"$f":"Macro!B9265","v":0},{"$f":"Macro!E9265","v":{"$error":"#DIV/0!"}}]
[null,{"$f":"Macro!A9266","v":0},{"$f":"Macro!B9266","v":0},{"$f":"Macro!E9266","v":{"$error":"#DIV/0!"}}]
[null,{"$f":"Macro!A9267","v":0},{"$f":"Macro!B9267","v":0},{"$f":"Macro!E9267","v":{"$error":"#DIV/0!"}}]
[null,{"$f":"Macro!A9268","v":0},{"$f":"Macro!B9268","v":0},{"$f":"Macro!E9268","v":{"$error":"#DIV/0!"}}]
[null,{"$f":"Macro!A9269","v":0},{"$f":"Macro!B9269","v":0},{"$f":"Macro!E9269","v":{"$error":"#DIV/0!"}}]
[null,{"$f":"Macro!A9270","v":0},{"$f":"Macro!B9270","v":0},{"$f":"Macro!E9270","v":{"$error":"#DIV/0!"}}]
[null,{"$f":"Macro!A9271","v":0},{"$f":"Macro!B9271","v":0},{"$f":"Macro!E9271","v":{"$error":"#DIV/0!"}}]
[null,{"$f":"Macro!A9272","v":0},{"$f":"Macro!B9272","v":0},{"$f":"Macro!E9272","v":{"$error":"#DIV/0!"}}]
[null,{"$f":"Macro!A9273","v":0},{"$f":"Macro!B9273","v":0},{"$f":"Macro!E9273","v":{"$error":"#DIV/0!"}}]
[null,{"$f":"Macro!A9274","v":0},{"$f":"Macro!B9274","v":0},{"$f":"Macro!E9274","v":{"$error":"#DIV/0!"}}]
[null,{"$f":"Macro!A9275","v":0},{"$f":"Macro!B9275","v":0},{"$f":"Macro!E9275","v":{"$error":"#DIV/0!"}}]
[null,{"$f":"Macro!A9276","v":0},{"$f":"Macro!B9276","v":0},{"$f":"Macro!E9276","v":{"$error":"#DIV/0!"}}]
[null,{"$f":"Macro!A9277","v":0},{"$f":"Macro!B9277","v":0},{"$f":"Macro!E9277","v":{"$error":"#DIV/0!"}}]
[null,{"$f":"Macro!A9278","v":0},{"$f":"Macro!B9278","v":0},{"$f":"Macro!E9278","v":{"$error":"#DIV/0!"}}]
[null,{"$f":"Macro!A9279","v":0},{"$f":"Macro!B9279","v":0},{"$f":"Macro!E9279","v":{"$error":"#DIV/0!"}}]
[null,{"$f":"Macro!A9280","v":0},{"$f":"Macro!B9280","v":0},{"$f":"Macro!E9280","v":{"$error":"#DIV/0!"}}]
[null,{"$f":"Macro!A9281","v":0},{"$f":"Macro!B9281","v":0},{"$f":"Macro!E9281","v":{"$error":"#DIV/0!"}}]
[null,{"$f":"Macro!A9282","v":0},{"$f":"Macro!B9282","v":0},{"$f":"Macro!E9282","v":{"$error":"#DIV/0!"}}]
[null,{"$f":"Macro!A9283","v":0},{"$f":"Macro!B9283","v":0},{"$f":"Macro!E9283","v":{"$error":"#DIV/0!"}}]
[null,{"$f":"Macro!A9284","v":0},{"$f":"Macro!B9284","v":0},{"$f":"Macro!E9284","v":{"$error":"#DIV/0!"}}]
[null,{"$f":"Macro!A9285","v":0},{"$f":"Macro!B9285","v":0},{"$f":"Macro!E9285","v":{"$error":"#DIV/0!"}}]
[null,{"$f":"Macro!A9286","v":0},{"$f":"Macro!B9286","v":0},{"$f":"Macro!E9286","v":{"$error":"#DIV/0!"}}]
[null,{"$f":"Macro!A9287","v":0},{"$f":"Macro!B9287","v":0},{"$f":"Macro!E9287","v":{"$error":"#DIV/0!"}}]
[null,{"$f":"Macro!A9288","v":0},{"$f":"Macro!B9288","v":0},{"$f":"Macro!E9288","v":{"$error":"#DIV/0!"}}]
[null,{"$f":"Macro!A9289","v":0},{"$f":"Macro!B9289","v":0},{"$f":"Macro!E9289","v":{"$error":"#DIV/0!"}}]
[null,{"$f":"Macro!A9290","v":0},{"$f":"Macro!B9290","v":0},{"$f":"Macro!E9290","v":{"$error":"#DIV/0!"}}]
[null,{"$f":"Macro!A9291","v":0},{"$f":"Macro!B9291","v":0},{"$f":"Macro!E9291","v":{"$error":"#DIV/0!"}}]
[null,{"$f":"Macro!A9292","v":0},{"$f":"Macro!B9292","v":0},{"$f":"Macro!E9292","v":{"$error":"#DIV/0!"}}]
[null,{"$f":"Macro!A9293","v":0},{"$f":"Macro!B9293","v":0},{"$f":"Macro!E9293","v":{"$error":"#DIV/0!"}}]
[null,{"$f":"Macro!A9294","v":0},{"$f":"Macro!B9294","v":0},{"$f":"Macro!E9294","v":{"$error":"#DIV/0!"}}]
[null,{"$f":"Macro!A9295","v":0},{"$f":"Macro!B9295","v":0},{"$f":"Macro!E9295","v":{"$error":"#DIV/0!"}}]
[null,{"$f":"Macro!A9296","v":0},{"$f":"Macro!B9296","v":0},{"$f":"Macro!E9296","v":{"$error":"#DIV/0!"}}]
[null,{"$f":"Macro!A9297","v":0},{"$f":"Macro!B9297","v":0},{"$f":"Macro!E9297","v":{"$error":"#DIV/0!"}}]
[null,{"$f":"Macro!A9298","v":0},{"$f":"Macro!B9298","v":0},{"$f":"Macro!E9298","v":{"$error":"#DIV/0!"}}]
[null,{"$f":"Macro!A9299","v":0},{"$f":"Macro!B9299","v":0},{"$f":"Macro!E9299","v":{"$error":"#DIV/0!"}}]
[null,{"$f":"Macro!A9300","v":0},{"$f":"Macro!B9300","v":0},{"$f":"Macro!E9300","v":{"$error":"#DIV/0!"}}]
[null,{"$f":"Macro!A9301","v":0},{"$f":"Macro!B9301","v":0},{"$f":"Macro!E9301","v":{"$error":"#DIV/0!"}}]
[null,{"$f":"Macro!A9302","v":0},{"$f":"Macro!B9302","v":0},{"$f":"Macro!E9302","v":{"$error":"#DIV/0!"}}]
[null,{"$f":"Macro!A9303","v":0},{"$f":"Macro!B9303","v":0},{"$f":"Macro!E9303","v":{"$error":"#DIV/0!"}}]
[null,{"$f":"Macro!A9304","v":0},{"$f":"Macro!B9304","v":0},{"$f":"Macro!E9304","v":{"$error":"#DIV/0!"}}]
[null,{"$f":"Macro!A9305","v":0},{"$f":"Macro!B9305","v":0},{"$f":"Macro!E9305","v":{"$error":"#DIV/0!"}}]
[null,{"$f":"Macro!A9306","v":0},{"$f":"Macro!B9306","v":0},{"$f":"Macro!E9306","v":{"$error":"#DIV/0!"}}]
[null,{"$f":"Macro!A9307","v":0},{"$f":"Macro!B9307","v":0},{"$f":"Macro!E9307","v":{"$error":"#DIV/0!"}}]
[null,{"$f":"Macro!A9308","v":0},{"$f":"Macro!B9308","v":0},{"$f":"Macro!E9308","v":{"$error":"#DIV/0!"}}]
[null,{"$f":"Macro!A9309","v":0},{"$f":"Macro!B9309","v":0},{"$f":"Macro!E9309","v":{"$error":"#DIV/0!"}}]
[null,{"$f":"Macro!A9310","v":0},{"$f":"Macro!B9310","v":0},{"$f":"Macro!E9310","v":{"$error":"#DIV/0!"}}]
[null,{"$f":"Macro!A9311","v":0},{"$f":"Macro!B9311","v":0},{"$f":"Macro!E9311","v":{"$error":"#DIV/0!"}}]
[null,{"$f":"Macro!A9312","v":0},{"$f":"Macro!B9312","v":0},{"$f":"Macro!E9312","v":{"$error":"#DIV/0!"}}]
[null,{"$f":"Macro!A9313","v":0},{"$f":"Macro!B9313","v":0},{"$f":"Macro!E9313","v":{"$error":"#DIV/0!"}}]
[null,{"$f":"Macro!A9314","v":0},{"$f":"Macro!B9314","v":0},{"$f":"Macro!E9314","v":{"$error":"#DIV/0!"}}]
[null,{"$f":"Macro!A9315","v":0},{"$f":"Macro!B9315","v":0},{"$f":"Macro!E9315","v":{"$error":"#DIV/0!"}}]
[null,{"$f":"Macro!A9316","v":0},{"$f":"Macro!B9316","v":0},{"$f":"Macro!E9316","v":{"$error":"#DIV/0!"}}]
[null,{"$f":"Macro!A9317","v":0},{"$f":"Macro!B9317","v":0},{"$f":"Macro!E9317","v":{"$error":"#DIV/0!"}}]
[null,{"$f":"Macro!A9318","v":0},{"$f":"Macro!B9318","v":0},{"$f":"Macro!E9318","v":{"$error":"#DIV/0!"}}]
[null,{"$f":"Macro!A9319","v":0},{"$f":"Macro!B9319","v":0},{"$f":"Macro!E9319","v":{"$error":"#DIV/0!"}}]
[null,{"$f":"Macro!A9320","v":0},{"$f":"Macro!B9320","v":0},{"$f":"Macro!E9320","v":{"$error":"#DIV/0!"}}]
[null,{"$f":"Macro!A9321","v":0},{"$f":"Macro!B9321","v":0},{"$f":"Macro!E9321","v":{"$error":"#DIV/0!"}}]
[null,{"$f":"Macro!A9322","v":0},{"$f":"Macro!B9322","v":0},{"$f":"Macro!E9322","v":{"$error":"#DIV/0!"}}]
[null,{"$f":"Macro!A9323","v":0},{"$f":"Macro!B9323","v":0},{"$f":"Macro!E9323","v":{"$error":"#DIV/0!"}}]
[null,{"$f":"Macro!A9324","v":0},{"$f":"Macro!B9324","v":0},{"$f":"Macro!E9324","v":{"$error":"#DIV/0!"}}]
[null,{"$f":"Macro!A9325","v":0},{"$f":"Macro!B9325","v":0},{"$f":"Macro!E9325","v":{"$error":"#DIV/0!"}}]
[null,{"$f":"Macro!A9326","v":0},{"$f":"Macro!B9326","v":0},{"$f":"Macro!E9326","v":{"$error":"#DIV/0!"}}]
[null,{"$f":"Macro!A9327","v":0},{"$f":"Macro!B9327","v":0},{"$f":"Macro!E9327","v":{"$error":"#DIV/0!"}}]
[null,{"$f":"Macro!A9328","v":0},{"$f":"Macro!B9328","v":0},{"$f":"Macro!E9328","v":{"$error":"#DIV/0!"}}]
[null,{"$f":"Macro!A9329","v":0},{"$f":"Macro!B9329","v":0},{"$f":"Macro!E9329","v":{"$error":"#DIV/0!"}}]
[null,{"$f":"Macro!A9330","v":0},{"$f":"Macro!B9330","v":0},{"$f":"Macro!E9330","v":{"$error":"#DIV/0!"}}]
[null,{"$f":"Macro!A9331","v":0},{"$f":"Macro!B9331","v":0},{"$f":"Macro!E9331","v":{"$error":"#DIV/0!"}}]
[null,{"$f":"Macro!A9332","v":0},{"$f":"Macro!B9332","v":0},{"$f":"Macro!E9332","v":{"$error":"#DIV/0!"}}]
[null,{"$f":"Macro!A9333","v":0},{"$f":"Macro!B9333","v":0},{"$f":"Macro!E9333","v":{"$error":"#DIV/0!"}}]
[null,{"$f":"Macro!A9334","v":0},{"$f":"Macro!B9334","v":0},{"$f":"Macro!E9334","v":{"$error":"#DIV/0!"}}]
[null,{"$f":"Macro!A9335","v":0},{"$f":"Macro!B9335","v":0},{"$f":"Macro!E9335","v":{"$error":"#DIV/0!"}}]
[null,{"$f":"Macro!A9336","v":0},{"$f":"Macro!B9336","v":0},{"$f":"Macro!E9336","v":{"$error":"#DIV/0!"}}]
[null,{"$f":"Macro!A9337","v":0},{"$f":"Macro!B9337","v":0},{"$f":"Macro!E9337","v":{"$error":"#DIV/0!"}}]
[null,{"$f":"Macro!A9338","v":0},{"$f":"Macro!B9338","v":0},{"$f":"Macro!E9338","v":{"$error":"#DIV/0!"}}]
[null,{"$f":"Macro!A9339","v":0},{"$f":"Macro!B9339","v":0},{"$f":"Macro!E9339","v":{"$error":"#DIV/0!"}}]
[null,{"$f":"Macro!A9340","v":0},{"$f":"Macro!B9340","v":0},{"$f":"Macro!E9340","v":{"$error":"#DIV/0!"}}]
[null,{"$f":"Macro!A9341","v":0},{"$f":"Macro!B9341","v":0},{"$f":"Macro!E9341","v":{"$error":"#DIV/0!"}}]
[null,{"$f":"Macro!A9342","v":0},{"$f":"Macro!B9342","v":0},{"$f":"Macro!E9342","v":{"$error":"#DIV/0!"}}]
[null,{"$f":"Macro!A9343","v":0},{"$f":"Macro!B9343","v":0},{"$f":"Macro!E9343","v":{"$error":"#DIV/0!"}}]
[null,{"$f":"Macro!A9344","v":0},{"$f":"Macro!B9344","v":0},{"$f":"Macro!E9344","v":{"$error":"#DIV/0!"}}]
[null,{"$f":"Macro!A9345","v":0},{"$f":"Macro!B9345","v":0},{"$f":"Macro!E9345","v":{"$error":"#DIV/0!"}}]
[null,{"$f":"Macro!A9346","v":0},{"$f":"Macro!B9346","v":0},{"$f":"Macro!E9346","v":{"$error":"#DIV/0!"}}]
[null,{"$f":"Macro!A9347","v":0},{"$f":"Macro!B9347","v":0},{"$f":"Macro!E9347","v":{"$error":"#DIV/0!"}}]
[null,{"$f":"Macro!A9348","v":0},{"$f":"Macro!B9348","v":0},{"$f":"Macro!E9348","v":{"$error":"#DIV/0!"}}]
[null,{"$f":"Macro!A9349","v":0},{"$f":"Macro!B9349","v":0},{"$f":"Macro!E9349","v":{"$error":"#DIV/0!"}}]
[null,{"$f":"Macro!A9350","v":0},{"$f":"Macro!B9350","v":0},{"$f":"Macro!E9350","v":{"$error":"#DIV/0!"}}]
[null,{"$f":"Macro!A9351","v":0},{"$f":"Macro!B9351","v":0},{"$f":"Macro!E9351","v":{"$error":"#DIV/0!"}}]
[null,{"$f":"Macro!A9352","v":0},{"$f":"Macro!B9352","v":0},{"$f":"Macro!E9352","v":{"$error":"#DIV/0!"}}]
[null,{"$f":"Macro!A9353","v":0},{"$f":"Macro!B9353","v":0},{"$f":"Macro!E9353","v":{"$error":"#DIV/0!"}}]
[null,{"$f":"Macro!A9354","v":0},{"$f":"Macro!B9354","v":0},{"$f":"Macro!E9354","v":{"$error":"#DIV/0!"}}]
[null,{"$f":"Macro!A9355","v":0},{"$f":"Macro!B9355","v":0},{"$f":"Macro!E9355","v":{"$error":"#DIV/0!"}}]
[null,{"$f":"Macro!A9356","v":0},{"$f":"Macro!B9356","v":0},{"$f":"Macro!E9356","v":{"$error":"#DIV/0!"}}]
[null,{"$f":"Macro!A9357","v":0},{"$f":"Macro!B9357","v":0},{"$f":"Macro!E9357","v":{"$error":"#DIV/0!"}}]
[null,{"$f":"Macro!A9358","v":0},{"$f":"Macro!B9358","v":0},{"$f":"Macro!E9358","v":{"$error":"#DIV/0!"}}]
[null,{"$f":"Macro!A9359","v":0},{"$f":"Macro!B9359","v":0},{"$f":"Macro!E9359","v":{"$error":"#DIV/0!"}}]
[null,{"$f":"Macro!A9360","v":0},{"$f":"Macro!B9360","v":0},{"$f":"Macro!E9360","v":{"$error":"#DIV/0!"}}]
[null,{"$f":"Macro!A9361","v":0},{"$f":"Macro!B9361","v":0},{"$f":"Macro!E9361","v":{"$error":"#DIV/0!"}}]
[null,{"$f":"Macro!A9362","v":0},{"$f":"Macro!B9362","v":0},{"$f":"Macro!E9362","v":{"$error":"#DIV/0!"}}]
[null,{"$f":"Macro!A9363","v":0},{"$f":"Macro!B9363","v":0},{"$f":"Macro!E9363","v":{"$error":"#DIV/0!"}}]
[null,{"$f":"Macro!A9364","v":0},{"$f":"Macro!B9364","v":0},{"$f":"Macro!E9364","v":{"$error":"#DIV/0!"}}]
[null,{"$f":"Macro!A9365","v":0},{"$f":"Macro!B9365","v":0},{"$f":"Macro!E9365","v":{"$error":"#DIV/0!"}}]
[null,{"$f":"Macro!A9366","v":0},{"$f":"Macro!B9366","v":0},{"$f":"Macro!E9366","v":{"$error":"#DIV/0!"}}]
[null,{"$f":"Macro!A9367","v":0},{"$f":"Macro!B9367","v":0},{"$f":"Macro!E9367","v":{"$error":"#DIV/0!"}}]
[null,{"$f":"Macro!A9368","v":0},{"$f":"Macro!B9368","v":0},{"$f":"Macro!E9368","v":{"$error":"#DIV/0!"}}]
[null,{"$f":"Macro!A9369","v":0},{"$f":"Macro!B9369","v":0},{"$f":"Macro!E9369","v":{"$error":"#DIV/0!"}}]
[null,{"$f":"Macro!A9370","v":0},{"$f":"Macro!B9370","v":0},{"$f":"Macro!E9370","v":{"$error":"#DIV/0!"}}]
[null,{"$f":"Macro!A9371","v":0},{"$f":"Macro!B9371","v":0},{"$f":"Macro!E9371","v":{"$error":"#DIV/0!"}}]
[null,{"$f":"Macro!A9372","v":0},{"$f":"Macro!B9372","v":0},{"$f":"Macro!E9372","v":{"$error":"#DIV/0!"}}]
[null,{"$f":"Macro!A9373","v":0},{"$f":"Macro!B9373","v":0},{"$f":"Macro!E9373","v":{"$error":"#DIV/0!"}}]
[null,{"$f":"Macro!A9374","v":0},{"$f":"Macro!B9374","v":0},{"$f":"Macro!E9374","v":{"$error":"#DIV/0!"}}]
[null,{"$f":"Macro!A9375","v":0},{"$f":"Macro!B9375","v":0},{"$f":"Macro!E9375","v":{"$error":"#DIV/0!"}}]
[null,{"$f":"Macro!A9376","v":0},{"$f":"Macro!B9376","v":0},{"$f":"Macro!E9376","v":{"$error":"#DIV/0!"}}]
[null,{"$f":"Macro!A9377","v":0},{"$f":"Macro!B9377","v":0},{"$f":"Macro!E9377","v":{"$error":"#DIV/0!"}}]
[null,{"$f":"Macro!A9378","v":0},{"$f":"Macro!B9378","v":0},{"$f":"Macro!E9378","v":{"$error":"#DIV/0!"}}]
[null,{"$f":"Macro!A9379","v":0},{"$f":"Macro!B9379","v":0},{"$f":"Macro!E9379","v":{"$error":"#DIV/0!"}}]
[null,{"$f":"Macro!A9380","v":0},{"$f":"Macro!B9380","v":0},{"$f":"Macro!E9380","v":{"$error":"#DIV/0!"}}]
[null,{"$f":"Macro!A9381","v":0},{"$f":"Macro!B9381","v":0},{"$f":"Macro!E9381","v":{"$error":"#DIV/0!"}}]
[null,{"$f":"Macro!A9382","v":0},{"$f":"Macro!B9382","v":0},{"$f":"Macro!E9382","v":{"$error":"#DIV/0!"}}]
[null,{"$f":"Macro!A9383","v":0},{"$f":"Macro!B9383","v":0},{"$f":"Macro!E9383","v":{"$error":"#DIV/0!"}}]
[null,{"$f":"Macro!A9384","v":0},{"$f":"Macro!B9384","v":0},{"$f":"Macro!E9384","v":{"$error":"#DIV/0!"}}]
[null,{"$f":"Macro!A9385","v":0},{"$f":"Macro!B9385","v":0},{"$f":"Macro!E9385","v":{"$error":"#DIV/0!"}}]
[null,{"$f":"Macro!A9386","v":0},{"$f":"Macro!B9386","v":0},{"$f":"Macro!E9386","v":{"$error":"#DIV/0!"}}]
[null,{"$f":"Macro!A9387","v":0},{"$f":"Macro!B9387","v":0},{"$f":"Macro!E9387","v":{"$error":"#DIV/0!"}}]
[null,{"$f":"Macro!A9388","v":0},{"$f":"Macro!B9388","v":0},{"$f":"Macro!E9388","v":{"$error":"#DIV/0!"}}]
[null,{"$f":"Macro!A9389","v":0},{"$f":"Macro!B9389","v":0},{"$f":"Macro!E9389","v":{"$error":"#DIV/0!"}}]
[null,{"$f":"Macro!A9390","v":0},{"$f":"Macro!B9390","v":0},{"$f":"Macro!E9390","v":{"$error":"#DIV/0!"}}]
[null,{"$f":"Macro!A9391","v":0},{"$f":"Macro!B9391","v":0},{"$f":"Macro!E9391","v":{"$error":"#DIV/0!"}}]
[null,{"$f":"Macro!A9392","v":0},{"$f":"Macro!B9392","v":0},{"$f":"Macro!E9392","v":{"$error":"#DIV/0!"}}]
[null,{"$f":"Macro!A9393","v":0},{"$f":"Macro!B9393","v":0},{"$f":"Macro!E9393","v":{"$error":"#DIV/0!"}}]
[null,{"$f":"Macro!A9394","v":0},{"$f":"Macro!B9394","v":0},{"$f":"Macro!E9394","v":{"$error":"#DIV/0!"}}]
[null,{"$f":"Macro!A9395","v":0},{"$f":"Macro!B9395","v":0},{"$f":"Macro!E9395","v":{"$error":"#DIV/0!"}}]
[null,{"$f":"Macro!A9396","v":0},{"$f":"Macro!B9396","v":0},{"$f":"Macro!E9396","v":{"$error":"#DIV/0!"}}]
[null,{"$f":"Macro!A9397","v":0},{"$f":"Macro!B9397","v":0},{"$f":"Macro!E9397","v":{"$error":"#DIV/0!"}}]
[null,{"$f":"Macro!A9398","v":0},{"$f":"Macro!B9398","v":0},{"$f":"Macro!E9398","v":{"$error":"#DIV/0!"}}]
[null,{"$f":"Macro!A9399","v":0},{"$f":"Macro!B9399","v":0},{"$f":"Macro!E9399","v":{"$error":"#DIV/0!"}}]
[null,{"$f":"Macro!A9400","v":0},{"$f":"Macro!B9400","v":0},{"$f":"Macro!E9400","v":{"$error":"#DIV/0!"}}]
[null,{"$f":"Macro!A9401","v":0},{"$f":"Macro!B9401","v":0},{"$f":"Macro!E9401","v":{"$error":"#DIV/0!"}}]
[null,{"$f":"Macro!A9402","v":0},{"$f":"Macro!B9402","v":0},{"$f":"Macro!E9402","v":{"$error":"#DIV/0!"}}]
[null,{"$f":"Macro!A9403","v":0},{"$f":"Macro!B9403","v":0},{"$f":"Macro!E9403","v":{"$error":"#DIV/0!"}}]
[null,{"$f":"Macro!A9404","v":0},{"$f":"Macro!B9404","v":0},{"$f":"Macro!E9404","v":{"$error":"#DIV/0!"}}]
[null,{"$f":"Macro!A9405","v":0},{"$f":"Macro!B9405","v":0},{"$f":"Macro!E9405","v":{"$error":"#DIV/0!"}}]
[null,{"$f":"Macro!A9406","v":0},{"$f":"Macro!B9406","v":0},{"$f":"Macro!E9406","v":{"$error":"#DIV/0!"}}]
[null,{"$f":"Macro!A9407","v":0},{"$f":"Macro!B9407","v":0},{"$f":"Macro!E9407","v":{"$error":"#DIV/0!"}}]
[null,{"$f":"Macro!A9408","v":0},{"$f":"Macro!B9408","v":0},{"$f":"Macro!E9408","v":{"$error":"#DIV/0!"}}]
[null,{"$f":"Macro!A9409","v":0},{"$f":"Macro!B9409","v":0},{"$f":"Macro!E9409","v":{"$error":"#DIV/0!"}}]
[null,{"$f":"Macro!A9410","v":0},{"$f":"Macro!B9410","v":0},{"$f":"Macro!E9410","v":{"$error":"#DIV/0!"}}]
[null,{"$f":"Macro!A9411","v":0},{"$f":"Macro!B9411","v":0},{"$f":"Macro!E9411","v":{"$error":"#DIV/0!"}}]
[null,{"$f":"Macro!A9412","v":0},{"$f":"Macro!B9412","v":0},{"$f":"Macro!E9412","v":{"$error":"#DIV/0!"}}]
[null,{"$f":"Macro!A9413","v":0},{"$f":"Macro!B9413","v":0},{"$f":"Macro!E9413","v":{"$error":"#DIV/0!"}}]
[null,{"$f":"Macro!A9414","v":0},{"$f":"Macro!B9414","v":0},{"$f":"Macro!E9414","v":{"$error":"#DIV/0!"}}]
[null,{"$f":"Macro!A9415","v":0},{"$f":"Macro!B9415","v":0},{"$f":"Macro!E9415","v":{"$error":"#DIV/0!"}}]
[null,{"$f":"Macro!A9416","v":0},{"$f":"Macro!B9416","v":0},{"$f":"Macro!E9416","v":{"$error":"#DIV/0!"}}]
[null,{"$f":"Macro!A9417","v":0},{"$f":"Macro!B9417","v":0},{"$f":"Macro!E9417","v":{"$error":"#DIV/0!"}}]
[null,{"$f":"Macro!A9418","v":0},{"$f":"Macro!B9418","v":0},{"$f":"Macro!E9418","v":{"$error":"#DIV/0!"}}]
[null,{"$f":"Macro!A9419","v":0},{"$f":"Macro!B9419","v":0},{"$f":"Macro!E9419","v":{"$error":"#DIV/0!"}}]
[null,{"$f":"Macro!A9420","v":0},{"$f":"Macro!B9420","v":0},{"$f":"Macro!E9420","v":{"$error":"#DIV/0!"}}]
[null,{"$f":"Macro!A9421","v":0},{"$f":"Macro!B9421","v":0},{"$f":"Macro!E9421","v":{"$error":"#DIV/0!"}}]
[null,{"$f":"Macro!A9422","v":0},{"$f":"Macro!B9422","v":0},{"$f":"Macro!E9422","v":{"$error":"#DIV/0!"}}]
[null,{"$f":"Macro!A9423","v":0},{"$f":"Macro!B9423","v":0},{"$f":"Macro!E9423","v":{"$error":"#DIV/0!"}}]
[null,{"$f":"Macro!A9424","v":0},{"$f":"Macro!B9424","v":0},{"$f":"Macro!E9424","v":{"$error":"#DIV/0!"}}]
[null,{"$f":"Macro!A9425","v":0},{"$f":"Macro!B9425","v":0},{"$f":"Macro!E9425","v":{"$error":"#DIV/0!"}}]
[null,{"$f":"Macro!A9426","v":0},{"$f":"Macro!B9426","v":0},{"$f":"Macro!E9426","v":{"$error":"#DIV/0!"}}]
[null,{"$f":"Macro!A9427","v":0},{"$f":"Macro!B9427","v":0},{"$f":"Macro!E9427","v":{"$error":"#DIV/0!"}}]
[null,{"$f":"Macro!A9428","v":0},{"$f":"Macro!B9428","v":0},{"$f":"Macro!E9428","v":{"$error":"#DIV/0!"}}]
[null,{"$f":"Macro!A9429","v":0},{"$f":"Macro!B9429","v":0},{"$f":"Macro!E9429","v":{"$error":"#DIV/0!"}}]
[null,{"$f":"Macro!A9430","v":0},{"$f":"Macro!B9430","v":0},{"$f":"Macro!E9430","v":{"$error":"#DIV/0!"}}]
[null,{"$f":"Macro!A9431","v":0},{"$f":"Macro!B9431","v":0},{"$f":"Macro!E9431","v":{"$error":"#DIV/0!"}}]
[null,{"$f":"Macro!A9432","v":0},{"$f":"Macro!B9432","v":0},{"$f":"Macro!E9432","v":{"$error":"#DIV/0!"}}]
[null,{"$f":"Macro!A9433","v":0},{"$f":"Macro!B9433","v":0},{"$f":"Macro!E9433","v":{"$error":"#DIV/0!"}}]
[null,{"$f":"Macro!A9434","v":0},{"$f":"Macro!B9434","v":0},{"$f":"Macro!E9434","v":{"$error":"#DIV/0!"}}]
[null,{"$f":"Macro!A9435","v":0},{"$f":"Macro!B9435","v":0},{"$f":"Macro!E9435","v":{"$error":"#DIV/0!"}}]
[null,{"$f":"Macro!A9436","v":0},{"$f":"Macro!B9436","v":0},{"$f":"Macro!E9436","v":{"$error":"#DIV/0!"}}]
[null,{"$f":"Macro!A9437","v":0},{"$f":"Macro!B9437","v":0},{"$f":"Macro!E9437","v":{"$error":"#DIV/0!"}}]
[null,{"$f":"Macro!A9438","v":0},{"$f":"Macro!B9438","v":0},{"$f":"Macro!E9438","v":{"$error":"#DIV/0!"}}]
[null,{"$f":"Macro!A9439","v":0},{"$f":"Macro!B9439","v":0},{"$f":"Macro!E9439","v":{"$error":"#DIV/0!"}}]
[null,{"$f":"Macro!A9440","v":0},{"$f":"Macro!B9440","v":0},{"$f":"Macro!E9440","v":{"$error":"#DIV/0!"}}]
[null,{"$f":"Macro!A9441","v":0},{"$f":"Macro!B9441","v":0},{"$f":"Macro!E9441","v":{"$error":"#DIV/0!"}}]
[null,{"$f":"Macro!A9442","v":0},{"$f":"Macro!B9442","v":0},{"$f":"Macro!E9442","v":{"$error":"#DIV/0!"}}]
[null,{"$f":"Macro!A9443","v":0},{"$f":"Macro!B9443","v":0},{"$f":"Macro!E9443","v":{"$error":"#DIV/0!"}}]
[null,{"$f":"Macro!A9444","v":0},{"$f":"Macro!B9444","v":0},{"$f":"Macro!E9444","v":{"$error":"#DIV/0!"}}]
[null,{"$f":"Macro!A9445","v":0},{"$f":"Macro!B9445","v":0},{"$f":"Macro!E9445","v":{"$error":"#DIV/0!"}}]
[null,{"$f":"Macro!A9446","v":0},{"$f":"Macro!B9446","v":0},{"$f":"Macro!E9446","v":{"$error":"#DIV/0!"}}]
[null,{"$f":"Macro!A9447","v":0},{"$f":"Macro!B9447","v":0},{"$f":"Macro!E9447","v":{"$error":"#DIV/0!"}}]
[null,{"$f":"Macro!A9448","v":0},{"$f":"Macro!B9448","v":0},{"$f":"Macro!E9448","v":{"$error":"#DIV/0!"}}]
[null,{"$f":"Macro!A9449","v":0},{"$f":"Macro!B9449","v":0},{"$f":"Macro!E9449","v":{"$error":"#DIV/0!"}}]
[null,{"$f":"Macro!A9450","v":0},{"$f":"Macro!B9450","v":0},{"$f":"Macro!E9450","v":{"$error":"#DIV/0!"}}]
[null,{"$f":"Macro!A9451","v":0},{"$f":"Macro!B9451","v":0},{"$f":"Macro!E9451","v":{"$error":"#DIV/0!"}}]
[null,{"$f":"Macro!A9452","v":0},{"$f":"Macro!B9452","v":0},{"$f":"Macro!E9452","v":{"$error":"#DIV/0!"}}]
[null,{"$f":"Macro!A9453","v":0},{"$f":"Macro!B9453","v":0},{"$f":"Macro!E9453","v":{"$error":"#DIV/0!"}}]
[null,{"$f":"Macro!A9454","v":0},{"$f":"Macro!B9454","v":0},{"$f":"Macro!E9454","v":{"$error":"#DIV/0!"}}]
[null,{"$f":"Macro!A9455","v":0},{"$f":"Macro!B9455","v":0},{"$f":"Macro!E9455","v":{"$error":"#DIV/0!"}}]
[null,{"$f":"Macro!A9456","v":0},{"$f":"Macro!B9456","v":0},{"$f":"Macro!E9456","v":{"$error":"#DIV/0!"}}]
[null,{"$f":"Macro!A9457","v":0},{"$f":"Macro!B9457","v":0},{"$f":"Macro!E9457","v":{"$error":"#DIV/0!"}}]
[null,{"$f":"Macro!A9458","v":0},{"$f":"Macro!B9458","v":0},{"$f":"Macro!E9458","v":{"$error":"#DIV/0!"}}]
[null,{"$f":"Macro!A9459","v":0},{"$f":"Macro!B9459","v":0},{"$f":"Macro!E9459","v":{"$error":"#DIV/0!"}}]
[null,{"$f":"Macro!A9460","v":0},{"$f":"Macro!B9460","v":0},{"$f":"Macro!E9460","v":{"$error":"#DIV/0!"}}]
[null,{"$f":"Macro!A9461","v":0},{"$f":"Macro!B9461","v":0},{"$f":"Macro!E9461","v":{"$error":"#DIV/0!"}}]
[null,{"$f":"Macro!A9462","v":0},{"$f":"Macro!B9462","v":0},{"$f":"Macro!E9462","v":{"$error":"#DIV/0!"}}]
[null,{"$f":"Macro!A9463","v":0},{"$f":"Macro!B9463","v":0},{"$f":"Macro!E9463","v":{"$error":"#DIV/0!"}}]
[null,{"$f":"Macro!A9464","v":0},{"$f":"Macro!B9464","v":0},{"$f":"Macro!E9464","v":{"$error":"#DIV/0!"}}]
[null,{"$f":"Macro!A9465","v":0},{"$f":"Macro!B9465","v":0},{"$f":"Macro!E9465","v":{"$error":"#DIV/0!"}}]
[null,{"$f":"Macro!A9466","v":0},{"$f":"Macro!B9466","v":0},{"$f":"Macro!E9466","v":{"$error":"#DIV/0!"}}]
[null,{"$f":"Macro!A9467","v":0},{"$f":"Macro!B9467","v":0},{"$f":"Macro!E9467","v":{"$error":"#DIV/0!"}}]
[null,{"$f":"Macro!A9468","v":0},{"$f":"Macro!B9468","v":0},{"$f":"Macro!E9468","v":{"$error":"#DIV/0!"}}]
[null,{"$f":"Macro!A9469","v":0},{"$f":"Macro!B9469","v":0},{"$f":"Macro!E9469","v":{"$error":"#DIV/0!"}}]
[null,{"$f":"Macro!A9470","v":0},{"$f":"Macro!B9470","v":0},{"$f":"Macro!E9470","v":{"$error":"#DIV/0!"}}]
[null,{"$f":"Macro!A9471","v":0},{"$f":"Macro!B9471","v":0},{"$f":"Macro!E9471","v":{"$error":"#DIV/0!"}}]
[null,{"$f":"Macro!A9472","v":0},{"$f":"Macro!B9472","v":0},{"$f":"Macro!E9472","v":{"$error":"#DIV/0!"}}]
[null,{"$f":"Macro!A9473","v":0},{"$f":"Macro!B9473","v":0},{"$f":"Macro!E9473","v":{"$error":"#DIV/0!"}}]
[null,{"$f":"Macro!A9474","v":0},{"$f":"Macro!B9474","v":0},{"$f":"Macro!E9474","v":{"$error":"#DIV/0!"}}]
[null,{"$f":"Macro!A9475","v":0},{"$f":"Macro!B9475","v":0},{"$f":"Macro!E9475","v":{"$error":"#DIV/0!"}}]
[null,{"$f":"Macro!A9476","v":0},{"$f":"Macro!B9476","v":0},{"$f":"Macro!E9476","v":{"$error":"#DIV/0!"}}]
[null,{"$f":"Macro!A9477","v":0},{"$f":"Macro!B9477","v":0},{"$f":"Macro!E9477","v":{"$error":"#DIV/0!"}}]
[null,{"$f":"Macro!A9478","v":0},{"$f":"Macro!B9478","v":0},{"$f":"Macro!E9478","v":{"$error":"#DIV/0!"}}]
[null,{"$f":"Macro!A9479","v":0},{"$f":"Macro!B9479","v":0},{"$f":"Macro!E9479","v":{"$error":"#DIV/0!"}}]
[null,{"$f":"Macro!A9480","v":0},{"$f":"Macro!B9480","v":0},{"$f":"Macro!E9480","v":{"$error":"#DIV/0!"}}]
[null,{"$f":"Macro!A9481","v":0},{"$f":"Macro!B9481","v":0},{"$f":"Macro!E9481","v":{"$error":"#DIV/0!"}}]
[null,{"$f":"Macro!A9482","v":0},{"$f":"Macro!B9482","v":0},{"$f":"Macro!E9482","v":{"$error":"#DIV/0!"}}]
[null,{"$f":"Macro!A9483","v":0},{"$f":"Macro!B9483","v":0},{"$f":"Macro!E9483","v":{"$error":"#DIV/0!"}}]
[null,{"$f":"Macro!A9484","v":0},{"$f":"Macro!B9484","v":0},{"$f":"Macro!E9484","v":{"$error":"#DIV/0!"}}]
[null,{"$f":"Macro!A9485","v":0},{"$f":"Macro!B9485","v":0},{"$f":"Macro!E9485","v":{"$error":"#DIV/0!"}}]
[null,{"$f":"Macro!A9486","v":0},{"$f":"Macro!B9486","v":0},{"$f":"Macro!E9486","v":{"$error":"#DIV/0!"}}]
[null,{"$f":"Macro!A9487","v":0},{"$f":"Macro!B9487","v":0},{"$f":"Macro!E9487","v":{"$error":"#DIV/0!"}}]
[null,{"$f":"Macro!A9488","v":0},{"$f":"Macro!B9488","v":0},{"$f":"Macro!E9488","v":{"$error":"#DIV/0!"}}]
[null,{"$f":"Macro!A9489","v":0},{"$f":"Macro!B9489","v":0},{"$f":"Macro!E9489","v":{"$error":"#DIV/0!"}}]
[null,{"$f":"Macro!A9490","v":0},{"$f":"Macro!B9490","v":0},{"$f":"Macro!E9490","v":{"$error":"#DIV/0!"}}]
[null,{"$f":"Macro!A9491","v":0},{"$f":"Macro!B9491","v":0},{"$f":"Macro!E9491","v":{"$error":"#DIV/0!"}}]
[null,{"$f":"Macro!A9492","v":0},{"$f":"Macro!B9492","v":0},{"$f":"Macro!E9492","v":{"$error":"#DIV/0!"}}]
[null,{"$f":"Macro!A9493","v":0},{"$f":"Macro!B9493","v":0},{"$f":"Macro!E9493","v":{"$error":"#DIV/0!"}}]
[null,{"$f":"Macro!A9494","v":0},{"$f":"Macro!B9494","v":0},{"$f":"Macro!E9494","v":{"$error":"#DIV/0!"}}]
[null,{"$f":"Macro!A9495","v":0},{"$f":"Macro!B9495","v":0},{"$f":"Macro!E9495","v":{"$error":"#DIV/0!"}}]
[null,{"$f":"Macro!A9496","v":0},{"$f":"Macro!B9496","v":0},{"$f":"Macro!E9496","v":{"$error":"#DIV/0!"}}]
[null,{"$f":"Macro!A9497","v":0},{"$f":"Macro!B9497","v":0},{"$f":"Macro!E9497","v":{"$error":"#DIV/0!"}}]
[null,{"$f":"Macro!A9498","v":0},{"$f":"Macro!B9498","v":0},{"$f":"Macro!E9498","v":{"$error":"#DIV/0!"}}]
[null,{"$f":"Macro!A9499","v":0},{"$f":"Macro!B9499","v":0},{"$f":"Macro!E9499","v":{"$error":"#DIV/0!"}}]
[null,{"$f":"Macro!A9500","v":0},{"$f":"Macro!B9500","v":0},{"$f":"Macro!E9500","v":{"$error":"#DIV/0!"}}]
[null,{"$f":"Macro!A9501","v":0},{"$f":"Macro!B9501","v":0},{"$f":"Macro!E9501","v":{"$error":"#DIV/0!"}}]
[null,{"$f":"Macro!A9502","v":0},{"$f":"Macro!B9502","v":0},{"$f":"Macro!E9502","v":{"$error":"#DIV/0!"}}]
[null,{"$f":"Macro!A9503","v":0},{"$f":"Macro!B9503","v":0},{"$f":"Macro!E9503","v":{"$error":"#DIV/0!"}}]
[null,{"$f":"Macro!A9504","v":0},{"$f":"Macro!B9504","v":0},{"$f":"Macro!E9504","v":{"$error":"#DIV/0!"}}]
[null,{"$f":"Macro!A9505","v":0},{"$f":"Macro!B9505","v":0},{"$f":"Macro!E9505","v":{"$error":"#DIV/0!"}}]
[null,{"$f":"Macro!A9506","v":0},{"$f":"Macro!B9506","v":0},{"$f":"Macro!E9506","v":{"$error":"#DIV/0!"}}]
[null,{"$f":"Macro!A9507","v":0},{"$f":"Macro!B9507","v":0},{"$f":"Macro!E9507","v":{"$error":"#DIV/0!"}}]
[null,{"$f":"Macro!A9508","v":0},{"$f":"Macro!B9508","v":0},{"$f":"Macro!E9508","v":{"$error":"#DIV/0!"}}]
[null,{"$f":"Macro!A9509","v":0},{"$f":"Macro!B9509","v":0},{"$f":"Macro!E9509","v":{"$error":"#DIV/0!"}}]
[null,{"$f":"Macro!A9510","v":0},{"$f":"Macro!B9510","v":0},{"$f":"Macro!E9510","v":{"$error":"#DIV/0!"}}]
[null,{"$f":"Macro!A9511","v":0},{"$f":"Macro!B9511","v":0},{"$f":"Macro!E9511","v":{"$error":"#DIV/0!"}}]
[null,{"$f":"Macro!A9512","v":0},{"$f":"Macro!B9512","v":0},{"$f":"Macro!E9512","v":{"$error":"#DIV/0!"}}]
[null,{"$f":"Macro!A9513","v":0},{"$f":"Macro!B9513","v":0},{"$f":"Macro!E9513","v":{"$error":"#DIV/0!"}}]
[null,{"$f":"Macro!A9514","v":0},{"$f":"Macro!B9514","v":0},{"$f":"Macro!E9514","v":{"$error":"#DIV/0!"}}]
[null,{"$f":"Macro!A9515","v":0},{"$f":"Macro!B9515","v":0},{"$f":"Macro!E9515","v":{"$error":"#DIV/0!"}}]
[null,{"$f":"Macro!A9516","v":0},{"$f":"Macro!B9516","v":0},{"$f":"Macro!E9516","v":{"$error":"#DIV/0!"}}]
[null,{"$f":"Macro!A9517","v":0},{"$f":"Macro!B9517","v":0},{"$f":"Macro!E9517","v":{"$error":"#DIV/0!"}}]
[null,{"$f":"Macro!A9518","v":0},{"$f":"Macro!B9518","v":0},{"$f":"Macro!E9518","v":{"$error":"#DIV/0!"}}]
[null,{"$f":"Macro!A9519","v":0},{"$f":"Macro!B9519","v":0},{"$f":"Macro!E9519","v":{"$error":"#DIV/0!"}}]
[null,{"$f":"Macro!A9520","v":0},{"$f":"Macro!B9520","v":0},{"$f":"Macro!E9520","v":{"$error":"#DIV/0!"}}]
[null,{"$f":"Macro!A9521","v":0},{"$f":"Macro!B9521","v":0},{"$f":"Macro!E9521","v":{"$error":"#DIV/0!"}}]
[null,{"$f":"Macro!A9522","v":0},{"$f":"Macro!B9522","v":0},{"$f":"Macro!E9522","v":{"$error":"#DIV/0!"}}]
[null,{"$f":"Macro!A9523","v":0},{"$f":"Macro!B9523","v":0},{"$f":"Macro!E9523","v":{"$error":"#DIV/0!"}}]
[null,{"$f":"Macro!A9524","v":0},{"$f":"Macro!B9524","v":0},{"$f":"Macro!E9524","v":{"$error":"#DIV/0!"}}]
[null,{"$f":"Macro!A9525","v":0},{"$f":"Macro!B9525","v":0},{"$f":"Macro!E9525","v":{"$error":"#DIV/0!"}}]
[null,{"$f":"Macro!A9526","v":0},{"$f":"Macro!B9526","v":0},{"$f":"Macro!E9526","v":{"$error":"#DIV/0!"}}]
[null,{"$f":"Macro!A9527","v":0},{"$f":"Macro!B9527","v":0},{"$f":"Macro!E9527","v":{"$error":"#DIV/0!"}}]
[null,{"$f":"Macro!A9528","v":0},{"$f":"Macro!B9528","v":0},{"$f":"Macro!E9528","v":{"$error":"#DIV/0!"}}]
[null,{"$f":"Macro!A9529","v":0},{"$f":"Macro!B9529","v":0},{"$f":"Macro!E9529","v":{"$error":"#DIV/0!"}}]
[null,{"$f":"Macro!A9530","v":0},{"$f":"Macro!B9530","v":0},{"$f":"Macro!E9530","v":{"$error":"#DIV/0!"}}]
[null,{"$f":"Macro!A9531","v":0},{"$f":"Macro!B9531","v":0},{"$f":"Macro!E9531","v":{"$error":"#DIV/0!"}}]
[null,{"$f":"Macro!A9532","v":0},{"$f":"Macro!B9532","v":0},{"$f":"Macro!E9532","v":{"$error":"#DIV/0!"}}]
[null,{"$f":"Macro!A9533","v":0},{"$f":"Macro!B9533","v":0},{"$f":"Macro!E9533","v":{"$error":"#DIV/0!"}}]
[null,{"$f":"Macro!A9534","v":0},{"$f":"Macro!B9534","v":0},{"$f":"Macro!E9534","v":{"$error":"#DIV/0!"}}]
[null,{"$f":"Macro!A9535","v":0},{"$f":"Macro!B9535","v":0},{"$f":"Macro!E9535","v":{"$error":"#DIV/0!"}}]
[null,{"$f":"Macro!A9536","v":0},{"$f":"Macro!B9536","v":0},{"$f":"Macro!E9536","v":{"$error":"#DIV/0!"}}]
[null,{"$f":"Macro!A9537","v":0},{"$f":"Macro!B9537","v":0},{"$f":"Macro!E9537","v":{"$error":"#DIV/0!"}}]
[null,{"$f":"Macro!A9538","v":0},{"$f":"Macro!B9538","v":0},{"$f":"Macro!E9538","v":{"$error":"#DIV/0!"}}]
[null,{"$f":"Macro!A9539","v":0},{"$f":"Macro!B9539","v":0},{"$f":"Macro!E9539","v":{"$error":"#DIV/0!"}}]
[null,{"$f":"Macro!A9540","v":0},{"$f":"Macro!B9540","v":0},{"$f":"Macro!E9540","v":{"$error":"#DIV/0!"}}]
[null,{"$f":"Macro!A9541","v":0},{"$f":"Macro!B9541","v":0},{"$f":"Macro!E9541","v":{"$error":"#DIV/0!"}}]
[null,{"$f":"Macro!A9542","v":0},{"$f":"Macro!B9542","v":0},{"$f":"Macro!E9542","v":{"$error":"#DIV/0!"}}]
[null,{"$f":"Macro!A9543","v":0},{"$f":"Macro!B9543","v":0},{"$f":"Macro!E9543","v":{"$error":"#DIV/0!"}}]
[null,{"$f":"Macro!A9544","v":0},{"$f":"Macro!B9544","v":0},{"$f":"Macro!E9544","v":{"$error":"#DIV/0!"}}]
[null,{"$f":"Macro!A9545","v":0},{"$f":"Macro!B9545","v":0},{"$f":"Macro!E9545","v":{"$error":"#DIV/0!"}}]
[null,{"$f":"Macro!A9546","v":0},{"$f":"Macro!B9546","v":0},{"$f":"Macro!E9546","v":{"$error":"#DIV/0!"}}]
[null,{"$f":"Macro!A9547","v":0},{"$f":"Macro!B9547","v":0},{"$f":"Macro!E9547","v":{"$error":"#DIV/0!"}}]
[null,{"$f":"Macro!A9548","v":0},{"$f":"Macro!B9548","v":0},{"$f":"Macro!E9548","v":{"$error":"#DIV/0!"}}]
[null,{"$f":"Macro!A9549","v":0},{"$f":"Macro!B9549","v":0},{"$f":"Macro!E9549","v":{"$error":"#DIV/0!"}}]
[null,{"$f":"Macro!A9550","v":0},{"$f":"Macro!B9550","v":0},{"$f":"Macro!E9550","v":{"$error":"#DIV/0!"}}]
[null,{"$f":"Macro!A9551","v":0},{"$f":"Macro!B9551","v":0},{"$f":"Macro!E9551","v":{"$error":"#DIV/0!"}}]
[null,{"$f":"Macro!A9552","v":0},{"$f":"Macro!B9552","v":0},{"$f":"Macro!E9552","v":{"$error":"#DIV/0!"}}]
[null,{"$f":"Macro!A9553","v":0},{"$f":"Macro!B9553","v":0},{"$f":"Macro!E9553","v":{"$error":"#DIV/0!"}}]
[null,{"$f":"Macro!A9554","v":0},{"$f":"Macro!B9554","v":0},{"$f":"Macro!E9554","v":{"$error":"#DIV/0!"}}]
[null,{"$f":"Macro!A9555","v":0},{"$f":"Macro!B9555","v":0},{"$f":"Macro!E9555","v":{"$error":"#DIV/0!"}}]
[null,{"$f":"Macro!A9556","v":0},{"$f":"Macro!B9556","v":0},{"$f":"Macro!E9556","v":{"$error":"#DIV/0!"}}]
[null,{"$f":"Macro!A9557","v":0},{"$f":"Macro!B9557","v":0},{"$f":"Macro!E9557","v":{"$error":"#DIV/0!"}}]
[null,{"$f":"Macro!A9558","v":0},{"$f":"Macro!B9558","v":0},{"$f":"Macro!E9558","v":{"$error":"#DIV/0!"}}]
[null,{"$f":"Macro!A9559","v":0},{"$f":"Macro!B9559","v":0},{"$f":"Macro!E9559","v":{"$error":"#DIV/0!"}}]
[null,{"$f":"Macro!A9560","v":0},{"$f":"Macro!B9560","v":0},{"$f":"Macro!E9560","v":{"$error":"#DIV/0!"}}]
[null,{"$f":"Macro!A9561","v":0},{"$f":"Macro!B9561","v":0},{"$f":"Macro!E9561","v":{"$error":"#DIV/0!"}}]
[null,{"$f":"Macro!A9562","v":0},{"$f":"Macro!B9562","v":0},{"$f":"Macro!E9562","v":{"$error":"#DIV/0!"}}]
[null,{"$f":"Macro!A9563","v":0},{"$f":"Macro!B9563","v":0},{"$f":"Macro!E9563","v":{"$error":"#DIV/0!"}}]
[null,{"$f":"Macro!A9564","v":0},{"$f":"Macro!B9564","v":0},{"$f":"Macro!E9564","v":{"$error":"#DIV/0!"}}]
[null,{"$f":"Macro!A9565","v":0},{"$f":"Macro!B9565","v":0},{"$f":"Macro!E9565","v":{"$error":"#DIV/0!"}}]
[null,{"$f":"Macro!A9566","v":0},{"$f":"Macro!B9566","v":0},{"$f":"Macro!E9566","v":{"$error":"#DIV/0!"}}]
[null,{"$f":"Macro!A9567","v":0},{"$f":"Macro!B9567","v":0},{"$f":"Macro!E9567","v":{"$error":"#DIV/0!"}}]
[null,{"$f":"Macro!A9568","v":0},{"$f":"Macro!B9568","v":0},{"$f":"Macro!E9568","v":{"$error":"#DIV/0!"}}]
[null,{"$f":"Macro!A9569","v":0},{"$f":"Macro!B9569","v":0},{"$f":"Macro!E9569","v":{"$error":"#DIV/0!"}}]
[null,{"$f":"Macro!A9570","v":0},{"$f":"Macro!B9570","v":0},{"$f":"Macro!E9570","v":{"$error":"#DIV/0!"}}]
[null,{"$f":"Macro!A9571","v":0},{"$f":"Macro!B9571","v":0},{"$f":"Macro!E9571","v":{"$error":"#DIV/0!"}}]
[null,{"$f":"Macro!A9572","v":0},{"$f":"Macro!B9572","v":0},{"$f":"Macro!E9572","v":{"$error":"#DIV/0!"}}]
[null,{"$f":"Macro!A9573","v":0},{"$f":"Macro!B9573","v":0},{"$f":"Macro!E9573","v":{"$error":"#DIV/0!"}}]
[null,{"$f":"Macro!A9574","v":0},{"$f":"Macro!B9574","v":0},{"$f":"Macro!E9574","v":{"$error":"#DIV/0!"}}]
[null,{"$f":"Macro!A9575","v":0},{"$f":"Macro!B9575","v":0},{"$f":"Macro!E9575","v":{"$error":"#DIV/0!"}}]
[null,{"$f":"Macro!A9576","v":0},{"$f":"Macro!B9576","v":0},{"$f":"Macro!E9576","v":{"$error":"#DIV/0!"}}]
[null,{"$f":"Macro!A9577","v":0},{"$f":"Macro!B9577","v":0},{"$f":"Macro!E9577","v":{"$error":"#DIV/0!"}}]
[null,{"$f":"Macro!A9578","v":0},{"$f":"Macro!B9578","v":0},{"$f":"Macro!E9578","v":{"$error":"#DIV/0!"}}]
[null,{"$f":"Macro!A9579","v":0},{"$f":"Macro!B9579","v":0},{"$f":"Macro!E9579","v":{"$error":"#DIV/0!"}}]
[null,{"$f":"Macro!A9580","v":0},{"$f":"Macro!B9580","v":0},{"$f":"Macro!E9580","v":{"$error":"#DIV/0!"}}]
[null,{"$f":"Macro!A9581","v":0},{"$f":"Macro!B9581","v":0},{"$f":"Macro!E9581","v":{"$error":"#DIV/0!"}}]
[null,{"$f":"Macro!A9582","v":0},{"$f":"Macro!B9582","v":0},{"$f":"Macro!E9582","v":{"$error":"#DIV/0!"}}]
[null,{"$f":"Macro!A9583","v":0},{"$f":"Macro!B9583","v":0},{"$f":"Macro!E9583","v":{"$error":"#DIV/0!"}}]
[null,{"$f":"Macro!A9584","v":0},{"$f":"Macro!B9584","v":0},{"$f":"Macro!E9584","v":{"$error":"#DIV/0!"}}]
[null,{"$f":"Macro!A9585","v":0},{"$f":"Macro!B9585","v":0},{"$f":"Macro!E9585","v":{"$error":"#DIV/0!"}}]
[null,{"$f":"Macro!A9586","v":0},{"$f":"Macro!B9586","v":0},{"$f":"Macro!E9586","v":{"$error":"#DIV/0!"}}]
[null,{"$f":"Macro!A9587","v":0},{"$f":"Macro!B9587","v":0},{"$f":"Macro!E9587","v":{"$error":"#DIV/0!"}}]
[null,{"$f":"Macro!A9588","v":0},{"$f":"Macro!B9588","v":0},{"$f":"Macro!E9588","v":{"$error":"#DIV/0!"}}]
[null,{"$f":"Macro!A9589","v":0},{"$f":"Macro!B9589","v":0},{"$f":"Macro!E9589","v":{"$error":"#DIV/0!"}}]
[null,{"$f":"Macro!A9590","v":0},{"$f":"Macro!B9590","v":0},{"$f":"Macro!E9590","v":{"$error":"#DIV/0!"}}]
[null,{"$f":"Macro!A9591","v":0},{"$f":"Macro!B9591","v":0},{"$f":"Macro!E9591","v":{"$error":"#DIV/0!"}}]
[null,{"$f":"Macro!A9592","v":0},{"$f":"Macro!B9592","v":0},{"$f":"Macro!E9592","v":{"$error":"#DIV/0!"}}]
[null,{"$f":"Macro!A9593","v":0},{"$f":"Macro!B9593","v":0},{"$f":"Macro!E9593","v":{"$error":"#DIV/0!"}}]
[null,{"$f":"Macro!A9594","v":0},{"$f":"Macro!B9594","v":0},{"$f":"Macro!E9594","v":{"$error":"#DIV/0!"}}]
[null,{"$f":"Macro!A9595","v":0},{"$f":"Macro!B9595","v":0},{"$f":"Macro!E9595","v":{"$error":"#DIV/0!"}}]
[null,{"$f":"Macro!A9596","v":0},{"$f":"Macro!B9596","v":0},{"$f":"Macro!E9596","v":{"$error":"#DIV/0!"}}]
[null,{"$f":"Macro!A9597","v":0},{"$f":"Macro!B9597","v":0},{"$f":"Macro!E9597","v":{"$error":"#DIV/0!"}}]
[null,{"$f":"Macro!A9598","v":0},{"$f":"Macro!B9598","v":0},{"$f":"Macro!E9598","v":{"$error":"#DIV/0!"}}]
[null,{"$f":"Macro!A9599","v":0},{"$f":"Macro!B9599","v":0},{"$f":"Macro!E9599","v":{"$error":"#DIV/0!"}}]
[null,{"$f":"Macro!A9600","v":0},{"$f":"Macro!B9600","v":0},{"$f":"Macro!E9600","v":{"$error":"#DIV/0!"}}]
[null,{"$f":"Macro!A9601","v":0},{"$f":"Macro!B9601","v":0},{"$f":"Macro!E9601","v":{"$error":"#DIV/0!"}}]
[null,{"$f":"Macro!A9602","v":0},{"$f":"Macro!B9602","v":0},{"$f":"Macro!E9602","v":{"$error":"#DIV/0!"}}]
[null,{"$f":"Macro!A9603","v":0},{"$f":"Macro!B9603","v":0},{"$f":"Macro!E9603","v":{"$error":"#DIV/0!"}}]
[null,{"$f":"Macro!A9604","v":0},{"$f":"Macro!B9604","v":0},{"$f":"Macro!E9604","v":{"$error":"#DIV/0!"}}]
[null,{"$f":"Macro!A9605","v":0},{"$f":"Macro!B9605","v":0},{"$f":"Macro!E9605","v":{"$error":"#DIV/0!"}}]
[null,{"$f":"Macro!A9606","v":0},{"$f":"Macro!B9606","v":0},{"$f":"Macro!E9606","v":{"$error":"#DIV/0!"}}]
[null,{"$f":"Macro!A9607","v":0},{"$f":"Macro!B9607","v":0},{"$f":"Macro!E9607","v":{"$error":"#DIV/0!"}}]
[null,{"$f":"Macro!A9608","v":0},{"$f":"Macro!B9608","v":0},{"$f":"Macro!E9608","v":{"$error":"#DIV/0!"}}]
[null,{"$f":"Macro!A9609","v":0},{"$f":"Macro!B9609","v":0},{"$f":"Macro!E9609","v":{"$error":"#DIV/0!"}}]
[null,{"$f":"Macro!A9610","v":0},{"$f":"Macro!B9610","v":0},{"$f":"Macro!E9610","v":{"$error":"#DIV/0!"}}]
[null,{"$f":"Macro!A9611","v":0},{"$f":"Macro!B9611","v":0},{"$f":"Macro!E9611","v":{"$error":"#DIV/0!"}}]
[null,{"$f":"Macro!A9612","v":0},{"$f":"Macro!B9612","v":0},{"$f":"Macro!E9612","v":{"$error":"#DIV/0!"}}]
[null,{"$f":"Macro!A9613","v":0},{"$f":"Macro!B9613","v":0},{"$f":"Macro!E9613","v":{"$error":"#DIV/0!"}}]
[null,{"$f":"Macro!A9614","v":0},{"$f":"Macro!B9614","v":0},{"$f":"Macro!E9614","v":{"$error":"#DIV/0!"}}]
[null,{"$f":"Macro!A9615","v":0},{"$f":"Macro!B9615","v":0},{"$f":"Macro!E9615","v":{"$error":"#DIV/0!"}}]
[null,{"$f":"Macro!A9616","v":0},{"$f":"Macro!B9616","v":0},{"$f":"Macro!E9616","v":{"$error":"#DIV/0!"}}]
[null,{"$f":"Macro!A9617","v":0},{"$f":"Macro!B9617","v":0},{"$f":"Macro!E9617","v":{"$error":"#DIV/0!"}}]
[null,{"$f":"Macro!A9618","v":0},{"$f":"Macro!B9618","v":0},{"$f":"Macro!E9618","v":{"$error":"#DIV/0!"}}]
[null,{"$f":"Macro!A9619","v":0},{"$f":"Macro!B9619","v":0},{"$f":"Macro!E9619","v":{"$error":"#DIV/0!"}}]
[null,{"$f":"Macro!A9620","v":0},{"$f":"Macro!B9620","v":0},{"$f":"Macro!E9620","v":{"$error":"#DIV/0!"}}]
[null,{"$f":"Macro!A9621","v":0},{"$f":"Macro!B9621","v":0},{"$f":"Macro!E9621","v":{"$error":"#DIV/0!"}}]
[null,{"$f":"Macro!A9622","v":0},{"$f":"Macro!B9622","v":0},{"$f":"Macro!E9622","v":{"$error":"#DIV/0!"}}]
[null,{"$f":"Macro!A9623","v":0},{"$f":"Macro!B9623","v":0},{"$f":"Macro!E9623","v":{"$error":"#DIV/0!"}}]
[null,{"$f":"Macro!A9624","v":0},{"$f":"Macro!B9624","v":0},{"$f":"Macro!E9624","v":{"$error":"#DIV/0!"}}]
[null,{"$f":"Macro!A9625","v":0},{"$f":"Macro!B9625","v":0},{"$f":"Macro!E9625","v":{"$error":"#DIV/0!"}}]
[null,{"$f":"Macro!A9626","v":0},{"$f":"Macro!B9626","v":0},{"$f":"Macro!E9626","v":{"$error":"#DIV/0!"}}]
[null,{"$f":"Macro!A9627","v":0},{"$f":"Macro!B9627","v":0},{"$f":"Macro!E9627","v":{"$error":"#DIV/0!"}}]
[null,{"$f":"Macro!A9628","v":0},{"$f":"Macro!B9628","v":0},{"$f":"Macro!E9628","v":{"$error":"#DIV/0!"}}]
[null,{"$f":"Macro!A9629","v":0},{"$f":"Macro!B9629","v":0},{"$f":"Macro!E9629","v":{"$error":"#DIV/0!"}}]
[null,{"$f":"Macro!A9630","v":0},{"$f":"Macro!B9630","v":0},{"$f":"Macro!E9630","v":{"$error":"#DIV/0!"}}]
[null,{"$f":"Macro!A9631","v":0},{"$f":"Macro!B9631","v":0},{"$f":"Macro!E9631","v":{"$error":"#DIV/0!"}}]
[null,{"$f":"Macro!A9632","v":0},{"$f":"Macro!B9632","v":0},{"$f":"Macro!E9632","v":{"$error":"#DIV/0!"}}]
[null,{"$f":"Macro!A9633","v":0},{"$f":"Macro!B9633","v":0},{"$f":"Macro!E9633","v":{"$error":"#DIV/0!"}}]
[null,{"$f":"Macro!A9634","v":0},{"$f":"Macro!B9634","v":0},{"$f":"Macro!E9634","v":{"$error":"#DIV/0!"}}]
[null,{"$f":"Macro!A9635","v":0},{"$f":"Macro!B9635","v":0},{"$f":"Macro!E9635","v":{"$error":"#DIV/0!"}}]
[null,{"$f":"Macro!A9636","v":0},{"$f":"Macro!B9636","v":0},{"$f":"Macro!E9636","v":{"$error":"#DIV/0!"}}]
[null,{"$f":"Macro!A9637","v":0},{"$f":"Macro!B9637","v":0},{"$f":"Macro!E9637","v":{"$error":"#DIV/0!"}}]
[null,{"$f":"Macro!A9638","v":0},{"$f":"Macro!B9638","v":0},{"$f":"Macro!E9638","v":{"$error":"#DIV/0!"}}]
[null,{"$f":"Macro!A9639","v":0},{"$f":"Macro!B9639","v":0},{"$f":"Macro!E9639","v":{"$error":"#DIV/0!"}}]
[null,{"$f":"Macro!A9640","v":0},{"$f":"Macro!B9640","v":0},{"$f":"Macro!E9640","v":{"$error":"#DIV/0!"}}]
[null,{"$f":"Macro!A9641","v":0},{"$f":"Macro!B9641","v":0},{"$f":"Macro!E9641","v":{"$error":"#DIV/0!"}}]
[null,{"$f":"Macro!A9642","v":0},{"$f":"Macro!B9642","v":0},{"$f":"Macro!E9642","v":{"$error":"#DIV/0!"}}]
[null,{"$f":"Macro!A9643","v":0},{"$f":"Macro!B9643","v":0},{"$f":"Macro!E9643","v":{"$error":"#DIV/0!"}}]
[null,{"$f":"Macro!A9644","v":0},{"$f":"Macro!B9644","v":0},{"$f":"Macro!E9644","v":{"$error":"#DIV/0!"}}]
[null,{"$f":"Macro!A9645","v":0},{"$f":"Macro!B9645","v":0},{"$f":"Macro!E9645","v":{"$error":"#DIV/0!"}}]
[null,{"$f":"Macro!A9646","v":0},{"$f":"Macro!B9646","v":0},{"$f":"Macro!E9646","v":{"$error":"#DIV/0!"}}]
[null,{"$f":"Macro!A9647","v":0},{"$f":"Macro!B9647","v":0},{"$f":"Macro!E9647","v":{"$error":"#DIV/0!"}}]
[null,{"$f":"Macro!A9648","v":0},{"$f":"Macro!B9648","v":0},{"$f":"Macro!E9648","v":{"$error":"#DIV/0!"}}]
[null,{"$f":"Macro!A9649","v":0},{"$f":"Macro!B9649","v":0},{"$f":"Macro!E9649","v":{"$error":"#DIV/0!"}}]
[null,{"$f":"Macro!A9650","v":0},{"$f":"Macro!B9650","v":0},{"$f":"Macro!E9650","v":{"$error":"#DIV/0!"}}]
[null,{"$f":"Macro!A9651","v":0},{"$f":"Macro!B9651","v":0},{"$f":"Macro!E9651","v":{"$error":"#DIV/0!"}}]
[null,{"$f":"Macro!A9652","v":0},{"$f":"Macro!B9652","v":0},{"$f":"Macro!E9652","v":{"$error":"#DIV/0!"}}]
[null,{"$f":"Macro!A9653","v":0},{"$f":"Macro!B9653","v":0},{"$f":"Macro!E9653","v":{"$error":"#DIV/0!"}}]
[null,{"$f":"Macro!A9654","v":0},{"$f":"Macro!B9654","v":0},{"$f":"Macro!E9654","v":{"$error":"#DIV/0!"}}]
[null,{"$f":"Macro!A9655","v":0},{"$f":"Macro!B9655","v":0},{"$f":"Macro!E9655","v":{"$error":"#DIV/0!"}}]
[null,{"$f":"Macro!A9656","v":0},{"$f":"Macro!B9656","v":0},{"$f":"Macro!E9656","v":{"$error":"#DIV/0!"}}]
[null,{"$f":"Macro!A9657","v":0},{"$f":"Macro!B9657","v":0},{"$f":"Macro!E9657","v":{"$error":"#DIV/0!"}}]
[null,{"$f":"Macro!A9658","v":0},{"$f":"Macro!B9658","v":0},{"$f":"Macro!E9658","v":{"$error":"#DIV/0!"}}]
[null,{"$f":"Macro!A9659","v":0},{"$f":"Macro!B9659","v":0},{"$f":"Macro!E9659","v":{"$error":"#DIV/0!"}}]
[null,{"$f":"Macro!A9660","v":0},{"$f":"Macro!B9660","v":0},{"$f":"Macro!E9660","v":{"$error":"#DIV/0!"}}]
[null,{"$f":"Macro!A9661","v":0},{"$f":"Macro!B9661","v":0},{"$f":"Macro!E9661","v":{"$error":"#DIV/0!"}}]
[null,{"$f":"Macro!A9662","v":0},{"$f":"Macro!B9662","v":0},{"$f":"Macro!E9662","v":{"$error":"#DIV/0!"}}]
[null,{"$f":"Macro!A9663","v":0},{"$f":"Macro!B9663","v":0},{"$f":"Macro!E9663","v":{"$error":"#DIV/0!"}}]
[null,{"$f":"Macro!A9664","v":0},{"$f":"Macro!B9664","v":0},{"$f":"Macro!E9664","v":{"$error":"#DIV/0!"}}]
[null,{"$f":"Macro!A9665","v":0},{"$f":"Macro!B9665","v":0},{"$f":"Macro!E9665","v":{"$error":"#DIV/0!"}}]
[null,{"$f":"Macro!A9666","v":0},{"$f":"Macro!B9666","v":0},{"$f":"Macro!E9666","v":{"$error":"#DIV/0!"}}]
[null,{"$f":"Macro!A9667","v":0},{"$f":"Macro!B9667","v":0},{"$f":"Macro!E9667","v":{"$error":"#DIV/0!"}}]
[null,{"$f":"Macro!A9668","v":0},{"$f":"Macro!B9668","v":0},{"$f":"Macro!E9668","v":{"$error":"#DIV/0!"}}]
[null,{"$f":"Macro!A9669","v":0},{"$f":"Macro!B9669","v":0},{"$f":"Macro!E9669","v":{"$error":"#DIV/0!"}}]
[null,{"$f":"Macro!A9670","v":0},{"$f":"Macro!B9670","v":0},{"$f":"Macro!E9670","v":{"$error":"#DIV/0!"}}]
[null,{"$f":"Macro!A9671","v":0},{"$f":"Macro!B9671","v":0},{"$f":"Macro!E9671","v":{"$error":"#DIV/0!"}}]
[null,{"$f":"Macro!A9672","v":0},{"$f":"Macro!B9672","v":0},{"$f":"Macro!E9672","v":{"$error":"#DIV/0!"}}]
[null,{"$f":"Macro!A9673","v":0},{"$f":"Macro!B9673","v":0},{"$f":"Macro!E9673","v":{"$error":"#DIV/0!"}}]
[null,{"$f":"Macro!A9674","v":0},{"$f":"Macro!B9674","v":0},{"$f":"Macro!E9674","v":{"$error":"#DIV/0!"}}]
[null,{"$f":"Macro!A9675","v":0},{"$f":"Macro!B9675","v":0},{"$f":"Macro!E9675","v":{"$error":"#DIV/0!"}}]
[null,{"$f":"Macro!A9676","v":0},{"$f":"Macro!B9676","v":0},{"$f":"Macro!E9676","v":{"$error":"#DIV/0!"}}]
[null,{"$f":"Macro!A9677","v":0},{"$f":"Macro!B9677","v":0},{"$f":"Macro!E9677","v":{"$error":"#DIV/0!"}}]
[null,{"$f":"Macro!A9678","v":0},{"$f":"Macro!B9678","v":0},{"$f":"Macro!E9678","v":{"$error":"#DIV/0!"}}]
[null,{"$f":"Macro!A9679","v":0},{"$f":"Macro!B9679","v":0},{"$f":"Macro!E9679","v":{"$error":"#DIV/0!"}}]
[null,{"$f":"Macro!A9680","v":0},{"$f":"Macro!B9680","v":0},{"$f":"Macro!E9680","v":{"$error":"#DIV/0!"}}]
[null,{"$f":"Macro!A9681","v":0},{"$f":"Macro!B9681","v":0},{"$f":"Macro!E9681","v":{"$error":"#DIV/0!"}}]
[null,{"$f":"Macro!A9682","v":0},{"$f":"Macro!B9682","v":0},{"$f":"Macro!E9682","v":{"$error":"#DIV/0!"}}]
[null,{"$f":"Macro!A9683","v":0},{"$f":"Macro!B9683","v":0},{"$f":"Macro!E9683","v":{"$error":"#DIV/0!"}}]
[null,{"$f":"Macro!A9684","v":0},{"$f":"Macro!B9684","v":0},{"$f":"Macro!E9684","v":{"$error":"#DIV/0!"}}]
[null,{"$f":"Macro!A9685","v":0},{"$f":"Macro!B9685","v":0},{"$f":"Macro!E9685","v":{"$error":"#DIV/0!"}}]
[null,{"$f":"Macro!A9686","v":0},{"$f":"Macro!B9686","v":0},{"$f":"Macro!E9686","v":{"$error":"#DIV/0!"}}]
[null,{"$f":"Macro!A9687","v":0},{"$f":"Macro!B9687","v":0},{"$f":"Macro!E9687","v":{"$error":"#DIV/0!"}}]
[null,{"$f":"Macro!A9688","v":0},{"$f":"Macro!B9688","v":0},{"$f":"Macro!E9688","v":{"$error":"#DIV/0!"}}]
[null,{"$f":"Macro!A9689","v":0},{"$f":"Macro!B9689","v":0},{"$f":"Macro!E9689","v":{"$error":"#DIV/0!"}}]
[null,{"$f":"Macro!A9690","v":0},{"$f":"Macro!B9690","v":0},{"$f":"Macro!E9690","v":{"$error":"#DIV/0!"}}]
[null,{"$f":"Macro!A9691","v":0},{"$f":"Macro!B9691","v":0},{"$f":"Macro!E9691","v":{"$error":"#DIV/0!"}}]
[null,{"$f":"Macro!A9692","v":0},{"$f":"Macro!B9692","v":0},{"$f":"Macro!E9692","v":{"$error":"#DIV/0!"}}]
[null,{"$f":"Macro!A9693","v":0},{"$f":"Macro!B9693","v":0},{"$f":"Macro!E9693","v":{"$error":"#DIV/0!"}}]
[null,{"$f":"Macro!A9694","v":0},{"$f":"Macro!B9694","v":0},{"$f":"Macro!E9694","v":{"$error":"#DIV/0!"}}]
[null,{"$f":"Macro!A9695","v":0},{"$f":"Macro!B9695","v":0},{"$f":"Macro!E9695","v":{"$error":"#DIV/0!"}}]
[null,{"$f":"Macro!A9696","v":0},{"$f":"Macro!B9696","v":0},{"$f":"Macro!E9696","v":{"$error":"#DIV/0!"}}]
[null,{"$f":"Macro!A9697","v":0},{"$f":"Macro!B9697","v":0},{"$f":"Macro!E9697","v":{"$error":"#DIV/0!"}}]
[null,{"$f":"Macro!A9698","v":0},{"$f":"Macro!B9698","v":0},{"$f":"Macro!E9698","v":{"$error":"#DIV/0!"}}]
[null,{"$f":"Macro!A9699","v":0},{"$f":"Macro!B9699","v":0},{"$f":"Macro!E9699","v":{"$error":"#DIV/0!"}}]
[null,{"$f":"Macro!A9700","v":0},{"$f":"Macro!B9700","v":0},{"$f":"Macro!E9700","v":{"$error":"#DIV/0!"}}]
[null,{"$f":"Macro!A9701","v":0},{"$f":"Macro!B9701","v":0},{"$f":"Macro!E9701","v":{"$error":"#DIV/0!"}}]
[null,{"$f":"Macro!A9702","v":0},{"$f":"Macro!B9702","v":0},{"$f":"Macro!E9702","v":{"$error":"#DIV/0!"}}]
[null,{"$f":"Macro!A9703","v":0},{"$f":"Macro!B9703","v":0},{"$f":"Macro!E9703","v":{"$error":"#DIV/0!"}}]
[null,{"$f":"Macro!A9704","v":0},{"$f":"Macro!B9704","v":0},{"$f":"Macro!E9704","v":{"$error":"#DIV/0!"}}]
[null,{"$f":"Macro!A9705","v":0},{"$f":"Macro!B9705","v":0},{"$f":"Macro!E9705","v":{"$error":"#DIV/0!"}}]
[null,{"$f":"Macro!A9706","v":0},{"$f":"Macro!B9706","v":0},{"$f":"Macro!E9706","v":{"$error":"#DIV/0!"}}]
[null,{"$f":"Macro!A9707","v":0},{"$f":"Macro!B9707","v":0},{"$f":"Macro!E9707","v":{"$error":"#DIV/0!"}}]
[null,{"$f":"Macro!A9708","v":0},{"$f":"Macro!B9708","v":0},{"$f":"Macro!E9708","v":{"$error":"#DIV/0!"}}]
[null,{"$f":"Macro!A9709","v":0},{"$f":"Macro!B9709","v":0},{"$f":"Macro!E9709","v":{"$error":"#DIV/0!"}}]
[null,{"$f":"Macro!A9710","v":0},{"$f":"Macro!B9710","v":0},{"$f":"Macro!E9710","v":{"$error":"#DIV/0!"}}]
[null,{"$f":"Macro!A9711","v":0},{"$f":"Macro!B9711","v":0},{"$f":"Macro!E9711","v":{"$error":"#DIV/0!"}}]
[null,{"$f":"Macro!A9712","v":0},{"$f":"Macro!B9712","v":0},{"$f":"Macro!E9712","v":{"$error":"#DIV/0!"}}]
[null,{"$f":"Macro!A9713","v":0},{"$f":"Macro!B9713","v":0},{"$f":"Macro!E9713","v":{"$error":"#DIV/0!"}}]
[null,{"$f":"Macro!A9714","v":0},{"$f":"Macro!B9714","v":0},{"$f":"Macro!E9714","v":{"$error":"#DIV/0!"}}]
[null,{"$f":"Macro!A9715","v":0},{"$f":"Macro!B9715","v":0},{"$f":"Macro!E9715","v":{"$error":"#DIV/0!"}}]
[null,{"$f":"Macro!A9716","v":0},{"$f":"Macro!B9716","v":0},{"$f":"Macro!E9716","v":{"$error":"#DIV/0!"}}]
[null,{"$f":"Macro!A9717","v":0},{"$f":"Macro!B9717","v":0},{"$f":"Macro!E9717","v":{"$error":"#DIV/0!"}}]
[null,{"$f":"Macro!A9718","v":0},{"$f":"Macro!B9718","v":0},{"$f":"Macro!E9718","v":{"$error":"#DIV/0!"}}]
[null,{"$f":"Macro!A9719","v":0},{"$f":"Macro!B9719","v":0},{"$f":"Macro!E9719","v":{"$error":"#DIV/0!"}}]
[null,{"$f":"Macro!A9720","v":0},{"$f":"Macro!B9720","v":0},{"$f":"Macro!E9720","v":{"$error":"#DIV/0!"}}]
[null,{"$f":"Macro!A9721","v":0},{"$f":"Macro!B9721","v":0},{"$f":"Macro!E9721","v":{"$error":"#DIV/0!"}}]
[null,{"$f":"Macro!A9722","v":0},{"$f":"Macro!B9722","v":0},{"$f":"Macro!E9722","v":{"$error":"#DIV/0!"}}]
[null,{"$f":"Macro!A9723","v":0},{"$f":"Macro!B9723","v":0},{"$f":"Macro!E9723","v":{"$error":"#DIV/0!"}}]
[null,{"$f":"Macro!A9724","v":0},{"$f":"Macro!B9724","v":0},{"$f":"Macro!E9724","v":{"$error":"#DIV/0!"}}]
[null,{"$f":"Macro!A9725","v":0},{"$f":"Macro!B9725","v":0},{"$f":"Macro!E9725","v":{"$error":"#DIV/0!"}}]
[null,{"$f":"Macro!A9726","v":0},{"$f":"Macro!B9726","v":0},{"$f":"Macro!E9726","v":{"$error":"#DIV/0!"}}]
[null,{"$f":"Macro!A9727","v":0},{"$f":"Macro!B9727","v":0},{"$f":"Macro!E9727","v":{"$error":"#DIV/0!"}}]
[null,{"$f":"Macro!A9728","v":0},{"$f":"Macro!B9728","v":0},{"$f":"Macro!E9728","v":{"$error":"#DIV/0!"}}]
[null,{"$f":"Macro!A9729","v":0},{"$f":"Macro!B9729","v":0},{"$f":"Macro!E9729","v":{"$error":"#DIV/0!"}}]
[null,{"$f":"Macro!A9730","v":0},{"$f":"Macro!B9730","v":0},{"$f":"Macro!E9730","v":{"$error":"#DIV/0!"}}]
[null,{"$f":"Macro!A9731","v":0},{"$f":"Macro!B9731","v":0},{"$f":"Macro!E9731","v":{"$error":"#DIV/0!"}}]
[null,{"$f":"Macro!A9732","v":0},{"$f":"Macro!B9732","v":0},{"$f":"Macro!E9732","v":{"$error":"#DIV/0!"}}]
[null,{"$f":"Macro!A9733","v":0},{"$f":"Macro!B9733","v":0},{"$f":"Macro!E9733","v":{"$error":"#DIV/0!"}}]
[null,{"$f":"Macro!A9734","v":0},{"$f":"Macro!B9734","v":0},{"$f":"Macro!E9734","v":{"$error":"#DIV/0!"}}]
[null,{"$f":"Macro!A9735","v":0},{"$f":"Macro!B9735","v":0},{"$f":"Macro!E9735","v":{"$error":"#DIV/0!"}}]
[null,{"$f":"Macro!A9736","v":0},{"$f":"Macro!B9736","v":0},{"$f":"Macro!E9736","v":{"$error":"#DIV/0!"}}]
[null,{"$f":"Macro!A9737","v":0},{"$f":"Macro!B9737","v":0},{"$f":"Macro!E9737","v":{"$error":"#DIV/0!"}}]
[null,{"$f":"Macro!A9738","v":0},{"$f":"Macro!B9738","v":0},{"$f":"Macro!E9738","v":{"$error":"#DIV/0!"}}]
[null,{"$f":"Macro!A9739","v":0},{"$f":"Macro!B9739","v":0},{"$f":"Macro!E9739","v":{"$error":"#DIV/0!"}}]
[null,{"$f":"Macro!A9740","v":0},{"$f":"Macro!B9740","v":0},{"$f":"Macro!E9740","v":{"$error":"#DIV/0!"}}]
[null,{"$f":"Macro!A9741","v":0},{"$f":"Macro!B9741","v":0},{"$f":"Macro!E9741","v":{"$error":"#DIV/0!"}}]
[null,{"$f":"Macro!A9742","v":0},{"$f":"Macro!B9742","v":0},{"$f":"Macro!E9742","v":{"$error":"#DIV/0!"}}]
[null,{"$f":"Macro!A9743","v":0},{"$f":"Macro!B9743","v":0},{"$f":"Macro!E9743","v":{"$error":"#DIV/0!"}}]
[null,{"$f":"Macro!A9744","v":0},{"$f":"Macro!B9744","v":0},{"$f":"Macro!E9744","v":{"$error":"#DIV/0!"}}]
[null,{"$f":"Macro!A9745","v":0},{"$f":"Macro!B9745","v":0},{"$f":"Macro!E9745","v":{"$error":"#DIV/0!"}}]
[null,{"$f":"Macro!A9746","v":0},{"$f":"Macro!B9746","v":0},{"$f":"Macro!E9746","v":{"$error":"#DIV/0!"}}]
[null,{"$f":"Macro!A9747","v":0},{"$f":"Macro!B9747","v":0},{"$f":"Macro!E9747","v":{"$error":"#DIV/0!"}}]
[null,{"$f":"Macro!A9748","v":0},{"$f":"Macro!B9748","v":0},{"$f":"Macro!E9748","v":{"$error":"#DIV/0!"}}]
[null,{"$f":"Macro!A9749","v":0},{"$f":"Macro!B9749","v":0},{"$f":"Macro!E9749","v":{"$error":"#DIV/0!"}}]
[null,{"$f":"Macro!A9750","v":0},{"$f":"Macro!B9750","v":0},{"$f":"Macro!E9750","v":{"$error":"#DIV/0!"}}]
[null,{"$f":"Macro!A9751","v":0},{"$f":"Macro!B9751","v":0},{"$f":"Macro!E9751","v":{"$error":"#DIV/0!"}}]
[null,{"$f":"Macro!A9752","v":0},{"$f":"Macro!B9752","v":0},{"$f":"Macro!E9752","v":{"$error":"#DIV/0!"}}]
[null,{"$f":"Macro!A9753","v":0},{"$f":"Macro!B9753","v":0},{"$f":"Macro!E9753","v":{"$error":"#DIV/0!"}}]
[null,{"$f":"Macro!A9754","v":0},{"$f":"Macro!B9754","v":0},{"$f":"Macro!E9754","v":{"$error":"#DIV/0!"}}]
[null,{"$f":"Macro!A9755","v":0},{"$f":"Macro!B9755","v":0},{"$f":"Macro!E9755","v":{"$error":"#DIV/0!"}}]
[null,{"$f":"Macro!A9756","v":0},{"$f":"Macro!B9756","v":0},{"$f":"Macro!E9756","v":{"$error":"#DIV/0!"}}]
[null,{"$f":"Macro!A9757","v":0},{"$f":"Macro!B9757","v":0},{"$f":"Macro!E9757","v":{"$error":"#DIV/0!"}}]
[null,{"$f":"Macro!A9758","v":0},{"$f":"Macro!B9758","v":0},{"$f":"Macro!E9758","v":{"$error":"#DIV/0!"}}]
[null,{"$f":"Macro!A9759","v":0},{"$f":"Macro!B9759","v":0},{"$f":"Macro!E9759","v":{"$error":"#DIV/0!"}}]
[null,{"$f":"Macro!A9760","v":0},{"$f":"Macro!B9760","v":0},{"$f":"Macro!E9760","v":{"$error":"#DIV/0!"}}]
[null,{"$f":"Macro!A9761","v":0},{"$f":"Macro!B9761","v":0},{"$f":"Macro!E9761","v":{"$error":"#DIV/0!"}}]
[null,{"$f":"Macro!A9762","v":0},{"$f":"Macro!B9762","v":0},{"$f":"Macro!E9762","v":{"$error":"#DIV/0!"}}]
[null,{"$f":"Macro!A9763","v":0},{"$f":"Macro!B9763","v":0},{"$f":"Macro!E9763","v":{"$error":"#DIV/0!"}}]
[null,{"$f":"Macro!A9764","v":0},{"$f":"Macro!B9764","v":0},{"$f":"Macro!E9764","v":{"$error":"#DIV/0!"}}]
[null,{"$f":"Macro!A9765","v":0},{"$f":"Macro!B9765","v":0},{"$f":"Macro!E9765","v":{"$error":"#DIV/0!"}}]
[null,{"$f":"Macro!A9766","v":0},{"$f":"Macro!B9766","v":0},{"$f":"Macro!E9766","v":{"$error":"#DIV/0!"}}]
[null,{"$f":"Macro!A9767","v":0},{"$f":"Macro!B9767","v":0},{"$f":"Macro!E9767","v":{"$error":"#DIV/0!"}}]
[null,{"$f":"Macro!A9768","v":0},{"$f":"Macro!B9768","v":0},{"$f":"Macro!E9768","v":{"$error":"#DIV/0!"}}]
[null,{"$f":"Macro!A9769","v":0},{"$f":"Macro!B9769","v":0},{"$f":"Macro!E9769","v":{"$error":"#DIV/0!"}}]
[null,{"$f":"Macro!A9770","v":0},{"$f":"Macro!B9770","v":0},{"$f":"Macro!E9770","v":{"$error":"#DIV/0!"}}]
[null,{"$f":"Macro!A9771","v":0},{"$f":"Macro!B9771","v":0},{"$f":"Macro!E9771","v":{"$error":"#DIV/0!"}}]
[null,{"$f":"Macro!A9772","v":0},{"$f":"Macro!B9772","v":0},{"$f":"Macro!E9772","v":{"$error":"#DIV/0!"}}]
[null,{"$f":"Macro!A9773","v":0},{"$f":"Macro!B9773","v":0},{"$f":"Macro!E9773","v":{"$error":"#DIV/0!"}}]
[null,{"$f":"Macro!A9774","v":0},{"$f":"Macro!B9774","v":0},{"$f":"Macro!E9774","v":{"$error":"#DIV/0!"}}]
[null,{"$f":"Macro!A9775","v":0},{"$f":"Macro!B9775","v":0},{"$f":"Macro!E9775","v":{"$error":"#DIV/0!"}}]
[null,{"$f":"Macro!A9776","v":0},{"$f":"Macro!B9776","v":0},{"$f":"Macro!E9776","v":{"$error":"#DIV/0!"}}]
[null,{"$f":"Macro!A9777","v":0},{"$f":"Macro!B9777","v":0},{"$f":"Macro!E9777","v":{"$error":"#DIV/0!"}}]
[null,{"$f":"Macro!A9778","v":0},{"$f":"Macro!B9778","v":0},{"$f":"Macro!E9778","v":{"$error":"#DIV/0!"}}]
[null,{"$f":"Macro!A9779","v":0},{"$f":"Macro!B9779","v":0},{"$f":"Macro!E9779","v":{"$error":"#DIV/0!"}}]
[null,{"$f":"Macro!A9780","v":0},{"$f":"Macro!B9780","v":0},{"$f":"Macro!E9780","v":{"$error":"#DIV/0!"}}]
[null,{"$f":"Macro!A9781","v":0},{"$f":"Macro!B9781","v":0},{"$f":"Macro!E9781","v":{"$error":"#DIV/0!"}}]
[null,{"$f":"Macro!A9782","v":0},{"$f":"Macro!B9782","v":0},{"$f":"Macro!E9782","v":{"$error":"#DIV/0!"}}]
[null,{"$f":"Macro!A9783","v":0},{"$f":"Macro!B9783","v":0},{"$f":"Macro!E9783","v":{"$error":"#DIV/0!"}}]
[null,{"$f":"Macro!A9784","v":0},{"$f":"Macro!B9784","v":0},{"$f":"Macro!E9784","v":{"$error":"#DIV/0!"}}]
[null,{"$f":"Macro!A9785","v":0},{"$f":"Macro!B9785","v":0},{"$f":"Macro!E9785","v":{"$error":"#DIV/0!"}}]
[null,{"$f":"Macro!A9786","v":0},{"$f":"Macro!B9786","v":0},{"$f":"Macro!E9786","v":{"$error":"#DIV/0!"}}]
[null,{"$f":"Macro!A9787","v":0},{"$f":"Macro!B9787","v":0},{"$f":"Macro!E9787","v":{"$error":"#DIV/0!"}}]
[null,{"$f":"Macro!A9788","v":0},{"$f":"Macro!B9788","v":0},{"$f":"Macro!E9788","v":{"$error":"#DIV/0!"}}]
[null,{"$f":"Macro!A9789","v":0},{"$f":"Macro!B9789","v":0},{"$f":"Macro!E9789","v":{"$error":"#DIV/0!"}}]
[null,{"$f":"Macro!A9790","v":0},{"$f":"Macro!B9790","v":0},{"$f":"Macro!E9790","v":{"$error":"#DIV/0!"}}]
[null,{"$f":"Macro!A9791","v":0},{"$f":"Macro!B9791","v":0},{"$f":"Macro!E9791","v":{"$error":"#DIV/0!"}}]
[null,{"$f":"Macro!A9792","v":0},{"$f":"Macro!B9792","v":0},{"$f":"Macro!E9792","v":{"$error":"#DIV/0!"}}]
[null,{"$f":"Macro!A9793","v":0},{"$f":"Macro!B9793","v":0},{"$f":"Macro!E9793","v":{"$error":"#DIV/0!"}}]
[null,{"$f":"Macro!A9794","v":0},{"$f":"Macro!B9794","v":0},{"$f":"Macro!E9794","v":{"$error":"#DIV/0!"}}]
[null,{"$f":"Macro!A9795","v":0},{"$f":"Macro!B9795","v":0},{"$f":"Macro!E9795","v":{"$error":"#DIV/0!"}}]
[null,{"$f":"Macro!A9796","v":0},{"$f":"Macro!B9796","v":0},{"$f":"Macro!E9796","v":{"$error":"#DIV/0!"}}]
[null,{"$f":"Macro!A9797","v":0},{"$f":"Macro!B9797","v":0},{"$f":"Macro!E9797","v":{"$error":"#DIV/0!"}}]
[null,{"$f":"Macro!A9798","v":0},{"$f":"Macro!B9798","v":0},{"$f":"Macro!E9798","v":{"$error":"#DIV/0!"}}]
[null,{"$f":"Macro!A9799","v":0},{"$f":"Macro!B9799","v":0},{"$f":"Macro!E9799","v":{"$error":"#DIV/0!"}}]
[null,{"$f":"Macro!A9800","v":0},{"$f":"Macro!B9800","v":0},{"$f":"Macro!E9800","v":{"$error":"#DIV/0!"}}]
[null,{"$f":"Macro!A9801","v":0},{"$f":"Macro!B9801","v":0},{"$f":"Macro!E9801","v":{"$error":"#DIV/0!"}}]
[null,{"$f":"Macro!A9802","v":0},{"$f":"Macro!B9802","v":0},{"$f":"Macro!E9802","v":{"$error":"#DIV/0!"}}]
[null,{"$f":"Macro!A9803","v":0},{"$f":"Macro!B9803","v":0},{"$f":"Macro!E9803","v":{"$error":"#DIV/0!"}}]
[null,{"$f":"Macro!A9804","v":0},{"$f":"Macro!B9804","v":0},{"$f":"Macro!E9804","v":{"$error":"#DIV/0!"}}]
[null,{"$f":"Macro!A9805","v":0},{"$f":"Macro!B9805","v":0},{"$f":"Macro!E9805","v":{"$error":"#DIV/0!"}}]
[null,{"$f":"Macro!A9806","v":0},{"$f":"Macro!B9806","v":0},{"$f":"Macro!E9806","v":{"$error":"#DIV/0!"}}]
[null,{"$f":"Macro!A9807","v":0},{"$f":"Macro!B9807","v":0},{"$f":"Macro!E9807","v":{"$error":"#DIV/0!"}}]
[null,{"$f":"Macro!A9808","v":0},{"$f":"Macro!B9808","v":0},{"$f":"Macro!E9808","v":{"$error":"#DIV/0!"}}]
[null,{"$f":"Macro!A9809","v":0},{"$f":"Macro!B9809","v":0},{"$f":"Macro!E9809","v":{"$error":"#DIV/0!"}}]
[null,{"$f":"Macro!A9810","v":0},{"$f":"Macro!B9810","v":0},{"$f":"Macro!E9810","v":{"$error":"#DIV/0!"}}]
[null,{"$f":"Macro!A9811","v":0},{"$f":"Macro!B9811","v":0},{"$f":"Macro!E9811","v":{"$error":"#DIV/0!"}}]
[null,{"$f":"Macro!A9812","v":0},{"$f":"Macro!B9812","v":0},{"$f":"Macro!E9812","v":{"$error":"#DIV/0!"}}]
[null,{"$f":"Macro!A9813","v":0},{"$f":"Macro!B9813","v":0},{"$f":"Macro!E9813","v":{"$error":"#DIV/0!"}}]
[null,{"$f":"Macro!A9814","v":0},{"$f":"Macro!B9814","v":0},{"$f":"Macro!E9814","v":{"$error":"#DIV/0!"}}]
[null,{"$f":"Macro!A9815","v":0},{"$f":"Macro!B9815","v":0},{"$f":"Macro!E9815","v":{"$error":"#DIV/0!"}}]
[null,{"$f":"Macro!A9816","v":0},{"$f":"Macro!B9816","v":0},{"$f":"Macro!E9816","v":{"$error":"#DIV/0!"}}]
[null,{"$f":"Macro!A9817","v":0},{"$f":"Macro!B9817","v":0},{"$f":"Macro!E9817","v":{"$error":"#DIV/0!"}}]
[null,{"$f":"Macro!A9818","v":0},{"$f":"Macro!B9818","v":0},{"$f":"Macro!E9818","v":{"$error":"#DIV/0!"}}]
[null,{"$f":"Macro!A9819","v":0},{"$f":"Macro!B9819","v":0},{"$f":"Macro!E9819","v":{"$error":"#DIV/0!"}}]
[null,{"$f":"Macro!A9820","v":0},{"$f":"Macro!B9820","v":0},{"$f":"Macro!E9820","v":{"$error":"#DIV/0!"}}]
[null,{"$f":"Macro!A9821","v":0},{"$f":"Macro!B9821","v":0},{"$f":"Macro!E9821","v":{"$error":"#DIV/0!"}}]
[null,{"$f":"Macro!A9822","v":0},{"$f":"Macro!B9822","v":0},{"$f":"Macro!E9822","v":{"$error":"#DIV/0!"}}]
[null,{"$f":"Macro!A9823","v":0},{"$f":"Macro!B9823","v":0},{"$f":"Macro!E9823","v":{"$error":"#DIV/0!"}}]
[null,{"$f":"Macro!A9824","v":0},{"$f":"Macro!B9824","v":0},{"$f":"Macro!E9824","v":{"$error":"#DIV/0!"}}]
[null,{"$f":"Macro!A9825","v":0},{"$f":"Macro!B9825","v":0},{"$f":"Macro!E9825","v":{"$error":"#DIV/0!"}}]
[null,{"$f":"Macro!A9826","v":0},{"$f":"Macro!B9826","v":0},{"$f":"Macro!E9826","v":{"$error":"#DIV/0!"}}]
[null,{"$f":"Macro!A9827","v":0},{"$f":"Macro!B9827","v":0},{"$f":"Macro!E9827","v":{"$error":"#DIV/0!"}}]
[null,{"$f":"Macro!A9828","v":0},{"$f":"Macro!B9828","v":0},{"$f":"Macro!E9828","v":{"$error":"#DIV/0!"}}]
[null,{"$f":"Macro!A9829","v":0},{"$f":"Macro!B9829","v":0},{"$f":"Macro!E9829","v":{"$error":"#DIV/0!"}}]
[null,{"$f":"Macro!A9830","v":0},{"$f":"Macro!B9830","v":0},{"$f":"Macro!E9830","v":{"$error":"#DIV/0!"}}]
[null,{"$f":"Macro!A9831","v":0},{"$f":"Macro!B9831","v":0},{"$f":"Macro!E9831","v":{"$error":"#DIV/0!"}}]
[null,{"$f":"Macro!A9832","v":0},{"$f":"Macro!B9832","v":0},{"$f":"Macro!E9832","v":{"$error":"#DIV/0!"}}]
[null,{"$f":"Macro!A9833","v":0},{"$f":"Macro!B9833","v":0},{"$f":"Macro!E9833","v":{"$error":"#DIV/0!"}}]
[null,{"$f":"Macro!A9834","v":0},{"$f":"Macro!B9834","v":0},{"$f":"Macro!E9834","v":{"$error":"#DIV/0!"}}]
[null,{"$f":"Macro!A9835","v":0},{"$f":"Macro!B9835","v":0},{"$f":"Macro!E9835","v":{"$error":"#DIV/0!"}}]
[null,{"$f":"Macro!A9836","v":0},{"$f":"Macro!B9836","v":0},{"$f":"Macro!E9836","v":{"$error":"#DIV/0!"}}]
[null,{"$f":"Macro!A9837","v":0},{"$f":"Macro!B9837","v":0},{"$f":"Macro!E9837","v":{"$error":"#DIV/0!"}}]
[null,{"$f":"Macro!A9838","v":0},{"$f":"Macro!B9838","v":0},{"$f":"Macro!E9838","v":{"$error":"#DIV/0!"}}]
[null,{"$f":"Macro!A9839","v":0},{"$f":"Macro!B9839","v":0},{"$f":"Macro!E9839","v":{"$error":"#DIV/0!"}}]
[null,{"$f":"Macro!A9840","v":0},{"$f":"Macro!B9840","v":0},{"$f":"Macro!E9840","v":{"$error":"#DIV/0!"}}]
[null,{"$f":"Macro!A9841","v":0},{"$f":"Macro!B9841","v":0},{"$f":"Macro!E9841","v":{"$error":"#DIV/0!"}}]
[null,{"$f":"Macro!A9842","v":0},{"$f":"Macro!B9842","v":0},{"$f":"Macro!E9842","v":{"$error":"#DIV/0!"}}]
[null,{"$f":"Macro!A9843","v":0},{"$f":"Macro!B9843","v":0},{"$f":"Macro!E9843","v":{"$error":"#DIV/0!"}}]
[null,{"$f":"Macro!A9844","v":0},{"$f":"Macro!B9844","v":0},{"$f":"Macro!E9844","v":{"$error":"#DIV/0!"}}]
[null,{"$f":"Macro!A9845","v":0},{"$f":"Macro!B9845","v":0},{"$f":"Macro!E9845","v":{"$error":"#DIV/0!"}}]
[null,{"$f":"Macro!A9846","v":0},{"$f":"Macro!B9846","v":0},{"$f":"Macro!E9846","v":{"$error":"#DIV/0!"}}]
[null,{"$f":"Macro!A9847","v":0},{"$f":"Macro!B9847","v":0},{"$f":"Macro!E9847","v":{"$error":"#DIV/0!"}}]
[null,{"$f":"Macro!A9848","v":0},{"$f":"Macro!B9848","v":0},{"$f":"Macro!E9848","v":{"$error":"#DIV/0!"}}]
[null,{"$f":"Macro!A9849","v":0},{"$f":"Macro!B9849","v":0},{"$f":"Macro!E9849","v":{"$error":"#DIV/0!"}}]
[null,{"$f":"Macro!A9850","v":0},{"$f":"Macro!B9850","v":0},{"$f":"Macro!E9850","v":{"$error":"#DIV/0!"}}]
[null,{"$f":"Macro!A9851","v":0},{"$f":"Macro!B9851","v":0},{"$f":"Macro!E9851","v":{"$error":"#DIV/0!"}}]
[null,{"$f":"Macro!A9852","v":0},{"$f":"Macro!B9852","v":0},{"$f":"Macro!E9852","v":{"$error":"#DIV/0!"}}]
[null,{"$f":"Macro!A9853","v":0},{"$f":"Macro!B9853","v":0},{"$f":"Macro!E9853","v":{"$error":"#DIV/0!"}}]
[null,{"$f":"Macro!A9854","v":0},{"$f":"Macro!B9854","v":0},{"$f":"Macro!E9854","v":{"$error":"#DIV/0!"}}]
[null,{"$f":"Macro!A9855","v":0},{"$f":"Macro!B9855","v":0},{"$f":"Macro!E9855","v":{"$error":"#DIV/0!"}}]
[null,{"$f":"Macro!A9856","v":0},{"$f":"Macro!B9856","v":0},{"$f":"Macro!E9856","v":{"$error":"#DIV/0!"}}]
[null,{"$f":"Macro!A9857","v":0},{"$f":"Macro!B9857","v":0},{"$f":"Macro!E9857","v":{"$error":"#DIV/0!"}}]
[null,{"$f":"Macro!A9858","v":0},{"$f":"Macro!B9858","v":0},{"$f":"Macro!E9858","v":{"$error":"#DIV/0!"}}]
[null,{"$f":"Macro!A9859","v":0},{"$f":"Macro!B9859","v":0},{"$f":"Macro!E9859","v":{"$error":"#DIV/0!"}}]
[null,{"$f":"Macro!A9860","v":0},{"$f":"Macro!B9860","v":0},{"$f":"Macro!E9860","v":{"$error":"#DIV/0!"}}]
[null,{"$f":"Macro!A9861","v":0},{"$f":"Macro!B9861","v":0},{"$f":"Macro!E9861","v":{"$error":"#DIV/0!"}}]
[null,{"$f":"Macro!A9862","v":0},{"$f":"Macro!B9862","v":0},{"$f":"Macro!E9862","v":{"$error":"#DIV/0!"}}]
[null,{"$f":"Macro!A9863","v":0},{"$f":"Macro!B9863","v":0},{"$f":"Macro!E9863","v":{"$error":"#DIV/0!"}}]
[null,{"$f":"Macro!A9864","v":0},{"$f":"Macro!B9864","v":0},{"$f":"Macro!E9864","v":{"$error":"#DIV/0!"}}]
[null,{"$f":"Macro!A9865","v":0},{"$f":"Macro!B9865","v":0},{"$f":"Macro!E9865","v":{"$error":"#DIV/0!"}}]
[null,{"$f":"Macro!A9866","v":0},{"$f":"Macro!B9866","v":0},{"$f":"Macro!E9866","v":{"$error":"#DIV/0!"}}]
[null,{"$f":"Macro!A9867","v":0},{"$f":"Macro!B9867","v":0},{"$f":"Macro!E9867","v":{"$error":"#DIV/0!"}}]
[null,{"$f":"Macro!A9868","v":0},{"$f":"Macro!B9868","v":0},{"$f":"Macro!E9868","v":{"$error":"#DIV/0!"}}]
[null,{"$f":"Macro!A9869","v":0},{"$f":"Macro!B9869","v":0},{"$f":"Macro!E9869","v":{"$error":"#DIV/0!"}}]
[null,{"$f":"Macro!A9870","v":0},{"$f":"Macro!B9870","v":0},{"$f":"Macro!E9870","v":{"$error":"#DIV/0!"}}]
[null,{"$f":"Macro!A9871","v":0},{"$f":"Macro!B9871","v":0},{"$f":"Macro!E9871","v":{"$error":"#DIV/0!"}}]
[null,{"$f":"Macro!A9872","v":0},{"$f":"Macro!B9872","v":0},{"$f":"Macro!E9872","v":{"$error":"#DIV/0!"}}]
[null,{"$f":"Macro!A9873","v":0},{"$f":"Macro!B9873","v":0},{"$f":"Macro!E9873","v":{"$error":"#DIV/0!"}}]
[null,{"$f":"Macro!A9874","v":0},{"$f":"Macro!B9874","v":0},{"$f":"Macro!E9874","v":{"$error":"#DIV/0!"}}]
[null,{"$f":"Macro!A9875","v":0},{"$f":"Macro!B9875","v":0},{"$f":"Macro!E9875","v":{"$error":"#DIV/0!"}}]
[null,{"$f":"Macro!A9876","v":0},{"$f":"Macro!B9876","v":0},{"$f":"Macro!E9876","v":{"$error":"#DIV/0!"}}]
[null,{"$f":"Macro!A9877","v":0},{"$f":"Macro!B9877","v":0},{"$f":"Macro!E9877","v":{"$error":"#DIV/0!"}}]
[null,{"$f":"Macro!A9878","v":0},{"$f":"Macro!B9878","v":0},{"$f":"Macro!E9878","v":{"$error":"#DIV/0!"}}]
[null,{"$f":"Macro!A9879","v":0},{"$f":"Macro!B9879","v":0},{"$f":"Macro!E9879","v":{"$error":"#DIV/0!"}}]
[null,{"$f":"Macro!A9880","v":0},{"$f":"Macro!B9880","v":0},{"$f":"Macro!E9880","v":{"$error":"#DIV/0!"}}]
[null,{"$f":"Macro!A9881","v":0},{"$f":"Macro!B9881","v":0},{"$f":"Macro!E9881","v":{"$error":"#DIV/0!"}}]
[null,{"$f":"Macro!A9882","v":0},{"$f":"Macro!B9882","v":0},{"$f":"Macro!E9882","v":{"$error":"#DIV/0!"}}]
[null,{"$f":"Macro!A9883","v":0},{"$f":"Macro!B9883","v":0},{"$f":"Macro!E9883","v":{"$error":"#DIV/0!"}}]
[null,{"$f":"Macro!A9884","v":0},{"$f":"Macro!B9884","v":0},{"$f":"Macro!E9884","v":{"$error":"#DIV/0!"}}]
[null,{"$f":"Macro!A9885","v":0},{"$f":"Macro!B9885","v":0},{"$f":"Macro!E9885","v":{"$error":"#DIV/0!"}}]
[null,{"$f":"Macro!A9886","v":0},{"$f":"Macro!B9886","v":0},{"$f":"Macro!E9886","v":{"$error":"#DIV/0!"}}]
[null,{"$f":"Macro!A9887","v":0},{"$f":"Macro!B9887","v":0},{"$f":"Macro!E9887","v":{"$error":"#DIV/0!"}}]
[null,{"$f":"Macro!A9888","v":0},{"$f":"Macro!B9888","v":0},{"$f":"Macro!E9888","v":{"$error":"#DIV/0!"}}]
[null,{"$f":"Macro!A9889","v":0},{"$f":"Macro!B9889","v":0},{"$f":"Macro!E9889","v":{"$error":"#DIV/0!"}}]
[null,{"$f":"Macro!A9890","v":0},{"$f":"Macro!B9890","v":0},{"$f":"Macro!E9890","v":{"$error":"#DIV/0!"}}]
[null,{"$f":"Macro!A9891","v":0},{"$f":"Macro!B9891","v":0},{"$f":"Macro!E9891","v":{"$error":"#DIV/0!"}}]
[null,{"$f":"Macro!A9892","v":0},{"$f":"Macro!B9892","v":0},{"$f":"Macro!E9892","v":{"$error":"#DIV/0!"}}]
[null,{"$f":"Macro!A9893","v":0},{"$f":"Macro!B9893","v":0},{"$f":"Macro!E9893","v":{"$error":"#DIV/0!"}}]
[null,{"$f":"Macro!A9894","v":0},{"$f":"Macro!B9894","v":0},{"$f":"Macro!E9894","v":{"$error":"#DIV/0!"}}]
[null,{"$f":"Macro!A9895","v":0},{"$f":"Macro!B9895","v":0},{"$f":"Macro!E9895","v":{"$error":"#DIV/0!"}}]
[null,{"$f":"Macro!A9896","v":0},{"$f":"Macro!B9896","v":0},{"$f":"Macro!E9896","v":{"$error":"#DIV/0!"}}]
[null,{"$f":"Macro!A9897","v":0},{"$f":"Macro!B9897","v":0},{"$f":"Macro!E9897","v":{"$error":"#DIV/0!"}}]
[null,{"$f":"Macro!A9898","v":0},{"$f":"Macro!B9898","v":0},{"$f":"Macro!E9898","v":{"$error":"#DIV/0!"}}]
[null,{"$f":"Macro!A9899","v":0},{"$f":"Macro!B9899","v":0},{"$f":"Macro!E9899","v":{"$error":"#DIV/0!"}}]
[null,{"$f":"Macro!A9900","v":0},{"$f":"Macro!B9900","v":0},{"$f":"Macro!E9900","v":{"$error":"#DIV/0!"}}]
[null,{"$f":"Macro!A9901","v":0},{"$f":"Macro!B9901","v":0},{"$f":"Macro!E9901","v":{"$error":"#DIV/0!"}}]
[null,{"$f":"Macro!A9902","v":0},{"$f":"Macro!B9902","v":0},{"$f":"Macro!E9902","v":{"$error":"#DIV/0!"}}]
[null,{"$f":"Macro!A9903","v":0},{"$f":"Macro!B9903","v":0},{"$f":"Macro!E9903","v":{"$error":"#DIV/0!"}}]
[null,{"$f":"Macro!A9904","v":0},{"$f":"Macro!B9904","v":0},{"$f":"Macro!E9904","v":{"$error":"#DIV/0!"}}]
[null,{"$f":"Macro!A9905","v":0},{"$f":"Macro!B9905","v":0},{"$f":"Macro!E9905","v":{"$error":"#DIV/0!"}}]
[null,{"$f":"Macro!A9906","v":0},{"$f":"Macro!B9906","v":0},{"$f":"Macro!E9906","v":{"$error":"#DIV/0!"}}]
[null,{"$f":"Macro!A9907","v":0},{"$f":"Macro!B9907","v":0},{"$f":"Macro!E9907","v":{"$error":"#DIV/0!"}}]
[null,{"$f":"Macro!A9908","v":0},{"$f":"Macro!B9908","v":0},{"$f":"Macro!E9908","v":{"$error":"#DIV/0!"}}]
[null,{"$f":"Macro!A9909","v":0},{"$f":"Macro!B9909","v":0},{"$f":"Macro!E9909","v":{"$error":"#DIV/0!"}}]
[null,{"$f":"Macro!A9910","v":0},{"$f":"Macro!B9910","v":0},{"$f":"Macro!E9910","v":{"$error":"#DIV/0!"}}]
[null,{"$f":"Macro!A9911","v":0},{"$f":"Macro!B9911","v":0},{"$f":"Macro!E9911","v":{"$error":"#DIV/0!"}}]
[null,{"$f":"Macro!A9912","v":0},{"$f":"Macro!B9912","v":0},{"$f":"Macro!E9912","v":{"$error":"#DIV/0!"}}]
[null,{"$f":"Macro!A9913","v":0},{"$f":"Macro!B9913","v":0},{"$f":"Macro!E9913","v":{"$error":"#DIV/0!"}}]
[null,{"$f":"Macro!A9914","v":0},{"$f":"Macro!B9914","v":0},{"$f":"Macro!E9914","v":{"$error":"#DIV/0!"}}]
[null,{"$f":"Macro!A9915","v":0},{"$f":"Macro!B9915","v":0},{"$f":"Macro!E9915","v":{"$error":"#DIV/0!"}}]
[null,{"$f":"Macro!A9916","v":0},{"$f":"Macro!B9916","v":0},{"$f":"Macro!E9916","v":{"$error":"#DIV/0!"}}]
[null,{"$f":"Macro!A9917","v":0},{"$f":"Macro!B9917","v":0},{"$f":"Macro!E9917","v":{"$error":"#DIV/0!"}}]
[null,{"$f":"Macro!A9918","v":0},{"$f":"Macro!B9918","v":0},{"$f":"Macro!E9918","v":{"$error":"#DIV/0!"}}]
[null,{"$f":"Macro!A9919","v":0},{"$f":"Macro!B9919","v":0},{"$f":"Macro!E9919","v":{"$error":"#DIV/0!"}}]
[null,{"$f":"Macro!A9920","v":0},{"$f":"Macro!B9920","v":0},{"$f":"Macro!E9920","v":{"$error":"#DIV/0!"}}]
[null,{"$f":"Macro!A9921","v":0},{"$f":"Macro!B9921","v":0},{"$f":"Macro!E9921","v":{"$error":"#DIV/0!"}}]
[null,{"$f":"Macro!A9922","v":0},{"$f":"Macro!B9922","v":0},{"$f":"Macro!E9922","v":{"$error":"#DIV/0!"}}]
[null,{"$f":"Macro!A9923","v":0},{"$f":"Macro!B9923","v":0},{"$f":"Macro!E9923","v":{"$error":"#DIV/0!"}}]
[null,{"$f":"Macro!A9924","v":0},{"$f":"Macro!B9924","v":0},{"$f":"Macro!E9924","v":{"$error":"#DIV/0!"}}]
[null,{"$f":"Macro!A9925","v":0},{"$f":"Macro!B9925","v":0},{"$f":"Macro!E9925","v":{"$error":"#DIV/0!"}}]
[null,{"$f":"Macro!A9926","v":0},{"$f":"Macro!B9926","v":0},{"$f":"Macro!E9926","v":{"$error":"#DIV/0!"}}]
[null,{"$f":"Macro!A9927","v":0},{"$f":"Macro!B9927","v":0},{"$f":"Macro!E9927","v":{"$error":"#DIV/0!"}}]
[null,{"$f":"Macro!A9928","v":0},{"$f":"Macro!B9928","v":0},{"$f":"Macro!E9928","v":{"$error":"#DIV/0!"}}]
[null,{"$f":"Macro!A9929","v":0},{"$f":"Macro!B9929","v":0},{"$f":"Macro!E9929","v":{"$error":"#DIV/0!"}}]
[null,{"$f":"Macro!A9930","v":0},{"$f":"Macro!B9930","v":0},{"$f":"Macro!E9930","v":{"$error":"#DIV/0!"}}]
[null,{"$f":"Macro!A9931","v":0},{"$f":"Macro!B9931","v":0},{"$f":"Macro!E9931","v":{"$error":"#DIV/0!"}}]
[null,{"$f":"Macro!A9932","v":0},{"$f":"Macro!B9932","v":0},{"$f":"Macro!E9932","v":{"$error":"#DIV/0!"}}]
[null,{"$f":"Macro!A9933","v":0},{"$f":"Macro!B9933","v":0},{"$f":"Macro!E9933","v":{"$error":"#DIV/0!"}}]
[null,{"$f":"Macro!A9934","v":0},{"$f":"Macro!B9934","v":0},{"$f":"Macro!E9934","v":{"$error":"#DIV/0!"}}]
[null,{"$f":"Macro!A9935","v":0},{"$f":"Macro!B9935","v":0},{"$f":"Macro!E9935","v":{"$error":"#DIV/0!"}}]
[null,{"$f":"Macro!A9936","v":0},{"$f":"Macro!B9936","v":0},{"$f":"Macro!E9936","v":{"$error":"#DIV/0!"}}]
[null,{"$f":"Macro!A9937","v":0},{"$f":"Macro!B9937","v":0},{"$f":"Macro!E9937","v":{"$error":"#DIV/0!"}}]
[null,{"$f":"Macro!A9938","v":0},{"$f":"Macro!B9938","v":0},{"$f":"Macro!E9938","v":{"$error":"#DIV/0!"}}]
[null,{"$f":"Macro!A9939","v":0},{"$f":"Macro!B9939","v":0},{"$f":"Macro!E9939","v":{"$error":"#DIV/0!"}}]
[null,{"$f":"Macro!A9940","v":0},{"$f":"Macro!B9940","v":0},{"$f":"Macro!E9940","v":{"$error":"#DIV/0!"}}]
[null,{"$f":"Macro!A9941","v":0},{"$f":"Macro!B9941","v":0},{"$f":"Macro!E9941","v":{"$error":"#DIV/0!"}}]
[null,{"$f":"Macro!A9942","v":0},{"$f":"Macro!B9942","v":0},{"$f":"Macro!E9942","v":{"$error":"#DIV/0!"}}]
[null,{"$f":"Macro!A9943","v":0},{"$f":"Macro!B9943","v":0},{"$f":"Macro!E9943","v":{"$error":"#DIV/0!"}}]
[null,{"$f":"Macro!A9944","v":0},{"$f":"Macro!B9944","v":0},{"$f":"Macro!E9944","v":{"$error":"#DIV/0!"}}]
[null,{"$f":"Macro!A9945","v":0},{"$f":"Macro!B9945","v":0},{"$f":"Macro!E9945","v":{"$error":"#DIV/0!"}}]
[null,{"$f":"Macro!A9946","v":0},{"$f":"Macro!B9946","v":0},{"$f":"Macro!E9946","v":{"$error":"#DIV/0!"}}]
[null,{"$f":"Macro!A9947","v":0},{"$f":"Macro!B9947","v":0},{"$f":"Macro!E9947","v":{"$error":"#DIV/0!"}}]
[null,{"$f":"Macro!A9948","v":0},{"$f":"Macro!B9948","v":0},{"$f":"Macro!E9948","v":{"$error":"#DIV/0!"}}]
[null,{"$f":"Macro!A9949","v":0},{"$f":"Macro!B9949","v":0},{"$f":"Macro!E9949","v":{"$error":"#DIV/0!"}}]
[null,{"$f":"Macro!A9950","v":0},{"$f":"Macro!B9950","v":0},{"$f":"Macro!E9950","v":{"$error":"#DIV/0!"}}]
[null,{"$f":"Macro!A9951","v":0},{"$f":"Macro!B9951","v":0},{"$f":"Macro!E9951","v":{"$error":"#DIV/0!"}}]
[null,{"$f":"Macro!A9952","v":0},{"$f":"Macro!B9952","v":0},{"$f":"Macro!E9952","v":{"$error":"#DIV/0!"}}]
[null,{"$f":"Macro!A9953","v":0},{"$f":"Macro!B9953","v":0},{"$f":"Macro!E9953","v":{"$error":"#DIV/0!"}}]
[null,{"$f":"Macro!A9954","v":0},{"$f":"Macro!B9954","v":0},{"$f":"Macro!E9954","v":{"$error":"#DIV/0!"}}]
[null,{"$f":"Macro!A9955","v":0},{"$f":"Macro!B9955","v":0},{"$f":"Macro!E9955","v":{"$error":"#DIV/0!"}}]
[null,{"$f":"Macro!A9956","v":0},{"$f":"Macro!B9956","v":0},{"$f":"Macro!E9956","v":{"$error":"#DIV/0!"}}]
[null,{"$f":"Macro!A9957","v":0},{"$f":"Macro!B9957","v":0},{"$f":"Macro!E9957","v":{"$error":"#DIV/0!"}}]
[null,{"$f":"Macro!A9958","v":0},{"$f":"Macro!B9958","v":0},{"$f":"Macro!E9958","v":{"$error":"#DIV/0!"}}]
[null,{"$f":"Macro!A9959","v":0},{"$f":"Macro!B9959","v":0},{"$f":"Macro!E9959","v":{"$error":"#DIV/0!"}}]
[null,{"$f":"Macro!A9960","v":0},{"$f":"Macro!B9960","v":0},{"$f":"Macro!E9960","v":{"$error":"#DIV/0!"}}]
[null,{"$f":"Macro!A9961","v":0},{"$f":"Macro!B9961","v":0},{"$f":"Macro!E9961","v":{"$error":"#DIV/0!"}}]
[null,{"$f":"Macro!A9962","v":0},{"$f":"Macro!B9962","v":0},{"$f":"Macro!E9962","v":{"$error":"#DIV/0!"}}]
[null,{"$f":"Macro!A9963","v":0},{"$f":"Macro!B9963","v":0},{"$f":"Macro!E9963","v":{"$error":"#DIV/0!"}}]
[null,{"$f":"Macro!A9964","v":0},{"$f":"Macro!B9964","v":0},{"$f":"Macro!E9964","v":{"$error":"#DIV/0!"}}]
[null,{"$f":"Macro!A9965","v":0},{"$f":"Macro!B9965","v":0},{"$f":"Macro!E9965","v":{"$error":"#DIV/0!"}}]
[null,{"$f":"Macro!A9966","v":0},{"$f":"Macro!B9966","v":0},{"$f":"Macro!E9966","v":{"$error":"#DIV/0!"}}]
[null,{"$f":"Macro!A9967","v":0},{"$f":"Macro!B9967","v":0},{"$f":"Macro!E9967","v":{"$error":"#DIV/0!"}}]
[null,{"$f":"Macro!A9968","v":0},{"$f":"Macro!B9968","v":0},{"$f":"Macro!E9968","v":{"$error":"#DIV/0!"}}]
[null,{"$f":"Macro!A9969","v":0},{"$f":"Macro!B9969","v":0},{"$f":"Macro!E9969","v":{"$error":"#DIV/0!"}}]
[null,{"$f":"Macro!A9970","v":0},{"$f":"Macro!B9970","v":0},{"$f":"Macro!E9970","v":{"$error":"#DIV/0!"}}]
[null,{"$f":"Macro!A9971","v":0},{"$f":"Macro!B9971","v":0},{"$f":"Macro!E9971","v":{"$error":"#DIV/0!"}}]
[null,{"$f":"Macro!A9972","v":0},{"$f":"Macro!B9972","v":0},{"$f":"Macro!E9972","v":{"$error":"#DIV/0!"}}]
[null,{"$f":"Macro!A9973","v":0},{"$f":"Macro!B9973","v":0},{"$f":"Macro!E9973","v":{"$error":"#DIV/0!"}}]
[null,{"$f":"Macro!A9974","v":0},{"$f":"Macro!B9974","v":0},{"$f":"Macro!E9974","v":{"$error":"#DIV/0!"}}]
[null,{"$f":"Macro!A9975","v":0},{"$f":"Macro!B9975","v":0},{"$f":"Macro!E9975","v":{"$error":"#DIV/0!"}}]
[null,{"$f":"Macro!A9976","v":0},{"$f":"Macro!B9976","v":0},{"$f":"Macro!E9976","v":{"$error":"#DIV/0!"}}]
[null,{"$f":"Macro!A9977","v":0},{"$f":"Macro!B9977","v":0},{"$f":"Macro!E9977","v":{"$error":"#DIV/0!"}}]
[null,{"$f":"Macro!A9978","v":0},{"$f":"Macro!B9978","v":0},{"$f":"Macro!E9978","v":{"$error":"#DIV/0!"}}]
[null,{"$f":"Macro!A9979","v":0},{"$f":"Macro!B9979","v":0},{"$f":"Macro!E9979","v":{"$error":"#DIV/0!"}}]
[null,{"$f":"Macro!A9980","v":0},{"$f":"Macro!B9980","v":0},{"$f":"Macro!E9980","v":{"$error":"#DIV/0!"}}]
[null,{"$f":"Macro!A9981","v":0},{"$f":"Macro!B9981","v":0},{"$f":"Macro!E9981","v":{"$error":"#DIV/0!"}}]
[null,{"$f":"Macro!A9982","v":0},{"$f":"Macro!B9982","v":0},{"$f":"Macro!E9982","v":{"$error":"#DIV/0!"}}]
[null,{"$f":"Macro!A9983","v":0},{"$f":"Macro!B9983","v":0},{"$f":"Macro!E9983","v":{"$error":"#DIV/0!"}}]
[null,{"$f":"Macro!A9984","v":0},{"$f":"Macro!B9984","v":0},{"$f":"Macro!E9984","v":{"$error":"#DIV/0!"}}]
[null,{"$f":"Macro!A9985","v":0},{"$f":"Macro!B9985","v":0},{"$f":"Macro!E9985","v":{"$error":"#DIV/0!"}}]
[null,{"$f":"Macro!A9986","v":0},{"$f":"Macro!B9986","v":0},{"$f":"Macro!E9986","v":{"$error":"#DIV/0!"}}]
[null,{"$f":"Macro!A9987","v":0},{"$f":"Macro!B9987","v":0},{"$f":"Macro!E9987","v":{"$error":"#DIV/0!"}}]
[null,{"$f":"Macro!A9988","v":0},{"$f":"Macro!B9988","v":0},{"$f":"Macro!E9988","v":{"$error":"#DIV/0!"}}]
[null,{"$f":"Macro!A9989","v":0},{"$f":"Macro!B9989","v":0},{"$f":"Macro!E9989","v":{"$error":"#DIV/0!"}}]
[null,{"$f":"Macro!A9990","v":0},{"$f":"Macro!B9990","v":0},{"$f":"Macro!E9990","v":{"$error":"#DIV/0!"}}]
[null,{"$f":"Macro!A9991","v":0},{"$f":"Macro!B9991","v":0},{"$f":"Macro!E9991","v":{"$error":"#DIV/0!"}}]
[null,{"$f":"Macro!A9992","v":0},{"$f":"Macro!B9992","v":0},{"$f":"Macro!E9992","v":{"$error":"#DIV/0!"}}]
[null,{"$f":"Macro!A9993","v":0},{"$f":"Macro!B9993","v":0},{"$f":"Macro!E9993","v":{"$error":"#DIV/0!"}}]
[null,{"$f":"Macro!A9994","v":0},{"$f":"Macro!B9994","v":0},{"$f":"Macro!E9994","v":{"$error":"#DIV/0!"}}]
[null,{"$f":"Macro!A9995","v":0},{"$f":"Macro!B9995","v":0},{"$f":"Macro!E9995","v":{"$error":"#DIV/0!"}}]
[null,{"$f":"Macro!A9996","v":0},{"$f":"Macro!B9996","v":0},{"$f":"Macro!E9996","v":{"$error":"#DIV/0!"}}]
[null,{"$f":"Macro!A9997","v":0},{"$f":"Macro!B9997","v":0},{"$f":"Macro!E9997","v":{"$error":"#DIV/0!"}}]
[null,{"$f":"Macro!A9998","v":0},{"$f":"Macro!B9998","v":0},{"$f":"Macro!E9998","v":{"$error":"#DIV/0!"}}]
[null,{"$f":"Macro!A9999","v":0},{"$f":"Macro!B9999","v":0},{"$f":"Macro!E9999","v":{"$error":"#DIV/0!"}}]
[null,{"$f":"Macro!A10000","v":0},{"$f":"Macro!B10000","v":0},{"$f":"Macro!E10000","v":{"$error":"#DIV/0!"}}]
[null,{"$f":"Macro!A10001","v":0},{"$f":"Macro!B10001","v":0},{"$f":"Macro!E10001","v":{"$error":"#DIV/0!"}}]
[null,{"$f":"Macro!A10002","v":0},{"$f":"Macro!B10002","v":0},{"$f":"Macro!E10002","v":{"$error":"#DIV/0!"}}]
[null,{"$f":"Macro!A10003","v":0},{"$f":"Macro!B10003","v":0},{"$f":"Macro!E10003","v":{"$error":"#DIV/0!"}}]
[null,{"$f":"Macro!A10004","v":0},{"$f":"Macro!B10004","v":0},{"$f":"Macro!E10004","v":{"$error":"#DIV/0!"}}]
[null,{"$f":"Macro!A10005","v":0},{"$f":"Macro!B10005","v":0},{"$f":"Macro!E10005","v":{"$error":"#DIV/0!"}}]

{"sheet":"Foglio3","index":5,"n_rows":0,"n_cols":0,"rows_kept":0,"cut":false,"hidden":false,"merged":[]}